{"text_format":"1","workbook":"xlsx","n_sheets":13,"sheets":["Anleitung","Personenstammblatt","Planung Sport","Planung Ausbildung","Übersichtsblatt","Hilfsblatt Zeitstrahl","Anhang","Hilfstabelle Alter","Hilfstabelle Sport Kategorien","Hilfstabelle Sport Saisonziele","Hilfstabelle Sport Grobplan","Hilfstabelle Schule Ausbildung","Hilfstabelle Schule Meilenstein"],"not_rendered":{"charts":4,"images":6,"macros":1,"external_links":0,"defined_names":5,"comments":0,"pivot_tables":0},"unopened":[],"bounds":{"document_bytes":16777216,"sheet_cells":100000,"rows_first":2000,"rows_last":500,"rows_between":2000,"halvings":0,"cell_chars":16384,"cell_head_chars":4096},"cells_cut":0,"cells_raw":0,"read":"whole","date_system":"1900"}

{"sheet":"Anleitung","index":0,"n_rows":20,"n_cols":1,"rows_kept":20,"cut":false,"hidden":false,"merged":[[15,0,15,7],[16,0,16,7],[18,0,18,7],[19,0,19,7],[7,0,7,7],[9,0,9,7],[10,0,10,7],[12,0,12,7],[13,0,13,7],[0,0,0,7],[4,0,4,7],[6,0,6,7],[3,0,3,7],[1,0,1,7]]}
["Anleitung"]
["Um die Beschreibung zu den entsprechenden Themen zu öffnen, klicke auf das \"+\" auf der linken Seite."]
[]
["1 Aufbau und Logik der Exceltabelle:"]
["Die Mehrjahresplanung ist in folgende 5 Tabellenblätter aufgeteilt:\n\n- Anleitung\n- Personenstammblatt\n- Planung Sport\n- Planung Ausbildung\n- Übersichtsblatt\n\nWenn du diese 5 Tabellenblätter von links nach rechts durcharbeitest, geht nichts vergessen. In den einzelnen Tabellenblättern gibt es eine kurze Beschreibung (immer in roter Schrift), was du wo eintragen musst.\n\nWeitere Informationen zu den einzelnen Tabellenblättern findest du unter 1.1 - 1.5.\n\n"]
[]
["1.1 Tabellenblatt \"Anleitung\":"]
["In diesem Tabellenblatt findest du eine kurze Anleitung zur Vorlage Karriereplanung."]
[]
["1.2 Tabellenblatt \"Personenstammblatt\":"]
["Das \"Personenstammblatt\" dient dazu die persönlichen Angaben zu erfassen. Diese werden fürs Übersichtsblatt übernommen. Du musst sie nur einmal ausfüllen und zwar im Jahr, in welchem  du mit der Mehrjahresplanung beginnst!"]
[]
["1.3 Tabellenblatt \"Planung Sport\":"]
["Dieses Tabellenblatt ist in folgende drei Spalten aufgeteilt:\n\n- Kategorie / Kader\n- Saisonziele\n- Grobplanung Training\n\nDie auszufüllenden Jahre/Saisons werden automatisch gelb eingefärbt und dienen als Orientierungshilfe.\n\nKategorie / Kader:\nTrage in dieser Spalte deine Kategorie-/Kaderzugehörigkeit pro Jahr oder Saison ein. Zum Beispiel \"U16\" oder \"A-Kader\". \n\nSaisonziele:\nIn dieser Spalte kannst du deine Saisonziele pro Jahr beziehungsweise Saison eintragen. Dazu musst du nur das Datum (Format: TT/MM/JJJJ) sowie die Beschreibung des Saisonziels (z.B. \"WM\" oder \"Olympische Spiele\") eintragen.\n\nZusätzlich zu jedem Jahr gibt es zwei weitere Zeilen \"Militärdienst\". Hier kannst du für die Rekrutenschule (RS) oder den Wiederholungskurs (WK) eintragen. Falls du keinen Militärdienst leistest, dann lass die Zeilen \"Militärdienst\" leer. \n\nGrobplanung Training:\nIn der Spalte kannst du pro Jahr beziehungsweise Saison deine Anzahl Trainingseinheiten pro Woche, deinen Trainingsaufwand (in Stunden pro Woche) und deine Trainingsschwerpunkte eintragen. "]
[]
["1.4 Tabellenblatt \"Planung Ausbildung\":"]
["Die Aufbau-Logik entspricht dem Tabellenblatt \"Planung Sport\". Dieses Tabellenblatt ist in folgende zwei Spalten aufgeteilt:\n\n- Ausbildung\n- Wichtige Termine\n\nAusbildung:\nPro Jahr beziehungsweise Saison kannst du in dieser Spalte deine momentane oder geplante Ausbildung eintragen (z.B. \"KV-Lehre\" oder \"Gymnasium\"). Falls es in einem Jahr beziehungsweise einer Saison einen Ausbildungswechsel gibt (z.B. Abschluss des Gymnasiums oder Studiumbeginn), dann trage dies wie folgt ein: \"Gymnasium/Studium\".\n\nWichtige Termine:\nDies funktioniert analog \"Saisonziele\" im Tabellenblatt \"Planung Sport\". Dazu musst du nur das Datum (Format: TT/MM/JJJJ) sowie die Beschreibung des Termins (z.B. \"Abschlussprüfung\" oder \"Pflichtveranstaltung\") eintragen.\n"]
[]
["1.5 Tabellenblatt \"Übersichtsblatt\":"]
["Das Übersichtsblatt wird automatisch mit den Informationen der vorherigen Tabellenblätter (Personenstammblatt, Planung Sport und Planung Ausbildung) ausgefüllt. Falls du merkst, dass eine Information falsch eingetragen wurde, dann passe diese im vorherigen Tabellenblatt an. \n\nIn der Mitte des Übersichtsblattes findest du den Zeitstrahl mit den eingetragenen Saisonzielen und Terminen für die aktuellen 4 Jahre. Wenn zwei Saisonziele beziehungsweise Termine zum gleichen Zeitpunkt stattfinden, dann hast du wahrscheinlich eine Terminüberschneidung. Falls dies der Fall ist, dann solltest du deine Planung überdenken und allenfalls anpassen.\n\n\n"]

{"sheet":"Personenstammblatt","index":1,"n_rows":12,"n_cols":2,"rows_kept":12,"cut":false,"hidden":false,"merged":[[1,0,1,1]]}
["Personenstammblatt"]
["Fülle die grauen, leeren Zellen korrekt aus. Die Daten sind für die weiteren Arbeitsblätter relevant und werden automatisch übertragen."]
[]
["Name"]
["Vorname"]
["Geburtsdatum"]
[]
["Sportart"]
["Sportverband"]
[]
[]
["Beginn Karriereplanung",2022]

{"sheet":"Planung Sport","index":2,"n_rows":115,"n_cols":18,"rows_kept":115,"cut":false,"hidden":false,"merged":[[2,16,2,17],[3,16,3,17],[46,1,46,4],[106,1,106,4],[75,1,75,4],[65,1,65,4],[101,16,104,16],[101,17,104,17],[111,16,114,16],[111,17,114,17],[97,16,98,16],[97,17,98,17],[99,16,100,16],[99,17,100,17],[107,16,108,16],[107,17,108,17],[109,16,110,16],[109,17,110,17],[67,16,68,16],[67,17,68,17],[69,16,70,16],[69,17,70,17],[71,16,74,16],[71,17,74,17],[81,16,84,16],[81,17,84,17],[91,16,94,16],[91,17,94,17],[77,16,78,16],[77,17,78,17],[79,16,80,16],[79,17,80,17],[87,16,88,16],[87,17,88,17],[89,16,90,16],[89,17,90,17],[51,16,54,16],[51,17,54,17],[61,16,64,16],[61,17,64,17],[47,16,48,16],[47,17,48,17],[49,16,50,16],[49,17,50,17],[57,16,58,16],[57,17,58,17],[59,16,60,16],[59,17,60,17],[17,16,18,16],[19,16,20,16],[17,17,18,17],[19,17,20,17],[21,16,24,16],[21,17,24,17],[31,16,34,16],[31,17,34,17],[41,16,44,16],[41,17,44,17],[27,16,28,16],[27,17,28,17],[29,16,30,16],[29,17,30,17],[37,16,38,16],[37,17,38,17],[39,16,40,16],[39,17,40,17],[15,1,15,4],[5,1,5,4],[7,0,14,0],[7,1,14,4],[11,16,14,16],[11,17,14,17],[6,1,6,4],[6,10,6,11],[16,1,16,4],[16,10,16,11],[5,10,5,11],[15,10,15,11],[7,16,8,16],[7,17,8,17],[9,16,10,16],[9,17,10,17],[45,1,45,4],[35,1,35,4],[37,0,44,0],[37,1,44,4],[25,1,25,4],[27,0,34,0],[27,1,34,4],[17,0,24,0],[17,1,24,4],[26,1,26,4],[36,1,36,4],[0,0,0,18],[3,9,3,12],[105,10,105,11],[75,10,75,11],[85,10,85,11],[95,10,95,11],[3,0,3,5],[25,10,25,11],[35,10,35,11],[45,10,45,11],[55,10,55,11],[26,10,26,11],[36,10,36,11],[46,10,46,11],[56,10,56,11],[47,1,54,4],[105,1,105,4],[95,1,95,4],[97,0,104,0],[97,1,104,4],[85,1,85,4],[87,0,94,0],[87,1,94,4],[77,0,84,0],[107,0,114,0],[107,1,114,4],[67,0,74,0],[67,1,74,4],[55,1,55,4],[57,0,64,0],[57,1,64,4],[47,0,54,0],[66,10,66,11],[76,10,76,11],[86,10,86,11],[96,10,96,11],[106,10,106,11],[65,10,65,11],[77,1,84,4],[56,1,56,4],[66,1,66,4],[76,1,76,4],[86,1,86,4],[96,1,96,4]]}
["Planung Sport"]
[]
["Kategorie / Kader",null,null,null,null,null,null,null,null,"Saisonziele",null,null,null,null,null,null,"Grobplanung Training"]
["Hier kannst du in den entsprechenden Jahren/Saisons deine Kader-/Kategoriezugehörigkiet eintragen. Verwende dafür das weisse Feld. \nDu musst nur die eingefärbten Felder ausfüllen.",null,null,null,null,null,null,null,null,"Trage in den untenstehenden Felder deine Ziel- und Hauptwettkämpfe sowie weitere Ziele pro Jahr/Saison ein. Die beiden roten Zeilen sind für den Militärdienst (RS oder WK) gedacht. Du musst nur das Datum des Saisonziels sowie die Beschreibung (z.B. Olympische Spiele) pro Jahr/Saison eintragen. \nDu musst nur die eingefärbten Felder ausfüllen.\n\nFormat Datum: TT/MM/JJJJ\n\n",null,null,null,null,null,null,"Trage für jedes Jahr/Saison in den untenstehenden leeren Feldern deine Anzahl Trainingseinheiten pro Woche, deinen Trainingsumfang (in Stunden pro Woche) sowie deine Trainingsschwerpunkte (z.B. Ausdauer, Kraft usw.) ein. \nDu musst nur die eingefärbten Felder ausfüllen."]
[]
[null,{"$f":"Personenstammblatt!$B$12","v":2022},null,null,null,null,{"$f":"TODAY()","v":"2023-05-31"},null,null,null,{"$f":"B6","v":2022},null,null,null,null,null,null,{"$f":"$B6","v":2022}]
[]
["Kategorie / Kader",null,null,null,null,null,{"$f":"YEAR(G6)","v":2023},null,null,null,"Datum","Saisonziele",null,null,null,null,"Anz. Trainingseinheiten pro Woche"]
[null,null,null,null,null,null,{"$f":"G8+1","v":2024},null,null,"Saisonziel 1"]
[null,null,null,null,null,null,{"$f":"G9+1","v":2025},null,null,"Saisonziel 2",null,null,null,null,null,null,"Trainingsumfang (h/W)"]
[null,null,null,null,null,null,{"$f":"G10+1","v":2026},null,null,"Saisonziel 3"]
[null,null,null,null,null,null,null,null,null,"Saisonziel 4",null,null,null,null,null,null,"Trainingsschwerpunkte"]
[null,null,null,null,null,null,null,null,null,"Saisonziel 5"]
[null,null,null,null,null,null,null,null,null,"Militärdienst Beginn"]
[null,null,null,null,null,null,null,null,null,"Militärdienst Ende"]
[null,{"$f":"B6+1","v":2023},null,null,null,null,null,null,null,null,{"$f":"B16","v":2023},null,null,null,null,null,null,{"$f":"$B16","v":2023}]
[]
["Kategorie / Kader",null,null,null,null,null,null,null,null,null,"Datum","Saisonziele",null,null,null,null,"Anz. Trainingseinheiten pro Woche"]
[null,null,null,null,null,null,null,null,null,"Saisonziel 1"]
[null,null,null,null,null,null,null,null,null,"Saisonziel 2",null,null,null,null,null,null,"Trainingsumfang (h/W)"]
[null,null,null,null,null,null,null,null,null,"Saisonziel 3"]
[null,null,null,null,null,null,null,null,null,"Saisonziel 4",null,null,null,null,null,null,"Trainingsschwerpunkte"]
[null,null,null,null,null,null,null,null,null,"Saisonziel 5"]
[null,null,null,null,null,null,null,null,null,"Militärdienst Beginn"]
[null,null,null,null,null,null,null,null,null,"Militärdienst Ende"]
[null,{"$f":"B16+1","v":2024},null,null,null,null,null,null,null,null,{"$f":"B26","v":2024},null,null,null,null,null,null,{"$f":"$B26","v":2024}]
[]
["Kategorie / Kader",null,null,null,null,null,null,null,null,null,"Datum","Saisonziele",null,null,null,null,"Anz. Trainingseinheiten pro Woche"]
[null,null,null,null,null,null,null,null,null,"Saisonziel 1"]
[null,null,null,null,null,null,null,null,null,"Saisonziel 2",null,null,null,null,null,null,"Trainingsumfang (h/W)"]
[null,null,null,null,null,null,null,null,null,"Saisonziel 3"]
[null,null,null,null,null,null,null,null,null,"Saisonziel 4",null,null,null,null,null,null,"Trainingsschwerpunkte"]
[null,null,null,null,null,null,null,null,null,"Saisonziel 5"]
[null,null,null,null,null,null,null,null,null,"Militärdienst Beginn"]
[null,null,null,null,null,null,null,null,null,"Militärdienst Ende"]
[null,{"$f":"B26+1","v":2025},null,null,null,null,null,null,null,null,{"$f":"B36","v":2025},null,null,null,null,null,null,{"$f":"$B36","v":2025}]
[]
["Kategorie / Kader",null,null,null,null,null,null,null,null,null,"Datum","Saisonziele",null,null,null,null,"Anz. Trainingseinheiten pro Woche"]
[null,null,null,null,null,null,null,null,null,"Saisonziel 1"]
[null,null,null,null,null,null,null,null,null,"Saisonziel 2",null,null,null,null,null,null,"Trainingsumfang (h/W)"]
[null,null,null,null,null,null,null,null,null,"Saisonziel 3"]
[null,null,null,null,null,null,null,null,null,"Saisonziel 4",null,null,null,null,null,null,"Trainingsschwerpunkte"]
[null,null,null,null,null,null,null,null,null,"Saisonziel 5"]
[null,null,null,null,null,null,null,null,null,"Militärdienst Beginn"]
[null,null,null,null,null,null,null,null,null,"Militärdienst Ende"]
[null,{"$f":"B36+1","v":2026},null,null,null,null,null,null,null,null,{"$f":"B46","v":2026},null,null,null,null,null,null,{"$f":"$B46","v":2026}]
[]
["Kategorie / Kader",null,null,null,null,null,null,null,null,null,"Datum","Saisonziele",null,null,null,null,"Anz. Trainingseinheiten pro Woche"]
[null,null,null,null,null,null,null,null,null,"Saisonziel 1"]
[null,null,null,null,null,null,null,null,null,"Saisonziel 2",null,null,null,null,null,null,"Trainingsumfang (h/W)"]
[null,null,null,null,null,null,null,null,null,"Saisonziel 3"]
[null,null,null,null,null,null,null,null,null,"Saisonziel 4",null,null,null,null,null,null,"Trainingsschwerpunkte"]
[null,null,null,null,null,null,null,null,null,"Saisonziel 5"]
[null,null,null,null,null,null,null,null,null,"Militärdienst Beginn"]
[null,null,null,null,null,null,null,null,null,"Militärdienst Ende"]
[null,{"$f":"B46+1","v":2027},null,null,null,null,null,null,null,null,{"$f":"B56","v":2027},null,null,null,null,null,null,{"$f":"$B56","v":2027}]
[]
["Kategorie / Kader",null,null,null,null,null,null,null,null,null,"Datum","Saisonziele",null,null,null,null,"Anz. Trainingseinheiten pro Woche"]
[null,null,null,null,null,null,null,null,null,"Saisonziel 1"]
[null,null,null,null,null,null,null,null,null,"Saisonziel 2",null,null,null,null,null,null,"Trainingsumfang (h/W)"]
[null,null,null,null,null,null,null,null,null,"Saisonziel 3"]
[null,null,null,null,null,null,null,null,null,"Saisonziel 4",null,null,null,null,null,null,"Trainingsschwerpunkte"]
[null,null,null,null,null,null,null,null,null,"Saisonziel 5"]
[null,null,null,null,null,null,null,null,null,"Militärdienst Beginn"]
[null,null,null,null,null,null,null,null,null,"Militärdienst Ende"]
[null,{"$f":"B56+1","v":2028},null,null,null,null,null,null,null,null,{"$f":"B66","v":2028},null,null,null,null,null,null,{"$f":"$B66","v":2028}]
[]
["Kategorie / Kader",null,null,null,null,null,null,null,null,null,"Datum","Saisonziele",null,null,null,null,"Anz. Trainingseinheiten pro Woche"]
[null,null,null,null,null,null,null,null,null,"Saisonziel 1"]
[null,null,null,null,null,null,null,null,null,"Saisonziel 2",null,null,null,null,null,null,"Trainingsumfang (h/W)"]
[null,null,null,null,null,null,null,null,null,"Saisonziel 3"]
[null,null,null,null,null,null,null,null,null,"Saisonziel 4",null,null,null,null,null,null,"Trainingsschwerpunkte"]
[null,null,null,null,null,null,null,null,null,"Saisonziel 5"]
[null,null,null,null,null,null,null,null,null,"Militärdienst Beginn"]
[null,null,null,null,null,null,null,null,null,"Militärdienst Ende"]
[null,{"$f":"B66+1","v":2029},null,null,null,null,null,null,null,null,{"$f":"B76","v":2029},null,null,null,null,null,null,{"$f":"$B76","v":2029}]
[]
["Kategorie / Kader",null,null,null,null,null,null,null,null,null,"Datum","Saisonziele",null,null,null,null,"Anz. Trainingseinheiten pro Woche"]
[null,null,null,null,null,null,null,null,null,"Saisonziel 1"]
[null,null,null,null,null,null,null,null,null,"Saisonziel 2",null,null,null,null,null,null,"Trainingsumfang (h/W)"]
[null,null,null,null,null,null,null,null,null,"Saisonziel 3"]
[null,null,null,null,null,null,null,null,null,"Saisonziel 4",null,null,null,null,null,null,"Trainingsschwerpunkte"]
[null,null,null,null,null,null,null,null,null,"Saisonziel 5"]
[null,null,null,null,null,null,null,null,null,"Militärdienst Beginn"]
[null,null,null,null,null,null,null,null,null,"Militärdienst Ende"]
[null,{"$f":"B76+1","v":2030},null,null,null,null,null,null,null,null,{"$f":"B86","v":2030},null,null,null,null,null,null,{"$f":"$B86","v":2030}]
[]
["Kategorie / Kader",null,null,null,null,null,null,null,null,null,"Datum","Saisonziele",null,null,null,null,"Anz. Trainingseinheiten pro Woche"]
[null,null,null,null,null,null,null,null,null,"Saisonziel 1"]
[null,null,null,null,null,null,null,null,null,"Saisonziel 2",null,null,null,null,null,null,"Trainingsumfang (h/W)"]
[null,null,null,null,null,null,null,null,null,"Saisonziel 3"]
[null,null,null,null,null,null,null,null,null,"Saisonziel 4",null,null,null,null,null,null,"Trainingsschwerpunkte"]
[null,null,null,null,null,null,null,null,null,"Saisonziel 5"]
[null,null,null,null,null,null,null,null,null,"Militärdienst Beginn"]
[null,null,null,null,null,null,null,null,null,"Militärdienst Ende"]
[null,{"$f":"B86+1","v":2031},null,null,null,null,null,null,null,null,{"$f":"B96","v":2031},null,null,null,null,null,null,{"$f":"$B96","v":2031}]
[]
["Kategorie / Kader",null,null,null,null,null,null,null,null,null,"Datum","Saisonziele",null,null,null,null,"Anz. Trainingseinheiten pro Woche"]
[null,null,null,null,null,null,null,null,null,"Saisonziel 1"]
[null,null,null,null,null,null,null,null,null,"Saisonziel 2",null,null,null,null,null,null,"Trainingsumfang (h/W)"]
[null,null,null,null,null,null,null,null,null,"Saisonziel 3"]
[null,null,null,null,null,null,null,null,null,"Saisonziel 4",null,null,null,null,null,null,"Trainingsschwerpunkte"]
[null,null,null,null,null,null,null,null,null,"Saisonziel 5"]
[null,null,null,null,null,null,null,null,null,"Militärdienst Beginn"]
[null,null,null,null,null,null,null,null,null,"Militärdienst Ende"]
[null,{"$f":"B96+1","v":2032},null,null,null,null,null,null,null,null,{"$f":"B106","v":2032},null,null,null,null,null,null,{"$f":"$B106","v":2032}]
[]
["Kategorie / Kader",null,null,null,null,null,null,null,null,null,"Datum","Saisonziele",null,null,null,null,"Anz. Trainingseinheiten pro Woche"]
[null,null,null,null,null,null,null,null,null,"Saisonziel 1"]
[null,null,null,null,null,null,null,null,null,"Saisonziel 2",null,null,null,null,null,null,"Trainingsumfang (h/W)"]
[null,null,null,null,null,null,null,null,null,"Saisonziel 3"]
[null,null,null,null,null,null,null,null,null,"Saisonziel 4",null,null,null,null,null,null,"Trainingsschwer-punkte"]
[null,null,null,null,null,null,null,null,null,"Saisonziel 5"]
[null,null,null,null,null,null,null,null,null,"Militärdienst Beginn"]
[null,null,null,null,null,null,null,null,null,"Militärdienst Ende"]

{"sheet":"Planung Ausbildung","index":3,"n_rows":93,"n_cols":12,"rows_kept":93,"cut":false,"hidden":false,"merged":[[14,1,14,4],[22,1,22,4],[14,10,14,11],[29,1,29,4],[31,0,36,0],[31,1,36,4],[86,10,86,11],[22,10,22,11],[3,0,3,6],[5,1,5,4],[7,0,12,0],[7,1,12,4],[5,10,5,11],[15,0,20,0],[15,1,20,4],[21,1,21,4],[13,1,13,4],[23,0,28,0],[23,1,28,4],[13,10,13,11],[6,1,6,4],[6,10,6,11],[37,10,37,11],[29,10,29,11],[21,10,21,11],[85,10,85,11],[77,10,77,11],[69,10,69,11],[61,10,61,11],[53,10,53,11],[45,10,45,11],[30,10,30,11],[38,10,38,11],[46,10,46,11],[54,10,54,11],[62,10,62,11],[70,10,70,11],[78,10,78,11],[79,0,84,0],[79,1,84,4],[47,0,52,0],[47,1,52,4],[30,1,30,4],[38,1,38,4],[46,1,46,4],[53,1,53,4],[55,0,60,0],[55,1,60,4],[63,0,68,0],[63,1,68,4],[39,0,44,0],[39,1,44,4],[45,1,45,4],[0,0,0,13],[3,9,3,12],[87,0,92,0],[87,1,92,4],[85,1,85,4],[78,1,78,4],[86,1,86,4],[69,1,69,4],[61,1,61,4],[71,0,76,0],[71,1,76,4],[54,1,54,4],[37,1,37,4],[62,1,62,4],[70,1,70,4],[77,1,77,4]]}
["Planung Ausbildung"]
[]
["Ausbildung",null,null,null,null,null,null,null,null,"Wichtige Termine"]
["Trage die entsprechende Ausbildung pro Jahr/Saison ein. Falls es in einem Jahr einen Ausbildungswechsel (z.B. Abschluss Gymnasium, Beginn Studium) gibt, dann trage es wie folgt ein: \"Gymnasium/Studium\"\nDu musst nur die eingefärbten Felder ausfüllen.",null,null,null,null,null,null,null,null,"Trage in den untenstehenden Feldern die wichtigsten Termine pro Jahr/Saison ein. Wichtig ist, dass du das Datum des Termins sowie die Beschreibung (z.B. Lehrabschlussprüfung, Pflichtveranstaltungen, Semesterprüfungen) pro Jahr einträgst.\nDu musst nur die eingefärbten Felder ausfüllen.\n\nFormat Datum: TT/MM/JJJJ"]
[]
[null,{"$f":"'Planung Sport'!B6","v":2022},null,null,null,null,null,null,{"$f":"'Planung Sport'!$G$6","v":"2023-05-31"},null,{"$f":"B6","v":2022}]
[]
["Ausbildung",null,null,null,null,null,null,null,{"$f":"YEAR(I6)","v":2023},null,"Datum","wichtige Termine"]
[null,null,null,null,null,null,null,null,{"$f":"I8+1","v":2024},"Termin 1"]
[null,null,null,null,null,null,null,null,{"$f":"I9+1","v":2025},"Termin 2"]
[null,null,null,null,null,null,null,null,{"$f":"I10+1","v":2026},"Termin 3"]
[null,null,null,null,null,null,null,null,null,"Termin 4"]
[null,null,null,null,null,null,null,null,null,"Termin 5"]
[null,{"$f":"B6+1","v":2023},null,null,null,null,null,null,null,null,{"$f":"B14","v":2023}]
[]
["Ausbildung",null,null,null,null,null,null,null,null,null,"Datum","wichtige Termine"]
[null,null,null,null,null,null,null,null,null,"Termin 1"]
[null,null,null,null,null,null,null,null,null,"Termin 2"]
[null,null,null,null,null,null,null,null,null,"Termin 3"]
[null,null,null,null,null,null,null,null,null,"Termin 4"]
[null,null,null,null,null,null,null,null,null,"Termin 5"]
[null,{"$f":"B14+1","v":2024},null,null,null,null,null,null,null,null,{"$f":"B22","v":2024}]
[]
["Ausbildung",null,null,null,null,null,null,null,null,null,"Datum","wichtige Termine"]
[null,null,null,null,null,null,null,null,null,"Termin 1"]
[null,null,null,null,null,null,null,null,null,"Termin 2"]
[null,null,null,null,null,null,null,null,null,"Termin 3"]
[null,null,null,null,null,null,null,null,null,"Termin 4"]
[null,null,null,null,null,null,null,null,null,"Termin 5"]
[null,{"$f":"B22+1","v":2025},null,null,null,null,null,null,null,null,{"$f":"B30","v":2025}]
[]
["Ausbildung",null,null,null,null,null,null,null,null,null,"Datum","wichtige Termine"]
[null,null,null,null,null,null,null,null,null,"Termin 1"]
[null,null,null,null,null,null,null,null,null,"Termin 2"]
[null,null,null,null,null,null,null,null,null,"Termin 3"]
[null,null,null,null,null,null,null,null,null,"Termin 4"]
[null,null,null,null,null,null,null,null,null,"Termin 5"]
[null,{"$f":"B30+1","v":2026},null,null,null,null,null,null,null,null,{"$f":"B38","v":2026}]
[]
["Ausbildung",null,null,null,null,null,null,null,null,null,"Datum","wichtige Termine"]
[null,null,null,null,null,null,null,null,null,"Termin 1"]
[null,null,null,null,null,null,null,null,null,"Termin 2"]
[null,null,null,null,null,null,null,null,null,"Termin 3"]
[null,null,null,null,null,null,null,null,null,"Termin 4"]
[null,null,null,null,null,null,null,null,null,"Termin 5"]
[null,{"$f":"B38+1","v":2027},null,null,null,null,null,null,null,null,{"$f":"B46","v":2027}]
[]
["Ausbildung",null,null,null,null,null,null,null,null,null,"Datum","wichtige Termine"]
[null,null,null,null,null,null,null,null,null,"Termin 1"]
[null,null,null,null,null,null,null,null,null,"Termin 2"]
[null,null,null,null,null,null,null,null,null,"Termin 3"]
[null,null,null,null,null,null,null,null,null,"Termin 4"]
[null,null,null,null,null,null,null,null,null,"Termin 5"]
[null,{"$f":"B46+1","v":2028},null,null,null,null,null,null,null,null,{"$f":"B54","v":2028}]
[]
["Ausbildung",null,null,null,null,null,null,null,null,null,"Datum","wichtige Termine"]
[null,null,null,null,null,null,null,null,null,"Termin 1"]
[null,null,null,null,null,null,null,null,null,"Termin 2"]
[null,null,null,null,null,null,null,null,null,"Termin 3"]
[null,null,null,null,null,null,null,null,null,"Termin 4"]
[null,null,null,null,null,null,null,null,null,"Termin 5"]
[null,{"$f":"B54+1","v":2029},null,null,null,null,null,null,null,null,{"$f":"B62","v":2029}]
[]
["Ausbildung",null,null,null,null,null,null,null,null,null,"Datum","wichtige Termine"]
[null,null,null,null,null,null,null,null,null,"Termin 1"]
[null,null,null,null,null,null,null,null,null,"Termin 2"]
[null,null,null,null,null,null,null,null,null,"Termin 3"]
[null,null,null,null,null,null,null,null,null,"Termin 4"]
[null,null,null,null,null,null,null,null,null,"Termin 5"]
[null,{"$f":"B62+1","v":2030},null,null,null,null,null,null,null,null,{"$f":"B70","v":2030}]
[]
["Ausbildung",null,null,null,null,null,null,null,null,null,"Datum","wichtige Termine"]
[null,null,null,null,null,null,null,null,null,"Termin 1"]
[null,null,null,null,null,null,null,null,null,"Termin 2"]
[null,null,null,null,null,null,null,null,null,"Termin 3"]
[null,null,null,null,null,null,null,null,null,"Termin 4"]
[null,null,null,null,null,null,null,null,null,"Termin 5"]
[null,{"$f":"B70+1","v":2031},null,null,null,null,null,null,null,null,{"$f":"B78","v":2031}]
[]
["Ausbildung",null,null,null,null,null,null,null,null,null,"Datum","wichtige Termine"]
[null,null,null,null,null,null,null,null,null,"Termin 1"]
[null,null,null,null,null,null,null,null,null,"Termin 2"]
[null,null,null,null,null,null,null,null,null,"Termin 3"]
[null,null,null,null,null,null,null,null,null,"Termin 4"]
[null,null,null,null,null,null,null,null,null,"Termin 5"]
[null,{"$f":"B78+1","v":2032},null,null,null,null,null,null,null,null,{"$f":"B86","v":2032}]
[]
["Ausbildung",null,null,null,null,null,null,null,null,null,"Datum","wichtige Termine"]
[null,null,null,null,null,null,null,null,null,"Termin 1"]
[null,null,null,null,null,null,null,null,null,"Termin 2"]
[null,null,null,null,null,null,null,null,null,"Termin 3"]
[null,null,null,null,null,null,null,null,null,"Termin 4"]
[null,null,null,null,null,null,null,null,null,"Termin 5"]

{"sheet":"Übersichtsblatt","index":4,"n_rows":68,"n_cols":17,"rows_kept":68,"cut":false,"hidden":false,"merged":[[5,0,5,16],[0,2,0,16],[1,2,1,12],[2,2,2,12],[10,2,10,4],[10,6,10,8],[10,10,10,12],[10,14,10,16],[7,2,7,4],[7,6,7,8],[7,10,7,12],[7,14,7,16],[11,2,11,4],[11,6,11,8],[11,10,11,12],[11,14,11,16],[12,2,12,4],[12,6,12,8],[12,10,12,12],[12,14,12,16],[13,2,13,4],[13,6,13,8],[13,10,13,12],[13,14,13,16],[18,2,18,4],[18,6,18,8],[18,10,18,12],[18,14,18,16],[14,2,14,4],[14,6,14,8],[14,10,14,12],[14,14,14,16],[15,2,15,4],[15,6,15,8],[15,10,15,12],[15,14,15,16],[16,2,16,4],[16,6,16,8],[16,10,16,12],[16,14,16,16],[17,2,17,4],[17,6,17,8],[17,10,17,12],[17,14,17,16],[19,2,19,4],[19,6,19,8],[19,10,19,12],[19,14,19,16],[22,2,22,4],[22,6,22,8],[22,10,22,12],[22,14,22,16],[21,2,21,4],[21,6,21,8],[21,10,21,12],[21,14,21,16],[20,2,20,4],[20,6,20,8],[20,10,20,12],[20,14,20,16],[56,0,56,16],[23,2,23,4],[23,6,23,8],[23,10,23,12],[23,14,23,16],[61,2,61,4],[61,6,61,8],[61,10,61,12],[61,14,61,16],[58,2,58,4],[58,6,58,8],[58,10,58,12],[58,14,58,16],[62,2,62,4],[62,6,62,8],[62,10,62,12],[62,14,62,16],[63,2,63,4],[63,6,63,8],[63,10,63,12],[63,14,63,16],[64,2,64,4],[64,6,64,8],[64,10,64,12],[64,14,64,16],[67,2,67,4],[67,6,67,8],[67,10,67,12],[67,14,67,16],[65,2,65,4],[65,6,65,8],[65,10,65,12],[65,14,65,16],[66,2,66,4],[66,6,66,8],[66,10,66,12],[66,14,66,16]]}
["Übersichtsblatt von:",null,{"$f":"Personenstammblatt!$B$5&\" \"&Personenstammblatt!$B$4","v":" "}]
["Sportart:",null,{"$f":"Personenstammblatt!B8","v":0}]
["Sportverband: ",null,{"$f":"Personenstammblatt!B9","v":0}]
[]
["Planung Sport"]
["Alle Felder werden automatisch ausgefüllt. Dafür musst die Tabellenblätter \"Personenstammblatt\" und \"Planung Sport\"  vollständig ausfüllen."]
[]
[null,null,{"$f":"'Planung Sport'!G8","v":2023},null,null,null,{"$f":"'Planung Sport'!G9","v":2024},null,null,null,{"$f":"'Planung Sport'!G10","v":2025},null,null,null,{"$f":"'Planung Sport'!G11","v":2026}]
[null,null,{"$f":"DATE(C8,1,1)","v":"2023-01-01"},null,{"$f":"VLOOKUP($C$8,'Hilfstabelle Alter'!$A$1:$B$43,2,0)","v":"2023-07-01"},null,{"$f":"DATE(G8,1,1)","v":"2024-01-01"},null,{"$f":"VLOOKUP($G$8,'Hilfstabelle Alter'!$A$1:$B$43,2,0)","v":"2024-07-01"},null,{"$f":"DATE(K8,1,1)","v":"2025-01-01"},null,{"$f":"VLOOKUP($K$8,'Hilfstabelle Alter'!$A$1:$B$43,2,0)","v":"2025-07-01"},null,{"$f":"DATE(O8,1,1)","v":"2026-01-01"},null,{"$f":"VLOOKUP($O$8,'Hilfstabelle Alter'!$A$1:$B$43,2,0)","v":"2026-07-01"}]
[]
["Alter",null,{"$f":"IF(Personenstammblatt!$B$6=\"\",\"\",DATEDIF(Personenstammblatt!$B$6,Übersichtsblatt!E$9,\"Y\"))","v":""},null,null,null,{"$f":"IF(Personenstammblatt!$B$6=\"\",\"\",DATEDIF(Personenstammblatt!$B$6,Übersichtsblatt!I$9,\"Y\"))","v":""},null,null,null,{"$f":"IF(Personenstammblatt!$B$6=\"\",\"\",DATEDIF(Personenstammblatt!$B$6,Übersichtsblatt!M$9,\"Y\"))","v":""},null,null,null,{"$f":"IF(Personenstammblatt!$B$6=\"\",\"\",DATEDIF(Personenstammblatt!$B$6,Übersichtsblatt!Q$9,\"Y\"))","v":""}]
["Kategorie / Kader",null,{"$f":"VLOOKUP(C$8,'Hilfstabelle Sport Kategorien'!$A$1:$B$22,2,0)","v":0},null,null,null,{"$f":"VLOOKUP(G$8,'Hilfstabelle Sport Kategorien'!$A$1:$B$22,2,0)","v":0},null,null,null,{"$f":"VLOOKUP(K$8,'Hilfstabelle Sport Kategorien'!$A$1:$B$22,2,0)","v":0},null,null,null,{"$f":"VLOOKUP(O$8,'Hilfstabelle Sport Kategorien'!$A$1:$B$22,2,0)","v":0}]
["Saisonziele"]
["Saisonziel 1",{"$f":"VLOOKUP(C$8&$A14,CHOOSE({1,2},'Hilfstabelle Sport Saisonziele'!$A$2:$A$294&'Hilfstabelle Sport Saisonziele'!$C$2:$C$294,'Hilfstabelle Sport Saisonziele'!$B$2:$B$294),2,0)","v":"00:00:00"},{"$f":"IFERROR(IF(VLOOKUP(C$8&$A14,CHOOSE({1,2},'Hilfstabelle Sport Saisonziele'!$A$2:$A$148&'Hilfstabelle Sport Saisonziele'!$C$2:$C$148,'Hilfstabelle Sport Saisonziele'!$D$2:$D$148),2,FALSE)=0,\"\",VLOOKUP(C$8&$A14,CHOOSE({1,2},'Hilfstabelle Sport Saisonziele'!$A$2:$A$148&'Hilfstabelle Sport Saisonziele'!$C$2:$C$148,'Hilfstabelle Sport Saisonziele'!$D$2:$D$148),2,FALSE)),\"\")","v":""},null,null,{"$f":"IFERROR(IF(VLOOKUP(G$8&$A14,CHOOSE({1,2},'Hilfstabelle Sport Saisonziele'!$A$2:$A$294&'Hilfstabelle Sport Saisonziele'!$C$2:$C$294,'Hilfstabelle Sport Saisonziele'!$B$2:$B$294),2,FALSE)=0,\"\",VLOOKUP(G$8&$A14,CHOOSE({1,2},'Hilfstabelle Sport Saisonziele'!$A$2:$A$294&'Hilfstabelle Sport Saisonziele'!$C$2:$C$294,'Hilfstabelle Sport Saisonziele'!$B$2:$B$294),2,FALSE)),\"\")","v":""},{"$f":"IFERROR(IF(VLOOKUP(G$8&$A14,CHOOSE({1,2},'Hilfstabelle Sport Saisonziele'!$A$2:$A$148&'Hilfstabelle Sport Saisonziele'!$C$2:$C$148,'Hilfstabelle Sport Saisonziele'!$D$2:$D$148),2,FALSE)=0,\"\",VLOOKUP(G$8&$A14,CHOOSE({1,2},'Hilfstabelle Sport Saisonziele'!$A$2:$A$148&'Hilfstabelle Sport Saisonziele'!$C$2:$C$148,'Hilfstabelle Sport Saisonziele'!$D$2:$D$148),2,FALSE)),\"\")","v":""},null,null,{"$f":"IFERROR(IF(VLOOKUP(K$8&$A14,CHOOSE({1,2},'Hilfstabelle Sport Saisonziele'!$A$2:$A$294&'Hilfstabelle Sport Saisonziele'!$C$2:$C$294,'Hilfstabelle Sport Saisonziele'!$B$2:$B$294),2,FALSE)=0,\"\",VLOOKUP(K$8&$A14,CHOOSE({1,2},'Hilfstabelle Sport Saisonziele'!$A$2:$A$294&'Hilfstabelle Sport Saisonziele'!$C$2:$C$294,'Hilfstabelle Sport Saisonziele'!$B$2:$B$294),2,FALSE)),\"\")","v":""},{"$f":"IFERROR(IF(VLOOKUP(K$8&$A14,CHOOSE({1,2},'Hilfstabelle Sport Saisonziele'!$A$2:$A$148&'Hilfstabelle Sport Saisonziele'!$C$2:$C$148,'Hilfstabelle Sport Saisonziele'!$D$2:$D$148),2,FALSE)=0,\"\",VLOOKUP(K$8&$A14,CHOOSE({1,2},'Hilfstabelle Sport Saisonziele'!$A$2:$A$148&'Hilfstabelle Sport Saisonziele'!$C$2:$C$148,'Hilfstabelle Sport Saisonziele'!$D$2:$D$148),2,FALSE)),\"\")","v":""},null,null,{"$f":"IFERROR(IF(VLOOKUP(O$8&$A14,CHOOSE({1,2},'Hilfstabelle Sport Saisonziele'!$A$2:$A$294&'Hilfstabelle Sport Saisonziele'!$C$2:$C$294,'Hilfstabelle Sport Saisonziele'!$B$2:$B$294),2,FALSE)=0,\"\",VLOOKUP(O$8&$A14,CHOOSE({1,2},'Hilfstabelle Sport Saisonziele'!$A$2:$A$294&'Hilfstabelle Sport Saisonziele'!$C$2:$C$294,'Hilfstabelle Sport Saisonziele'!$B$2:$B$294),2,FALSE)),\"\")","v":""},{"$f":"IFERROR(IF(VLOOKUP(O$8&$A14,CHOOSE({1,2},'Hilfstabelle Sport Saisonziele'!$A$2:$A$148&'Hilfstabelle Sport Saisonziele'!$C$2:$C$148,'Hilfstabelle Sport Saisonziele'!$D$2:$D$148),2,FALSE)=0,\"\",VLOOKUP(O$8&$A14,CHOOSE({1,2},'Hilfstabelle Sport Saisonziele'!$A$2:$A$148&'Hilfstabelle Sport Saisonziele'!$C$2:$C$148,'Hilfstabelle Sport Saisonziele'!$D$2:$D$148),2,FALSE)),\"\")","v":""}]
["Saisonziel 2",{"$f":"VLOOKUP(C$8&$A15,CHOOSE({1,2},'Hilfstabelle Sport Saisonziele'!$A$2:$A$294&'Hilfstabelle Sport Saisonziele'!$C$2:$C$294,'Hilfstabelle Sport Saisonziele'!$B$2:$B$294),2,0)","v":"00:00:00"},{"$f":"IFERROR(IF(VLOOKUP(C$8&$A15,CHOOSE({1,2},'Hilfstabelle Sport Saisonziele'!$A$2:$A$148&'Hilfstabelle Sport Saisonziele'!$C$2:$C$148,'Hilfstabelle Sport Saisonziele'!$D$2:$D$148),2,FALSE)=0,\"\",VLOOKUP(C$8&$A15,CHOOSE({1,2},'Hilfstabelle Sport Saisonziele'!$A$2:$A$148&'Hilfstabelle Sport Saisonziele'!$C$2:$C$148,'Hilfstabelle Sport Saisonziele'!$D$2:$D$148),2,FALSE)),\"\")","v":""},null,null,{"$f":"IFERROR(IF(VLOOKUP(G$8&$A15,CHOOSE({1,2},'Hilfstabelle Sport Saisonziele'!$A$2:$A$294&'Hilfstabelle Sport Saisonziele'!$C$2:$C$294,'Hilfstabelle Sport Saisonziele'!$B$2:$B$294),2,FALSE)=0,\"\",VLOOKUP(G$8&$A15,CHOOSE({1,2},'Hilfstabelle Sport Saisonziele'!$A$2:$A$294&'Hilfstabelle Sport Saisonziele'!$C$2:$C$294,'Hilfstabelle Sport Saisonziele'!$B$2:$B$294),2,FALSE)),\"\")","v":""},{"$f":"IFERROR(IF(VLOOKUP(G$8&$A15,CHOOSE({1,2},'Hilfstabelle Sport Saisonziele'!$A$2:$A$148&'Hilfstabelle Sport Saisonziele'!$C$2:$C$148,'Hilfstabelle Sport Saisonziele'!$D$2:$D$148),2,FALSE)=0,\"\",VLOOKUP(G$8&$A15,CHOOSE({1,2},'Hilfstabelle Sport Saisonziele'!$A$2:$A$148&'Hilfstabelle Sport Saisonziele'!$C$2:$C$148,'Hilfstabelle Sport Saisonziele'!$D$2:$D$148),2,FALSE)),\"\")","v":""},null,null,{"$f":"IFERROR(IF(VLOOKUP(K$8&$A15,CHOOSE({1,2},'Hilfstabelle Sport Saisonziele'!$A$2:$A$294&'Hilfstabelle Sport Saisonziele'!$C$2:$C$294,'Hilfstabelle Sport Saisonziele'!$B$2:$B$294),2,FALSE)=0,\"\",VLOOKUP(K$8&$A15,CHOOSE({1,2},'Hilfstabelle Sport Saisonziele'!$A$2:$A$294&'Hilfstabelle Sport Saisonziele'!$C$2:$C$294,'Hilfstabelle Sport Saisonziele'!$B$2:$B$294),2,FALSE)),\"\")","v":""},{"$f":"IFERROR(IF(VLOOKUP(K$8&$A15,CHOOSE({1,2},'Hilfstabelle Sport Saisonziele'!$A$2:$A$148&'Hilfstabelle Sport Saisonziele'!$C$2:$C$148,'Hilfstabelle Sport Saisonziele'!$D$2:$D$148),2,FALSE)=0,\"\",VLOOKUP(K$8&$A15,CHOOSE({1,2},'Hilfstabelle Sport Saisonziele'!$A$2:$A$148&'Hilfstabelle Sport Saisonziele'!$C$2:$C$148,'Hilfstabelle Sport Saisonziele'!$D$2:$D$148),2,FALSE)),\"\")","v":""},null,null,{"$f":"IFERROR(IF(VLOOKUP(O$8&$A15,CHOOSE({1,2},'Hilfstabelle Sport Saisonziele'!$A$2:$A$294&'Hilfstabelle Sport Saisonziele'!$C$2:$C$294,'Hilfstabelle Sport Saisonziele'!$B$2:$B$294),2,FALSE)=0,\"\",VLOOKUP(O$8&$A15,CHOOSE({1,2},'Hilfstabelle Sport Saisonziele'!$A$2:$A$294&'Hilfstabelle Sport Saisonziele'!$C$2:$C$294,'Hilfstabelle Sport Saisonziele'!$B$2:$B$294),2,FALSE)),\"\")","v":""},{"$f":"IFERROR(IF(VLOOKUP(O$8&$A15,CHOOSE({1,2},'Hilfstabelle Sport Saisonziele'!$A$2:$A$148&'Hilfstabelle Sport Saisonziele'!$C$2:$C$148,'Hilfstabelle Sport Saisonziele'!$D$2:$D$148),2,FALSE)=0,\"\",VLOOKUP(O$8&$A15,CHOOSE({1,2},'Hilfstabelle Sport Saisonziele'!$A$2:$A$148&'Hilfstabelle Sport Saisonziele'!$C$2:$C$148,'Hilfstabelle Sport Saisonziele'!$D$2:$D$148),2,FALSE)),\"\")","v":""}]
["Saisonziel 3",{"$f":"VLOOKUP(C$8&$A16,CHOOSE({1,2},'Hilfstabelle Sport Saisonziele'!$A$2:$A$294&'Hilfstabelle Sport Saisonziele'!$C$2:$C$294,'Hilfstabelle Sport Saisonziele'!$B$2:$B$294),2,0)","v":"00:00:00"},{"$f":"IFERROR(IF(VLOOKUP(C$8&$A16,CHOOSE({1,2},'Hilfstabelle Sport Saisonziele'!$A$2:$A$148&'Hilfstabelle Sport Saisonziele'!$C$2:$C$148,'Hilfstabelle Sport Saisonziele'!$D$2:$D$148),2,FALSE)=0,\"\",VLOOKUP(C$8&$A16,CHOOSE({1,2},'Hilfstabelle Sport Saisonziele'!$A$2:$A$148&'Hilfstabelle Sport Saisonziele'!$C$2:$C$148,'Hilfstabelle Sport Saisonziele'!$D$2:$D$148),2,FALSE)),\"\")","v":""},null,null,{"$f":"IFERROR(IF(VLOOKUP(G$8&$A16,CHOOSE({1,2},'Hilfstabelle Sport Saisonziele'!$A$2:$A$294&'Hilfstabelle Sport Saisonziele'!$C$2:$C$294,'Hilfstabelle Sport Saisonziele'!$B$2:$B$294),2,FALSE)=0,\"\",VLOOKUP(G$8&$A16,CHOOSE({1,2},'Hilfstabelle Sport Saisonziele'!$A$2:$A$294&'Hilfstabelle Sport Saisonziele'!$C$2:$C$294,'Hilfstabelle Sport Saisonziele'!$B$2:$B$294),2,FALSE)),\"\")","v":""},{"$f":"IFERROR(IF(VLOOKUP(G$8&$A16,CHOOSE({1,2},'Hilfstabelle Sport Saisonziele'!$A$2:$A$148&'Hilfstabelle Sport Saisonziele'!$C$2:$C$148,'Hilfstabelle Sport Saisonziele'!$D$2:$D$148),2,FALSE)=0,\"\",VLOOKUP(G$8&$A16,CHOOSE({1,2},'Hilfstabelle Sport Saisonziele'!$A$2:$A$148&'Hilfstabelle Sport Saisonziele'!$C$2:$C$148,'Hilfstabelle Sport Saisonziele'!$D$2:$D$148),2,FALSE)),\"\")","v":""},null,null,{"$f":"IFERROR(IF(VLOOKUP(K$8&$A16,CHOOSE({1,2},'Hilfstabelle Sport Saisonziele'!$A$2:$A$294&'Hilfstabelle Sport Saisonziele'!$C$2:$C$294,'Hilfstabelle Sport Saisonziele'!$B$2:$B$294),2,FALSE)=0,\"\",VLOOKUP(K$8&$A16,CHOOSE({1,2},'Hilfstabelle Sport Saisonziele'!$A$2:$A$294&'Hilfstabelle Sport Saisonziele'!$C$2:$C$294,'Hilfstabelle Sport Saisonziele'!$B$2:$B$294),2,FALSE)),\"\")","v":""},{"$f":"IFERROR(IF(VLOOKUP(K$8&$A16,CHOOSE({1,2},'Hilfstabelle Sport Saisonziele'!$A$2:$A$148&'Hilfstabelle Sport Saisonziele'!$C$2:$C$148,'Hilfstabelle Sport Saisonziele'!$D$2:$D$148),2,FALSE)=0,\"\",VLOOKUP(K$8&$A16,CHOOSE({1,2},'Hilfstabelle Sport Saisonziele'!$A$2:$A$148&'Hilfstabelle Sport Saisonziele'!$C$2:$C$148,'Hilfstabelle Sport Saisonziele'!$D$2:$D$148),2,FALSE)),\"\")","v":""},null,null,{"$f":"IFERROR(IF(VLOOKUP(O$8&$A16,CHOOSE({1,2},'Hilfstabelle Sport Saisonziele'!$A$2:$A$294&'Hilfstabelle Sport Saisonziele'!$C$2:$C$294,'Hilfstabelle Sport Saisonziele'!$B$2:$B$294),2,FALSE)=0,\"\",VLOOKUP(O$8&$A16,CHOOSE({1,2},'Hilfstabelle Sport Saisonziele'!$A$2:$A$294&'Hilfstabelle Sport Saisonziele'!$C$2:$C$294,'Hilfstabelle Sport Saisonziele'!$B$2:$B$294),2,FALSE)),\"\")","v":""},{"$f":"IFERROR(IF(VLOOKUP(O$8&$A16,CHOOSE({1,2},'Hilfstabelle Sport Saisonziele'!$A$2:$A$148&'Hilfstabelle Sport Saisonziele'!$C$2:$C$148,'Hilfstabelle Sport Saisonziele'!$D$2:$D$148),2,FALSE)=0,\"\",VLOOKUP(O$8&$A16,CHOOSE({1,2},'Hilfstabelle Sport Saisonziele'!$A$2:$A$148&'Hilfstabelle Sport Saisonziele'!$C$2:$C$148,'Hilfstabelle Sport Saisonziele'!$D$2:$D$148),2,FALSE)),\"\")","v":""}]
["Saisonziel 4",{"$f":"IFERROR(IF(VLOOKUP(C$8&$A17,CHOOSE({1,2},'Hilfstabelle Sport Saisonziele'!$A$2:$A$294&'Hilfstabelle Sport Saisonziele'!$C$2:$C$294,'Hilfstabelle Sport Saisonziele'!$B$2:$B$294),2,FALSE)=0,\"\",VLOOKUP(C$8&$A17,CHOOSE({1,2},'Hilfstabelle Sport Saisonziele'!$A$2:$A$294&'Hilfstabelle Sport Saisonziele'!$C$2:$C$294,'Hilfstabelle Sport Saisonziele'!$B$2:$B$294),2,FALSE)),\"\")","v":""},{"$f":"IFERROR(IF(VLOOKUP(C$8&$A17,CHOOSE({1,2},'Hilfstabelle Sport Saisonziele'!$A$2:$A$148&'Hilfstabelle Sport Saisonziele'!$C$2:$C$148,'Hilfstabelle Sport Saisonziele'!$D$2:$D$148),2,FALSE)=0,\"\",VLOOKUP(C$8&$A17,CHOOSE({1,2},'Hilfstabelle Sport Saisonziele'!$A$2:$A$148&'Hilfstabelle Sport Saisonziele'!$C$2:$C$148,'Hilfstabelle Sport Saisonziele'!$D$2:$D$148),2,FALSE)),\"\")","v":""},null,null,{"$f":"IFERROR(IF(VLOOKUP(G$8&$A17,CHOOSE({1,2},'Hilfstabelle Sport Saisonziele'!$A$2:$A$294&'Hilfstabelle Sport Saisonziele'!$C$2:$C$294,'Hilfstabelle Sport Saisonziele'!$B$2:$B$294),2,FALSE)=0,\"\",VLOOKUP(G$8&$A17,CHOOSE({1,2},'Hilfstabelle Sport Saisonziele'!$A$2:$A$294&'Hilfstabelle Sport Saisonziele'!$C$2:$C$294,'Hilfstabelle Sport Saisonziele'!$B$2:$B$294),2,FALSE)),\"\")","v":""},{"$f":"IFERROR(IF(VLOOKUP(G$8&$A17,CHOOSE({1,2},'Hilfstabelle Sport Saisonziele'!$A$2:$A$148&'Hilfstabelle Sport Saisonziele'!$C$2:$C$148,'Hilfstabelle Sport Saisonziele'!$D$2:$D$148),2,FALSE)=0,\"\",VLOOKUP(G$8&$A17,CHOOSE({1,2},'Hilfstabelle Sport Saisonziele'!$A$2:$A$148&'Hilfstabelle Sport Saisonziele'!$C$2:$C$148,'Hilfstabelle Sport Saisonziele'!$D$2:$D$148),2,FALSE)),\"\")","v":""},null,null,{"$f":"IFERROR(IF(VLOOKUP(K$8&$A17,CHOOSE({1,2},'Hilfstabelle Sport Saisonziele'!$A$2:$A$294&'Hilfstabelle Sport Saisonziele'!$C$2:$C$294,'Hilfstabelle Sport Saisonziele'!$B$2:$B$294),2,FALSE)=0,\"\",VLOOKUP(K$8&$A17,CHOOSE({1,2},'Hilfstabelle Sport Saisonziele'!$A$2:$A$294&'Hilfstabelle Sport Saisonziele'!$C$2:$C$294,'Hilfstabelle Sport Saisonziele'!$B$2:$B$294),2,FALSE)),\"\")","v":""},{"$f":"IFERROR(IF(VLOOKUP(K$8&$A17,CHOOSE({1,2},'Hilfstabelle Sport Saisonziele'!$A$2:$A$148&'Hilfstabelle Sport Saisonziele'!$C$2:$C$148,'Hilfstabelle Sport Saisonziele'!$D$2:$D$148),2,FALSE)=0,\"\",VLOOKUP(K$8&$A17,CHOOSE({1,2},'Hilfstabelle Sport Saisonziele'!$A$2:$A$148&'Hilfstabelle Sport Saisonziele'!$C$2:$C$148,'Hilfstabelle Sport Saisonziele'!$D$2:$D$148),2,FALSE)),\"\")","v":""},null,null,{"$f":"IFERROR(IF(VLOOKUP(O$8&$A17,CHOOSE({1,2},'Hilfstabelle Sport Saisonziele'!$A$2:$A$294&'Hilfstabelle Sport Saisonziele'!$C$2:$C$294,'Hilfstabelle Sport Saisonziele'!$B$2:$B$294),2,FALSE)=0,\"\",VLOOKUP(O$8&$A17,CHOOSE({1,2},'Hilfstabelle Sport Saisonziele'!$A$2:$A$294&'Hilfstabelle Sport Saisonziele'!$C$2:$C$294,'Hilfstabelle Sport Saisonziele'!$B$2:$B$294),2,FALSE)),\"\")","v":""},{"$f":"IFERROR(IF(VLOOKUP(O$8&$A17,CHOOSE({1,2},'Hilfstabelle Sport Saisonziele'!$A$2:$A$148&'Hilfstabelle Sport Saisonziele'!$C$2:$C$148,'Hilfstabelle Sport Saisonziele'!$D$2:$D$148),2,FALSE)=0,\"\",VLOOKUP(O$8&$A17,CHOOSE({1,2},'Hilfstabelle Sport Saisonziele'!$A$2:$A$148&'Hilfstabelle Sport Saisonziele'!$C$2:$C$148,'Hilfstabelle Sport Saisonziele'!$D$2:$D$148),2,FALSE)),\"\")","v":""}]
["Saisonziel 5",{"$f":"IFERROR(IF(VLOOKUP(C$8&$A18,CHOOSE({1,2},'Hilfstabelle Sport Saisonziele'!$A$2:$A$294&'Hilfstabelle Sport Saisonziele'!$C$2:$C$294,'Hilfstabelle Sport Saisonziele'!$B$2:$B$294),2,FALSE)=0,\"\",VLOOKUP(C$8&$A18,CHOOSE({1,2},'Hilfstabelle Sport Saisonziele'!$A$2:$A$294&'Hilfstabelle Sport Saisonziele'!$C$2:$C$294,'Hilfstabelle Sport Saisonziele'!$B$2:$B$294),2,FALSE)),\"\")","v":""},{"$f":"IFERROR(IF(VLOOKUP(C$8&$A18,CHOOSE({1,2},'Hilfstabelle Sport Saisonziele'!$A$2:$A$148&'Hilfstabelle Sport Saisonziele'!$C$2:$C$148,'Hilfstabelle Sport Saisonziele'!$D$2:$D$148),2,FALSE)=0,\"\",VLOOKUP(C$8&$A18,CHOOSE({1,2},'Hilfstabelle Sport Saisonziele'!$A$2:$A$148&'Hilfstabelle Sport Saisonziele'!$C$2:$C$148,'Hilfstabelle Sport Saisonziele'!$D$2:$D$148),2,FALSE)),\"\")","v":""},null,null,{"$f":"IFERROR(IF(VLOOKUP(G$8&$A18,CHOOSE({1,2},'Hilfstabelle Sport Saisonziele'!$A$2:$A$294&'Hilfstabelle Sport Saisonziele'!$C$2:$C$294,'Hilfstabelle Sport Saisonziele'!$B$2:$B$294),2,FALSE)=0,\"\",VLOOKUP(G$8&$A18,CHOOSE({1,2},'Hilfstabelle Sport Saisonziele'!$A$2:$A$294&'Hilfstabelle Sport Saisonziele'!$C$2:$C$294,'Hilfstabelle Sport Saisonziele'!$B$2:$B$294),2,FALSE)),\"\")","v":""},{"$f":"IFERROR(IF(VLOOKUP(G$8&$A18,CHOOSE({1,2},'Hilfstabelle Sport Saisonziele'!$A$2:$A$148&'Hilfstabelle Sport Saisonziele'!$C$2:$C$148,'Hilfstabelle Sport Saisonziele'!$D$2:$D$148),2,FALSE)=0,\"\",VLOOKUP(G$8&$A18,CHOOSE({1,2},'Hilfstabelle Sport Saisonziele'!$A$2:$A$148&'Hilfstabelle Sport Saisonziele'!$C$2:$C$148,'Hilfstabelle Sport Saisonziele'!$D$2:$D$148),2,FALSE)),\"\")","v":""},null,null,{"$f":"IFERROR(IF(VLOOKUP(K$8&$A18,CHOOSE({1,2},'Hilfstabelle Sport Saisonziele'!$A$2:$A$294&'Hilfstabelle Sport Saisonziele'!$C$2:$C$294,'Hilfstabelle Sport Saisonziele'!$B$2:$B$294),2,FALSE)=0,\"\",VLOOKUP(K$8&$A18,CHOOSE({1,2},'Hilfstabelle Sport Saisonziele'!$A$2:$A$294&'Hilfstabelle Sport Saisonziele'!$C$2:$C$294,'Hilfstabelle Sport Saisonziele'!$B$2:$B$294),2,FALSE)),\"\")","v":""},{"$f":"IFERROR(IF(VLOOKUP(K$8&$A18,CHOOSE({1,2},'Hilfstabelle Sport Saisonziele'!$A$2:$A$148&'Hilfstabelle Sport Saisonziele'!$C$2:$C$148,'Hilfstabelle Sport Saisonziele'!$D$2:$D$148),2,FALSE)=0,\"\",VLOOKUP(K$8&$A18,CHOOSE({1,2},'Hilfstabelle Sport Saisonziele'!$A$2:$A$148&'Hilfstabelle Sport Saisonziele'!$C$2:$C$148,'Hilfstabelle Sport Saisonziele'!$D$2:$D$148),2,FALSE)),\"\")","v":""},null,null,{"$f":"IFERROR(IF(VLOOKUP(O$8&$A18,CHOOSE({1,2},'Hilfstabelle Sport Saisonziele'!$A$2:$A$294&'Hilfstabelle Sport Saisonziele'!$C$2:$C$294,'Hilfstabelle Sport Saisonziele'!$B$2:$B$294),2,FALSE)=0,\"\",VLOOKUP(O$8&$A18,CHOOSE({1,2},'Hilfstabelle Sport Saisonziele'!$A$2:$A$294&'Hilfstabelle Sport Saisonziele'!$C$2:$C$294,'Hilfstabelle Sport Saisonziele'!$B$2:$B$294),2,FALSE)),\"\")","v":""},{"$f":"IFERROR(IF(VLOOKUP(O$8&$A18,CHOOSE({1,2},'Hilfstabelle Sport Saisonziele'!$A$2:$A$148&'Hilfstabelle Sport Saisonziele'!$C$2:$C$148,'Hilfstabelle Sport Saisonziele'!$D$2:$D$148),2,FALSE)=0,\"\",VLOOKUP(O$8&$A18,CHOOSE({1,2},'Hilfstabelle Sport Saisonziele'!$A$2:$A$148&'Hilfstabelle Sport Saisonziele'!$C$2:$C$148,'Hilfstabelle Sport Saisonziele'!$D$2:$D$148),2,FALSE)),\"\")","v":""}]
["Anz. Trainingseinheiten pro Woche",null,{"$f":"VLOOKUP(C$8&$A19,CHOOSE({1,2},'Hilfstabelle Sport Grobplan'!$A$2:$A$64&'Hilfstabelle Sport Grobplan'!$B$2:$B$64,'Hilfstabelle Sport Grobplan'!$C$2:$C$64),2,0)","v":0},null,null,null,{"$f":"VLOOKUP(G$8&$A19,CHOOSE({1,2},'Hilfstabelle Sport Grobplan'!$A$2:$A$64&'Hilfstabelle Sport Grobplan'!$B$2:$B$64,'Hilfstabelle Sport Grobplan'!$C$2:$C$64),2,0)","v":0},null,null,null,{"$f":"VLOOKUP(K$8&$A19,CHOOSE({1,2},'Hilfstabelle Sport Grobplan'!$A$2:$A$64&'Hilfstabelle Sport Grobplan'!$B$2:$B$64,'Hilfstabelle Sport Grobplan'!$C$2:$C$64),2,0)","v":0},null,null,null,{"$f":"VLOOKUP(O$8&$A19,CHOOSE({1,2},'Hilfstabelle Sport Grobplan'!$A$2:$A$64&'Hilfstabelle Sport Grobplan'!$B$2:$B$64,'Hilfstabelle Sport Grobplan'!$C$2:$C$64),2,0)","v":0}]
["Trainingsumfang (h/W)",null,{"$f":"(VLOOKUP(C$8&$A20,CHOOSE({1,2},'Hilfstabelle Sport Grobplan'!$A$2:$A$64&'Hilfstabelle Sport Grobplan'!$B$2:$B$64,'Hilfstabelle Sport Grobplan'!$C$2:$C$64),2,0))","v":0},null,null,null,{"$f":"VLOOKUP(G$8&$A20,CHOOSE({1,2},'Hilfstabelle Sport Grobplan'!$A:$A&'Hilfstabelle Sport Grobplan'!$B:$B,'Hilfstabelle Sport Grobplan'!$C:$C),2,0)","v":0},null,null,null,{"$f":"VLOOKUP(K$8&$A20,CHOOSE({1,2},'Hilfstabelle Sport Grobplan'!$A$2:$A$64&'Hilfstabelle Sport Grobplan'!$B$2:$B$64,'Hilfstabelle Sport Grobplan'!$C$2:$C$64),2,0)","v":0},null,null,null,{"$f":"VLOOKUP(O$8&$A20,CHOOSE({1,2},'Hilfstabelle Sport Grobplan'!$A$2:$A$64&'Hilfstabelle Sport Grobplan'!$B$2:$B$64,'Hilfstabelle Sport Grobplan'!$C$2:$C$64),2,0)","v":0}]
["Trainingsschwerpunkte",null,{"$f":"VLOOKUP(C$8&$A21,CHOOSE({1,2},'Hilfstabelle Sport Grobplan'!$A$2:$A$64&'Hilfstabelle Sport Grobplan'!$B$2:$B$64,'Hilfstabelle Sport Grobplan'!$C$2:$C$64),2,0)","v":0},null,null,null,{"$f":"VLOOKUP(G$8&$A21,CHOOSE({1,2},'Hilfstabelle Sport Grobplan'!$A$2:$A$64&'Hilfstabelle Sport Grobplan'!$B$2:$B$64,'Hilfstabelle Sport Grobplan'!$C$2:$C$64),2,0)","v":0},null,null,null,{"$f":"VLOOKUP(K$8&$A21,CHOOSE({1,2},'Hilfstabelle Sport Grobplan'!$A$2:$A$64&'Hilfstabelle Sport Grobplan'!$B$2:$B$64,'Hilfstabelle Sport Grobplan'!$C$2:$C$64),2,0)","v":0},null,null,null,{"$f":"VLOOKUP(O$8&$A21,CHOOSE({1,2},'Hilfstabelle Sport Grobplan'!$A$2:$A$64&'Hilfstabelle Sport Grobplan'!$B$2:$B$64,'Hilfstabelle Sport Grobplan'!$C$2:$C$64),2,0)","v":0}]
["Militär"]
["Militärdienst Beginn",{"$f":"IFERROR(IF(VLOOKUP(C$8&$A23,CHOOSE({1,2},'Hilfstabelle Sport Saisonziele'!$A$2:$A$294&'Hilfstabelle Sport Saisonziele'!$C$2:$C$294,'Hilfstabelle Sport Saisonziele'!$B$2:$B$294),2,FALSE)=0,\"\",VLOOKUP(C$8&$A23,CHOOSE({1,2},'Hilfstabelle Sport Saisonziele'!$A$2:$A$294&'Hilfstabelle Sport Saisonziele'!$C$2:$C$294,'Hilfstabelle Sport Saisonziele'!$B$2:$B$294),2,FALSE)),\"\")","v":""},{"$f":"IFERROR(IF(VLOOKUP(C$8&$A23,CHOOSE({1,2},'Hilfstabelle Sport Saisonziele'!$A$2:$A$148&'Hilfstabelle Sport Saisonziele'!$C$2:$C$148,'Hilfstabelle Sport Saisonziele'!$D$2:$D$148),2,FALSE)=0,\"\",VLOOKUP(C$8&$A23,CHOOSE({1,2},'Hilfstabelle Sport Saisonziele'!$A$2:$A$148&'Hilfstabelle Sport Saisonziele'!$C$2:$C$148,'Hilfstabelle Sport Saisonziele'!$D$2:$D$148),2,FALSE)),\"\")","v":""},null,null,{"$f":"IFERROR(IF(VLOOKUP(G$8&$A23,CHOOSE({1,2},'Hilfstabelle Sport Saisonziele'!$A$2:$A$294&'Hilfstabelle Sport Saisonziele'!$C$2:$C$294,'Hilfstabelle Sport Saisonziele'!$B$2:$B$294),2,FALSE)=0,\"\",VLOOKUP(G$8&$A23,CHOOSE({1,2},'Hilfstabelle Sport Saisonziele'!$A$2:$A$294&'Hilfstabelle Sport Saisonziele'!$C$2:$C$294,'Hilfstabelle Sport Saisonziele'!$B$2:$B$294),2,FALSE)),\"\")","v":""},{"$f":"IFERROR(IF(VLOOKUP(G$8&$A23,CHOOSE({1,2},'Hilfstabelle Sport Saisonziele'!$A$2:$A$148&'Hilfstabelle Sport Saisonziele'!$C$2:$C$148,'Hilfstabelle Sport Saisonziele'!$D$2:$D$148),2,FALSE)=0,\"\",VLOOKUP(G$8&$A23,CHOOSE({1,2},'Hilfstabelle Sport Saisonziele'!$A$2:$A$148&'Hilfstabelle Sport Saisonziele'!$C$2:$C$148,'Hilfstabelle Sport Saisonziele'!$D$2:$D$148),2,FALSE)),\"\")","v":""},null,null,{"$f":"IFERROR(IF(VLOOKUP(K$8&$A23,CHOOSE({1,2},'Hilfstabelle Sport Saisonziele'!$A$2:$A$294&'Hilfstabelle Sport Saisonziele'!$C$2:$C$294,'Hilfstabelle Sport Saisonziele'!$B$2:$B$294),2,FALSE)=0,\"\",VLOOKUP(K$8&$A23,CHOOSE({1,2},'Hilfstabelle Sport Saisonziele'!$A$2:$A$294&'Hilfstabelle Sport Saisonziele'!$C$2:$C$294,'Hilfstabelle Sport Saisonziele'!$B$2:$B$294),2,FALSE)),\"\")","v":""},{"$f":"IFERROR(IF(VLOOKUP(K$8&$A23,CHOOSE({1,2},'Hilfstabelle Sport Saisonziele'!$A$2:$A$148&'Hilfstabelle Sport Saisonziele'!$C$2:$C$148,'Hilfstabelle Sport Saisonziele'!$D$2:$D$148),2,FALSE)=0,\"\",VLOOKUP(K$8&$A23,CHOOSE({1,2},'Hilfstabelle Sport Saisonziele'!$A$2:$A$148&'Hilfstabelle Sport Saisonziele'!$C$2:$C$148,'Hilfstabelle Sport Saisonziele'!$D$2:$D$148),2,FALSE)),\"\")","v":""},null,null,{"$f":"IFERROR(IF(VLOOKUP(O$8&$A23,CHOOSE({1,2},'Hilfstabelle Sport Saisonziele'!$A$2:$A$294&'Hilfstabelle Sport Saisonziele'!$C$2:$C$294,'Hilfstabelle Sport Saisonziele'!$B$2:$B$294),2,FALSE)=0,\"\",VLOOKUP(O$8&$A23,CHOOSE({1,2},'Hilfstabelle Sport Saisonziele'!$A$2:$A$294&'Hilfstabelle Sport Saisonziele'!$C$2:$C$294,'Hilfstabelle Sport Saisonziele'!$B$2:$B$294),2,FALSE)),\"\")","v":""},{"$f":"IFERROR(IF(VLOOKUP(O$8&$A23,CHOOSE({1,2},'Hilfstabelle Sport Saisonziele'!$A$2:$A$148&'Hilfstabelle Sport Saisonziele'!$C$2:$C$148,'Hilfstabelle Sport Saisonziele'!$D$2:$D$148),2,FALSE)=0,\"\",VLOOKUP(O$8&$A23,CHOOSE({1,2},'Hilfstabelle Sport Saisonziele'!$A$2:$A$148&'Hilfstabelle Sport Saisonziele'!$C$2:$C$148,'Hilfstabelle Sport Saisonziele'!$D$2:$D$148),2,FALSE)),\"\")","v":""}]
["Militärdienst Ende",{"$f":"IFERROR(IF(VLOOKUP(C$8&$A24,CHOOSE({1,2},'Hilfstabelle Sport Saisonziele'!$A$2:$A$294&'Hilfstabelle Sport Saisonziele'!$C$2:$C$294,'Hilfstabelle Sport Saisonziele'!$B$2:$B$294),2,FALSE)=0,\"\",VLOOKUP(C$8&$A24,CHOOSE({1,2},'Hilfstabelle Sport Saisonziele'!$A$2:$A$294&'Hilfstabelle Sport Saisonziele'!$C$2:$C$294,'Hilfstabelle Sport Saisonziele'!$B$2:$B$294),2,FALSE)),\"\")","v":""},{"$f":"IFERROR(IF(VLOOKUP(C$8&$A24,CHOOSE({1,2},'Hilfstabelle Sport Saisonziele'!$A$2:$A$148&'Hilfstabelle Sport Saisonziele'!$C$2:$C$148,'Hilfstabelle Sport Saisonziele'!$D$2:$D$148),2,FALSE)=0,\"\",VLOOKUP(C$8&$A24,CHOOSE({1,2},'Hilfstabelle Sport Saisonziele'!$A$2:$A$148&'Hilfstabelle Sport Saisonziele'!$C$2:$C$148,'Hilfstabelle Sport Saisonziele'!$D$2:$D$148),2,FALSE)),\"\")","v":""},null,null,{"$f":"IFERROR(IF(VLOOKUP(G$8&$A24,CHOOSE({1,2},'Hilfstabelle Sport Saisonziele'!$A$2:$A$294&'Hilfstabelle Sport Saisonziele'!$C$2:$C$294,'Hilfstabelle Sport Saisonziele'!$B$2:$B$294),2,FALSE)=0,\"\",VLOOKUP(G$8&$A24,CHOOSE({1,2},'Hilfstabelle Sport Saisonziele'!$A$2:$A$294&'Hilfstabelle Sport Saisonziele'!$C$2:$C$294,'Hilfstabelle Sport Saisonziele'!$B$2:$B$294),2,FALSE)),\"\")","v":""},{"$f":"IFERROR(IF(VLOOKUP(G$8&$A24,CHOOSE({1,2},'Hilfstabelle Sport Saisonziele'!$A$2:$A$148&'Hilfstabelle Sport Saisonziele'!$C$2:$C$148,'Hilfstabelle Sport Saisonziele'!$D$2:$D$148),2,FALSE)=0,\"\",VLOOKUP(G$8&$A24,CHOOSE({1,2},'Hilfstabelle Sport Saisonziele'!$A$2:$A$148&'Hilfstabelle Sport Saisonziele'!$C$2:$C$148,'Hilfstabelle Sport Saisonziele'!$D$2:$D$148),2,FALSE)),\"\")","v":""},null,null,{"$f":"IFERROR(IF(VLOOKUP(K$8&$A24,CHOOSE({1,2},'Hilfstabelle Sport Saisonziele'!$A$2:$A$294&'Hilfstabelle Sport Saisonziele'!$C$2:$C$294,'Hilfstabelle Sport Saisonziele'!$B$2:$B$294),2,FALSE)=0,\"\",VLOOKUP(K$8&$A24,CHOOSE({1,2},'Hilfstabelle Sport Saisonziele'!$A$2:$A$294&'Hilfstabelle Sport Saisonziele'!$C$2:$C$294,'Hilfstabelle Sport Saisonziele'!$B$2:$B$294),2,FALSE)),\"\")","v":""},{"$f":"IFERROR(IF(VLOOKUP(K$8&$A24,CHOOSE({1,2},'Hilfstabelle Sport Saisonziele'!$A$2:$A$148&'Hilfstabelle Sport Saisonziele'!$C$2:$C$148,'Hilfstabelle Sport Saisonziele'!$D$2:$D$148),2,FALSE)=0,\"\",VLOOKUP(K$8&$A24,CHOOSE({1,2},'Hilfstabelle Sport Saisonziele'!$A$2:$A$148&'Hilfstabelle Sport Saisonziele'!$C$2:$C$148,'Hilfstabelle Sport Saisonziele'!$D$2:$D$148),2,FALSE)),\"\")","v":""},null,null,{"$f":"IFERROR(IF(VLOOKUP(O$8&$A24,CHOOSE({1,2},'Hilfstabelle Sport Saisonziele'!$A$2:$A$294&'Hilfstabelle Sport Saisonziele'!$C$2:$C$294,'Hilfstabelle Sport Saisonziele'!$B$2:$B$294),2,FALSE)=0,\"\",VLOOKUP(O$8&$A24,CHOOSE({1,2},'Hilfstabelle Sport Saisonziele'!$A$2:$A$294&'Hilfstabelle Sport Saisonziele'!$C$2:$C$294,'Hilfstabelle Sport Saisonziele'!$B$2:$B$294),2,FALSE)),\"\")","v":""},{"$f":"IFERROR(IF(VLOOKUP(O$8&$A24,CHOOSE({1,2},'Hilfstabelle Sport Saisonziele'!$A$2:$A$148&'Hilfstabelle Sport Saisonziele'!$C$2:$C$148,'Hilfstabelle Sport Saisonziele'!$D$2:$D$148),2,FALSE)=0,\"\",VLOOKUP(O$8&$A24,CHOOSE({1,2},'Hilfstabelle Sport Saisonziele'!$A$2:$A$148&'Hilfstabelle Sport Saisonziele'!$C$2:$C$148,'Hilfstabelle Sport Saisonziele'!$D$2:$D$148),2,FALSE)),\"\")","v":""}]
[]
[]
[]
[]
[]
[]
[]
[]
[]
[]
[]
[]
[]
[]
[]
[]
[]
[]
[]
[]
[]
[]
[]
[]
[]
[]
[]
[]
[]
[]
[]
["Planung Ausbildung"]
["Alle Felder werden automatisch ausgefüllt. Dafür musst du die Tabellenblätter \"Personenstammblatt\" und \"Planung Ausbildung\"  vollständig ausfüllen."]
[]
[null,null,{"$f":"'Planung Ausbildung'!I8","v":2023},null,null,null,{"$f":"'Planung Ausbildung'!I9","v":2024},null,null,null,{"$f":"'Planung Ausbildung'!I10","v":2025},null,null,null,{"$f":"'Planung Ausbildung'!I11","v":2026}]
[null,null,{"$f":"DATE(C59,1,1)","v":"2023-01-01"},null,null,null,{"$f":"DATE(G59,1,1)","v":"2024-01-01"},null,null,null,{"$f":"DATE(K59,1,1)","v":"2025-01-01"},null,null,null,{"$f":"DATE(O59,1,1)","v":"2026-01-01"}]
[]
["Ausbildung",null,{"$f":"VLOOKUP(C$59,'Hilfstabelle Schule Ausbildung'!$A$1:$B$22,2,0)","v":0},null,null,null,{"$f":"VLOOKUP(G$59,'Hilfstabelle Schule Ausbildung'!$A$1:$B$22,2,0)","v":0},null,null,null,{"$f":"VLOOKUP(K$59,'Hilfstabelle Schule Ausbildung'!$A$1:$B$22,2,0)","v":0},null,null,null,{"$f":"VLOOKUP(O$59,'Hilfstabelle Schule Ausbildung'!$A$1:$B$22,2,0)","v":0}]
["Meilensteine"]
["Termin 1",{"$f":"IFERROR(IF(VLOOKUP(C$59&$A64,CHOOSE({1,2},'Hilfstabelle Schule Meilenstein'!$A$2:$A$210&'Hilfstabelle Schule Meilenstein'!$C$2:$C$210,'Hilfstabelle Schule Meilenstein'!$B$2:$B$210),2,FALSE)=0,\"\",VLOOKUP(C$59&$A64,CHOOSE({1,2},'Hilfstabelle Schule Meilenstein'!$A$2:$A$210&'Hilfstabelle Schule Meilenstein'!$C$2:$C$210,'Hilfstabelle Schule Meilenstein'!$B$2:$B$210),2,FALSE)),\"\")","v":""},{"$f":"IFERROR(IF(VLOOKUP(C$59&$A64,CHOOSE({1,2},'Hilfstabelle Schule Meilenstein'!$A$2:$A$106&'Hilfstabelle Schule Meilenstein'!$C$2:$C$106,'Hilfstabelle Schule Meilenstein'!$D$2:$D$106),2,FALSE)=0,\"\",VLOOKUP(C$59&$A64,CHOOSE({1,2},'Hilfstabelle Schule Meilenstein'!$A$2:$A$106&'Hilfstabelle Schule Meilenstein'!$C$2:$C$106,'Hilfstabelle Schule Meilenstein'!$D$2:$D$106),2,FALSE)),\"\")","v":""},null,null,{"$f":"IFERROR(IF(VLOOKUP(G$59&$A64,CHOOSE({1,2},'Hilfstabelle Schule Meilenstein'!$A$2:$A$210&'Hilfstabelle Schule Meilenstein'!$C$2:$C$210,'Hilfstabelle Schule Meilenstein'!$B$2:$B$210),2,FALSE)=0,\"\",VLOOKUP(G$59&$A64,CHOOSE({1,2},'Hilfstabelle Schule Meilenstein'!$A$2:$A$210&'Hilfstabelle Schule Meilenstein'!$C$2:$C$210,'Hilfstabelle Schule Meilenstein'!$B$2:$B$210),2,FALSE)),\"\")","v":""},{"$f":"IFERROR(IF(VLOOKUP(G$59&$A64,CHOOSE({1,2},'Hilfstabelle Schule Meilenstein'!$A$2:$A$106&'Hilfstabelle Schule Meilenstein'!$C$2:$C$106,'Hilfstabelle Schule Meilenstein'!$D$2:$D$106),2,FALSE)=0,\"\",VLOOKUP(G$59&$A64,CHOOSE({1,2},'Hilfstabelle Schule Meilenstein'!$A$2:$A$106&'Hilfstabelle Schule Meilenstein'!$C$2:$C$106,'Hilfstabelle Schule Meilenstein'!$D$2:$D$106),2,FALSE)),\"\")","v":""},null,null,{"$f":"IFERROR(IF(VLOOKUP(K$59&$A64,CHOOSE({1,2},'Hilfstabelle Schule Meilenstein'!$A$2:$A$210&'Hilfstabelle Schule Meilenstein'!$C$2:$C$210,'Hilfstabelle Schule Meilenstein'!$B$2:$B$210),2,FALSE)=0,\"\",VLOOKUP(K$59&$A64,CHOOSE({1,2},'Hilfstabelle Schule Meilenstein'!$A$2:$A$210&'Hilfstabelle Schule Meilenstein'!$C$2:$C$210,'Hilfstabelle Schule Meilenstein'!$B$2:$B$210),2,FALSE)),\"\")","v":""},{"$f":"IFERROR(IF(VLOOKUP(K$59&$A64,CHOOSE({1,2},'Hilfstabelle Schule Meilenstein'!$A$2:$A$106&'Hilfstabelle Schule Meilenstein'!$C$2:$C$106,'Hilfstabelle Schule Meilenstein'!$D$2:$D$106),2,FALSE)=0,\"\",VLOOKUP(K$59&$A64,CHOOSE({1,2},'Hilfstabelle Schule Meilenstein'!$A$2:$A$106&'Hilfstabelle Schule Meilenstein'!$C$2:$C$106,'Hilfstabelle Schule Meilenstein'!$D$2:$D$106),2,FALSE)),\"\")","v":""},null,null,{"$f":"IFERROR(IF(VLOOKUP(O$59&$A64,CHOOSE({1,2},'Hilfstabelle Schule Meilenstein'!$A$2:$A$210&'Hilfstabelle Schule Meilenstein'!$C$2:$C$210,'Hilfstabelle Schule Meilenstein'!$B$2:$B$210),2,FALSE)=0,\"\",VLOOKUP(O$59&$A64,CHOOSE({1,2},'Hilfstabelle Schule Meilenstein'!$A$2:$A$210&'Hilfstabelle Schule Meilenstein'!$C$2:$C$210,'Hilfstabelle Schule Meilenstein'!$B$2:$B$210),2,FALSE)),\"\")","v":""},{"$f":"IFERROR(IF(VLOOKUP(O$59&$A64,CHOOSE({1,2},'Hilfstabelle Schule Meilenstein'!$A$2:$A$106&'Hilfstabelle Schule Meilenstein'!$C$2:$C$106,'Hilfstabelle Schule Meilenstein'!$D$2:$D$106),2,FALSE)=0,\"\",VLOOKUP(O$59&$A64,CHOOSE({1,2},'Hilfstabelle Schule Meilenstein'!$A$2:$A$106&'Hilfstabelle Schule Meilenstein'!$C$2:$C$106,'Hilfstabelle Schule Meilenstein'!$D$2:$D$106),2,FALSE)),\"\")","v":""}]
["Termin 2",{"$f":"IFERROR(IF(VLOOKUP(C$59&$A65,CHOOSE({1,2},'Hilfstabelle Schule Meilenstein'!$A$2:$A$210&'Hilfstabelle Schule Meilenstein'!$C$2:$C$210,'Hilfstabelle Schule Meilenstein'!$B$2:$B$210),2,FALSE)=0,\"\",VLOOKUP(C$59&$A65,CHOOSE({1,2},'Hilfstabelle Schule Meilenstein'!$A$2:$A$210&'Hilfstabelle Schule Meilenstein'!$C$2:$C$210,'Hilfstabelle Schule Meilenstein'!$B$2:$B$210),2,FALSE)),\"\")","v":""},{"$f":"IFERROR(IF(VLOOKUP(C$59&$A65,CHOOSE({1,2},'Hilfstabelle Schule Meilenstein'!$A$2:$A$106&'Hilfstabelle Schule Meilenstein'!$C$2:$C$106,'Hilfstabelle Schule Meilenstein'!$D$2:$D$106),2,FALSE)=0,\"\",VLOOKUP(C$59&$A65,CHOOSE({1,2},'Hilfstabelle Schule Meilenstein'!$A$2:$A$106&'Hilfstabelle Schule Meilenstein'!$C$2:$C$106,'Hilfstabelle Schule Meilenstein'!$D$2:$D$106),2,FALSE)),\"\")","v":""},null,null,{"$f":"IFERROR(IF(VLOOKUP(G$59&$A65,CHOOSE({1,2},'Hilfstabelle Schule Meilenstein'!$A$2:$A$210&'Hilfstabelle Schule Meilenstein'!$C$2:$C$210,'Hilfstabelle Schule Meilenstein'!$B$2:$B$210),2,FALSE)=0,\"\",VLOOKUP(G$59&$A65,CHOOSE({1,2},'Hilfstabelle Schule Meilenstein'!$A$2:$A$210&'Hilfstabelle Schule Meilenstein'!$C$2:$C$210,'Hilfstabelle Schule Meilenstein'!$B$2:$B$210),2,FALSE)),\"\")","v":""},{"$f":"IFERROR(IF(VLOOKUP(G$59&$A65,CHOOSE({1,2},'Hilfstabelle Schule Meilenstein'!$A$2:$A$106&'Hilfstabelle Schule Meilenstein'!$C$2:$C$106,'Hilfstabelle Schule Meilenstein'!$D$2:$D$106),2,FALSE)=0,\"\",VLOOKUP(G$59&$A65,CHOOSE({1,2},'Hilfstabelle Schule Meilenstein'!$A$2:$A$106&'Hilfstabelle Schule Meilenstein'!$C$2:$C$106,'Hilfstabelle Schule Meilenstein'!$D$2:$D$106),2,FALSE)),\"\")","v":""},null,null,{"$f":"IFERROR(IF(VLOOKUP(K$59&$A65,CHOOSE({1,2},'Hilfstabelle Schule Meilenstein'!$A$2:$A$210&'Hilfstabelle Schule Meilenstein'!$C$2:$C$210,'Hilfstabelle Schule Meilenstein'!$B$2:$B$210),2,FALSE)=0,\"\",VLOOKUP(K$59&$A65,CHOOSE({1,2},'Hilfstabelle Schule Meilenstein'!$A$2:$A$210&'Hilfstabelle Schule Meilenstein'!$C$2:$C$210,'Hilfstabelle Schule Meilenstein'!$B$2:$B$210),2,FALSE)),\"\")","v":""},{"$f":"IFERROR(IF(VLOOKUP(K$59&$A65,CHOOSE({1,2},'Hilfstabelle Schule Meilenstein'!$A$2:$A$106&'Hilfstabelle Schule Meilenstein'!$C$2:$C$106,'Hilfstabelle Schule Meilenstein'!$D$2:$D$106),2,FALSE)=0,\"\",VLOOKUP(K$59&$A65,CHOOSE({1,2},'Hilfstabelle Schule Meilenstein'!$A$2:$A$106&'Hilfstabelle Schule Meilenstein'!$C$2:$C$106,'Hilfstabelle Schule Meilenstein'!$D$2:$D$106),2,FALSE)),\"\")","v":""},null,null,{"$f":"IFERROR(IF(VLOOKUP(O$59&$A65,CHOOSE({1,2},'Hilfstabelle Schule Meilenstein'!$A$2:$A$210&'Hilfstabelle Schule Meilenstein'!$C$2:$C$210,'Hilfstabelle Schule Meilenstein'!$B$2:$B$210),2,FALSE)=0,\"\",VLOOKUP(O$59&$A65,CHOOSE({1,2},'Hilfstabelle Schule Meilenstein'!$A$2:$A$210&'Hilfstabelle Schule Meilenstein'!$C$2:$C$210,'Hilfstabelle Schule Meilenstein'!$B$2:$B$210),2,FALSE)),\"\")","v":""},{"$f":"IFERROR(IF(VLOOKUP(O$59&$A65,CHOOSE({1,2},'Hilfstabelle Schule Meilenstein'!$A$2:$A$106&'Hilfstabelle Schule Meilenstein'!$C$2:$C$106,'Hilfstabelle Schule Meilenstein'!$D$2:$D$106),2,FALSE)=0,\"\",VLOOKUP(O$59&$A65,CHOOSE({1,2},'Hilfstabelle Schule Meilenstein'!$A$2:$A$106&'Hilfstabelle Schule Meilenstein'!$C$2:$C$106,'Hilfstabelle Schule Meilenstein'!$D$2:$D$106),2,FALSE)),\"\")","v":""}]
["Termin 3",{"$f":"IFERROR(IF(VLOOKUP(C$59&$A66,CHOOSE({1,2},'Hilfstabelle Schule Meilenstein'!$A$2:$A$210&'Hilfstabelle Schule Meilenstein'!$C$2:$C$210,'Hilfstabelle Schule Meilenstein'!$B$2:$B$210),2,FALSE)=0,\"\",VLOOKUP(C$59&$A66,CHOOSE({1,2},'Hilfstabelle Schule Meilenstein'!$A$2:$A$210&'Hilfstabelle Schule Meilenstein'!$C$2:$C$210,'Hilfstabelle Schule Meilenstein'!$B$2:$B$210),2,FALSE)),\"\")","v":""},{"$f":"IFERROR(IF(VLOOKUP(C$59&$A66,CHOOSE({1,2},'Hilfstabelle Schule Meilenstein'!$A$2:$A$106&'Hilfstabelle Schule Meilenstein'!$C$2:$C$106,'Hilfstabelle Schule Meilenstein'!$D$2:$D$106),2,FALSE)=0,\"\",VLOOKUP(C$59&$A66,CHOOSE({1,2},'Hilfstabelle Schule Meilenstein'!$A$2:$A$106&'Hilfstabelle Schule Meilenstein'!$C$2:$C$106,'Hilfstabelle Schule Meilenstein'!$D$2:$D$106),2,FALSE)),\"\")","v":""},null,null,{"$f":"IFERROR(IF(VLOOKUP(G$59&$A66,CHOOSE({1,2},'Hilfstabelle Schule Meilenstein'!$A$2:$A$210&'Hilfstabelle Schule Meilenstein'!$C$2:$C$210,'Hilfstabelle Schule Meilenstein'!$B$2:$B$210),2,FALSE)=0,\"\",VLOOKUP(G$59&$A66,CHOOSE({1,2},'Hilfstabelle Schule Meilenstein'!$A$2:$A$210&'Hilfstabelle Schule Meilenstein'!$C$2:$C$210,'Hilfstabelle Schule Meilenstein'!$B$2:$B$210),2,FALSE)),\"\")","v":""},{"$f":"IFERROR(IF(VLOOKUP(G$59&$A66,CHOOSE({1,2},'Hilfstabelle Schule Meilenstein'!$A$2:$A$106&'Hilfstabelle Schule Meilenstein'!$C$2:$C$106,'Hilfstabelle Schule Meilenstein'!$D$2:$D$106),2,FALSE)=0,\"\",VLOOKUP(G$59&$A66,CHOOSE({1,2},'Hilfstabelle Schule Meilenstein'!$A$2:$A$106&'Hilfstabelle Schule Meilenstein'!$C$2:$C$106,'Hilfstabelle Schule Meilenstein'!$D$2:$D$106),2,FALSE)),\"\")","v":""},null,null,{"$f":"IFERROR(IF(VLOOKUP(K$59&$A66,CHOOSE({1,2},'Hilfstabelle Schule Meilenstein'!$A$2:$A$210&'Hilfstabelle Schule Meilenstein'!$C$2:$C$210,'Hilfstabelle Schule Meilenstein'!$B$2:$B$210),2,FALSE)=0,\"\",VLOOKUP(K$59&$A66,CHOOSE({1,2},'Hilfstabelle Schule Meilenstein'!$A$2:$A$210&'Hilfstabelle Schule Meilenstein'!$C$2:$C$210,'Hilfstabelle Schule Meilenstein'!$B$2:$B$210),2,FALSE)),\"\")","v":""},{"$f":"IFERROR(IF(VLOOKUP(K$59&$A66,CHOOSE({1,2},'Hilfstabelle Schule Meilenstein'!$A$2:$A$106&'Hilfstabelle Schule Meilenstein'!$C$2:$C$106,'Hilfstabelle Schule Meilenstein'!$D$2:$D$106),2,FALSE)=0,\"\",VLOOKUP(K$59&$A66,CHOOSE({1,2},'Hilfstabelle Schule Meilenstein'!$A$2:$A$106&'Hilfstabelle Schule Meilenstein'!$C$2:$C$106,'Hilfstabelle Schule Meilenstein'!$D$2:$D$106),2,FALSE)),\"\")","v":""},null,null,{"$f":"IFERROR(IF(VLOOKUP(O$59&$A66,CHOOSE({1,2},'Hilfstabelle Schule Meilenstein'!$A$2:$A$210&'Hilfstabelle Schule Meilenstein'!$C$2:$C$210,'Hilfstabelle Schule Meilenstein'!$B$2:$B$210),2,FALSE)=0,\"\",VLOOKUP(O$59&$A66,CHOOSE({1,2},'Hilfstabelle Schule Meilenstein'!$A$2:$A$210&'Hilfstabelle Schule Meilenstein'!$C$2:$C$210,'Hilfstabelle Schule Meilenstein'!$B$2:$B$210),2,FALSE)),\"\")","v":""},{"$f":"IFERROR(IF(VLOOKUP(O$59&$A66,CHOOSE({1,2},'Hilfstabelle Schule Meilenstein'!$A$2:$A$106&'Hilfstabelle Schule Meilenstein'!$C$2:$C$106,'Hilfstabelle Schule Meilenstein'!$D$2:$D$106),2,FALSE)=0,\"\",VLOOKUP(O$59&$A66,CHOOSE({1,2},'Hilfstabelle Schule Meilenstein'!$A$2:$A$106&'Hilfstabelle Schule Meilenstein'!$C$2:$C$106,'Hilfstabelle Schule Meilenstein'!$D$2:$D$106),2,FALSE)),\"\")","v":""}]
["Termin 4",{"$f":"IFERROR(IF(VLOOKUP(C$59&$A67,CHOOSE({1,2},'Hilfstabelle Schule Meilenstein'!$A$2:$A$210&'Hilfstabelle Schule Meilenstein'!$C$2:$C$210,'Hilfstabelle Schule Meilenstein'!$B$2:$B$210),2,FALSE)=0,\"\",VLOOKUP(C$59&$A67,CHOOSE({1,2},'Hilfstabelle Schule Meilenstein'!$A$2:$A$210&'Hilfstabelle Schule Meilenstein'!$C$2:$C$210,'Hilfstabelle Schule Meilenstein'!$B$2:$B$210),2,FALSE)),\"\")","v":""},{"$f":"IFERROR(IF(VLOOKUP(C$59&$A67,CHOOSE({1,2},'Hilfstabelle Schule Meilenstein'!$A$2:$A$106&'Hilfstabelle Schule Meilenstein'!$C$2:$C$106,'Hilfstabelle Schule Meilenstein'!$D$2:$D$106),2,FALSE)=0,\"\",VLOOKUP(C$59&$A67,CHOOSE({1,2},'Hilfstabelle Schule Meilenstein'!$A$2:$A$106&'Hilfstabelle Schule Meilenstein'!$C$2:$C$106,'Hilfstabelle Schule Meilenstein'!$D$2:$D$106),2,FALSE)),\"\")","v":""},null,null,{"$f":"IFERROR(IF(VLOOKUP(G$59&$A67,CHOOSE({1,2},'Hilfstabelle Schule Meilenstein'!$A$2:$A$210&'Hilfstabelle Schule Meilenstein'!$C$2:$C$210,'Hilfstabelle Schule Meilenstein'!$B$2:$B$210),2,FALSE)=0,\"\",VLOOKUP(G$59&$A67,CHOOSE({1,2},'Hilfstabelle Schule Meilenstein'!$A$2:$A$210&'Hilfstabelle Schule Meilenstein'!$C$2:$C$210,'Hilfstabelle Schule Meilenstein'!$B$2:$B$210),2,FALSE)),\"\")","v":""},{"$f":"IFERROR(IF(VLOOKUP(G$59&$A67,CHOOSE({1,2},'Hilfstabelle Schule Meilenstein'!$A$2:$A$106&'Hilfstabelle Schule Meilenstein'!$C$2:$C$106,'Hilfstabelle Schule Meilenstein'!$D$2:$D$106),2,FALSE)=0,\"\",VLOOKUP(G$59&$A67,CHOOSE({1,2},'Hilfstabelle Schule Meilenstein'!$A$2:$A$106&'Hilfstabelle Schule Meilenstein'!$C$2:$C$106,'Hilfstabelle Schule Meilenstein'!$D$2:$D$106),2,FALSE)),\"\")","v":""},null,null,{"$f":"IFERROR(IF(VLOOKUP(K$59&$A67,CHOOSE({1,2},'Hilfstabelle Schule Meilenstein'!$A$2:$A$210&'Hilfstabelle Schule Meilenstein'!$C$2:$C$210,'Hilfstabelle Schule Meilenstein'!$B$2:$B$210),2,FALSE)=0,\"\",VLOOKUP(K$59&$A67,CHOOSE({1,2},'Hilfstabelle Schule Meilenstein'!$A$2:$A$210&'Hilfstabelle Schule Meilenstein'!$C$2:$C$210,'Hilfstabelle Schule Meilenstein'!$B$2:$B$210),2,FALSE)),\"\")","v":""},{"$f":"IFERROR(IF(VLOOKUP(K$59&$A67,CHOOSE({1,2},'Hilfstabelle Schule Meilenstein'!$A$2:$A$106&'Hilfstabelle Schule Meilenstein'!$C$2:$C$106,'Hilfstabelle Schule Meilenstein'!$D$2:$D$106),2,FALSE)=0,\"\",VLOOKUP(K$59&$A67,CHOOSE({1,2},'Hilfstabelle Schule Meilenstein'!$A$2:$A$106&'Hilfstabelle Schule Meilenstein'!$C$2:$C$106,'Hilfstabelle Schule Meilenstein'!$D$2:$D$106),2,FALSE)),\"\")","v":""},null,null,{"$f":"IFERROR(IF(VLOOKUP(O$59&$A67,CHOOSE({1,2},'Hilfstabelle Schule Meilenstein'!$A$2:$A$210&'Hilfstabelle Schule Meilenstein'!$C$2:$C$210,'Hilfstabelle Schule Meilenstein'!$B$2:$B$210),2,FALSE)=0,\"\",VLOOKUP(O$59&$A67,CHOOSE({1,2},'Hilfstabelle Schule Meilenstein'!$A$2:$A$210&'Hilfstabelle Schule Meilenstein'!$C$2:$C$210,'Hilfstabelle Schule Meilenstein'!$B$2:$B$210),2,FALSE)),\"\")","v":""},{"$f":"IFERROR(IF(VLOOKUP(O$59&$A67,CHOOSE({1,2},'Hilfstabelle Schule Meilenstein'!$A$2:$A$106&'Hilfstabelle Schule Meilenstein'!$C$2:$C$106,'Hilfstabelle Schule Meilenstein'!$D$2:$D$106),2,FALSE)=0,\"\",VLOOKUP(O$59&$A67,CHOOSE({1,2},'Hilfstabelle Schule Meilenstein'!$A$2:$A$106&'Hilfstabelle Schule Meilenstein'!$C$2:$C$106,'Hilfstabelle Schule Meilenstein'!$D$2:$D$106),2,FALSE)),\"\")","v":""}]
["Termin 5",{"$f":"IFERROR(IF(VLOOKUP(C$59&$A68,CHOOSE({1,2},'Hilfstabelle Schule Meilenstein'!$A$2:$A$210&'Hilfstabelle Schule Meilenstein'!$C$2:$C$210,'Hilfstabelle Schule Meilenstein'!$B$2:$B$210),2,FALSE)=0,\"\",VLOOKUP(C$59&$A68,CHOOSE({1,2},'Hilfstabelle Schule Meilenstein'!$A$2:$A$210&'Hilfstabelle Schule Meilenstein'!$C$2:$C$210,'Hilfstabelle Schule Meilenstein'!$B$2:$B$210),2,FALSE)),\"\")","v":""},{"$f":"IFERROR(IF(VLOOKUP(C$59&$A68,CHOOSE({1,2},'Hilfstabelle Schule Meilenstein'!$A$2:$A$106&'Hilfstabelle Schule Meilenstein'!$C$2:$C$106,'Hilfstabelle Schule Meilenstein'!$D$2:$D$106),2,FALSE)=0,\"\",VLOOKUP(C$59&$A68,CHOOSE({1,2},'Hilfstabelle Schule Meilenstein'!$A$2:$A$106&'Hilfstabelle Schule Meilenstein'!$C$2:$C$106,'Hilfstabelle Schule Meilenstein'!$D$2:$D$106),2,FALSE)),\"\")","v":""},null,null,{"$f":"IFERROR(IF(VLOOKUP(G$59&$A68,CHOOSE({1,2},'Hilfstabelle Schule Meilenstein'!$A$2:$A$210&'Hilfstabelle Schule Meilenstein'!$C$2:$C$210,'Hilfstabelle Schule Meilenstein'!$B$2:$B$210),2,FALSE)=0,\"\",VLOOKUP(G$59&$A68,CHOOSE({1,2},'Hilfstabelle Schule Meilenstein'!$A$2:$A$210&'Hilfstabelle Schule Meilenstein'!$C$2:$C$210,'Hilfstabelle Schule Meilenstein'!$B$2:$B$210),2,FALSE)),\"\")","v":""},{"$f":"IFERROR(IF(VLOOKUP(G$59&$A68,CHOOSE({1,2},'Hilfstabelle Schule Meilenstein'!$A$2:$A$106&'Hilfstabelle Schule Meilenstein'!$C$2:$C$106,'Hilfstabelle Schule Meilenstein'!$D$2:$D$106),2,FALSE)=0,\"\",VLOOKUP(G$59&$A68,CHOOSE({1,2},'Hilfstabelle Schule Meilenstein'!$A$2:$A$106&'Hilfstabelle Schule Meilenstein'!$C$2:$C$106,'Hilfstabelle Schule Meilenstein'!$D$2:$D$106),2,FALSE)),\"\")","v":""},null,null,{"$f":"IFERROR(IF(VLOOKUP(K$59&$A68,CHOOSE({1,2},'Hilfstabelle Schule Meilenstein'!$A$2:$A$210&'Hilfstabelle Schule Meilenstein'!$C$2:$C$210,'Hilfstabelle Schule Meilenstein'!$B$2:$B$210),2,FALSE)=0,\"\",VLOOKUP(K$59&$A68,CHOOSE({1,2},'Hilfstabelle Schule Meilenstein'!$A$2:$A$210&'Hilfstabelle Schule Meilenstein'!$C$2:$C$210,'Hilfstabelle Schule Meilenstein'!$B$2:$B$210),2,FALSE)),\"\")","v":""},{"$f":"IFERROR(IF(VLOOKUP(K$59&$A68,CHOOSE({1,2},'Hilfstabelle Schule Meilenstein'!$A$2:$A$106&'Hilfstabelle Schule Meilenstein'!$C$2:$C$106,'Hilfstabelle Schule Meilenstein'!$D$2:$D$106),2,FALSE)=0,\"\",VLOOKUP(K$59&$A68,CHOOSE({1,2},'Hilfstabelle Schule Meilenstein'!$A$2:$A$106&'Hilfstabelle Schule Meilenstein'!$C$2:$C$106,'Hilfstabelle Schule Meilenstein'!$D$2:$D$106),2,FALSE)),\"\")","v":""},null,null,{"$f":"IFERROR(IF(VLOOKUP(O$59&$A68,CHOOSE({1,2},'Hilfstabelle Schule Meilenstein'!$A$2:$A$210&'Hilfstabelle Schule Meilenstein'!$C$2:$C$210,'Hilfstabelle Schule Meilenstein'!$B$2:$B$210),2,FALSE)=0,\"\",VLOOKUP(O$59&$A68,CHOOSE({1,2},'Hilfstabelle Schule Meilenstein'!$A$2:$A$210&'Hilfstabelle Schule Meilenstein'!$C$2:$C$210,'Hilfstabelle Schule Meilenstein'!$B$2:$B$210),2,FALSE)),\"\")","v":""},{"$f":"IFERROR(IF(VLOOKUP(O$59&$A68,CHOOSE({1,2},'Hilfstabelle Schule Meilenstein'!$A$2:$A$106&'Hilfstabelle Schule Meilenstein'!$C$2:$C$106,'Hilfstabelle Schule Meilenstein'!$D$2:$D$106),2,FALSE)=0,\"\",VLOOKUP(O$59&$A68,CHOOSE({1,2},'Hilfstabelle Schule Meilenstein'!$A$2:$A$106&'Hilfstabelle Schule Meilenstein'!$C$2:$C$106,'Hilfstabelle Schule Meilenstein'!$D$2:$D$106),2,FALSE)),\"\")","v":""}]

{"sheet":"Hilfsblatt Zeitstrahl","index":5,"n_rows":1468,"n_cols":11,"rows_kept":1468,"cut":false,"hidden":true,"merged":[]}
["Jahr","Datum","Meilenstein","Hilfspalte 2","Hilfspalte 1",null,"Jahr","Datum","Meilenstein","Hilfspalte 2","Hilfspalte 1"]
[{"$f":"'Planung Ausbildung'!$I$8","v":2023},{"$f":"DATE(A2,1,1)","v":"2023-01-01"},{"$f":"IFERROR(IF(VLOOKUP($B2,Übersichtsblatt!$B$64:$E$68,2,FALSE)=0,\"\",VLOOKUP($B2,Übersichtsblatt!$B$64:$E$68,2,FALSE)),\"\")","v":""},{"$f":"IF($C2=\"\",0,$E2)","v":0},-3.5,null,{"$f":"'Planung Sport'!$G$8","v":2023},{"$f":"DATE(G2,1,1)","v":"2023-01-01"},{"$f":"IFERROR(IF(VLOOKUP($H2,Übersichtsblatt!$B$14:$E$24,2,FALSE)=0,\"\",VLOOKUP(H2,Übersichtsblatt!$B$14:$E$24,2,FALSE)),\"\")","v":""},{"$f":"IF($I2=\"\",0,$K2)","v":0},3.5]
[{"$f":"YEAR(B3)","v":2023},{"$f":"B2+1","v":"2023-01-02"},{"$f":"IFERROR(IF(VLOOKUP($B3,Übersichtsblatt!$B$64:$E$68,2,FALSE)=0,\"\",VLOOKUP($B3,Übersichtsblatt!$B$64:$E$68,2,FALSE)),\"\")","v":""},{"$f":"IF($C3=\"\",0,$E3)","v":0},-3.5,null,{"$f":"YEAR(H3)","v":2023},{"$f":"H2+1","v":"2023-01-02"},{"$f":"IFERROR(IF(VLOOKUP($H3,Übersichtsblatt!$B$14:$E$24,2,FALSE)=0,\"\",VLOOKUP(H3,Übersichtsblatt!$B$14:$E$24,2,FALSE)),\"\")","v":""},{"$f":"IF($I3=\"\",0,$K3)","v":0},3.5]
[{"$f":"YEAR(B4)","v":2023},{"$f":"B3+1","v":"2023-01-03"},{"$f":"IFERROR(IF(VLOOKUP($B4,Übersichtsblatt!$B$64:$E$68,2,FALSE)=0,\"\",VLOOKUP($B4,Übersichtsblatt!$B$64:$E$68,2,FALSE)),\"\")","v":""},0,-3.5,null,{"$f":"YEAR(H4)","v":2023},{"$f":"H3+1","v":"2023-01-03"},{"$f":"IFERROR(IF(VLOOKUP($H4,Übersichtsblatt!$B$14:$E$24,2,FALSE)=0,\"\",VLOOKUP(H4,Übersichtsblatt!$B$14:$E$24,2,FALSE)),\"\")","v":""},0,3.5]
[2023,"2023-01-04",{"$f":"IFERROR(IF(VLOOKUP($B5,Übersichtsblatt!$B$64:$E$68,2,FALSE)=0,\"\",VLOOKUP($B5,Übersichtsblatt!$B$64:$E$68,2,FALSE)),\"\")","v":""},0,-3.5,null,2023,"2023-01-04",{"$f":"IFERROR(IF(VLOOKUP($H5,Übersichtsblatt!$B$14:$E$24,2,FALSE)=0,\"\",VLOOKUP(H5,Übersichtsblatt!$B$14:$E$24,2,FALSE)),\"\")","v":""},0,3.5]
[2023,"2023-01-05",{"$f":"IFERROR(IF(VLOOKUP($B6,Übersichtsblatt!$B$64:$E$68,2,FALSE)=0,\"\",VLOOKUP($B6,Übersichtsblatt!$B$64:$E$68,2,FALSE)),\"\")","v":""},0,-3.5,null,2023,"2023-01-05",{"$f":"IFERROR(IF(VLOOKUP($H6,Übersichtsblatt!$B$14:$E$24,2,FALSE)=0,\"\",VLOOKUP(H6,Übersichtsblatt!$B$14:$E$24,2,FALSE)),\"\")","v":""},0,3.5]
[2023,"2023-01-06",{"$f":"IFERROR(IF(VLOOKUP($B7,Übersichtsblatt!$B$64:$E$68,2,FALSE)=0,\"\",VLOOKUP($B7,Übersichtsblatt!$B$64:$E$68,2,FALSE)),\"\")","v":""},0,-3.5,null,2023,"2023-01-06",{"$f":"IFERROR(IF(VLOOKUP($H7,Übersichtsblatt!$B$14:$E$24,2,FALSE)=0,\"\",VLOOKUP(H7,Übersichtsblatt!$B$14:$E$24,2,FALSE)),\"\")","v":""},0,3.5]
[2023,"2023-01-07",{"$f":"IFERROR(IF(VLOOKUP($B8,Übersichtsblatt!$B$64:$E$68,2,FALSE)=0,\"\",VLOOKUP($B8,Übersichtsblatt!$B$64:$E$68,2,FALSE)),\"\")","v":""},0,-3.5,null,2023,"2023-01-07",{"$f":"IFERROR(IF(VLOOKUP($H8,Übersichtsblatt!$B$14:$E$24,2,FALSE)=0,\"\",VLOOKUP(H8,Übersichtsblatt!$B$14:$E$24,2,FALSE)),\"\")","v":""},0,3.5]
[2023,"2023-01-08",{"$f":"IFERROR(IF(VLOOKUP($B9,Übersichtsblatt!$B$64:$E$68,2,FALSE)=0,\"\",VLOOKUP($B9,Übersichtsblatt!$B$64:$E$68,2,FALSE)),\"\")","v":""},0,-3.5,null,2023,"2023-01-08",{"$f":"IFERROR(IF(VLOOKUP($H9,Übersichtsblatt!$B$14:$E$24,2,FALSE)=0,\"\",VLOOKUP(H9,Übersichtsblatt!$B$14:$E$24,2,FALSE)),\"\")","v":""},0,3.5]
[2023,"2023-01-09",{"$f":"IFERROR(IF(VLOOKUP($B10,Übersichtsblatt!$B$64:$E$68,2,FALSE)=0,\"\",VLOOKUP($B10,Übersichtsblatt!$B$64:$E$68,2,FALSE)),\"\")","v":""},0,-3.5,null,2023,"2023-01-09",{"$f":"IFERROR(IF(VLOOKUP($H10,Übersichtsblatt!$B$14:$E$24,2,FALSE)=0,\"\",VLOOKUP(H10,Übersichtsblatt!$B$14:$E$24,2,FALSE)),\"\")","v":""},0,3.5]
[2023,"2023-01-10",{"$f":"IFERROR(IF(VLOOKUP($B11,Übersichtsblatt!$B$64:$E$68,2,FALSE)=0,\"\",VLOOKUP($B11,Übersichtsblatt!$B$64:$E$68,2,FALSE)),\"\")","v":""},0,-3.5,null,2023,"2023-01-10",{"$f":"IFERROR(IF(VLOOKUP($H11,Übersichtsblatt!$B$14:$E$24,2,FALSE)=0,\"\",VLOOKUP(H11,Übersichtsblatt!$B$14:$E$24,2,FALSE)),\"\")","v":""},0,3.5]
[2023,"2023-01-11",{"$f":"IFERROR(IF(VLOOKUP($B12,Übersichtsblatt!$B$64:$E$68,2,FALSE)=0,\"\",VLOOKUP($B12,Übersichtsblatt!$B$64:$E$68,2,FALSE)),\"\")","v":""},0,-3.5,null,2023,"2023-01-11",{"$f":"IFERROR(IF(VLOOKUP($H12,Übersichtsblatt!$B$14:$E$24,2,FALSE)=0,\"\",VLOOKUP(H12,Übersichtsblatt!$B$14:$E$24,2,FALSE)),\"\")","v":""},0,3.5]
[2023,"2023-01-12",{"$f":"IFERROR(IF(VLOOKUP($B13,Übersichtsblatt!$B$64:$E$68,2,FALSE)=0,\"\",VLOOKUP($B13,Übersichtsblatt!$B$64:$E$68,2,FALSE)),\"\")","v":""},0,-3.5,null,2023,"2023-01-12",{"$f":"IFERROR(IF(VLOOKUP($H13,Übersichtsblatt!$B$14:$E$24,2,FALSE)=0,\"\",VLOOKUP(H13,Übersichtsblatt!$B$14:$E$24,2,FALSE)),\"\")","v":""},0,3.5]
[2023,"2023-01-13",{"$f":"IFERROR(IF(VLOOKUP($B14,Übersichtsblatt!$B$64:$E$68,2,FALSE)=0,\"\",VLOOKUP($B14,Übersichtsblatt!$B$64:$E$68,2,FALSE)),\"\")","v":""},0,-3.5,null,2023,"2023-01-13",{"$f":"IFERROR(IF(VLOOKUP($H14,Übersichtsblatt!$B$14:$E$24,2,FALSE)=0,\"\",VLOOKUP(H14,Übersichtsblatt!$B$14:$E$24,2,FALSE)),\"\")","v":""},0,3.5]
[2023,"2023-01-14",{"$f":"IFERROR(IF(VLOOKUP($B15,Übersichtsblatt!$B$64:$E$68,2,FALSE)=0,\"\",VLOOKUP($B15,Übersichtsblatt!$B$64:$E$68,2,FALSE)),\"\")","v":""},0,-3.5,null,2023,"2023-01-14",{"$f":"IFERROR(IF(VLOOKUP($H15,Übersichtsblatt!$B$14:$E$24,2,FALSE)=0,\"\",VLOOKUP(H15,Übersichtsblatt!$B$14:$E$24,2,FALSE)),\"\")","v":""},0,3.5]
[2023,"2023-01-15",{"$f":"IFERROR(IF(VLOOKUP($B16,Übersichtsblatt!$B$64:$E$68,2,FALSE)=0,\"\",VLOOKUP($B16,Übersichtsblatt!$B$64:$E$68,2,FALSE)),\"\")","v":""},0,-3.5,null,2023,"2023-01-15",{"$f":"IFERROR(IF(VLOOKUP($H16,Übersichtsblatt!$B$14:$E$24,2,FALSE)=0,\"\",VLOOKUP(H16,Übersichtsblatt!$B$14:$E$24,2,FALSE)),\"\")","v":""},0,3.5]
[2023,"2023-01-16",{"$f":"IFERROR(IF(VLOOKUP($B17,Übersichtsblatt!$B$64:$E$68,2,FALSE)=0,\"\",VLOOKUP($B17,Übersichtsblatt!$B$64:$E$68,2,FALSE)),\"\")","v":""},0,-3.5,null,2023,"2023-01-16",{"$f":"IFERROR(IF(VLOOKUP($H17,Übersichtsblatt!$B$14:$E$24,2,FALSE)=0,\"\",VLOOKUP(H17,Übersichtsblatt!$B$14:$E$24,2,FALSE)),\"\")","v":""},0,3.5]
[2023,"2023-01-17",{"$f":"IFERROR(IF(VLOOKUP($B18,Übersichtsblatt!$B$64:$E$68,2,FALSE)=0,\"\",VLOOKUP($B18,Übersichtsblatt!$B$64:$E$68,2,FALSE)),\"\")","v":""},0,-3.5,null,2023,"2023-01-17",{"$f":"IFERROR(IF(VLOOKUP($H18,Übersichtsblatt!$B$14:$E$24,2,FALSE)=0,\"\",VLOOKUP(H18,Übersichtsblatt!$B$14:$E$24,2,FALSE)),\"\")","v":""},0,3.5]
[2023,"2023-01-18",{"$f":"IFERROR(IF(VLOOKUP($B19,Übersichtsblatt!$B$64:$E$68,2,FALSE)=0,\"\",VLOOKUP($B19,Übersichtsblatt!$B$64:$E$68,2,FALSE)),\"\")","v":""},0,-3.5,null,2023,"2023-01-18",{"$f":"IFERROR(IF(VLOOKUP($H19,Übersichtsblatt!$B$14:$E$24,2,FALSE)=0,\"\",VLOOKUP(H19,Übersichtsblatt!$B$14:$E$24,2,FALSE)),\"\")","v":""},0,3.5]
[2023,"2023-01-19",{"$f":"IFERROR(IF(VLOOKUP($B20,Übersichtsblatt!$B$64:$E$68,2,FALSE)=0,\"\",VLOOKUP($B20,Übersichtsblatt!$B$64:$E$68,2,FALSE)),\"\")","v":""},0,-3.5,null,2023,"2023-01-19",{"$f":"IFERROR(IF(VLOOKUP($H20,Übersichtsblatt!$B$14:$E$24,2,FALSE)=0,\"\",VLOOKUP(H20,Übersichtsblatt!$B$14:$E$24,2,FALSE)),\"\")","v":""},0,3.5]
[2023,"2023-01-20",{"$f":"IFERROR(IF(VLOOKUP($B21,Übersichtsblatt!$B$64:$E$68,2,FALSE)=0,\"\",VLOOKUP($B21,Übersichtsblatt!$B$64:$E$68,2,FALSE)),\"\")","v":""},0,-3.5,null,2023,"2023-01-20",{"$f":"IFERROR(IF(VLOOKUP($H21,Übersichtsblatt!$B$14:$E$24,2,FALSE)=0,\"\",VLOOKUP(H21,Übersichtsblatt!$B$14:$E$24,2,FALSE)),\"\")","v":""},0,3.5]
[2023,"2023-01-21",{"$f":"IFERROR(IF(VLOOKUP($B22,Übersichtsblatt!$B$64:$E$68,2,FALSE)=0,\"\",VLOOKUP($B22,Übersichtsblatt!$B$64:$E$68,2,FALSE)),\"\")","v":""},0,-3.5,null,2023,"2023-01-21",{"$f":"IFERROR(IF(VLOOKUP($H22,Übersichtsblatt!$B$14:$E$24,2,FALSE)=0,\"\",VLOOKUP(H22,Übersichtsblatt!$B$14:$E$24,2,FALSE)),\"\")","v":""},0,3.5]
[2023,"2023-01-22",{"$f":"IFERROR(IF(VLOOKUP($B23,Übersichtsblatt!$B$64:$E$68,2,FALSE)=0,\"\",VLOOKUP($B23,Übersichtsblatt!$B$64:$E$68,2,FALSE)),\"\")","v":""},0,-3.5,null,2023,"2023-01-22",{"$f":"IFERROR(IF(VLOOKUP($H23,Übersichtsblatt!$B$14:$E$24,2,FALSE)=0,\"\",VLOOKUP(H23,Übersichtsblatt!$B$14:$E$24,2,FALSE)),\"\")","v":""},0,3.5]
[2023,"2023-01-23",{"$f":"IFERROR(IF(VLOOKUP($B24,Übersichtsblatt!$B$64:$E$68,2,FALSE)=0,\"\",VLOOKUP($B24,Übersichtsblatt!$B$64:$E$68,2,FALSE)),\"\")","v":""},0,-3.5,null,2023,"2023-01-23",{"$f":"IFERROR(IF(VLOOKUP($H24,Übersichtsblatt!$B$14:$E$24,2,FALSE)=0,\"\",VLOOKUP(H24,Übersichtsblatt!$B$14:$E$24,2,FALSE)),\"\")","v":""},0,3.5]
[2023,"2023-01-24",{"$f":"IFERROR(IF(VLOOKUP($B25,Übersichtsblatt!$B$64:$E$68,2,FALSE)=0,\"\",VLOOKUP($B25,Übersichtsblatt!$B$64:$E$68,2,FALSE)),\"\")","v":""},0,-3.5,null,2023,"2023-01-24",{"$f":"IFERROR(IF(VLOOKUP($H25,Übersichtsblatt!$B$14:$E$24,2,FALSE)=0,\"\",VLOOKUP(H25,Übersichtsblatt!$B$14:$E$24,2,FALSE)),\"\")","v":""},0,3.5]
[2023,"2023-01-25",{"$f":"IFERROR(IF(VLOOKUP($B26,Übersichtsblatt!$B$64:$E$68,2,FALSE)=0,\"\",VLOOKUP($B26,Übersichtsblatt!$B$64:$E$68,2,FALSE)),\"\")","v":""},0,-3.5,null,2023,"2023-01-25",{"$f":"IFERROR(IF(VLOOKUP($H26,Übersichtsblatt!$B$14:$E$24,2,FALSE)=0,\"\",VLOOKUP(H26,Übersichtsblatt!$B$14:$E$24,2,FALSE)),\"\")","v":""},0,3.5]
[2023,"2023-01-26",{"$f":"IFERROR(IF(VLOOKUP($B27,Übersichtsblatt!$B$64:$E$68,2,FALSE)=0,\"\",VLOOKUP($B27,Übersichtsblatt!$B$64:$E$68,2,FALSE)),\"\")","v":""},0,-3.5,null,2023,"2023-01-26",{"$f":"IFERROR(IF(VLOOKUP($H27,Übersichtsblatt!$B$14:$E$24,2,FALSE)=0,\"\",VLOOKUP(H27,Übersichtsblatt!$B$14:$E$24,2,FALSE)),\"\")","v":""},0,3.5]
[2023,"2023-01-27",{"$f":"IFERROR(IF(VLOOKUP($B28,Übersichtsblatt!$B$64:$E$68,2,FALSE)=0,\"\",VLOOKUP($B28,Übersichtsblatt!$B$64:$E$68,2,FALSE)),\"\")","v":""},0,-3.5,null,2023,"2023-01-27",{"$f":"IFERROR(IF(VLOOKUP($H28,Übersichtsblatt!$B$14:$E$24,2,FALSE)=0,\"\",VLOOKUP(H28,Übersichtsblatt!$B$14:$E$24,2,FALSE)),\"\")","v":""},0,3.5]
[2023,"2023-01-28",{"$f":"IFERROR(IF(VLOOKUP($B29,Übersichtsblatt!$B$64:$E$68,2,FALSE)=0,\"\",VLOOKUP($B29,Übersichtsblatt!$B$64:$E$68,2,FALSE)),\"\")","v":""},0,-3.5,null,2023,"2023-01-28",{"$f":"IFERROR(IF(VLOOKUP($H29,Übersichtsblatt!$B$14:$E$24,2,FALSE)=0,\"\",VLOOKUP(H29,Übersichtsblatt!$B$14:$E$24,2,FALSE)),\"\")","v":""},0,3.5]
[2023,"2023-01-29",{"$f":"IFERROR(IF(VLOOKUP($B30,Übersichtsblatt!$B$64:$E$68,2,FALSE)=0,\"\",VLOOKUP($B30,Übersichtsblatt!$B$64:$E$68,2,FALSE)),\"\")","v":""},0,-3.5,null,2023,"2023-01-29",{"$f":"IFERROR(IF(VLOOKUP($H30,Übersichtsblatt!$B$14:$E$24,2,FALSE)=0,\"\",VLOOKUP(H30,Übersichtsblatt!$B$14:$E$24,2,FALSE)),\"\")","v":""},0,3.5]
[2023,"2023-01-30",{"$f":"IFERROR(IF(VLOOKUP($B31,Übersichtsblatt!$B$64:$E$68,2,FALSE)=0,\"\",VLOOKUP($B31,Übersichtsblatt!$B$64:$E$68,2,FALSE)),\"\")","v":""},0,-3.5,null,2023,"2023-01-30",{"$f":"IFERROR(IF(VLOOKUP($H31,Übersichtsblatt!$B$14:$E$24,2,FALSE)=0,\"\",VLOOKUP(H31,Übersichtsblatt!$B$14:$E$24,2,FALSE)),\"\")","v":""},0,3.5]
[2023,"2023-01-31",{"$f":"IFERROR(IF(VLOOKUP($B32,Übersichtsblatt!$B$64:$E$68,2,FALSE)=0,\"\",VLOOKUP($B32,Übersichtsblatt!$B$64:$E$68,2,FALSE)),\"\")","v":""},0,-3.5,null,2023,"2023-01-31",{"$f":"IFERROR(IF(VLOOKUP($H32,Übersichtsblatt!$B$14:$E$24,2,FALSE)=0,\"\",VLOOKUP(H32,Übersichtsblatt!$B$14:$E$24,2,FALSE)),\"\")","v":""},0,3.5]
[2023,"2023-02-01",{"$f":"IFERROR(IF(VLOOKUP($B33,Übersichtsblatt!$B$64:$E$68,2,FALSE)=0,\"\",VLOOKUP($B33,Übersichtsblatt!$B$64:$E$68,2,FALSE)),\"\")","v":""},0,-12.5,null,2023,"2023-02-01",{"$f":"IFERROR(IF(VLOOKUP($H33,Übersichtsblatt!$B$14:$E$24,2,FALSE)=0,\"\",VLOOKUP(H33,Übersichtsblatt!$B$14:$E$24,2,FALSE)),\"\")","v":""},0,12.5]
[2023,"2023-02-02",{"$f":"IFERROR(IF(VLOOKUP($B34,Übersichtsblatt!$B$64:$E$68,2,FALSE)=0,\"\",VLOOKUP($B34,Übersichtsblatt!$B$64:$E$68,2,FALSE)),\"\")","v":""},0,-12.5,null,2023,"2023-02-02",{"$f":"IFERROR(IF(VLOOKUP($H34,Übersichtsblatt!$B$14:$E$24,2,FALSE)=0,\"\",VLOOKUP(H34,Übersichtsblatt!$B$14:$E$24,2,FALSE)),\"\")","v":""},0,12.5]
[2023,"2023-02-03",{"$f":"IFERROR(IF(VLOOKUP($B35,Übersichtsblatt!$B$64:$E$68,2,FALSE)=0,\"\",VLOOKUP($B35,Übersichtsblatt!$B$64:$E$68,2,FALSE)),\"\")","v":""},0,-12.5,null,2023,"2023-02-03",{"$f":"IFERROR(IF(VLOOKUP($H35,Übersichtsblatt!$B$14:$E$24,2,FALSE)=0,\"\",VLOOKUP(H35,Übersichtsblatt!$B$14:$E$24,2,FALSE)),\"\")","v":""},0,12.5]
[2023,"2023-02-04",{"$f":"IFERROR(IF(VLOOKUP($B36,Übersichtsblatt!$B$64:$E$68,2,FALSE)=0,\"\",VLOOKUP($B36,Übersichtsblatt!$B$64:$E$68,2,FALSE)),\"\")","v":""},0,-12.5,null,2023,"2023-02-04",{"$f":"IFERROR(IF(VLOOKUP($H36,Übersichtsblatt!$B$14:$E$24,2,FALSE)=0,\"\",VLOOKUP(H36,Übersichtsblatt!$B$14:$E$24,2,FALSE)),\"\")","v":""},0,12.5]
[2023,"2023-02-05",{"$f":"IFERROR(IF(VLOOKUP($B37,Übersichtsblatt!$B$64:$E$68,2,FALSE)=0,\"\",VLOOKUP($B37,Übersichtsblatt!$B$64:$E$68,2,FALSE)),\"\")","v":""},0,-12.5,null,2023,"2023-02-05",{"$f":"IFERROR(IF(VLOOKUP($H37,Übersichtsblatt!$B$14:$E$24,2,FALSE)=0,\"\",VLOOKUP(H37,Übersichtsblatt!$B$14:$E$24,2,FALSE)),\"\")","v":""},0,12.5]
[2023,"2023-02-06",{"$f":"IFERROR(IF(VLOOKUP($B38,Übersichtsblatt!$B$64:$E$68,2,FALSE)=0,\"\",VLOOKUP($B38,Übersichtsblatt!$B$64:$E$68,2,FALSE)),\"\")","v":""},0,-12.5,null,2023,"2023-02-06",{"$f":"IFERROR(IF(VLOOKUP($H38,Übersichtsblatt!$B$14:$E$24,2,FALSE)=0,\"\",VLOOKUP(H38,Übersichtsblatt!$B$14:$E$24,2,FALSE)),\"\")","v":""},0,12.5]
[2023,"2023-02-07",{"$f":"IFERROR(IF(VLOOKUP($B39,Übersichtsblatt!$B$64:$E$68,2,FALSE)=0,\"\",VLOOKUP($B39,Übersichtsblatt!$B$64:$E$68,2,FALSE)),\"\")","v":""},0,-12.5,null,2023,"2023-02-07",{"$f":"IFERROR(IF(VLOOKUP($H39,Übersichtsblatt!$B$14:$E$24,2,FALSE)=0,\"\",VLOOKUP(H39,Übersichtsblatt!$B$14:$E$24,2,FALSE)),\"\")","v":""},0,12.5]
[2023,"2023-02-08",{"$f":"IFERROR(IF(VLOOKUP($B40,Übersichtsblatt!$B$64:$E$68,2,FALSE)=0,\"\",VLOOKUP($B40,Übersichtsblatt!$B$64:$E$68,2,FALSE)),\"\")","v":""},0,-12.5,null,2023,"2023-02-08",{"$f":"IFERROR(IF(VLOOKUP($H40,Übersichtsblatt!$B$14:$E$24,2,FALSE)=0,\"\",VLOOKUP(H40,Übersichtsblatt!$B$14:$E$24,2,FALSE)),\"\")","v":""},0,12.5]
[2023,"2023-02-09",{"$f":"IFERROR(IF(VLOOKUP($B41,Übersichtsblatt!$B$64:$E$68,2,FALSE)=0,\"\",VLOOKUP($B41,Übersichtsblatt!$B$64:$E$68,2,FALSE)),\"\")","v":""},0,-12.5,null,2023,"2023-02-09",{"$f":"IFERROR(IF(VLOOKUP($H41,Übersichtsblatt!$B$14:$E$24,2,FALSE)=0,\"\",VLOOKUP(H41,Übersichtsblatt!$B$14:$E$24,2,FALSE)),\"\")","v":""},0,12.5]
[2023,"2023-02-10",{"$f":"IFERROR(IF(VLOOKUP($B42,Übersichtsblatt!$B$64:$E$68,2,FALSE)=0,\"\",VLOOKUP($B42,Übersichtsblatt!$B$64:$E$68,2,FALSE)),\"\")","v":""},0,-12.5,null,2023,"2023-02-10",{"$f":"IFERROR(IF(VLOOKUP($H42,Übersichtsblatt!$B$14:$E$24,2,FALSE)=0,\"\",VLOOKUP(H42,Übersichtsblatt!$B$14:$E$24,2,FALSE)),\"\")","v":""},0,12.5]
[2023,"2023-02-11",{"$f":"IFERROR(IF(VLOOKUP($B43,Übersichtsblatt!$B$64:$E$68,2,FALSE)=0,\"\",VLOOKUP($B43,Übersichtsblatt!$B$64:$E$68,2,FALSE)),\"\")","v":""},0,-12.5,null,2023,"2023-02-11",{"$f":"IFERROR(IF(VLOOKUP($H43,Übersichtsblatt!$B$14:$E$24,2,FALSE)=0,\"\",VLOOKUP(H43,Übersichtsblatt!$B$14:$E$24,2,FALSE)),\"\")","v":""},0,12.5]
[2023,"2023-02-12",{"$f":"IFERROR(IF(VLOOKUP($B44,Übersichtsblatt!$B$64:$E$68,2,FALSE)=0,\"\",VLOOKUP($B44,Übersichtsblatt!$B$64:$E$68,2,FALSE)),\"\")","v":""},0,-12.5,null,2023,"2023-02-12",{"$f":"IFERROR(IF(VLOOKUP($H44,Übersichtsblatt!$B$14:$E$24,2,FALSE)=0,\"\",VLOOKUP(H44,Übersichtsblatt!$B$14:$E$24,2,FALSE)),\"\")","v":""},0,12.5]
[2023,"2023-02-13",{"$f":"IFERROR(IF(VLOOKUP($B45,Übersichtsblatt!$B$64:$E$68,2,FALSE)=0,\"\",VLOOKUP($B45,Übersichtsblatt!$B$64:$E$68,2,FALSE)),\"\")","v":""},0,-12.5,null,2023,"2023-02-13",{"$f":"IFERROR(IF(VLOOKUP($H45,Übersichtsblatt!$B$14:$E$24,2,FALSE)=0,\"\",VLOOKUP(H45,Übersichtsblatt!$B$14:$E$24,2,FALSE)),\"\")","v":""},0,12.5]
[2023,"2023-02-14",{"$f":"IFERROR(IF(VLOOKUP($B46,Übersichtsblatt!$B$64:$E$68,2,FALSE)=0,\"\",VLOOKUP($B46,Übersichtsblatt!$B$64:$E$68,2,FALSE)),\"\")","v":""},0,-12.5,null,2023,"2023-02-14",{"$f":"IFERROR(IF(VLOOKUP($H46,Übersichtsblatt!$B$14:$E$24,2,FALSE)=0,\"\",VLOOKUP(H46,Übersichtsblatt!$B$14:$E$24,2,FALSE)),\"\")","v":""},0,12.5]
[2023,"2023-02-15",{"$f":"IFERROR(IF(VLOOKUP($B47,Übersichtsblatt!$B$64:$E$68,2,FALSE)=0,\"\",VLOOKUP($B47,Übersichtsblatt!$B$64:$E$68,2,FALSE)),\"\")","v":""},0,-12.5,null,2023,"2023-02-15",{"$f":"IFERROR(IF(VLOOKUP($H47,Übersichtsblatt!$B$14:$E$24,2,FALSE)=0,\"\",VLOOKUP(H47,Übersichtsblatt!$B$14:$E$24,2,FALSE)),\"\")","v":""},0,12.5]
[2023,"2023-02-16",{"$f":"IFERROR(IF(VLOOKUP($B48,Übersichtsblatt!$B$64:$E$68,2,FALSE)=0,\"\",VLOOKUP($B48,Übersichtsblatt!$B$64:$E$68,2,FALSE)),\"\")","v":""},0,-12.5,null,2023,"2023-02-16",{"$f":"IFERROR(IF(VLOOKUP($H48,Übersichtsblatt!$B$14:$E$24,2,FALSE)=0,\"\",VLOOKUP(H48,Übersichtsblatt!$B$14:$E$24,2,FALSE)),\"\")","v":""},0,12.5]
[2023,"2023-02-17",{"$f":"IFERROR(IF(VLOOKUP($B49,Übersichtsblatt!$B$64:$E$68,2,FALSE)=0,\"\",VLOOKUP($B49,Übersichtsblatt!$B$64:$E$68,2,FALSE)),\"\")","v":""},0,-12.5,null,2023,"2023-02-17",{"$f":"IFERROR(IF(VLOOKUP($H49,Übersichtsblatt!$B$14:$E$24,2,FALSE)=0,\"\",VLOOKUP(H49,Übersichtsblatt!$B$14:$E$24,2,FALSE)),\"\")","v":""},0,12.5]
[2023,"2023-02-18",{"$f":"IFERROR(IF(VLOOKUP($B50,Übersichtsblatt!$B$64:$E$68,2,FALSE)=0,\"\",VLOOKUP($B50,Übersichtsblatt!$B$64:$E$68,2,FALSE)),\"\")","v":""},0,-12.5,null,2023,"2023-02-18",{"$f":"IFERROR(IF(VLOOKUP($H50,Übersichtsblatt!$B$14:$E$24,2,FALSE)=0,\"\",VLOOKUP(H50,Übersichtsblatt!$B$14:$E$24,2,FALSE)),\"\")","v":""},0,12.5]
[2023,"2023-02-19",{"$f":"IFERROR(IF(VLOOKUP($B51,Übersichtsblatt!$B$64:$E$68,2,FALSE)=0,\"\",VLOOKUP($B51,Übersichtsblatt!$B$64:$E$68,2,FALSE)),\"\")","v":""},0,-12.5,null,2023,"2023-02-19",{"$f":"IFERROR(IF(VLOOKUP($H51,Übersichtsblatt!$B$14:$E$24,2,FALSE)=0,\"\",VLOOKUP(H51,Übersichtsblatt!$B$14:$E$24,2,FALSE)),\"\")","v":""},0,12.5]
[2023,"2023-02-20",{"$f":"IFERROR(IF(VLOOKUP($B52,Übersichtsblatt!$B$64:$E$68,2,FALSE)=0,\"\",VLOOKUP($B52,Übersichtsblatt!$B$64:$E$68,2,FALSE)),\"\")","v":""},0,-12.5,null,2023,"2023-02-20",{"$f":"IFERROR(IF(VLOOKUP($H52,Übersichtsblatt!$B$14:$E$24,2,FALSE)=0,\"\",VLOOKUP(H52,Übersichtsblatt!$B$14:$E$24,2,FALSE)),\"\")","v":""},0,12.5]
[2023,"2023-02-21",{"$f":"IFERROR(IF(VLOOKUP($B53,Übersichtsblatt!$B$64:$E$68,2,FALSE)=0,\"\",VLOOKUP($B53,Übersichtsblatt!$B$64:$E$68,2,FALSE)),\"\")","v":""},0,-12.5,null,2023,"2023-02-21",{"$f":"IFERROR(IF(VLOOKUP($H53,Übersichtsblatt!$B$14:$E$24,2,FALSE)=0,\"\",VLOOKUP(H53,Übersichtsblatt!$B$14:$E$24,2,FALSE)),\"\")","v":""},0,12.5]
[2023,"2023-02-22",{"$f":"IFERROR(IF(VLOOKUP($B54,Übersichtsblatt!$B$64:$E$68,2,FALSE)=0,\"\",VLOOKUP($B54,Übersichtsblatt!$B$64:$E$68,2,FALSE)),\"\")","v":""},0,-12.5,null,2023,"2023-02-22",{"$f":"IFERROR(IF(VLOOKUP($H54,Übersichtsblatt!$B$14:$E$24,2,FALSE)=0,\"\",VLOOKUP(H54,Übersichtsblatt!$B$14:$E$24,2,FALSE)),\"\")","v":""},0,12.5]
[2023,"2023-02-23",{"$f":"IFERROR(IF(VLOOKUP($B55,Übersichtsblatt!$B$64:$E$68,2,FALSE)=0,\"\",VLOOKUP($B55,Übersichtsblatt!$B$64:$E$68,2,FALSE)),\"\")","v":""},0,-12.5,null,2023,"2023-02-23",{"$f":"IFERROR(IF(VLOOKUP($H55,Übersichtsblatt!$B$14:$E$24,2,FALSE)=0,\"\",VLOOKUP(H55,Übersichtsblatt!$B$14:$E$24,2,FALSE)),\"\")","v":""},0,12.5]
[2023,"2023-02-24",{"$f":"IFERROR(IF(VLOOKUP($B56,Übersichtsblatt!$B$64:$E$68,2,FALSE)=0,\"\",VLOOKUP($B56,Übersichtsblatt!$B$64:$E$68,2,FALSE)),\"\")","v":""},0,-12.5,null,2023,"2023-02-24",{"$f":"IFERROR(IF(VLOOKUP($H56,Übersichtsblatt!$B$14:$E$24,2,FALSE)=0,\"\",VLOOKUP(H56,Übersichtsblatt!$B$14:$E$24,2,FALSE)),\"\")","v":""},0,12.5]
[2023,"2023-02-25",{"$f":"IFERROR(IF(VLOOKUP($B57,Übersichtsblatt!$B$64:$E$68,2,FALSE)=0,\"\",VLOOKUP($B57,Übersichtsblatt!$B$64:$E$68,2,FALSE)),\"\")","v":""},0,-12.5,null,2023,"2023-02-25",{"$f":"IFERROR(IF(VLOOKUP($H57,Übersichtsblatt!$B$14:$E$24,2,FALSE)=0,\"\",VLOOKUP(H57,Übersichtsblatt!$B$14:$E$24,2,FALSE)),\"\")","v":""},0,12.5]
[2023,"2023-02-26",{"$f":"IFERROR(IF(VLOOKUP($B58,Übersichtsblatt!$B$64:$E$68,2,FALSE)=0,\"\",VLOOKUP($B58,Übersichtsblatt!$B$64:$E$68,2,FALSE)),\"\")","v":""},0,-12.5,null,2023,"2023-02-26",{"$f":"IFERROR(IF(VLOOKUP($H58,Übersichtsblatt!$B$14:$E$24,2,FALSE)=0,\"\",VLOOKUP(H58,Übersichtsblatt!$B$14:$E$24,2,FALSE)),\"\")","v":""},0,12.5]
[2023,"2023-02-27",{"$f":"IFERROR(IF(VLOOKUP($B59,Übersichtsblatt!$B$64:$E$68,2,FALSE)=0,\"\",VLOOKUP($B59,Übersichtsblatt!$B$64:$E$68,2,FALSE)),\"\")","v":""},0,-12.5,null,2023,"2023-02-27",{"$f":"IFERROR(IF(VLOOKUP($H59,Übersichtsblatt!$B$14:$E$24,2,FALSE)=0,\"\",VLOOKUP(H59,Übersichtsblatt!$B$14:$E$24,2,FALSE)),\"\")","v":""},0,12.5]
[2023,"2023-02-28",{"$f":"IFERROR(IF(VLOOKUP($B60,Übersichtsblatt!$B$64:$E$68,2,FALSE)=0,\"\",VLOOKUP($B60,Übersichtsblatt!$B$64:$E$68,2,FALSE)),\"\")","v":""},0,-12.5,null,2023,"2023-02-28",{"$f":"IFERROR(IF(VLOOKUP($H60,Übersichtsblatt!$B$14:$E$24,2,FALSE)=0,\"\",VLOOKUP(H60,Übersichtsblatt!$B$14:$E$24,2,FALSE)),\"\")","v":""},0,12.5]
[2023,"2023-03-01",{"$f":"IFERROR(IF(VLOOKUP($B61,Übersichtsblatt!$B$64:$E$68,2,FALSE)=0,\"\",VLOOKUP($B61,Übersichtsblatt!$B$64:$E$68,2,FALSE)),\"\")","v":""},0,-12.5,null,2023,"2023-03-01",null,0,12.5]
[2023,{"$f":"DATE(A2,3,1)","v":"2023-03-01"},{"$f":"IFERROR(IF(VLOOKUP($B62,Übersichtsblatt!$B$64:$E$68,2,FALSE)=0,\"\",VLOOKUP($B62,Übersichtsblatt!$B$64:$E$68,2,FALSE)),\"\")","v":""},0,-6.5,null,2023,{"$f":"DATE(G2,3,1)","v":"2023-03-01"},{"$f":"IFERROR(IF(VLOOKUP($H62,Übersichtsblatt!$B$14:$E$24,2,FALSE)=0,\"\",VLOOKUP(H62,Übersichtsblatt!$B$14:$E$24,2,FALSE)),\"\")","v":""},0,6.5]
[2023,"2023-03-02",{"$f":"IFERROR(IF(VLOOKUP($B63,Übersichtsblatt!$B$64:$E$68,2,FALSE)=0,\"\",VLOOKUP($B63,Übersichtsblatt!$B$64:$E$68,2,FALSE)),\"\")","v":""},0,-6.5,null,2023,"2023-03-02",{"$f":"IFERROR(IF(VLOOKUP($H63,Übersichtsblatt!$B$14:$E$24,2,FALSE)=0,\"\",VLOOKUP(H63,Übersichtsblatt!$B$14:$E$24,2,FALSE)),\"\")","v":""},0,6.5]
[2023,"2023-03-03",{"$f":"IFERROR(IF(VLOOKUP($B64,Übersichtsblatt!$B$64:$E$68,2,FALSE)=0,\"\",VLOOKUP($B64,Übersichtsblatt!$B$64:$E$68,2,FALSE)),\"\")","v":""},0,-6.5,null,2023,"2023-03-03",{"$f":"IFERROR(IF(VLOOKUP($H64,Übersichtsblatt!$B$14:$E$24,2,FALSE)=0,\"\",VLOOKUP(H64,Übersichtsblatt!$B$14:$E$24,2,FALSE)),\"\")","v":""},0,6.5]
[2023,"2023-03-04",{"$f":"IFERROR(IF(VLOOKUP($B65,Übersichtsblatt!$B$64:$E$68,2,FALSE)=0,\"\",VLOOKUP($B65,Übersichtsblatt!$B$64:$E$68,2,FALSE)),\"\")","v":""},0,-6.5,null,2023,"2023-03-04",{"$f":"IFERROR(IF(VLOOKUP($H65,Übersichtsblatt!$B$14:$E$24,2,FALSE)=0,\"\",VLOOKUP(H65,Übersichtsblatt!$B$14:$E$24,2,FALSE)),\"\")","v":""},0,6.5]
[2023,"2023-03-05",{"$f":"IFERROR(IF(VLOOKUP($B66,Übersichtsblatt!$B$64:$E$68,2,FALSE)=0,\"\",VLOOKUP($B66,Übersichtsblatt!$B$64:$E$68,2,FALSE)),\"\")","v":""},0,-6.5,null,2023,"2023-03-05",{"$f":"IFERROR(IF(VLOOKUP($H66,Übersichtsblatt!$B$14:$E$24,2,FALSE)=0,\"\",VLOOKUP(H66,Übersichtsblatt!$B$14:$E$24,2,FALSE)),\"\")","v":""},0,6.5]
[2023,"2023-03-06",{"$f":"IFERROR(IF(VLOOKUP($B67,Übersichtsblatt!$B$64:$E$68,2,FALSE)=0,\"\",VLOOKUP($B67,Übersichtsblatt!$B$64:$E$68,2,FALSE)),\"\")","v":""},0,-6.5,null,2023,"2023-03-06",{"$f":"IFERROR(IF(VLOOKUP($H67,Übersichtsblatt!$B$14:$E$24,2,FALSE)=0,\"\",VLOOKUP(H67,Übersichtsblatt!$B$14:$E$24,2,FALSE)),\"\")","v":""},0,6.5]
[2023,"2023-03-07",{"$f":"IFERROR(IF(VLOOKUP($B68,Übersichtsblatt!$B$64:$E$68,2,FALSE)=0,\"\",VLOOKUP($B68,Übersichtsblatt!$B$64:$E$68,2,FALSE)),\"\")","v":""},{"$f":"IF($C68=\"\",0,$E68)","v":0},-6.5,null,2023,"2023-03-07",{"$f":"IFERROR(IF(VLOOKUP($H68,Übersichtsblatt!$B$14:$E$24,2,FALSE)=0,\"\",VLOOKUP(H68,Übersichtsblatt!$B$14:$E$24,2,FALSE)),\"\")","v":""},{"$f":"IF($I68=\"\",0,$K68)","v":0},6.5]
[{"$f":"YEAR(B69)","v":2023},{"$f":"B68+1","v":"2023-03-08"},{"$f":"IFERROR(IF(VLOOKUP($B69,Übersichtsblatt!$B$64:$E$68,2,FALSE)=0,\"\",VLOOKUP($B69,Übersichtsblatt!$B$64:$E$68,2,FALSE)),\"\")","v":""},0,-6.5,null,{"$f":"YEAR(H69)","v":2023},{"$f":"H68+1","v":"2023-03-08"},{"$f":"IFERROR(IF(VLOOKUP($H69,Übersichtsblatt!$B$14:$E$24,2,FALSE)=0,\"\",VLOOKUP(H69,Übersichtsblatt!$B$14:$E$24,2,FALSE)),\"\")","v":""},0,6.5]
[2023,"2023-03-09",{"$f":"IFERROR(IF(VLOOKUP($B70,Übersichtsblatt!$B$64:$E$68,2,FALSE)=0,\"\",VLOOKUP($B70,Übersichtsblatt!$B$64:$E$68,2,FALSE)),\"\")","v":""},0,-6.5,null,2023,"2023-03-09",{"$f":"IFERROR(IF(VLOOKUP($H70,Übersichtsblatt!$B$14:$E$24,2,FALSE)=0,\"\",VLOOKUP(H70,Übersichtsblatt!$B$14:$E$24,2,FALSE)),\"\")","v":""},0,6.5]
[2023,"2023-03-10",{"$f":"IFERROR(IF(VLOOKUP($B71,Übersichtsblatt!$B$64:$E$68,2,FALSE)=0,\"\",VLOOKUP($B71,Übersichtsblatt!$B$64:$E$68,2,FALSE)),\"\")","v":""},0,-6.5,null,2023,"2023-03-10",{"$f":"IFERROR(IF(VLOOKUP($H71,Übersichtsblatt!$B$14:$E$24,2,FALSE)=0,\"\",VLOOKUP(H71,Übersichtsblatt!$B$14:$E$24,2,FALSE)),\"\")","v":""},0,6.5]
[2023,"2023-03-11",{"$f":"IFERROR(IF(VLOOKUP($B72,Übersichtsblatt!$B$64:$E$68,2,FALSE)=0,\"\",VLOOKUP($B72,Übersichtsblatt!$B$64:$E$68,2,FALSE)),\"\")","v":""},0,-6.5,null,2023,"2023-03-11",{"$f":"IFERROR(IF(VLOOKUP($H72,Übersichtsblatt!$B$14:$E$24,2,FALSE)=0,\"\",VLOOKUP(H72,Übersichtsblatt!$B$14:$E$24,2,FALSE)),\"\")","v":""},0,6.5]
[2023,"2023-03-12",{"$f":"IFERROR(IF(VLOOKUP($B73,Übersichtsblatt!$B$64:$E$68,2,FALSE)=0,\"\",VLOOKUP($B73,Übersichtsblatt!$B$64:$E$68,2,FALSE)),\"\")","v":""},0,-6.5,null,2023,"2023-03-12",{"$f":"IFERROR(IF(VLOOKUP($H73,Übersichtsblatt!$B$14:$E$24,2,FALSE)=0,\"\",VLOOKUP(H73,Übersichtsblatt!$B$14:$E$24,2,FALSE)),\"\")","v":""},0,6.5]
[2023,"2023-03-13",{"$f":"IFERROR(IF(VLOOKUP($B74,Übersichtsblatt!$B$64:$E$68,2,FALSE)=0,\"\",VLOOKUP($B74,Übersichtsblatt!$B$64:$E$68,2,FALSE)),\"\")","v":""},0,-6.5,null,2023,"2023-03-13",{"$f":"IFERROR(IF(VLOOKUP($H74,Übersichtsblatt!$B$14:$E$24,2,FALSE)=0,\"\",VLOOKUP(H74,Übersichtsblatt!$B$14:$E$24,2,FALSE)),\"\")","v":""},0,6.5]
[2023,"2023-03-14",{"$f":"IFERROR(IF(VLOOKUP($B75,Übersichtsblatt!$B$64:$E$68,2,FALSE)=0,\"\",VLOOKUP($B75,Übersichtsblatt!$B$64:$E$68,2,FALSE)),\"\")","v":""},0,-6.5,null,2023,"2023-03-14",{"$f":"IFERROR(IF(VLOOKUP($H75,Übersichtsblatt!$B$14:$E$24,2,FALSE)=0,\"\",VLOOKUP(H75,Übersichtsblatt!$B$14:$E$24,2,FALSE)),\"\")","v":""},0,6.5]
[2023,"2023-03-15",{"$f":"IFERROR(IF(VLOOKUP($B76,Übersichtsblatt!$B$64:$E$68,2,FALSE)=0,\"\",VLOOKUP($B76,Übersichtsblatt!$B$64:$E$68,2,FALSE)),\"\")","v":""},0,-6.5,null,2023,"2023-03-15",{"$f":"IFERROR(IF(VLOOKUP($H76,Übersichtsblatt!$B$14:$E$24,2,FALSE)=0,\"\",VLOOKUP(H76,Übersichtsblatt!$B$14:$E$24,2,FALSE)),\"\")","v":""},0,6.5]
[2023,"2023-03-16",{"$f":"IFERROR(IF(VLOOKUP($B77,Übersichtsblatt!$B$64:$E$68,2,FALSE)=0,\"\",VLOOKUP($B77,Übersichtsblatt!$B$64:$E$68,2,FALSE)),\"\")","v":""},0,-6.5,null,2023,"2023-03-16",{"$f":"IFERROR(IF(VLOOKUP($H77,Übersichtsblatt!$B$14:$E$24,2,FALSE)=0,\"\",VLOOKUP(H77,Übersichtsblatt!$B$14:$E$24,2,FALSE)),\"\")","v":""},0,6.5]
[2023,"2023-03-17",{"$f":"IFERROR(IF(VLOOKUP($B78,Übersichtsblatt!$B$64:$E$68,2,FALSE)=0,\"\",VLOOKUP($B78,Übersichtsblatt!$B$64:$E$68,2,FALSE)),\"\")","v":""},0,-6.5,null,2023,"2023-03-17",{"$f":"IFERROR(IF(VLOOKUP($H78,Übersichtsblatt!$B$14:$E$24,2,FALSE)=0,\"\",VLOOKUP(H78,Übersichtsblatt!$B$14:$E$24,2,FALSE)),\"\")","v":""},0,6.5]
[2023,"2023-03-18",{"$f":"IFERROR(IF(VLOOKUP($B79,Übersichtsblatt!$B$64:$E$68,2,FALSE)=0,\"\",VLOOKUP($B79,Übersichtsblatt!$B$64:$E$68,2,FALSE)),\"\")","v":""},0,-6.5,null,2023,"2023-03-18",{"$f":"IFERROR(IF(VLOOKUP($H79,Übersichtsblatt!$B$14:$E$24,2,FALSE)=0,\"\",VLOOKUP(H79,Übersichtsblatt!$B$14:$E$24,2,FALSE)),\"\")","v":""},0,6.5]
[2023,"2023-03-19",{"$f":"IFERROR(IF(VLOOKUP($B80,Übersichtsblatt!$B$64:$E$68,2,FALSE)=0,\"\",VLOOKUP($B80,Übersichtsblatt!$B$64:$E$68,2,FALSE)),\"\")","v":""},0,-6.5,null,2023,"2023-03-19",{"$f":"IFERROR(IF(VLOOKUP($H80,Übersichtsblatt!$B$14:$E$24,2,FALSE)=0,\"\",VLOOKUP(H80,Übersichtsblatt!$B$14:$E$24,2,FALSE)),\"\")","v":""},0,6.5]
[2023,"2023-03-20",{"$f":"IFERROR(IF(VLOOKUP($B81,Übersichtsblatt!$B$64:$E$68,2,FALSE)=0,\"\",VLOOKUP($B81,Übersichtsblatt!$B$64:$E$68,2,FALSE)),\"\")","v":""},0,-6.5,null,2023,"2023-03-20",{"$f":"IFERROR(IF(VLOOKUP($H81,Übersichtsblatt!$B$14:$E$24,2,FALSE)=0,\"\",VLOOKUP(H81,Übersichtsblatt!$B$14:$E$24,2,FALSE)),\"\")","v":""},0,6.5]
[2023,"2023-03-21",{"$f":"IFERROR(IF(VLOOKUP($B82,Übersichtsblatt!$B$64:$E$68,2,FALSE)=0,\"\",VLOOKUP($B82,Übersichtsblatt!$B$64:$E$68,2,FALSE)),\"\")","v":""},0,-6.5,null,2023,"2023-03-21",{"$f":"IFERROR(IF(VLOOKUP($H82,Übersichtsblatt!$B$14:$E$24,2,FALSE)=0,\"\",VLOOKUP(H82,Übersichtsblatt!$B$14:$E$24,2,FALSE)),\"\")","v":""},0,6.5]
[2023,"2023-03-22",{"$f":"IFERROR(IF(VLOOKUP($B83,Übersichtsblatt!$B$64:$E$68,2,FALSE)=0,\"\",VLOOKUP($B83,Übersichtsblatt!$B$64:$E$68,2,FALSE)),\"\")","v":""},0,-6.5,null,2023,"2023-03-22",{"$f":"IFERROR(IF(VLOOKUP($H83,Übersichtsblatt!$B$14:$E$24,2,FALSE)=0,\"\",VLOOKUP(H83,Übersichtsblatt!$B$14:$E$24,2,FALSE)),\"\")","v":""},0,6.5]
[2023,"2023-03-23",{"$f":"IFERROR(IF(VLOOKUP($B84,Übersichtsblatt!$B$64:$E$68,2,FALSE)=0,\"\",VLOOKUP($B84,Übersichtsblatt!$B$64:$E$68,2,FALSE)),\"\")","v":""},0,-6.5,null,2023,"2023-03-23",{"$f":"IFERROR(IF(VLOOKUP($H84,Übersichtsblatt!$B$14:$E$24,2,FALSE)=0,\"\",VLOOKUP(H84,Übersichtsblatt!$B$14:$E$24,2,FALSE)),\"\")","v":""},0,6.5]
[2023,"2023-03-24",{"$f":"IFERROR(IF(VLOOKUP($B85,Übersichtsblatt!$B$64:$E$68,2,FALSE)=0,\"\",VLOOKUP($B85,Übersichtsblatt!$B$64:$E$68,2,FALSE)),\"\")","v":""},0,-6.5,null,2023,"2023-03-24",{"$f":"IFERROR(IF(VLOOKUP($H85,Übersichtsblatt!$B$14:$E$24,2,FALSE)=0,\"\",VLOOKUP(H85,Übersichtsblatt!$B$14:$E$24,2,FALSE)),\"\")","v":""},0,6.5]
[2023,"2023-03-25",{"$f":"IFERROR(IF(VLOOKUP($B86,Übersichtsblatt!$B$64:$E$68,2,FALSE)=0,\"\",VLOOKUP($B86,Übersichtsblatt!$B$64:$E$68,2,FALSE)),\"\")","v":""},0,-6.5,null,2023,"2023-03-25",{"$f":"IFERROR(IF(VLOOKUP($H86,Übersichtsblatt!$B$14:$E$24,2,FALSE)=0,\"\",VLOOKUP(H86,Übersichtsblatt!$B$14:$E$24,2,FALSE)),\"\")","v":""},0,6.5]
[2023,"2023-03-26",{"$f":"IFERROR(IF(VLOOKUP($B87,Übersichtsblatt!$B$64:$E$68,2,FALSE)=0,\"\",VLOOKUP($B87,Übersichtsblatt!$B$64:$E$68,2,FALSE)),\"\")","v":""},0,-6.5,null,2023,"2023-03-26",{"$f":"IFERROR(IF(VLOOKUP($H87,Übersichtsblatt!$B$14:$E$24,2,FALSE)=0,\"\",VLOOKUP(H87,Übersichtsblatt!$B$14:$E$24,2,FALSE)),\"\")","v":""},0,6.5]
[2023,"2023-03-27",{"$f":"IFERROR(IF(VLOOKUP($B88,Übersichtsblatt!$B$64:$E$68,2,FALSE)=0,\"\",VLOOKUP($B88,Übersichtsblatt!$B$64:$E$68,2,FALSE)),\"\")","v":""},0,-6.5,null,2023,"2023-03-27",{"$f":"IFERROR(IF(VLOOKUP($H88,Übersichtsblatt!$B$14:$E$24,2,FALSE)=0,\"\",VLOOKUP(H88,Übersichtsblatt!$B$14:$E$24,2,FALSE)),\"\")","v":""},0,6.5]
[2023,"2023-03-28",{"$f":"IFERROR(IF(VLOOKUP($B89,Übersichtsblatt!$B$64:$E$68,2,FALSE)=0,\"\",VLOOKUP($B89,Übersichtsblatt!$B$64:$E$68,2,FALSE)),\"\")","v":""},0,-6.5,null,2023,"2023-03-28",{"$f":"IFERROR(IF(VLOOKUP($H89,Übersichtsblatt!$B$14:$E$24,2,FALSE)=0,\"\",VLOOKUP(H89,Übersichtsblatt!$B$14:$E$24,2,FALSE)),\"\")","v":""},0,6.5]
[2023,"2023-03-29",{"$f":"IFERROR(IF(VLOOKUP($B90,Übersichtsblatt!$B$64:$E$68,2,FALSE)=0,\"\",VLOOKUP($B90,Übersichtsblatt!$B$64:$E$68,2,FALSE)),\"\")","v":""},0,-6.5,null,2023,"2023-03-29",{"$f":"IFERROR(IF(VLOOKUP($H90,Übersichtsblatt!$B$14:$E$24,2,FALSE)=0,\"\",VLOOKUP(H90,Übersichtsblatt!$B$14:$E$24,2,FALSE)),\"\")","v":""},0,6.5]
[2023,"2023-03-30",{"$f":"IFERROR(IF(VLOOKUP($B91,Übersichtsblatt!$B$64:$E$68,2,FALSE)=0,\"\",VLOOKUP($B91,Übersichtsblatt!$B$64:$E$68,2,FALSE)),\"\")","v":""},0,-6.5,null,2023,"2023-03-30",{"$f":"IFERROR(IF(VLOOKUP($H91,Übersichtsblatt!$B$14:$E$24,2,FALSE)=0,\"\",VLOOKUP(H91,Übersichtsblatt!$B$14:$E$24,2,FALSE)),\"\")","v":""},0,6.5]
[2023,"2023-03-31",{"$f":"IFERROR(IF(VLOOKUP($B92,Übersichtsblatt!$B$64:$E$68,2,FALSE)=0,\"\",VLOOKUP($B92,Übersichtsblatt!$B$64:$E$68,2,FALSE)),\"\")","v":""},0,-6.5,null,2023,"2023-03-31",{"$f":"IFERROR(IF(VLOOKUP($H92,Übersichtsblatt!$B$14:$E$24,2,FALSE)=0,\"\",VLOOKUP(H92,Übersichtsblatt!$B$14:$E$24,2,FALSE)),\"\")","v":""},0,6.5]
[2023,"2023-04-01",{"$f":"IFERROR(IF(VLOOKUP($B93,Übersichtsblatt!$B$64:$E$68,2,FALSE)=0,\"\",VLOOKUP($B93,Übersichtsblatt!$B$64:$E$68,2,FALSE)),\"\")","v":""},0,-9.5,null,2023,"2023-04-01",{"$f":"IFERROR(IF(VLOOKUP($H93,Übersichtsblatt!$B$14:$E$24,2,FALSE)=0,\"\",VLOOKUP(H93,Übersichtsblatt!$B$14:$E$24,2,FALSE)),\"\")","v":""},0,9.5]
[2023,"2023-04-02",{"$f":"IFERROR(IF(VLOOKUP($B94,Übersichtsblatt!$B$64:$E$68,2,FALSE)=0,\"\",VLOOKUP($B94,Übersichtsblatt!$B$64:$E$68,2,FALSE)),\"\")","v":""},0,-9.5,null,2023,"2023-04-02",{"$f":"IFERROR(IF(VLOOKUP($H94,Übersichtsblatt!$B$14:$E$24,2,FALSE)=0,\"\",VLOOKUP(H94,Übersichtsblatt!$B$14:$E$24,2,FALSE)),\"\")","v":""},0,9.5]
[2023,"2023-04-03",{"$f":"IFERROR(IF(VLOOKUP($B95,Übersichtsblatt!$B$64:$E$68,2,FALSE)=0,\"\",VLOOKUP($B95,Übersichtsblatt!$B$64:$E$68,2,FALSE)),\"\")","v":""},0,-9.5,null,2023,"2023-04-03",{"$f":"IFERROR(IF(VLOOKUP($H95,Übersichtsblatt!$B$14:$E$24,2,FALSE)=0,\"\",VLOOKUP(H95,Übersichtsblatt!$B$14:$E$24,2,FALSE)),\"\")","v":""},0,9.5]
[2023,"2023-04-04",{"$f":"IFERROR(IF(VLOOKUP($B96,Übersichtsblatt!$B$64:$E$68,2,FALSE)=0,\"\",VLOOKUP($B96,Übersichtsblatt!$B$64:$E$68,2,FALSE)),\"\")","v":""},0,-9.5,null,2023,"2023-04-04",{"$f":"IFERROR(IF(VLOOKUP($H96,Übersichtsblatt!$B$14:$E$24,2,FALSE)=0,\"\",VLOOKUP(H96,Übersichtsblatt!$B$14:$E$24,2,FALSE)),\"\")","v":""},0,9.5]
[2023,"2023-04-05",{"$f":"IFERROR(IF(VLOOKUP($B97,Übersichtsblatt!$B$64:$E$68,2,FALSE)=0,\"\",VLOOKUP($B97,Übersichtsblatt!$B$64:$E$68,2,FALSE)),\"\")","v":""},0,-9.5,null,2023,"2023-04-05",{"$f":"IFERROR(IF(VLOOKUP($H97,Übersichtsblatt!$B$14:$E$24,2,FALSE)=0,\"\",VLOOKUP(H97,Übersichtsblatt!$B$14:$E$24,2,FALSE)),\"\")","v":""},0,9.5]
[2023,"2023-04-06",{"$f":"IFERROR(IF(VLOOKUP($B98,Übersichtsblatt!$B$64:$E$68,2,FALSE)=0,\"\",VLOOKUP($B98,Übersichtsblatt!$B$64:$E$68,2,FALSE)),\"\")","v":""},0,-9.5,null,2023,"2023-04-06",{"$f":"IFERROR(IF(VLOOKUP($H98,Übersichtsblatt!$B$14:$E$24,2,FALSE)=0,\"\",VLOOKUP(H98,Übersichtsblatt!$B$14:$E$24,2,FALSE)),\"\")","v":""},0,9.5]
[2023,"2023-04-07",{"$f":"IFERROR(IF(VLOOKUP($B99,Übersichtsblatt!$B$64:$E$68,2,FALSE)=0,\"\",VLOOKUP($B99,Übersichtsblatt!$B$64:$E$68,2,FALSE)),\"\")","v":""},0,-9.5,null,2023,"2023-04-07",{"$f":"IFERROR(IF(VLOOKUP($H99,Übersichtsblatt!$B$14:$E$24,2,FALSE)=0,\"\",VLOOKUP(H99,Übersichtsblatt!$B$14:$E$24,2,FALSE)),\"\")","v":""},0,9.5]
[2023,"2023-04-08",{"$f":"IFERROR(IF(VLOOKUP($B100,Übersichtsblatt!$B$64:$E$68,2,FALSE)=0,\"\",VLOOKUP($B100,Übersichtsblatt!$B$64:$E$68,2,FALSE)),\"\")","v":""},0,-9.5,null,2023,"2023-04-08",{"$f":"IFERROR(IF(VLOOKUP($H100,Übersichtsblatt!$B$14:$E$24,2,FALSE)=0,\"\",VLOOKUP(H100,Übersichtsblatt!$B$14:$E$24,2,FALSE)),\"\")","v":""},0,9.5]
[2023,"2023-04-09",{"$f":"IFERROR(IF(VLOOKUP($B101,Übersichtsblatt!$B$64:$E$68,2,FALSE)=0,\"\",VLOOKUP($B101,Übersichtsblatt!$B$64:$E$68,2,FALSE)),\"\")","v":""},0,-9.5,null,2023,"2023-04-09",{"$f":"IFERROR(IF(VLOOKUP($H101,Übersichtsblatt!$B$14:$E$24,2,FALSE)=0,\"\",VLOOKUP(H101,Übersichtsblatt!$B$14:$E$24,2,FALSE)),\"\")","v":""},0,9.5]
[2023,"2023-04-10",{"$f":"IFERROR(IF(VLOOKUP($B102,Übersichtsblatt!$B$64:$E$68,2,FALSE)=0,\"\",VLOOKUP($B102,Übersichtsblatt!$B$64:$E$68,2,FALSE)),\"\")","v":""},0,-9.5,null,2023,"2023-04-10",{"$f":"IFERROR(IF(VLOOKUP($H102,Übersichtsblatt!$B$14:$E$24,2,FALSE)=0,\"\",VLOOKUP(H102,Übersichtsblatt!$B$14:$E$24,2,FALSE)),\"\")","v":""},0,9.5]
[2023,"2023-04-11",{"$f":"IFERROR(IF(VLOOKUP($B103,Übersichtsblatt!$B$64:$E$68,2,FALSE)=0,\"\",VLOOKUP($B103,Übersichtsblatt!$B$64:$E$68,2,FALSE)),\"\")","v":""},0,-9.5,null,2023,"2023-04-11",{"$f":"IFERROR(IF(VLOOKUP($H103,Übersichtsblatt!$B$14:$E$24,2,FALSE)=0,\"\",VLOOKUP(H103,Übersichtsblatt!$B$14:$E$24,2,FALSE)),\"\")","v":""},0,9.5]
[2023,"2023-04-12",{"$f":"IFERROR(IF(VLOOKUP($B104,Übersichtsblatt!$B$64:$E$68,2,FALSE)=0,\"\",VLOOKUP($B104,Übersichtsblatt!$B$64:$E$68,2,FALSE)),\"\")","v":""},0,-9.5,null,2023,"2023-04-12",{"$f":"IFERROR(IF(VLOOKUP($H104,Übersichtsblatt!$B$14:$E$24,2,FALSE)=0,\"\",VLOOKUP(H104,Übersichtsblatt!$B$14:$E$24,2,FALSE)),\"\")","v":""},0,9.5]
[2023,"2023-04-13",{"$f":"IFERROR(IF(VLOOKUP($B105,Übersichtsblatt!$B$64:$E$68,2,FALSE)=0,\"\",VLOOKUP($B105,Übersichtsblatt!$B$64:$E$68,2,FALSE)),\"\")","v":""},0,-9.5,null,2023,"2023-04-13",{"$f":"IFERROR(IF(VLOOKUP($H105,Übersichtsblatt!$B$14:$E$24,2,FALSE)=0,\"\",VLOOKUP(H105,Übersichtsblatt!$B$14:$E$24,2,FALSE)),\"\")","v":""},0,9.5]
[2023,"2023-04-14",{"$f":"IFERROR(IF(VLOOKUP($B106,Übersichtsblatt!$B$64:$E$68,2,FALSE)=0,\"\",VLOOKUP($B106,Übersichtsblatt!$B$64:$E$68,2,FALSE)),\"\")","v":""},0,-9.5,null,2023,"2023-04-14",{"$f":"IFERROR(IF(VLOOKUP($H106,Übersichtsblatt!$B$14:$E$24,2,FALSE)=0,\"\",VLOOKUP(H106,Übersichtsblatt!$B$14:$E$24,2,FALSE)),\"\")","v":""},0,9.5]
[2023,"2023-04-15",{"$f":"IFERROR(IF(VLOOKUP($B107,Übersichtsblatt!$B$64:$E$68,2,FALSE)=0,\"\",VLOOKUP($B107,Übersichtsblatt!$B$64:$E$68,2,FALSE)),\"\")","v":""},0,-9.5,null,2023,"2023-04-15",{"$f":"IFERROR(IF(VLOOKUP($H107,Übersichtsblatt!$B$14:$E$24,2,FALSE)=0,\"\",VLOOKUP(H107,Übersichtsblatt!$B$14:$E$24,2,FALSE)),\"\")","v":""},0,9.5]
[2023,"2023-04-16",{"$f":"IFERROR(IF(VLOOKUP($B108,Übersichtsblatt!$B$64:$E$68,2,FALSE)=0,\"\",VLOOKUP($B108,Übersichtsblatt!$B$64:$E$68,2,FALSE)),\"\")","v":""},0,-9.5,null,2023,"2023-04-16",{"$f":"IFERROR(IF(VLOOKUP($H108,Übersichtsblatt!$B$14:$E$24,2,FALSE)=0,\"\",VLOOKUP(H108,Übersichtsblatt!$B$14:$E$24,2,FALSE)),\"\")","v":""},0,9.5]
[2023,"2023-04-17",{"$f":"IFERROR(IF(VLOOKUP($B109,Übersichtsblatt!$B$64:$E$68,2,FALSE)=0,\"\",VLOOKUP($B109,Übersichtsblatt!$B$64:$E$68,2,FALSE)),\"\")","v":""},0,-9.5,null,2023,"2023-04-17",{"$f":"IFERROR(IF(VLOOKUP($H109,Übersichtsblatt!$B$14:$E$24,2,FALSE)=0,\"\",VLOOKUP(H109,Übersichtsblatt!$B$14:$E$24,2,FALSE)),\"\")","v":""},0,9.5]
[2023,"2023-04-18",{"$f":"IFERROR(IF(VLOOKUP($B110,Übersichtsblatt!$B$64:$E$68,2,FALSE)=0,\"\",VLOOKUP($B110,Übersichtsblatt!$B$64:$E$68,2,FALSE)),\"\")","v":""},0,-9.5,null,2023,"2023-04-18",{"$f":"IFERROR(IF(VLOOKUP($H110,Übersichtsblatt!$B$14:$E$24,2,FALSE)=0,\"\",VLOOKUP(H110,Übersichtsblatt!$B$14:$E$24,2,FALSE)),\"\")","v":""},0,9.5]
[2023,"2023-04-19",{"$f":"IFERROR(IF(VLOOKUP($B111,Übersichtsblatt!$B$64:$E$68,2,FALSE)=0,\"\",VLOOKUP($B111,Übersichtsblatt!$B$64:$E$68,2,FALSE)),\"\")","v":""},0,-9.5,null,2023,"2023-04-19",{"$f":"IFERROR(IF(VLOOKUP($H111,Übersichtsblatt!$B$14:$E$24,2,FALSE)=0,\"\",VLOOKUP(H111,Übersichtsblatt!$B$14:$E$24,2,FALSE)),\"\")","v":""},0,9.5]
[2023,"2023-04-20",{"$f":"IFERROR(IF(VLOOKUP($B112,Übersichtsblatt!$B$64:$E$68,2,FALSE)=0,\"\",VLOOKUP($B112,Übersichtsblatt!$B$64:$E$68,2,FALSE)),\"\")","v":""},0,-9.5,null,2023,"2023-04-20",{"$f":"IFERROR(IF(VLOOKUP($H112,Übersichtsblatt!$B$14:$E$24,2,FALSE)=0,\"\",VLOOKUP(H112,Übersichtsblatt!$B$14:$E$24,2,FALSE)),\"\")","v":""},0,9.5]
[2023,"2023-04-21",{"$f":"IFERROR(IF(VLOOKUP($B113,Übersichtsblatt!$B$64:$E$68,2,FALSE)=0,\"\",VLOOKUP($B113,Übersichtsblatt!$B$64:$E$68,2,FALSE)),\"\")","v":""},0,-9.5,null,2023,"2023-04-21",{"$f":"IFERROR(IF(VLOOKUP($H113,Übersichtsblatt!$B$14:$E$24,2,FALSE)=0,\"\",VLOOKUP(H113,Übersichtsblatt!$B$14:$E$24,2,FALSE)),\"\")","v":""},0,9.5]
[2023,"2023-04-22",{"$f":"IFERROR(IF(VLOOKUP($B114,Übersichtsblatt!$B$64:$E$68,2,FALSE)=0,\"\",VLOOKUP($B114,Übersichtsblatt!$B$64:$E$68,2,FALSE)),\"\")","v":""},0,-9.5,null,2023,"2023-04-22",{"$f":"IFERROR(IF(VLOOKUP($H114,Übersichtsblatt!$B$14:$E$24,2,FALSE)=0,\"\",VLOOKUP(H114,Übersichtsblatt!$B$14:$E$24,2,FALSE)),\"\")","v":""},0,9.5]
[2023,"2023-04-23",{"$f":"IFERROR(IF(VLOOKUP($B115,Übersichtsblatt!$B$64:$E$68,2,FALSE)=0,\"\",VLOOKUP($B115,Übersichtsblatt!$B$64:$E$68,2,FALSE)),\"\")","v":""},0,-9.5,null,2023,"2023-04-23",{"$f":"IFERROR(IF(VLOOKUP($H115,Übersichtsblatt!$B$14:$E$24,2,FALSE)=0,\"\",VLOOKUP(H115,Übersichtsblatt!$B$14:$E$24,2,FALSE)),\"\")","v":""},0,9.5]
[2023,"2023-04-24",{"$f":"IFERROR(IF(VLOOKUP($B116,Übersichtsblatt!$B$64:$E$68,2,FALSE)=0,\"\",VLOOKUP($B116,Übersichtsblatt!$B$64:$E$68,2,FALSE)),\"\")","v":""},0,-9.5,null,2023,"2023-04-24",{"$f":"IFERROR(IF(VLOOKUP($H116,Übersichtsblatt!$B$14:$E$24,2,FALSE)=0,\"\",VLOOKUP(H116,Übersichtsblatt!$B$14:$E$24,2,FALSE)),\"\")","v":""},0,9.5]
[2023,"2023-04-25",{"$f":"IFERROR(IF(VLOOKUP($B117,Übersichtsblatt!$B$64:$E$68,2,FALSE)=0,\"\",VLOOKUP($B117,Übersichtsblatt!$B$64:$E$68,2,FALSE)),\"\")","v":""},0,-9.5,null,2023,"2023-04-25",{"$f":"IFERROR(IF(VLOOKUP($H117,Übersichtsblatt!$B$14:$E$24,2,FALSE)=0,\"\",VLOOKUP(H117,Übersichtsblatt!$B$14:$E$24,2,FALSE)),\"\")","v":""},0,9.5]
[2023,"2023-04-26",{"$f":"IFERROR(IF(VLOOKUP($B118,Übersichtsblatt!$B$64:$E$68,2,FALSE)=0,\"\",VLOOKUP($B118,Übersichtsblatt!$B$64:$E$68,2,FALSE)),\"\")","v":""},0,-9.5,null,2023,"2023-04-26",{"$f":"IFERROR(IF(VLOOKUP($H118,Übersichtsblatt!$B$14:$E$24,2,FALSE)=0,\"\",VLOOKUP(H118,Übersichtsblatt!$B$14:$E$24,2,FALSE)),\"\")","v":""},0,9.5]
[2023,"2023-04-27",{"$f":"IFERROR(IF(VLOOKUP($B119,Übersichtsblatt!$B$64:$E$68,2,FALSE)=0,\"\",VLOOKUP($B119,Übersichtsblatt!$B$64:$E$68,2,FALSE)),\"\")","v":""},0,-9.5,null,2023,"2023-04-27",{"$f":"IFERROR(IF(VLOOKUP($H119,Übersichtsblatt!$B$14:$E$24,2,FALSE)=0,\"\",VLOOKUP(H119,Übersichtsblatt!$B$14:$E$24,2,FALSE)),\"\")","v":""},0,9.5]
[2023,"2023-04-28",{"$f":"IFERROR(IF(VLOOKUP($B120,Übersichtsblatt!$B$64:$E$68,2,FALSE)=0,\"\",VLOOKUP($B120,Übersichtsblatt!$B$64:$E$68,2,FALSE)),\"\")","v":""},0,-9.5,null,2023,"2023-04-28",{"$f":"IFERROR(IF(VLOOKUP($H120,Übersichtsblatt!$B$14:$E$24,2,FALSE)=0,\"\",VLOOKUP(H120,Übersichtsblatt!$B$14:$E$24,2,FALSE)),\"\")","v":""},0,9.5]
[2023,"2023-04-29",{"$f":"IFERROR(IF(VLOOKUP($B121,Übersichtsblatt!$B$64:$E$68,2,FALSE)=0,\"\",VLOOKUP($B121,Übersichtsblatt!$B$64:$E$68,2,FALSE)),\"\")","v":""},0,-9.5,null,2023,"2023-04-29",{"$f":"IFERROR(IF(VLOOKUP($H121,Übersichtsblatt!$B$14:$E$24,2,FALSE)=0,\"\",VLOOKUP(H121,Übersichtsblatt!$B$14:$E$24,2,FALSE)),\"\")","v":""},0,9.5]
[2023,"2023-04-30",{"$f":"IFERROR(IF(VLOOKUP($B122,Übersichtsblatt!$B$64:$E$68,2,FALSE)=0,\"\",VLOOKUP($B122,Übersichtsblatt!$B$64:$E$68,2,FALSE)),\"\")","v":""},0,-9.5,null,2023,"2023-04-30",{"$f":"IFERROR(IF(VLOOKUP($H122,Übersichtsblatt!$B$14:$E$24,2,FALSE)=0,\"\",VLOOKUP(H122,Übersichtsblatt!$B$14:$E$24,2,FALSE)),\"\")","v":""},0,9.5]
[2023,"2023-05-01",{"$f":"IFERROR(IF(VLOOKUP($B123,Übersichtsblatt!$B$64:$E$68,2,FALSE)=0,\"\",VLOOKUP($B123,Übersichtsblatt!$B$64:$E$68,2,FALSE)),\"\")","v":""},0,-11.5,null,2023,"2023-05-01",{"$f":"IFERROR(IF(VLOOKUP($H123,Übersichtsblatt!$B$14:$E$24,2,FALSE)=0,\"\",VLOOKUP(H123,Übersichtsblatt!$B$14:$E$24,2,FALSE)),\"\")","v":""},0,11.5]
[2023,"2023-05-02",{"$f":"IFERROR(IF(VLOOKUP($B124,Übersichtsblatt!$B$64:$E$68,2,FALSE)=0,\"\",VLOOKUP($B124,Übersichtsblatt!$B$64:$E$68,2,FALSE)),\"\")","v":""},0,-11.5,null,2023,"2023-05-02",{"$f":"IFERROR(IF(VLOOKUP($H124,Übersichtsblatt!$B$14:$E$24,2,FALSE)=0,\"\",VLOOKUP(H124,Übersichtsblatt!$B$14:$E$24,2,FALSE)),\"\")","v":""},0,11.5]
[2023,"2023-05-03",{"$f":"IFERROR(IF(VLOOKUP($B125,Übersichtsblatt!$B$64:$E$68,2,FALSE)=0,\"\",VLOOKUP($B125,Übersichtsblatt!$B$64:$E$68,2,FALSE)),\"\")","v":""},0,-11.5,null,2023,"2023-05-03",{"$f":"IFERROR(IF(VLOOKUP($H125,Übersichtsblatt!$B$14:$E$24,2,FALSE)=0,\"\",VLOOKUP(H125,Übersichtsblatt!$B$14:$E$24,2,FALSE)),\"\")","v":""},0,11.5]
[2023,"2023-05-04",{"$f":"IFERROR(IF(VLOOKUP($B126,Übersichtsblatt!$B$64:$E$68,2,FALSE)=0,\"\",VLOOKUP($B126,Übersichtsblatt!$B$64:$E$68,2,FALSE)),\"\")","v":""},0,-11.5,null,2023,"2023-05-04",{"$f":"IFERROR(IF(VLOOKUP($H126,Übersichtsblatt!$B$14:$E$24,2,FALSE)=0,\"\",VLOOKUP(H126,Übersichtsblatt!$B$14:$E$24,2,FALSE)),\"\")","v":""},0,11.5]
[2023,"2023-05-05",{"$f":"IFERROR(IF(VLOOKUP($B127,Übersichtsblatt!$B$64:$E$68,2,FALSE)=0,\"\",VLOOKUP($B127,Übersichtsblatt!$B$64:$E$68,2,FALSE)),\"\")","v":""},0,-11.5,null,2023,"2023-05-05",{"$f":"IFERROR(IF(VLOOKUP($H127,Übersichtsblatt!$B$14:$E$24,2,FALSE)=0,\"\",VLOOKUP(H127,Übersichtsblatt!$B$14:$E$24,2,FALSE)),\"\")","v":""},0,11.5]
[2023,"2023-05-06",{"$f":"IFERROR(IF(VLOOKUP($B128,Übersichtsblatt!$B$64:$E$68,2,FALSE)=0,\"\",VLOOKUP($B128,Übersichtsblatt!$B$64:$E$68,2,FALSE)),\"\")","v":""},0,-11.5,null,2023,"2023-05-06",{"$f":"IFERROR(IF(VLOOKUP($H128,Übersichtsblatt!$B$14:$E$24,2,FALSE)=0,\"\",VLOOKUP(H128,Übersichtsblatt!$B$14:$E$24,2,FALSE)),\"\")","v":""},0,11.5]
[2023,"2023-05-07",{"$f":"IFERROR(IF(VLOOKUP($B129,Übersichtsblatt!$B$64:$E$68,2,FALSE)=0,\"\",VLOOKUP($B129,Übersichtsblatt!$B$64:$E$68,2,FALSE)),\"\")","v":""},0,-11.5,null,2023,"2023-05-07",{"$f":"IFERROR(IF(VLOOKUP($H129,Übersichtsblatt!$B$14:$E$24,2,FALSE)=0,\"\",VLOOKUP(H129,Übersichtsblatt!$B$14:$E$24,2,FALSE)),\"\")","v":""},0,11.5]
[2023,"2023-05-08",{"$f":"IFERROR(IF(VLOOKUP($B130,Übersichtsblatt!$B$64:$E$68,2,FALSE)=0,\"\",VLOOKUP($B130,Übersichtsblatt!$B$64:$E$68,2,FALSE)),\"\")","v":""},0,-11.5,null,2023,"2023-05-08",{"$f":"IFERROR(IF(VLOOKUP($H130,Übersichtsblatt!$B$14:$E$24,2,FALSE)=0,\"\",VLOOKUP(H130,Übersichtsblatt!$B$14:$E$24,2,FALSE)),\"\")","v":""},0,11.5]
[2023,"2023-05-09",{"$f":"IFERROR(IF(VLOOKUP($B131,Übersichtsblatt!$B$64:$E$68,2,FALSE)=0,\"\",VLOOKUP($B131,Übersichtsblatt!$B$64:$E$68,2,FALSE)),\"\")","v":""},0,-11.5,null,2023,"2023-05-09",{"$f":"IFERROR(IF(VLOOKUP($H131,Übersichtsblatt!$B$14:$E$24,2,FALSE)=0,\"\",VLOOKUP(H131,Übersichtsblatt!$B$14:$E$24,2,FALSE)),\"\")","v":""},0,11.5]
[2023,"2023-05-10",{"$f":"IFERROR(IF(VLOOKUP($B132,Übersichtsblatt!$B$64:$E$68,2,FALSE)=0,\"\",VLOOKUP($B132,Übersichtsblatt!$B$64:$E$68,2,FALSE)),\"\")","v":""},{"$f":"IF($C132=\"\",0,$E132)","v":0},-11.5,null,2023,"2023-05-10",{"$f":"IFERROR(IF(VLOOKUP($H132,Übersichtsblatt!$B$14:$E$24,2,FALSE)=0,\"\",VLOOKUP(H132,Übersichtsblatt!$B$14:$E$24,2,FALSE)),\"\")","v":""},{"$f":"IF($I132=\"\",0,$K132)","v":0},11.5]
[{"$f":"YEAR(B133)","v":2023},{"$f":"B132+1","v":"2023-05-11"},{"$f":"IFERROR(IF(VLOOKUP($B133,Übersichtsblatt!$B$64:$E$68,2,FALSE)=0,\"\",VLOOKUP($B133,Übersichtsblatt!$B$64:$E$68,2,FALSE)),\"\")","v":""},0,-11.5,null,{"$f":"YEAR(H133)","v":2023},{"$f":"H132+1","v":"2023-05-11"},{"$f":"IFERROR(IF(VLOOKUP($H133,Übersichtsblatt!$B$14:$E$24,2,FALSE)=0,\"\",VLOOKUP(H133,Übersichtsblatt!$B$14:$E$24,2,FALSE)),\"\")","v":""},0,11.5]
[2023,"2023-05-12",{"$f":"IFERROR(IF(VLOOKUP($B134,Übersichtsblatt!$B$64:$E$68,2,FALSE)=0,\"\",VLOOKUP($B134,Übersichtsblatt!$B$64:$E$68,2,FALSE)),\"\")","v":""},0,-11.5,null,2023,"2023-05-12",{"$f":"IFERROR(IF(VLOOKUP($H134,Übersichtsblatt!$B$14:$E$24,2,FALSE)=0,\"\",VLOOKUP(H134,Übersichtsblatt!$B$14:$E$24,2,FALSE)),\"\")","v":""},0,11.5]
[2023,"2023-05-13",{"$f":"IFERROR(IF(VLOOKUP($B135,Übersichtsblatt!$B$64:$E$68,2,FALSE)=0,\"\",VLOOKUP($B135,Übersichtsblatt!$B$64:$E$68,2,FALSE)),\"\")","v":""},0,-11.5,null,2023,"2023-05-13",{"$f":"IFERROR(IF(VLOOKUP($H135,Übersichtsblatt!$B$14:$E$24,2,FALSE)=0,\"\",VLOOKUP(H135,Übersichtsblatt!$B$14:$E$24,2,FALSE)),\"\")","v":""},0,11.5]
[2023,"2023-05-14",{"$f":"IFERROR(IF(VLOOKUP($B136,Übersichtsblatt!$B$64:$E$68,2,FALSE)=0,\"\",VLOOKUP($B136,Übersichtsblatt!$B$64:$E$68,2,FALSE)),\"\")","v":""},0,-11.5,null,2023,"2023-05-14",{"$f":"IFERROR(IF(VLOOKUP($H136,Übersichtsblatt!$B$14:$E$24,2,FALSE)=0,\"\",VLOOKUP(H136,Übersichtsblatt!$B$14:$E$24,2,FALSE)),\"\")","v":""},0,11.5]
[2023,"2023-05-15",{"$f":"IFERROR(IF(VLOOKUP($B137,Übersichtsblatt!$B$64:$E$68,2,FALSE)=0,\"\",VLOOKUP($B137,Übersichtsblatt!$B$64:$E$68,2,FALSE)),\"\")","v":""},0,-11.5,null,2023,"2023-05-15",{"$f":"IFERROR(IF(VLOOKUP($H137,Übersichtsblatt!$B$14:$E$24,2,FALSE)=0,\"\",VLOOKUP(H137,Übersichtsblatt!$B$14:$E$24,2,FALSE)),\"\")","v":""},0,11.5]
[2023,"2023-05-16",{"$f":"IFERROR(IF(VLOOKUP($B138,Übersichtsblatt!$B$64:$E$68,2,FALSE)=0,\"\",VLOOKUP($B138,Übersichtsblatt!$B$64:$E$68,2,FALSE)),\"\")","v":""},0,-11.5,null,2023,"2023-05-16",{"$f":"IFERROR(IF(VLOOKUP($H138,Übersichtsblatt!$B$14:$E$24,2,FALSE)=0,\"\",VLOOKUP(H138,Übersichtsblatt!$B$14:$E$24,2,FALSE)),\"\")","v":""},0,11.5]
[2023,"2023-05-17",{"$f":"IFERROR(IF(VLOOKUP($B139,Übersichtsblatt!$B$64:$E$68,2,FALSE)=0,\"\",VLOOKUP($B139,Übersichtsblatt!$B$64:$E$68,2,FALSE)),\"\")","v":""},0,-11.5,null,2023,"2023-05-17",{"$f":"IFERROR(IF(VLOOKUP($H139,Übersichtsblatt!$B$14:$E$24,2,FALSE)=0,\"\",VLOOKUP(H139,Übersichtsblatt!$B$14:$E$24,2,FALSE)),\"\")","v":""},0,11.5]
[2023,"2023-05-18",{"$f":"IFERROR(IF(VLOOKUP($B140,Übersichtsblatt!$B$64:$E$68,2,FALSE)=0,\"\",VLOOKUP($B140,Übersichtsblatt!$B$64:$E$68,2,FALSE)),\"\")","v":""},0,-11.5,null,2023,"2023-05-18",{"$f":"IFERROR(IF(VLOOKUP($H140,Übersichtsblatt!$B$14:$E$24,2,FALSE)=0,\"\",VLOOKUP(H140,Übersichtsblatt!$B$14:$E$24,2,FALSE)),\"\")","v":""},0,11.5]
[2023,"2023-05-19",{"$f":"IFERROR(IF(VLOOKUP($B141,Übersichtsblatt!$B$64:$E$68,2,FALSE)=0,\"\",VLOOKUP($B141,Übersichtsblatt!$B$64:$E$68,2,FALSE)),\"\")","v":""},0,-11.5,null,2023,"2023-05-19",{"$f":"IFERROR(IF(VLOOKUP($H141,Übersichtsblatt!$B$14:$E$24,2,FALSE)=0,\"\",VLOOKUP(H141,Übersichtsblatt!$B$14:$E$24,2,FALSE)),\"\")","v":""},0,11.5]
[2023,"2023-05-20",{"$f":"IFERROR(IF(VLOOKUP($B142,Übersichtsblatt!$B$64:$E$68,2,FALSE)=0,\"\",VLOOKUP($B142,Übersichtsblatt!$B$64:$E$68,2,FALSE)),\"\")","v":""},0,-11.5,null,2023,"2023-05-20",{"$f":"IFERROR(IF(VLOOKUP($H142,Übersichtsblatt!$B$14:$E$24,2,FALSE)=0,\"\",VLOOKUP(H142,Übersichtsblatt!$B$14:$E$24,2,FALSE)),\"\")","v":""},0,11.5]
[2023,"2023-05-21",{"$f":"IFERROR(IF(VLOOKUP($B143,Übersichtsblatt!$B$64:$E$68,2,FALSE)=0,\"\",VLOOKUP($B143,Übersichtsblatt!$B$64:$E$68,2,FALSE)),\"\")","v":""},0,-11.5,null,2023,"2023-05-21",{"$f":"IFERROR(IF(VLOOKUP($H143,Übersichtsblatt!$B$14:$E$24,2,FALSE)=0,\"\",VLOOKUP(H143,Übersichtsblatt!$B$14:$E$24,2,FALSE)),\"\")","v":""},0,11.5]
[2023,"2023-05-22",{"$f":"IFERROR(IF(VLOOKUP($B144,Übersichtsblatt!$B$64:$E$68,2,FALSE)=0,\"\",VLOOKUP($B144,Übersichtsblatt!$B$64:$E$68,2,FALSE)),\"\")","v":""},0,-11.5,null,2023,"2023-05-22",{"$f":"IFERROR(IF(VLOOKUP($H144,Übersichtsblatt!$B$14:$E$24,2,FALSE)=0,\"\",VLOOKUP(H144,Übersichtsblatt!$B$14:$E$24,2,FALSE)),\"\")","v":""},0,11.5]
[2023,"2023-05-23",{"$f":"IFERROR(IF(VLOOKUP($B145,Übersichtsblatt!$B$64:$E$68,2,FALSE)=0,\"\",VLOOKUP($B145,Übersichtsblatt!$B$64:$E$68,2,FALSE)),\"\")","v":""},0,-11.5,null,2023,"2023-05-23",{"$f":"IFERROR(IF(VLOOKUP($H145,Übersichtsblatt!$B$14:$E$24,2,FALSE)=0,\"\",VLOOKUP(H145,Übersichtsblatt!$B$14:$E$24,2,FALSE)),\"\")","v":""},0,11.5]
[2023,"2023-05-24",{"$f":"IFERROR(IF(VLOOKUP($B146,Übersichtsblatt!$B$64:$E$68,2,FALSE)=0,\"\",VLOOKUP($B146,Übersichtsblatt!$B$64:$E$68,2,FALSE)),\"\")","v":""},0,-11.5,null,2023,"2023-05-24",{"$f":"IFERROR(IF(VLOOKUP($H146,Übersichtsblatt!$B$14:$E$24,2,FALSE)=0,\"\",VLOOKUP(H146,Übersichtsblatt!$B$14:$E$24,2,FALSE)),\"\")","v":""},0,11.5]
[2023,"2023-05-25",{"$f":"IFERROR(IF(VLOOKUP($B147,Übersichtsblatt!$B$64:$E$68,2,FALSE)=0,\"\",VLOOKUP($B147,Übersichtsblatt!$B$64:$E$68,2,FALSE)),\"\")","v":""},0,-11.5,null,2023,"2023-05-25",{"$f":"IFERROR(IF(VLOOKUP($H147,Übersichtsblatt!$B$14:$E$24,2,FALSE)=0,\"\",VLOOKUP(H147,Übersichtsblatt!$B$14:$E$24,2,FALSE)),\"\")","v":""},0,11.5]
[2023,"2023-05-26",{"$f":"IFERROR(IF(VLOOKUP($B148,Übersichtsblatt!$B$64:$E$68,2,FALSE)=0,\"\",VLOOKUP($B148,Übersichtsblatt!$B$64:$E$68,2,FALSE)),\"\")","v":""},0,-11.5,null,2023,"2023-05-26",{"$f":"IFERROR(IF(VLOOKUP($H148,Übersichtsblatt!$B$14:$E$24,2,FALSE)=0,\"\",VLOOKUP(H148,Übersichtsblatt!$B$14:$E$24,2,FALSE)),\"\")","v":""},0,11.5]
[2023,"2023-05-27",{"$f":"IFERROR(IF(VLOOKUP($B149,Übersichtsblatt!$B$64:$E$68,2,FALSE)=0,\"\",VLOOKUP($B149,Übersichtsblatt!$B$64:$E$68,2,FALSE)),\"\")","v":""},0,-11.5,null,2023,"2023-05-27",{"$f":"IFERROR(IF(VLOOKUP($H149,Übersichtsblatt!$B$14:$E$24,2,FALSE)=0,\"\",VLOOKUP(H149,Übersichtsblatt!$B$14:$E$24,2,FALSE)),\"\")","v":""},0,11.5]
[2023,"2023-05-28",{"$f":"IFERROR(IF(VLOOKUP($B150,Übersichtsblatt!$B$64:$E$68,2,FALSE)=0,\"\",VLOOKUP($B150,Übersichtsblatt!$B$64:$E$68,2,FALSE)),\"\")","v":""},0,-11.5,null,2023,"2023-05-28",{"$f":"IFERROR(IF(VLOOKUP($H150,Übersichtsblatt!$B$14:$E$24,2,FALSE)=0,\"\",VLOOKUP(H150,Übersichtsblatt!$B$14:$E$24,2,FALSE)),\"\")","v":""},0,11.5]
[2023,"2023-05-29",{"$f":"IFERROR(IF(VLOOKUP($B151,Übersichtsblatt!$B$64:$E$68,2,FALSE)=0,\"\",VLOOKUP($B151,Übersichtsblatt!$B$64:$E$68,2,FALSE)),\"\")","v":""},0,-11.5,null,2023,"2023-05-29",{"$f":"IFERROR(IF(VLOOKUP($H151,Übersichtsblatt!$B$14:$E$24,2,FALSE)=0,\"\",VLOOKUP(H151,Übersichtsblatt!$B$14:$E$24,2,FALSE)),\"\")","v":""},0,11.5]
[2023,"2023-05-30",{"$f":"IFERROR(IF(VLOOKUP($B152,Übersichtsblatt!$B$64:$E$68,2,FALSE)=0,\"\",VLOOKUP($B152,Übersichtsblatt!$B$64:$E$68,2,FALSE)),\"\")","v":""},0,-11.5,null,2023,"2023-05-30",{"$f":"IFERROR(IF(VLOOKUP($H152,Übersichtsblatt!$B$14:$E$24,2,FALSE)=0,\"\",VLOOKUP(H152,Übersichtsblatt!$B$14:$E$24,2,FALSE)),\"\")","v":""},0,11.5]
[2023,"2023-05-31",{"$f":"IFERROR(IF(VLOOKUP($B153,Übersichtsblatt!$B$64:$E$68,2,FALSE)=0,\"\",VLOOKUP($B153,Übersichtsblatt!$B$64:$E$68,2,FALSE)),\"\")","v":""},0,-11.5,null,2023,"2023-05-31",{"$f":"IFERROR(IF(VLOOKUP($H153,Übersichtsblatt!$B$14:$E$24,2,FALSE)=0,\"\",VLOOKUP(H153,Übersichtsblatt!$B$14:$E$24,2,FALSE)),\"\")","v":""},0,11.5]
[2023,"2023-06-01",{"$f":"IFERROR(IF(VLOOKUP($B154,Übersichtsblatt!$B$64:$E$68,2,FALSE)=0,\"\",VLOOKUP($B154,Übersichtsblatt!$B$64:$E$68,2,FALSE)),\"\")","v":""},0,-4.5,null,2023,"2023-06-01",{"$f":"IFERROR(IF(VLOOKUP($H154,Übersichtsblatt!$B$14:$E$24,2,FALSE)=0,\"\",VLOOKUP(H154,Übersichtsblatt!$B$14:$E$24,2,FALSE)),\"\")","v":""},0,4.5]
[2023,"2023-06-02",{"$f":"IFERROR(IF(VLOOKUP($B155,Übersichtsblatt!$B$64:$E$68,2,FALSE)=0,\"\",VLOOKUP($B155,Übersichtsblatt!$B$64:$E$68,2,FALSE)),\"\")","v":""},0,-4.5,null,2023,"2023-06-02",{"$f":"IFERROR(IF(VLOOKUP($H155,Übersichtsblatt!$B$14:$E$24,2,FALSE)=0,\"\",VLOOKUP(H155,Übersichtsblatt!$B$14:$E$24,2,FALSE)),\"\")","v":""},0,4.5]
[2023,"2023-06-03",{"$f":"IFERROR(IF(VLOOKUP($B156,Übersichtsblatt!$B$64:$E$68,2,FALSE)=0,\"\",VLOOKUP($B156,Übersichtsblatt!$B$64:$E$68,2,FALSE)),\"\")","v":""},0,-4.5,null,2023,"2023-06-03",{"$f":"IFERROR(IF(VLOOKUP($H156,Übersichtsblatt!$B$14:$E$24,2,FALSE)=0,\"\",VLOOKUP(H156,Übersichtsblatt!$B$14:$E$24,2,FALSE)),\"\")","v":""},0,4.5]
[2023,"2023-06-04",{"$f":"IFERROR(IF(VLOOKUP($B157,Übersichtsblatt!$B$64:$E$68,2,FALSE)=0,\"\",VLOOKUP($B157,Übersichtsblatt!$B$64:$E$68,2,FALSE)),\"\")","v":""},0,-4.5,null,2023,"2023-06-04",{"$f":"IFERROR(IF(VLOOKUP($H157,Übersichtsblatt!$B$14:$E$24,2,FALSE)=0,\"\",VLOOKUP(H157,Übersichtsblatt!$B$14:$E$24,2,FALSE)),\"\")","v":""},0,4.5]
[2023,"2023-06-05",{"$f":"IFERROR(IF(VLOOKUP($B158,Übersichtsblatt!$B$64:$E$68,2,FALSE)=0,\"\",VLOOKUP($B158,Übersichtsblatt!$B$64:$E$68,2,FALSE)),\"\")","v":""},0,-4.5,null,2023,"2023-06-05",{"$f":"IFERROR(IF(VLOOKUP($H158,Übersichtsblatt!$B$14:$E$24,2,FALSE)=0,\"\",VLOOKUP(H158,Übersichtsblatt!$B$14:$E$24,2,FALSE)),\"\")","v":""},0,4.5]
[2023,"2023-06-06",{"$f":"IFERROR(IF(VLOOKUP($B159,Übersichtsblatt!$B$64:$E$68,2,FALSE)=0,\"\",VLOOKUP($B159,Übersichtsblatt!$B$64:$E$68,2,FALSE)),\"\")","v":""},0,-4.5,null,2023,"2023-06-06",{"$f":"IFERROR(IF(VLOOKUP($H159,Übersichtsblatt!$B$14:$E$24,2,FALSE)=0,\"\",VLOOKUP(H159,Übersichtsblatt!$B$14:$E$24,2,FALSE)),\"\")","v":""},0,4.5]
[2023,"2023-06-07",{"$f":"IFERROR(IF(VLOOKUP($B160,Übersichtsblatt!$B$64:$E$68,2,FALSE)=0,\"\",VLOOKUP($B160,Übersichtsblatt!$B$64:$E$68,2,FALSE)),\"\")","v":""},0,-4.5,null,2023,"2023-06-07",{"$f":"IFERROR(IF(VLOOKUP($H160,Übersichtsblatt!$B$14:$E$24,2,FALSE)=0,\"\",VLOOKUP(H160,Übersichtsblatt!$B$14:$E$24,2,FALSE)),\"\")","v":""},0,4.5]
[2023,"2023-06-08",{"$f":"IFERROR(IF(VLOOKUP($B161,Übersichtsblatt!$B$64:$E$68,2,FALSE)=0,\"\",VLOOKUP($B161,Übersichtsblatt!$B$64:$E$68,2,FALSE)),\"\")","v":""},0,-4.5,null,2023,"2023-06-08",{"$f":"IFERROR(IF(VLOOKUP($H161,Übersichtsblatt!$B$14:$E$24,2,FALSE)=0,\"\",VLOOKUP(H161,Übersichtsblatt!$B$14:$E$24,2,FALSE)),\"\")","v":""},0,4.5]
[2023,"2023-06-09",{"$f":"IFERROR(IF(VLOOKUP($B162,Übersichtsblatt!$B$64:$E$68,2,FALSE)=0,\"\",VLOOKUP($B162,Übersichtsblatt!$B$64:$E$68,2,FALSE)),\"\")","v":""},0,-4.5,null,2023,"2023-06-09",{"$f":"IFERROR(IF(VLOOKUP($H162,Übersichtsblatt!$B$14:$E$24,2,FALSE)=0,\"\",VLOOKUP(H162,Übersichtsblatt!$B$14:$E$24,2,FALSE)),\"\")","v":""},0,4.5]
[2023,"2023-06-10",{"$f":"IFERROR(IF(VLOOKUP($B163,Übersichtsblatt!$B$64:$E$68,2,FALSE)=0,\"\",VLOOKUP($B163,Übersichtsblatt!$B$64:$E$68,2,FALSE)),\"\")","v":""},0,-4.5,null,2023,"2023-06-10",{"$f":"IFERROR(IF(VLOOKUP($H163,Übersichtsblatt!$B$14:$E$24,2,FALSE)=0,\"\",VLOOKUP(H163,Übersichtsblatt!$B$14:$E$24,2,FALSE)),\"\")","v":""},0,4.5]
[2023,"2023-06-11",{"$f":"IFERROR(IF(VLOOKUP($B164,Übersichtsblatt!$B$64:$E$68,2,FALSE)=0,\"\",VLOOKUP($B164,Übersichtsblatt!$B$64:$E$68,2,FALSE)),\"\")","v":""},0,-4.5,null,2023,"2023-06-11",{"$f":"IFERROR(IF(VLOOKUP($H164,Übersichtsblatt!$B$14:$E$24,2,FALSE)=0,\"\",VLOOKUP(H164,Übersichtsblatt!$B$14:$E$24,2,FALSE)),\"\")","v":""},0,4.5]
[2023,"2023-06-12",{"$f":"IFERROR(IF(VLOOKUP($B165,Übersichtsblatt!$B$64:$E$68,2,FALSE)=0,\"\",VLOOKUP($B165,Übersichtsblatt!$B$64:$E$68,2,FALSE)),\"\")","v":""},0,-4.5,null,2023,"2023-06-12",{"$f":"IFERROR(IF(VLOOKUP($H165,Übersichtsblatt!$B$14:$E$24,2,FALSE)=0,\"\",VLOOKUP(H165,Übersichtsblatt!$B$14:$E$24,2,FALSE)),\"\")","v":""},0,4.5]
[2023,"2023-06-13",{"$f":"IFERROR(IF(VLOOKUP($B166,Übersichtsblatt!$B$64:$E$68,2,FALSE)=0,\"\",VLOOKUP($B166,Übersichtsblatt!$B$64:$E$68,2,FALSE)),\"\")","v":""},0,-4.5,null,2023,"2023-06-13",{"$f":"IFERROR(IF(VLOOKUP($H166,Übersichtsblatt!$B$14:$E$24,2,FALSE)=0,\"\",VLOOKUP(H166,Übersichtsblatt!$B$14:$E$24,2,FALSE)),\"\")","v":""},0,4.5]
[2023,"2023-06-14",{"$f":"IFERROR(IF(VLOOKUP($B167,Übersichtsblatt!$B$64:$E$68,2,FALSE)=0,\"\",VLOOKUP($B167,Übersichtsblatt!$B$64:$E$68,2,FALSE)),\"\")","v":""},0,-4.5,null,2023,"2023-06-14",{"$f":"IFERROR(IF(VLOOKUP($H167,Übersichtsblatt!$B$14:$E$24,2,FALSE)=0,\"\",VLOOKUP(H167,Übersichtsblatt!$B$14:$E$24,2,FALSE)),\"\")","v":""},0,4.5]
[2023,"2023-06-15",{"$f":"IFERROR(IF(VLOOKUP($B168,Übersichtsblatt!$B$64:$E$68,2,FALSE)=0,\"\",VLOOKUP($B168,Übersichtsblatt!$B$64:$E$68,2,FALSE)),\"\")","v":""},0,-4.5,null,2023,"2023-06-15",{"$f":"IFERROR(IF(VLOOKUP($H168,Übersichtsblatt!$B$14:$E$24,2,FALSE)=0,\"\",VLOOKUP(H168,Übersichtsblatt!$B$14:$E$24,2,FALSE)),\"\")","v":""},0,4.5]
[2023,"2023-06-16",{"$f":"IFERROR(IF(VLOOKUP($B169,Übersichtsblatt!$B$64:$E$68,2,FALSE)=0,\"\",VLOOKUP($B169,Übersichtsblatt!$B$64:$E$68,2,FALSE)),\"\")","v":""},0,-4.5,null,2023,"2023-06-16",{"$f":"IFERROR(IF(VLOOKUP($H169,Übersichtsblatt!$B$14:$E$24,2,FALSE)=0,\"\",VLOOKUP(H169,Übersichtsblatt!$B$14:$E$24,2,FALSE)),\"\")","v":""},0,4.5]
[2023,"2023-06-17",{"$f":"IFERROR(IF(VLOOKUP($B170,Übersichtsblatt!$B$64:$E$68,2,FALSE)=0,\"\",VLOOKUP($B170,Übersichtsblatt!$B$64:$E$68,2,FALSE)),\"\")","v":""},0,-4.5,null,2023,"2023-06-17",{"$f":"IFERROR(IF(VLOOKUP($H170,Übersichtsblatt!$B$14:$E$24,2,FALSE)=0,\"\",VLOOKUP(H170,Übersichtsblatt!$B$14:$E$24,2,FALSE)),\"\")","v":""},0,4.5]
[2023,"2023-06-18",{"$f":"IFERROR(IF(VLOOKUP($B171,Übersichtsblatt!$B$64:$E$68,2,FALSE)=0,\"\",VLOOKUP($B171,Übersichtsblatt!$B$64:$E$68,2,FALSE)),\"\")","v":""},0,-4.5,null,2023,"2023-06-18",{"$f":"IFERROR(IF(VLOOKUP($H171,Übersichtsblatt!$B$14:$E$24,2,FALSE)=0,\"\",VLOOKUP(H171,Übersichtsblatt!$B$14:$E$24,2,FALSE)),\"\")","v":""},0,4.5]
[2023,"2023-06-19",{"$f":"IFERROR(IF(VLOOKUP($B172,Übersichtsblatt!$B$64:$E$68,2,FALSE)=0,\"\",VLOOKUP($B172,Übersichtsblatt!$B$64:$E$68,2,FALSE)),\"\")","v":""},0,-4.5,null,2023,"2023-06-19",{"$f":"IFERROR(IF(VLOOKUP($H172,Übersichtsblatt!$B$14:$E$24,2,FALSE)=0,\"\",VLOOKUP(H172,Übersichtsblatt!$B$14:$E$24,2,FALSE)),\"\")","v":""},0,4.5]
[2023,"2023-06-20",{"$f":"IFERROR(IF(VLOOKUP($B173,Übersichtsblatt!$B$64:$E$68,2,FALSE)=0,\"\",VLOOKUP($B173,Übersichtsblatt!$B$64:$E$68,2,FALSE)),\"\")","v":""},0,-4.5,null,2023,"2023-06-20",{"$f":"IFERROR(IF(VLOOKUP($H173,Übersichtsblatt!$B$14:$E$24,2,FALSE)=0,\"\",VLOOKUP(H173,Übersichtsblatt!$B$14:$E$24,2,FALSE)),\"\")","v":""},0,4.5]
[2023,"2023-06-21",{"$f":"IFERROR(IF(VLOOKUP($B174,Übersichtsblatt!$B$64:$E$68,2,FALSE)=0,\"\",VLOOKUP($B174,Übersichtsblatt!$B$64:$E$68,2,FALSE)),\"\")","v":""},0,-4.5,null,2023,"2023-06-21",{"$f":"IFERROR(IF(VLOOKUP($H174,Übersichtsblatt!$B$14:$E$24,2,FALSE)=0,\"\",VLOOKUP(H174,Übersichtsblatt!$B$14:$E$24,2,FALSE)),\"\")","v":""},0,4.5]
[2023,"2023-06-22",{"$f":"IFERROR(IF(VLOOKUP($B175,Übersichtsblatt!$B$64:$E$68,2,FALSE)=0,\"\",VLOOKUP($B175,Übersichtsblatt!$B$64:$E$68,2,FALSE)),\"\")","v":""},0,-4.5,null,2023,"2023-06-22",{"$f":"IFERROR(IF(VLOOKUP($H175,Übersichtsblatt!$B$14:$E$24,2,FALSE)=0,\"\",VLOOKUP(H175,Übersichtsblatt!$B$14:$E$24,2,FALSE)),\"\")","v":""},0,4.5]
[2023,"2023-06-23",{"$f":"IFERROR(IF(VLOOKUP($B176,Übersichtsblatt!$B$64:$E$68,2,FALSE)=0,\"\",VLOOKUP($B176,Übersichtsblatt!$B$64:$E$68,2,FALSE)),\"\")","v":""},0,-4.5,null,2023,"2023-06-23",{"$f":"IFERROR(IF(VLOOKUP($H176,Übersichtsblatt!$B$14:$E$24,2,FALSE)=0,\"\",VLOOKUP(H176,Übersichtsblatt!$B$14:$E$24,2,FALSE)),\"\")","v":""},0,4.5]
[2023,"2023-06-24",{"$f":"IFERROR(IF(VLOOKUP($B177,Übersichtsblatt!$B$64:$E$68,2,FALSE)=0,\"\",VLOOKUP($B177,Übersichtsblatt!$B$64:$E$68,2,FALSE)),\"\")","v":""},0,-4.5,null,2023,"2023-06-24",{"$f":"IFERROR(IF(VLOOKUP($H177,Übersichtsblatt!$B$14:$E$24,2,FALSE)=0,\"\",VLOOKUP(H177,Übersichtsblatt!$B$14:$E$24,2,FALSE)),\"\")","v":""},0,4.5]
[2023,"2023-06-25",{"$f":"IFERROR(IF(VLOOKUP($B178,Übersichtsblatt!$B$64:$E$68,2,FALSE)=0,\"\",VLOOKUP($B178,Übersichtsblatt!$B$64:$E$68,2,FALSE)),\"\")","v":""},0,-4.5,null,2023,"2023-06-25",{"$f":"IFERROR(IF(VLOOKUP($H178,Übersichtsblatt!$B$14:$E$24,2,FALSE)=0,\"\",VLOOKUP(H178,Übersichtsblatt!$B$14:$E$24,2,FALSE)),\"\")","v":""},0,4.5]
[2023,"2023-06-26",{"$f":"IFERROR(IF(VLOOKUP($B179,Übersichtsblatt!$B$64:$E$68,2,FALSE)=0,\"\",VLOOKUP($B179,Übersichtsblatt!$B$64:$E$68,2,FALSE)),\"\")","v":""},0,-4.5,null,2023,"2023-06-26",{"$f":"IFERROR(IF(VLOOKUP($H179,Übersichtsblatt!$B$14:$E$24,2,FALSE)=0,\"\",VLOOKUP(H179,Übersichtsblatt!$B$14:$E$24,2,FALSE)),\"\")","v":""},0,4.5]
[2023,"2023-06-27",{"$f":"IFERROR(IF(VLOOKUP($B180,Übersichtsblatt!$B$64:$E$68,2,FALSE)=0,\"\",VLOOKUP($B180,Übersichtsblatt!$B$64:$E$68,2,FALSE)),\"\")","v":""},0,-4.5,null,2023,"2023-06-27",{"$f":"IFERROR(IF(VLOOKUP($H180,Übersichtsblatt!$B$14:$E$24,2,FALSE)=0,\"\",VLOOKUP(H180,Übersichtsblatt!$B$14:$E$24,2,FALSE)),\"\")","v":""},0,4.5]
[2023,"2023-06-28",{"$f":"IFERROR(IF(VLOOKUP($B181,Übersichtsblatt!$B$64:$E$68,2,FALSE)=0,\"\",VLOOKUP($B181,Übersichtsblatt!$B$64:$E$68,2,FALSE)),\"\")","v":""},0,-4.5,null,2023,"2023-06-28",{"$f":"IFERROR(IF(VLOOKUP($H181,Übersichtsblatt!$B$14:$E$24,2,FALSE)=0,\"\",VLOOKUP(H181,Übersichtsblatt!$B$14:$E$24,2,FALSE)),\"\")","v":""},0,4.5]
[2023,"2023-06-29",{"$f":"IFERROR(IF(VLOOKUP($B182,Übersichtsblatt!$B$64:$E$68,2,FALSE)=0,\"\",VLOOKUP($B182,Übersichtsblatt!$B$64:$E$68,2,FALSE)),\"\")","v":""},0,-4.5,null,2023,"2023-06-29",{"$f":"IFERROR(IF(VLOOKUP($H182,Übersichtsblatt!$B$14:$E$24,2,FALSE)=0,\"\",VLOOKUP(H182,Übersichtsblatt!$B$14:$E$24,2,FALSE)),\"\")","v":""},0,4.5]
[2023,"2023-06-30",{"$f":"IFERROR(IF(VLOOKUP($B183,Übersichtsblatt!$B$64:$E$68,2,FALSE)=0,\"\",VLOOKUP($B183,Übersichtsblatt!$B$64:$E$68,2,FALSE)),\"\")","v":""},0,-4.5,null,2023,"2023-06-30",{"$f":"IFERROR(IF(VLOOKUP($H183,Übersichtsblatt!$B$14:$E$24,2,FALSE)=0,\"\",VLOOKUP(H183,Übersichtsblatt!$B$14:$E$24,2,FALSE)),\"\")","v":""},0,4.5]
[2023,"2023-07-01",{"$f":"IFERROR(IF(VLOOKUP($B184,Übersichtsblatt!$B$64:$E$68,2,FALSE)=0,\"\",VLOOKUP($B184,Übersichtsblatt!$B$64:$E$68,2,FALSE)),\"\")","v":""},0,-8.5,null,2023,"2023-07-01",{"$f":"IFERROR(IF(VLOOKUP($H184,Übersichtsblatt!$B$14:$E$24,2,FALSE)=0,\"\",VLOOKUP(H184,Übersichtsblatt!$B$14:$E$24,2,FALSE)),\"\")","v":""},0,8.5]
[2023,"2023-07-02",{"$f":"IFERROR(IF(VLOOKUP($B185,Übersichtsblatt!$B$64:$E$68,2,FALSE)=0,\"\",VLOOKUP($B185,Übersichtsblatt!$B$64:$E$68,2,FALSE)),\"\")","v":""},0,-8.5,null,2023,"2023-07-02",{"$f":"IFERROR(IF(VLOOKUP($H185,Übersichtsblatt!$B$14:$E$24,2,FALSE)=0,\"\",VLOOKUP(H185,Übersichtsblatt!$B$14:$E$24,2,FALSE)),\"\")","v":""},0,8.5]
[2023,"2023-07-03",{"$f":"IFERROR(IF(VLOOKUP($B186,Übersichtsblatt!$B$64:$E$68,2,FALSE)=0,\"\",VLOOKUP($B186,Übersichtsblatt!$B$64:$E$68,2,FALSE)),\"\")","v":""},0,-8.5,null,2023,"2023-07-03",{"$f":"IFERROR(IF(VLOOKUP($H186,Übersichtsblatt!$B$14:$E$24,2,FALSE)=0,\"\",VLOOKUP(H186,Übersichtsblatt!$B$14:$E$24,2,FALSE)),\"\")","v":""},0,8.5]
[2023,"2023-07-04",{"$f":"IFERROR(IF(VLOOKUP($B187,Übersichtsblatt!$B$64:$E$68,2,FALSE)=0,\"\",VLOOKUP($B187,Übersichtsblatt!$B$64:$E$68,2,FALSE)),\"\")","v":""},0,-8.5,null,2023,"2023-07-04",{"$f":"IFERROR(IF(VLOOKUP($H187,Übersichtsblatt!$B$14:$E$24,2,FALSE)=0,\"\",VLOOKUP(H187,Übersichtsblatt!$B$14:$E$24,2,FALSE)),\"\")","v":""},0,8.5]
[2023,"2023-07-05",{"$f":"IFERROR(IF(VLOOKUP($B188,Übersichtsblatt!$B$64:$E$68,2,FALSE)=0,\"\",VLOOKUP($B188,Übersichtsblatt!$B$64:$E$68,2,FALSE)),\"\")","v":""},0,-8.5,null,2023,"2023-07-05",{"$f":"IFERROR(IF(VLOOKUP($H188,Übersichtsblatt!$B$14:$E$24,2,FALSE)=0,\"\",VLOOKUP(H188,Übersichtsblatt!$B$14:$E$24,2,FALSE)),\"\")","v":""},0,8.5]
[2023,"2023-07-06",{"$f":"IFERROR(IF(VLOOKUP($B189,Übersichtsblatt!$B$64:$E$68,2,FALSE)=0,\"\",VLOOKUP($B189,Übersichtsblatt!$B$64:$E$68,2,FALSE)),\"\")","v":""},0,-8.5,null,2023,"2023-07-06",{"$f":"IFERROR(IF(VLOOKUP($H189,Übersichtsblatt!$B$14:$E$24,2,FALSE)=0,\"\",VLOOKUP(H189,Übersichtsblatt!$B$14:$E$24,2,FALSE)),\"\")","v":""},0,8.5]
[2023,"2023-07-07",{"$f":"IFERROR(IF(VLOOKUP($B190,Übersichtsblatt!$B$64:$E$68,2,FALSE)=0,\"\",VLOOKUP($B190,Übersichtsblatt!$B$64:$E$68,2,FALSE)),\"\")","v":""},0,-8.5,null,2023,"2023-07-07",{"$f":"IFERROR(IF(VLOOKUP($H190,Übersichtsblatt!$B$14:$E$24,2,FALSE)=0,\"\",VLOOKUP(H190,Übersichtsblatt!$B$14:$E$24,2,FALSE)),\"\")","v":""},0,8.5]
[2023,"2023-07-08",{"$f":"IFERROR(IF(VLOOKUP($B191,Übersichtsblatt!$B$64:$E$68,2,FALSE)=0,\"\",VLOOKUP($B191,Übersichtsblatt!$B$64:$E$68,2,FALSE)),\"\")","v":""},0,-8.5,null,2023,"2023-07-08",{"$f":"IFERROR(IF(VLOOKUP($H191,Übersichtsblatt!$B$14:$E$24,2,FALSE)=0,\"\",VLOOKUP(H191,Übersichtsblatt!$B$14:$E$24,2,FALSE)),\"\")","v":""},0,8.5]
[2023,"2023-07-09",{"$f":"IFERROR(IF(VLOOKUP($B192,Übersichtsblatt!$B$64:$E$68,2,FALSE)=0,\"\",VLOOKUP($B192,Übersichtsblatt!$B$64:$E$68,2,FALSE)),\"\")","v":""},0,-8.5,null,2023,"2023-07-09",{"$f":"IFERROR(IF(VLOOKUP($H192,Übersichtsblatt!$B$14:$E$24,2,FALSE)=0,\"\",VLOOKUP(H192,Übersichtsblatt!$B$14:$E$24,2,FALSE)),\"\")","v":""},0,8.5]
[2023,"2023-07-10",{"$f":"IFERROR(IF(VLOOKUP($B193,Übersichtsblatt!$B$64:$E$68,2,FALSE)=0,\"\",VLOOKUP($B193,Übersichtsblatt!$B$64:$E$68,2,FALSE)),\"\")","v":""},0,-8.5,null,2023,"2023-07-10",{"$f":"IFERROR(IF(VLOOKUP($H193,Übersichtsblatt!$B$14:$E$24,2,FALSE)=0,\"\",VLOOKUP(H193,Übersichtsblatt!$B$14:$E$24,2,FALSE)),\"\")","v":""},0,8.5]
[2023,"2023-07-11",{"$f":"IFERROR(IF(VLOOKUP($B194,Übersichtsblatt!$B$64:$E$68,2,FALSE)=0,\"\",VLOOKUP($B194,Übersichtsblatt!$B$64:$E$68,2,FALSE)),\"\")","v":""},0,-8.5,null,2023,"2023-07-11",{"$f":"IFERROR(IF(VLOOKUP($H194,Übersichtsblatt!$B$14:$E$24,2,FALSE)=0,\"\",VLOOKUP(H194,Übersichtsblatt!$B$14:$E$24,2,FALSE)),\"\")","v":""},0,8.5]
[2023,"2023-07-12",{"$f":"IFERROR(IF(VLOOKUP($B195,Übersichtsblatt!$B$64:$E$68,2,FALSE)=0,\"\",VLOOKUP($B195,Übersichtsblatt!$B$64:$E$68,2,FALSE)),\"\")","v":""},0,-8.5,null,2023,"2023-07-12",{"$f":"IFERROR(IF(VLOOKUP($H195,Übersichtsblatt!$B$14:$E$24,2,FALSE)=0,\"\",VLOOKUP(H195,Übersichtsblatt!$B$14:$E$24,2,FALSE)),\"\")","v":""},0,8.5]
[2023,"2023-07-13",{"$f":"IFERROR(IF(VLOOKUP($B196,Übersichtsblatt!$B$64:$E$68,2,FALSE)=0,\"\",VLOOKUP($B196,Übersichtsblatt!$B$64:$E$68,2,FALSE)),\"\")","v":""},{"$f":"IF($C196=\"\",0,$E196)","v":0},-8.5,null,2023,"2023-07-13",{"$f":"IFERROR(IF(VLOOKUP($H196,Übersichtsblatt!$B$14:$E$24,2,FALSE)=0,\"\",VLOOKUP(H196,Übersichtsblatt!$B$14:$E$24,2,FALSE)),\"\")","v":""},{"$f":"IF($I196=\"\",0,$K196)","v":0},8.5]
[{"$f":"YEAR(B197)","v":2023},{"$f":"B196+1","v":"2023-07-14"},{"$f":"IFERROR(IF(VLOOKUP($B197,Übersichtsblatt!$B$64:$E$68,2,FALSE)=0,\"\",VLOOKUP($B197,Übersichtsblatt!$B$64:$E$68,2,FALSE)),\"\")","v":""},0,-8.5,null,{"$f":"YEAR(H197)","v":2023},{"$f":"H196+1","v":"2023-07-14"},{"$f":"IFERROR(IF(VLOOKUP($H197,Übersichtsblatt!$B$14:$E$24,2,FALSE)=0,\"\",VLOOKUP(H197,Übersichtsblatt!$B$14:$E$24,2,FALSE)),\"\")","v":""},0,8.5]
[2023,"2023-07-15",{"$f":"IFERROR(IF(VLOOKUP($B198,Übersichtsblatt!$B$64:$E$68,2,FALSE)=0,\"\",VLOOKUP($B198,Übersichtsblatt!$B$64:$E$68,2,FALSE)),\"\")","v":""},0,-8.5,null,2023,"2023-07-15",{"$f":"IFERROR(IF(VLOOKUP($H198,Übersichtsblatt!$B$14:$E$24,2,FALSE)=0,\"\",VLOOKUP(H198,Übersichtsblatt!$B$14:$E$24,2,FALSE)),\"\")","v":""},0,8.5]
[2023,"2023-07-16",{"$f":"IFERROR(IF(VLOOKUP($B199,Übersichtsblatt!$B$64:$E$68,2,FALSE)=0,\"\",VLOOKUP($B199,Übersichtsblatt!$B$64:$E$68,2,FALSE)),\"\")","v":""},0,-8.5,null,2023,"2023-07-16",{"$f":"IFERROR(IF(VLOOKUP($H199,Übersichtsblatt!$B$14:$E$24,2,FALSE)=0,\"\",VLOOKUP(H199,Übersichtsblatt!$B$14:$E$24,2,FALSE)),\"\")","v":""},0,8.5]
[2023,"2023-07-17",{"$f":"IFERROR(IF(VLOOKUP($B200,Übersichtsblatt!$B$64:$E$68,2,FALSE)=0,\"\",VLOOKUP($B200,Übersichtsblatt!$B$64:$E$68,2,FALSE)),\"\")","v":""},0,-8.5,null,2023,"2023-07-17",{"$f":"IFERROR(IF(VLOOKUP($H200,Übersichtsblatt!$B$14:$E$24,2,FALSE)=0,\"\",VLOOKUP(H200,Übersichtsblatt!$B$14:$E$24,2,FALSE)),\"\")","v":""},0,8.5]
[2023,"2023-07-18",{"$f":"IFERROR(IF(VLOOKUP($B201,Übersichtsblatt!$B$64:$E$68,2,FALSE)=0,\"\",VLOOKUP($B201,Übersichtsblatt!$B$64:$E$68,2,FALSE)),\"\")","v":""},0,-8.5,null,2023,"2023-07-18",{"$f":"IFERROR(IF(VLOOKUP($H201,Übersichtsblatt!$B$14:$E$24,2,FALSE)=0,\"\",VLOOKUP(H201,Übersichtsblatt!$B$14:$E$24,2,FALSE)),\"\")","v":""},0,8.5]
[2023,"2023-07-19",{"$f":"IFERROR(IF(VLOOKUP($B202,Übersichtsblatt!$B$64:$E$68,2,FALSE)=0,\"\",VLOOKUP($B202,Übersichtsblatt!$B$64:$E$68,2,FALSE)),\"\")","v":""},0,-8.5,null,2023,"2023-07-19",{"$f":"IFERROR(IF(VLOOKUP($H202,Übersichtsblatt!$B$14:$E$24,2,FALSE)=0,\"\",VLOOKUP(H202,Übersichtsblatt!$B$14:$E$24,2,FALSE)),\"\")","v":""},0,8.5]
[2023,"2023-07-20",{"$f":"IFERROR(IF(VLOOKUP($B203,Übersichtsblatt!$B$64:$E$68,2,FALSE)=0,\"\",VLOOKUP($B203,Übersichtsblatt!$B$64:$E$68,2,FALSE)),\"\")","v":""},0,-8.5,null,2023,"2023-07-20",{"$f":"IFERROR(IF(VLOOKUP($H203,Übersichtsblatt!$B$14:$E$24,2,FALSE)=0,\"\",VLOOKUP(H203,Übersichtsblatt!$B$14:$E$24,2,FALSE)),\"\")","v":""},0,8.5]
[2023,"2023-07-21",{"$f":"IFERROR(IF(VLOOKUP($B204,Übersichtsblatt!$B$64:$E$68,2,FALSE)=0,\"\",VLOOKUP($B204,Übersichtsblatt!$B$64:$E$68,2,FALSE)),\"\")","v":""},0,-8.5,null,2023,"2023-07-21",{"$f":"IFERROR(IF(VLOOKUP($H204,Übersichtsblatt!$B$14:$E$24,2,FALSE)=0,\"\",VLOOKUP(H204,Übersichtsblatt!$B$14:$E$24,2,FALSE)),\"\")","v":""},0,8.5]
[2023,"2023-07-22",{"$f":"IFERROR(IF(VLOOKUP($B205,Übersichtsblatt!$B$64:$E$68,2,FALSE)=0,\"\",VLOOKUP($B205,Übersichtsblatt!$B$64:$E$68,2,FALSE)),\"\")","v":""},0,-8.5,null,2023,"2023-07-22",{"$f":"IFERROR(IF(VLOOKUP($H205,Übersichtsblatt!$B$14:$E$24,2,FALSE)=0,\"\",VLOOKUP(H205,Übersichtsblatt!$B$14:$E$24,2,FALSE)),\"\")","v":""},0,8.5]
[2023,"2023-07-23",{"$f":"IFERROR(IF(VLOOKUP($B206,Übersichtsblatt!$B$64:$E$68,2,FALSE)=0,\"\",VLOOKUP($B206,Übersichtsblatt!$B$64:$E$68,2,FALSE)),\"\")","v":""},0,-8.5,null,2023,"2023-07-23",{"$f":"IFERROR(IF(VLOOKUP($H206,Übersichtsblatt!$B$14:$E$24,2,FALSE)=0,\"\",VLOOKUP(H206,Übersichtsblatt!$B$14:$E$24,2,FALSE)),\"\")","v":""},0,8.5]
[2023,"2023-07-24",{"$f":"IFERROR(IF(VLOOKUP($B207,Übersichtsblatt!$B$64:$E$68,2,FALSE)=0,\"\",VLOOKUP($B207,Übersichtsblatt!$B$64:$E$68,2,FALSE)),\"\")","v":""},0,-8.5,null,2023,"2023-07-24",{"$f":"IFERROR(IF(VLOOKUP($H207,Übersichtsblatt!$B$14:$E$24,2,FALSE)=0,\"\",VLOOKUP(H207,Übersichtsblatt!$B$14:$E$24,2,FALSE)),\"\")","v":""},0,8.5]
[2023,"2023-07-25",{"$f":"IFERROR(IF(VLOOKUP($B208,Übersichtsblatt!$B$64:$E$68,2,FALSE)=0,\"\",VLOOKUP($B208,Übersichtsblatt!$B$64:$E$68,2,FALSE)),\"\")","v":""},0,-8.5,null,2023,"2023-07-25",{"$f":"IFERROR(IF(VLOOKUP($H208,Übersichtsblatt!$B$14:$E$24,2,FALSE)=0,\"\",VLOOKUP(H208,Übersichtsblatt!$B$14:$E$24,2,FALSE)),\"\")","v":""},0,8.5]
[2023,"2023-07-26",{"$f":"IFERROR(IF(VLOOKUP($B209,Übersichtsblatt!$B$64:$E$68,2,FALSE)=0,\"\",VLOOKUP($B209,Übersichtsblatt!$B$64:$E$68,2,FALSE)),\"\")","v":""},0,-8.5,null,2023,"2023-07-26",{"$f":"IFERROR(IF(VLOOKUP($H209,Übersichtsblatt!$B$14:$E$24,2,FALSE)=0,\"\",VLOOKUP(H209,Übersichtsblatt!$B$14:$E$24,2,FALSE)),\"\")","v":""},0,8.5]
[2023,"2023-07-27",{"$f":"IFERROR(IF(VLOOKUP($B210,Übersichtsblatt!$B$64:$E$68,2,FALSE)=0,\"\",VLOOKUP($B210,Übersichtsblatt!$B$64:$E$68,2,FALSE)),\"\")","v":""},0,-8.5,null,2023,"2023-07-27",{"$f":"IFERROR(IF(VLOOKUP($H210,Übersichtsblatt!$B$14:$E$24,2,FALSE)=0,\"\",VLOOKUP(H210,Übersichtsblatt!$B$14:$E$24,2,FALSE)),\"\")","v":""},0,8.5]
[2023,"2023-07-28",{"$f":"IFERROR(IF(VLOOKUP($B211,Übersichtsblatt!$B$64:$E$68,2,FALSE)=0,\"\",VLOOKUP($B211,Übersichtsblatt!$B$64:$E$68,2,FALSE)),\"\")","v":""},0,-8.5,null,2023,"2023-07-28",{"$f":"IFERROR(IF(VLOOKUP($H211,Übersichtsblatt!$B$14:$E$24,2,FALSE)=0,\"\",VLOOKUP(H211,Übersichtsblatt!$B$14:$E$24,2,FALSE)),\"\")","v":""},0,8.5]
[2023,"2023-07-29",{"$f":"IFERROR(IF(VLOOKUP($B212,Übersichtsblatt!$B$64:$E$68,2,FALSE)=0,\"\",VLOOKUP($B212,Übersichtsblatt!$B$64:$E$68,2,FALSE)),\"\")","v":""},0,-8.5,null,2023,"2023-07-29",{"$f":"IFERROR(IF(VLOOKUP($H212,Übersichtsblatt!$B$14:$E$24,2,FALSE)=0,\"\",VLOOKUP(H212,Übersichtsblatt!$B$14:$E$24,2,FALSE)),\"\")","v":""},0,8.5]
[2023,"2023-07-30",{"$f":"IFERROR(IF(VLOOKUP($B213,Übersichtsblatt!$B$64:$E$68,2,FALSE)=0,\"\",VLOOKUP($B213,Übersichtsblatt!$B$64:$E$68,2,FALSE)),\"\")","v":""},0,-8.5,null,2023,"2023-07-30",{"$f":"IFERROR(IF(VLOOKUP($H213,Übersichtsblatt!$B$14:$E$24,2,FALSE)=0,\"\",VLOOKUP(H213,Übersichtsblatt!$B$14:$E$24,2,FALSE)),\"\")","v":""},0,8.5]
[2023,"2023-07-31",{"$f":"IFERROR(IF(VLOOKUP($B214,Übersichtsblatt!$B$64:$E$68,2,FALSE)=0,\"\",VLOOKUP($B214,Übersichtsblatt!$B$64:$E$68,2,FALSE)),\"\")","v":""},0,-8.5,null,2023,"2023-07-31",{"$f":"IFERROR(IF(VLOOKUP($H214,Übersichtsblatt!$B$14:$E$24,2,FALSE)=0,\"\",VLOOKUP(H214,Übersichtsblatt!$B$14:$E$24,2,FALSE)),\"\")","v":""},0,8.5]
[2023,"2023-08-01",{"$f":"IFERROR(IF(VLOOKUP($B215,Übersichtsblatt!$B$64:$E$68,2,FALSE)=0,\"\",VLOOKUP($B215,Übersichtsblatt!$B$64:$E$68,2,FALSE)),\"\")","v":""},0,-5.5,null,2023,"2023-08-01",{"$f":"IFERROR(IF(VLOOKUP($H215,Übersichtsblatt!$B$14:$E$24,2,FALSE)=0,\"\",VLOOKUP(H215,Übersichtsblatt!$B$14:$E$24,2,FALSE)),\"\")","v":""},0,5.5]
[2023,"2023-08-02",{"$f":"IFERROR(IF(VLOOKUP($B216,Übersichtsblatt!$B$64:$E$68,2,FALSE)=0,\"\",VLOOKUP($B216,Übersichtsblatt!$B$64:$E$68,2,FALSE)),\"\")","v":""},0,-5.5,null,2023,"2023-08-02",{"$f":"IFERROR(IF(VLOOKUP($H216,Übersichtsblatt!$B$14:$E$24,2,FALSE)=0,\"\",VLOOKUP(H216,Übersichtsblatt!$B$14:$E$24,2,FALSE)),\"\")","v":""},0,5.5]
[2023,"2023-08-03",{"$f":"IFERROR(IF(VLOOKUP($B217,Übersichtsblatt!$B$64:$E$68,2,FALSE)=0,\"\",VLOOKUP($B217,Übersichtsblatt!$B$64:$E$68,2,FALSE)),\"\")","v":""},0,-5.5,null,2023,"2023-08-03",{"$f":"IFERROR(IF(VLOOKUP($H217,Übersichtsblatt!$B$14:$E$24,2,FALSE)=0,\"\",VLOOKUP(H217,Übersichtsblatt!$B$14:$E$24,2,FALSE)),\"\")","v":""},0,5.5]
[2023,"2023-08-04",{"$f":"IFERROR(IF(VLOOKUP($B218,Übersichtsblatt!$B$64:$E$68,2,FALSE)=0,\"\",VLOOKUP($B218,Übersichtsblatt!$B$64:$E$68,2,FALSE)),\"\")","v":""},0,-5.5,null,2023,"2023-08-04",{"$f":"IFERROR(IF(VLOOKUP($H218,Übersichtsblatt!$B$14:$E$24,2,FALSE)=0,\"\",VLOOKUP(H218,Übersichtsblatt!$B$14:$E$24,2,FALSE)),\"\")","v":""},0,5.5]
[2023,"2023-08-05",{"$f":"IFERROR(IF(VLOOKUP($B219,Übersichtsblatt!$B$64:$E$68,2,FALSE)=0,\"\",VLOOKUP($B219,Übersichtsblatt!$B$64:$E$68,2,FALSE)),\"\")","v":""},0,-5.5,null,2023,"2023-08-05",{"$f":"IFERROR(IF(VLOOKUP($H219,Übersichtsblatt!$B$14:$E$24,2,FALSE)=0,\"\",VLOOKUP(H219,Übersichtsblatt!$B$14:$E$24,2,FALSE)),\"\")","v":""},0,5.5]
[2023,"2023-08-06",{"$f":"IFERROR(IF(VLOOKUP($B220,Übersichtsblatt!$B$64:$E$68,2,FALSE)=0,\"\",VLOOKUP($B220,Übersichtsblatt!$B$64:$E$68,2,FALSE)),\"\")","v":""},0,-5.5,null,2023,"2023-08-06",{"$f":"IFERROR(IF(VLOOKUP($H220,Übersichtsblatt!$B$14:$E$24,2,FALSE)=0,\"\",VLOOKUP(H220,Übersichtsblatt!$B$14:$E$24,2,FALSE)),\"\")","v":""},0,5.5]
[2023,"2023-08-07",{"$f":"IFERROR(IF(VLOOKUP($B221,Übersichtsblatt!$B$64:$E$68,2,FALSE)=0,\"\",VLOOKUP($B221,Übersichtsblatt!$B$64:$E$68,2,FALSE)),\"\")","v":""},0,-5.5,null,2023,"2023-08-07",{"$f":"IFERROR(IF(VLOOKUP($H221,Übersichtsblatt!$B$14:$E$24,2,FALSE)=0,\"\",VLOOKUP(H221,Übersichtsblatt!$B$14:$E$24,2,FALSE)),\"\")","v":""},0,5.5]
[2023,"2023-08-08",{"$f":"IFERROR(IF(VLOOKUP($B222,Übersichtsblatt!$B$64:$E$68,2,FALSE)=0,\"\",VLOOKUP($B222,Übersichtsblatt!$B$64:$E$68,2,FALSE)),\"\")","v":""},0,-5.5,null,2023,"2023-08-08",{"$f":"IFERROR(IF(VLOOKUP($H222,Übersichtsblatt!$B$14:$E$24,2,FALSE)=0,\"\",VLOOKUP(H222,Übersichtsblatt!$B$14:$E$24,2,FALSE)),\"\")","v":""},0,5.5]
[2023,"2023-08-09",{"$f":"IFERROR(IF(VLOOKUP($B223,Übersichtsblatt!$B$64:$E$68,2,FALSE)=0,\"\",VLOOKUP($B223,Übersichtsblatt!$B$64:$E$68,2,FALSE)),\"\")","v":""},0,-5.5,null,2023,"2023-08-09",{"$f":"IFERROR(IF(VLOOKUP($H223,Übersichtsblatt!$B$14:$E$24,2,FALSE)=0,\"\",VLOOKUP(H223,Übersichtsblatt!$B$14:$E$24,2,FALSE)),\"\")","v":""},0,5.5]
[2023,"2023-08-10",{"$f":"IFERROR(IF(VLOOKUP($B224,Übersichtsblatt!$B$64:$E$68,2,FALSE)=0,\"\",VLOOKUP($B224,Übersichtsblatt!$B$64:$E$68,2,FALSE)),\"\")","v":""},0,-5.5,null,2023,"2023-08-10",{"$f":"IFERROR(IF(VLOOKUP($H224,Übersichtsblatt!$B$14:$E$24,2,FALSE)=0,\"\",VLOOKUP(H224,Übersichtsblatt!$B$14:$E$24,2,FALSE)),\"\")","v":""},0,5.5]
[2023,"2023-08-11",{"$f":"IFERROR(IF(VLOOKUP($B225,Übersichtsblatt!$B$64:$E$68,2,FALSE)=0,\"\",VLOOKUP($B225,Übersichtsblatt!$B$64:$E$68,2,FALSE)),\"\")","v":""},0,-5.5,null,2023,"2023-08-11",{"$f":"IFERROR(IF(VLOOKUP($H225,Übersichtsblatt!$B$14:$E$24,2,FALSE)=0,\"\",VLOOKUP(H225,Übersichtsblatt!$B$14:$E$24,2,FALSE)),\"\")","v":""},0,5.5]
[2023,"2023-08-12",{"$f":"IFERROR(IF(VLOOKUP($B226,Übersichtsblatt!$B$64:$E$68,2,FALSE)=0,\"\",VLOOKUP($B226,Übersichtsblatt!$B$64:$E$68,2,FALSE)),\"\")","v":""},0,-5.5,null,2023,"2023-08-12",{"$f":"IFERROR(IF(VLOOKUP($H226,Übersichtsblatt!$B$14:$E$24,2,FALSE)=0,\"\",VLOOKUP(H226,Übersichtsblatt!$B$14:$E$24,2,FALSE)),\"\")","v":""},0,5.5]
[2023,"2023-08-13",{"$f":"IFERROR(IF(VLOOKUP($B227,Übersichtsblatt!$B$64:$E$68,2,FALSE)=0,\"\",VLOOKUP($B227,Übersichtsblatt!$B$64:$E$68,2,FALSE)),\"\")","v":""},0,-5.5,null,2023,"2023-08-13",{"$f":"IFERROR(IF(VLOOKUP($H227,Übersichtsblatt!$B$14:$E$24,2,FALSE)=0,\"\",VLOOKUP(H227,Übersichtsblatt!$B$14:$E$24,2,FALSE)),\"\")","v":""},0,5.5]
[2023,"2023-08-14",{"$f":"IFERROR(IF(VLOOKUP($B228,Übersichtsblatt!$B$64:$E$68,2,FALSE)=0,\"\",VLOOKUP($B228,Übersichtsblatt!$B$64:$E$68,2,FALSE)),\"\")","v":""},0,-5.5,null,2023,"2023-08-14",{"$f":"IFERROR(IF(VLOOKUP($H228,Übersichtsblatt!$B$14:$E$24,2,FALSE)=0,\"\",VLOOKUP(H228,Übersichtsblatt!$B$14:$E$24,2,FALSE)),\"\")","v":""},0,5.5]
[2023,"2023-08-15",{"$f":"IFERROR(IF(VLOOKUP($B229,Übersichtsblatt!$B$64:$E$68,2,FALSE)=0,\"\",VLOOKUP($B229,Übersichtsblatt!$B$64:$E$68,2,FALSE)),\"\")","v":""},0,-5.5,null,2023,"2023-08-15",{"$f":"IFERROR(IF(VLOOKUP($H229,Übersichtsblatt!$B$14:$E$24,2,FALSE)=0,\"\",VLOOKUP(H229,Übersichtsblatt!$B$14:$E$24,2,FALSE)),\"\")","v":""},0,5.5]
[2023,"2023-08-16",{"$f":"IFERROR(IF(VLOOKUP($B230,Übersichtsblatt!$B$64:$E$68,2,FALSE)=0,\"\",VLOOKUP($B230,Übersichtsblatt!$B$64:$E$68,2,FALSE)),\"\")","v":""},0,-5.5,null,2023,"2023-08-16",{"$f":"IFERROR(IF(VLOOKUP($H230,Übersichtsblatt!$B$14:$E$24,2,FALSE)=0,\"\",VLOOKUP(H230,Übersichtsblatt!$B$14:$E$24,2,FALSE)),\"\")","v":""},0,5.5]
[2023,"2023-08-17",{"$f":"IFERROR(IF(VLOOKUP($B231,Übersichtsblatt!$B$64:$E$68,2,FALSE)=0,\"\",VLOOKUP($B231,Übersichtsblatt!$B$64:$E$68,2,FALSE)),\"\")","v":""},0,-5.5,null,2023,"2023-08-17",{"$f":"IFERROR(IF(VLOOKUP($H231,Übersichtsblatt!$B$14:$E$24,2,FALSE)=0,\"\",VLOOKUP(H231,Übersichtsblatt!$B$14:$E$24,2,FALSE)),\"\")","v":""},0,5.5]
[2023,"2023-08-18",{"$f":"IFERROR(IF(VLOOKUP($B232,Übersichtsblatt!$B$64:$E$68,2,FALSE)=0,\"\",VLOOKUP($B232,Übersichtsblatt!$B$64:$E$68,2,FALSE)),\"\")","v":""},0,-5.5,null,2023,"2023-08-18",{"$f":"IFERROR(IF(VLOOKUP($H232,Übersichtsblatt!$B$14:$E$24,2,FALSE)=0,\"\",VLOOKUP(H232,Übersichtsblatt!$B$14:$E$24,2,FALSE)),\"\")","v":""},0,5.5]
[2023,"2023-08-19",{"$f":"IFERROR(IF(VLOOKUP($B233,Übersichtsblatt!$B$64:$E$68,2,FALSE)=0,\"\",VLOOKUP($B233,Übersichtsblatt!$B$64:$E$68,2,FALSE)),\"\")","v":""},0,-5.5,null,2023,"2023-08-19",{"$f":"IFERROR(IF(VLOOKUP($H233,Übersichtsblatt!$B$14:$E$24,2,FALSE)=0,\"\",VLOOKUP(H233,Übersichtsblatt!$B$14:$E$24,2,FALSE)),\"\")","v":""},0,5.5]
[2023,"2023-08-20",{"$f":"IFERROR(IF(VLOOKUP($B234,Übersichtsblatt!$B$64:$E$68,2,FALSE)=0,\"\",VLOOKUP($B234,Übersichtsblatt!$B$64:$E$68,2,FALSE)),\"\")","v":""},0,-5.5,null,2023,"2023-08-20",{"$f":"IFERROR(IF(VLOOKUP($H234,Übersichtsblatt!$B$14:$E$24,2,FALSE)=0,\"\",VLOOKUP(H234,Übersichtsblatt!$B$14:$E$24,2,FALSE)),\"\")","v":""},0,5.5]
[2023,"2023-08-21",{"$f":"IFERROR(IF(VLOOKUP($B235,Übersichtsblatt!$B$64:$E$68,2,FALSE)=0,\"\",VLOOKUP($B235,Übersichtsblatt!$B$64:$E$68,2,FALSE)),\"\")","v":""},0,-5.5,null,2023,"2023-08-21",{"$f":"IFERROR(IF(VLOOKUP($H235,Übersichtsblatt!$B$14:$E$24,2,FALSE)=0,\"\",VLOOKUP(H235,Übersichtsblatt!$B$14:$E$24,2,FALSE)),\"\")","v":""},0,5.5]
[2023,"2023-08-22",{"$f":"IFERROR(IF(VLOOKUP($B236,Übersichtsblatt!$B$64:$E$68,2,FALSE)=0,\"\",VLOOKUP($B236,Übersichtsblatt!$B$64:$E$68,2,FALSE)),\"\")","v":""},0,-5.5,null,2023,"2023-08-22",{"$f":"IFERROR(IF(VLOOKUP($H236,Übersichtsblatt!$B$14:$E$24,2,FALSE)=0,\"\",VLOOKUP(H236,Übersichtsblatt!$B$14:$E$24,2,FALSE)),\"\")","v":""},0,5.5]
[2023,"2023-08-23",{"$f":"IFERROR(IF(VLOOKUP($B237,Übersichtsblatt!$B$64:$E$68,2,FALSE)=0,\"\",VLOOKUP($B237,Übersichtsblatt!$B$64:$E$68,2,FALSE)),\"\")","v":""},0,-5.5,null,2023,"2023-08-23",{"$f":"IFERROR(IF(VLOOKUP($H237,Übersichtsblatt!$B$14:$E$24,2,FALSE)=0,\"\",VLOOKUP(H237,Übersichtsblatt!$B$14:$E$24,2,FALSE)),\"\")","v":""},0,5.5]
[2023,"2023-08-24",{"$f":"IFERROR(IF(VLOOKUP($B238,Übersichtsblatt!$B$64:$E$68,2,FALSE)=0,\"\",VLOOKUP($B238,Übersichtsblatt!$B$64:$E$68,2,FALSE)),\"\")","v":""},0,-5.5,null,2023,"2023-08-24",{"$f":"IFERROR(IF(VLOOKUP($H238,Übersichtsblatt!$B$14:$E$24,2,FALSE)=0,\"\",VLOOKUP(H238,Übersichtsblatt!$B$14:$E$24,2,FALSE)),\"\")","v":""},0,5.5]
[2023,"2023-08-25",{"$f":"IFERROR(IF(VLOOKUP($B239,Übersichtsblatt!$B$64:$E$68,2,FALSE)=0,\"\",VLOOKUP($B239,Übersichtsblatt!$B$64:$E$68,2,FALSE)),\"\")","v":""},0,-5.5,null,2023,"2023-08-25",{"$f":"IFERROR(IF(VLOOKUP($H239,Übersichtsblatt!$B$14:$E$24,2,FALSE)=0,\"\",VLOOKUP(H239,Übersichtsblatt!$B$14:$E$24,2,FALSE)),\"\")","v":""},0,5.5]
[2023,"2023-08-26",{"$f":"IFERROR(IF(VLOOKUP($B240,Übersichtsblatt!$B$64:$E$68,2,FALSE)=0,\"\",VLOOKUP($B240,Übersichtsblatt!$B$64:$E$68,2,FALSE)),\"\")","v":""},0,-5.5,null,2023,"2023-08-26",{"$f":"IFERROR(IF(VLOOKUP($H240,Übersichtsblatt!$B$14:$E$24,2,FALSE)=0,\"\",VLOOKUP(H240,Übersichtsblatt!$B$14:$E$24,2,FALSE)),\"\")","v":""},0,5.5]
[2023,"2023-08-27",{"$f":"IFERROR(IF(VLOOKUP($B241,Übersichtsblatt!$B$64:$E$68,2,FALSE)=0,\"\",VLOOKUP($B241,Übersichtsblatt!$B$64:$E$68,2,FALSE)),\"\")","v":""},0,-5.5,null,2023,"2023-08-27",{"$f":"IFERROR(IF(VLOOKUP($H241,Übersichtsblatt!$B$14:$E$24,2,FALSE)=0,\"\",VLOOKUP(H241,Übersichtsblatt!$B$14:$E$24,2,FALSE)),\"\")","v":""},0,5.5]
[2023,"2023-08-28",{"$f":"IFERROR(IF(VLOOKUP($B242,Übersichtsblatt!$B$64:$E$68,2,FALSE)=0,\"\",VLOOKUP($B242,Übersichtsblatt!$B$64:$E$68,2,FALSE)),\"\")","v":""},0,-5.5,null,2023,"2023-08-28",{"$f":"IFERROR(IF(VLOOKUP($H242,Übersichtsblatt!$B$14:$E$24,2,FALSE)=0,\"\",VLOOKUP(H242,Übersichtsblatt!$B$14:$E$24,2,FALSE)),\"\")","v":""},0,5.5]
[2023,"2023-08-29",{"$f":"IFERROR(IF(VLOOKUP($B243,Übersichtsblatt!$B$64:$E$68,2,FALSE)=0,\"\",VLOOKUP($B243,Übersichtsblatt!$B$64:$E$68,2,FALSE)),\"\")","v":""},0,-5.5,null,2023,"2023-08-29",{"$f":"IFERROR(IF(VLOOKUP($H243,Übersichtsblatt!$B$14:$E$24,2,FALSE)=0,\"\",VLOOKUP(H243,Übersichtsblatt!$B$14:$E$24,2,FALSE)),\"\")","v":""},0,5.5]
[2023,"2023-08-30",{"$f":"IFERROR(IF(VLOOKUP($B244,Übersichtsblatt!$B$64:$E$68,2,FALSE)=0,\"\",VLOOKUP($B244,Übersichtsblatt!$B$64:$E$68,2,FALSE)),\"\")","v":""},0,-5.5,null,2023,"2023-08-30",{"$f":"IFERROR(IF(VLOOKUP($H244,Übersichtsblatt!$B$14:$E$24,2,FALSE)=0,\"\",VLOOKUP(H244,Übersichtsblatt!$B$14:$E$24,2,FALSE)),\"\")","v":""},0,5.5]
[2023,"2023-08-31",{"$f":"IFERROR(IF(VLOOKUP($B245,Übersichtsblatt!$B$64:$E$68,2,FALSE)=0,\"\",VLOOKUP($B245,Übersichtsblatt!$B$64:$E$68,2,FALSE)),\"\")","v":""},0,-5.5,null,2023,"2023-08-31",{"$f":"IFERROR(IF(VLOOKUP($H245,Übersichtsblatt!$B$14:$E$24,2,FALSE)=0,\"\",VLOOKUP(H245,Übersichtsblatt!$B$14:$E$24,2,FALSE)),\"\")","v":""},0,5.5]
[2023,"2023-09-01",{"$f":"IFERROR(IF(VLOOKUP($B246,Übersichtsblatt!$B$64:$E$68,2,FALSE)=0,\"\",VLOOKUP($B246,Übersichtsblatt!$B$64:$E$68,2,FALSE)),\"\")","v":""},0,-7.5,null,2023,"2023-09-01",{"$f":"IFERROR(IF(VLOOKUP($H246,Übersichtsblatt!$B$14:$E$24,2,FALSE)=0,\"\",VLOOKUP(H246,Übersichtsblatt!$B$14:$E$24,2,FALSE)),\"\")","v":""},0,7.5]
[2023,"2023-09-02",{"$f":"IFERROR(IF(VLOOKUP($B247,Übersichtsblatt!$B$64:$E$68,2,FALSE)=0,\"\",VLOOKUP($B247,Übersichtsblatt!$B$64:$E$68,2,FALSE)),\"\")","v":""},0,-7.5,null,2023,"2023-09-02",{"$f":"IFERROR(IF(VLOOKUP($H247,Übersichtsblatt!$B$14:$E$24,2,FALSE)=0,\"\",VLOOKUP(H247,Übersichtsblatt!$B$14:$E$24,2,FALSE)),\"\")","v":""},0,7.5]
[2023,"2023-09-03",{"$f":"IFERROR(IF(VLOOKUP($B248,Übersichtsblatt!$B$64:$E$68,2,FALSE)=0,\"\",VLOOKUP($B248,Übersichtsblatt!$B$64:$E$68,2,FALSE)),\"\")","v":""},0,-7.5,null,2023,"2023-09-03",{"$f":"IFERROR(IF(VLOOKUP($H248,Übersichtsblatt!$B$14:$E$24,2,FALSE)=0,\"\",VLOOKUP(H248,Übersichtsblatt!$B$14:$E$24,2,FALSE)),\"\")","v":""},0,7.5]
[2023,"2023-09-04",{"$f":"IFERROR(IF(VLOOKUP($B249,Übersichtsblatt!$B$64:$E$68,2,FALSE)=0,\"\",VLOOKUP($B249,Übersichtsblatt!$B$64:$E$68,2,FALSE)),\"\")","v":""},0,-7.5,null,2023,"2023-09-04",{"$f":"IFERROR(IF(VLOOKUP($H249,Übersichtsblatt!$B$14:$E$24,2,FALSE)=0,\"\",VLOOKUP(H249,Übersichtsblatt!$B$14:$E$24,2,FALSE)),\"\")","v":""},0,7.5]
[2023,"2023-09-05",{"$f":"IFERROR(IF(VLOOKUP($B250,Übersichtsblatt!$B$64:$E$68,2,FALSE)=0,\"\",VLOOKUP($B250,Übersichtsblatt!$B$64:$E$68,2,FALSE)),\"\")","v":""},0,-7.5,null,2023,"2023-09-05",{"$f":"IFERROR(IF(VLOOKUP($H250,Übersichtsblatt!$B$14:$E$24,2,FALSE)=0,\"\",VLOOKUP(H250,Übersichtsblatt!$B$14:$E$24,2,FALSE)),\"\")","v":""},0,7.5]
[2023,"2023-09-06",{"$f":"IFERROR(IF(VLOOKUP($B251,Übersichtsblatt!$B$64:$E$68,2,FALSE)=0,\"\",VLOOKUP($B251,Übersichtsblatt!$B$64:$E$68,2,FALSE)),\"\")","v":""},0,-7.5,null,2023,"2023-09-06",{"$f":"IFERROR(IF(VLOOKUP($H251,Übersichtsblatt!$B$14:$E$24,2,FALSE)=0,\"\",VLOOKUP(H251,Übersichtsblatt!$B$14:$E$24,2,FALSE)),\"\")","v":""},0,7.5]
[2023,"2023-09-07",{"$f":"IFERROR(IF(VLOOKUP($B252,Übersichtsblatt!$B$64:$E$68,2,FALSE)=0,\"\",VLOOKUP($B252,Übersichtsblatt!$B$64:$E$68,2,FALSE)),\"\")","v":""},0,-7.5,null,2023,"2023-09-07",{"$f":"IFERROR(IF(VLOOKUP($H252,Übersichtsblatt!$B$14:$E$24,2,FALSE)=0,\"\",VLOOKUP(H252,Übersichtsblatt!$B$14:$E$24,2,FALSE)),\"\")","v":""},0,7.5]
[2023,"2023-09-08",{"$f":"IFERROR(IF(VLOOKUP($B253,Übersichtsblatt!$B$64:$E$68,2,FALSE)=0,\"\",VLOOKUP($B253,Übersichtsblatt!$B$64:$E$68,2,FALSE)),\"\")","v":""},0,-7.5,null,2023,"2023-09-08",{"$f":"IFERROR(IF(VLOOKUP($H253,Übersichtsblatt!$B$14:$E$24,2,FALSE)=0,\"\",VLOOKUP(H253,Übersichtsblatt!$B$14:$E$24,2,FALSE)),\"\")","v":""},0,7.5]
[2023,"2023-09-09",{"$f":"IFERROR(IF(VLOOKUP($B254,Übersichtsblatt!$B$64:$E$68,2,FALSE)=0,\"\",VLOOKUP($B254,Übersichtsblatt!$B$64:$E$68,2,FALSE)),\"\")","v":""},0,-7.5,null,2023,"2023-09-09",{"$f":"IFERROR(IF(VLOOKUP($H254,Übersichtsblatt!$B$14:$E$24,2,FALSE)=0,\"\",VLOOKUP(H254,Übersichtsblatt!$B$14:$E$24,2,FALSE)),\"\")","v":""},0,7.5]
[2023,"2023-09-10",{"$f":"IFERROR(IF(VLOOKUP($B255,Übersichtsblatt!$B$64:$E$68,2,FALSE)=0,\"\",VLOOKUP($B255,Übersichtsblatt!$B$64:$E$68,2,FALSE)),\"\")","v":""},0,-7.5,null,2023,"2023-09-10",{"$f":"IFERROR(IF(VLOOKUP($H255,Übersichtsblatt!$B$14:$E$24,2,FALSE)=0,\"\",VLOOKUP(H255,Übersichtsblatt!$B$14:$E$24,2,FALSE)),\"\")","v":""},0,7.5]
[2023,"2023-09-11",{"$f":"IFERROR(IF(VLOOKUP($B256,Übersichtsblatt!$B$64:$E$68,2,FALSE)=0,\"\",VLOOKUP($B256,Übersichtsblatt!$B$64:$E$68,2,FALSE)),\"\")","v":""},0,-7.5,null,2023,"2023-09-11",{"$f":"IFERROR(IF(VLOOKUP($H256,Übersichtsblatt!$B$14:$E$24,2,FALSE)=0,\"\",VLOOKUP(H256,Übersichtsblatt!$B$14:$E$24,2,FALSE)),\"\")","v":""},0,7.5]
[2023,"2023-09-12",{"$f":"IFERROR(IF(VLOOKUP($B257,Übersichtsblatt!$B$64:$E$68,2,FALSE)=0,\"\",VLOOKUP($B257,Übersichtsblatt!$B$64:$E$68,2,FALSE)),\"\")","v":""},0,-7.5,null,2023,"2023-09-12",{"$f":"IFERROR(IF(VLOOKUP($H257,Übersichtsblatt!$B$14:$E$24,2,FALSE)=0,\"\",VLOOKUP(H257,Übersichtsblatt!$B$14:$E$24,2,FALSE)),\"\")","v":""},0,7.5]
[2023,"2023-09-13",{"$f":"IFERROR(IF(VLOOKUP($B258,Übersichtsblatt!$B$64:$E$68,2,FALSE)=0,\"\",VLOOKUP($B258,Übersichtsblatt!$B$64:$E$68,2,FALSE)),\"\")","v":""},0,-7.5,null,2023,"2023-09-13",{"$f":"IFERROR(IF(VLOOKUP($H258,Übersichtsblatt!$B$14:$E$24,2,FALSE)=0,\"\",VLOOKUP(H258,Übersichtsblatt!$B$14:$E$24,2,FALSE)),\"\")","v":""},0,7.5]
[2023,"2023-09-14",{"$f":"IFERROR(IF(VLOOKUP($B259,Übersichtsblatt!$B$64:$E$68,2,FALSE)=0,\"\",VLOOKUP($B259,Übersichtsblatt!$B$64:$E$68,2,FALSE)),\"\")","v":""},0,-7.5,null,2023,"2023-09-14",{"$f":"IFERROR(IF(VLOOKUP($H259,Übersichtsblatt!$B$14:$E$24,2,FALSE)=0,\"\",VLOOKUP(H259,Übersichtsblatt!$B$14:$E$24,2,FALSE)),\"\")","v":""},0,7.5]
[2023,"2023-09-15",{"$f":"IFERROR(IF(VLOOKUP($B260,Übersichtsblatt!$B$64:$E$68,2,FALSE)=0,\"\",VLOOKUP($B260,Übersichtsblatt!$B$64:$E$68,2,FALSE)),\"\")","v":""},{"$f":"IF($C260=\"\",0,$E260)","v":0},-7.5,null,2023,"2023-09-15",{"$f":"IFERROR(IF(VLOOKUP($H260,Übersichtsblatt!$B$14:$E$24,2,FALSE)=0,\"\",VLOOKUP(H260,Übersichtsblatt!$B$14:$E$24,2,FALSE)),\"\")","v":""},{"$f":"IF($I260=\"\",0,$K260)","v":0},7.5]
[{"$f":"YEAR(B261)","v":2023},{"$f":"B260+1","v":"2023-09-16"},{"$f":"IFERROR(IF(VLOOKUP($B261,Übersichtsblatt!$B$64:$E$68,2,FALSE)=0,\"\",VLOOKUP($B261,Übersichtsblatt!$B$64:$E$68,2,FALSE)),\"\")","v":""},0,-7.5,null,{"$f":"YEAR(H261)","v":2023},{"$f":"H260+1","v":"2023-09-16"},{"$f":"IFERROR(IF(VLOOKUP($H261,Übersichtsblatt!$B$14:$E$24,2,FALSE)=0,\"\",VLOOKUP(H261,Übersichtsblatt!$B$14:$E$24,2,FALSE)),\"\")","v":""},0,7.5]
[2023,"2023-09-17",{"$f":"IFERROR(IF(VLOOKUP($B262,Übersichtsblatt!$B$64:$E$68,2,FALSE)=0,\"\",VLOOKUP($B262,Übersichtsblatt!$B$64:$E$68,2,FALSE)),\"\")","v":""},0,-7.5,null,2023,"2023-09-17",{"$f":"IFERROR(IF(VLOOKUP($H262,Übersichtsblatt!$B$14:$E$24,2,FALSE)=0,\"\",VLOOKUP(H262,Übersichtsblatt!$B$14:$E$24,2,FALSE)),\"\")","v":""},0,7.5]
[2023,"2023-09-18",{"$f":"IFERROR(IF(VLOOKUP($B263,Übersichtsblatt!$B$64:$E$68,2,FALSE)=0,\"\",VLOOKUP($B263,Übersichtsblatt!$B$64:$E$68,2,FALSE)),\"\")","v":""},0,-7.5,null,2023,"2023-09-18",{"$f":"IFERROR(IF(VLOOKUP($H263,Übersichtsblatt!$B$14:$E$24,2,FALSE)=0,\"\",VLOOKUP(H263,Übersichtsblatt!$B$14:$E$24,2,FALSE)),\"\")","v":""},0,7.5]
[2023,"2023-09-19",{"$f":"IFERROR(IF(VLOOKUP($B264,Übersichtsblatt!$B$64:$E$68,2,FALSE)=0,\"\",VLOOKUP($B264,Übersichtsblatt!$B$64:$E$68,2,FALSE)),\"\")","v":""},0,-7.5,null,2023,"2023-09-19",{"$f":"IFERROR(IF(VLOOKUP($H264,Übersichtsblatt!$B$14:$E$24,2,FALSE)=0,\"\",VLOOKUP(H264,Übersichtsblatt!$B$14:$E$24,2,FALSE)),\"\")","v":""},0,7.5]
[2023,"2023-09-20",{"$f":"IFERROR(IF(VLOOKUP($B265,Übersichtsblatt!$B$64:$E$68,2,FALSE)=0,\"\",VLOOKUP($B265,Übersichtsblatt!$B$64:$E$68,2,FALSE)),\"\")","v":""},0,-7.5,null,2023,"2023-09-20",{"$f":"IFERROR(IF(VLOOKUP($H265,Übersichtsblatt!$B$14:$E$24,2,FALSE)=0,\"\",VLOOKUP(H265,Übersichtsblatt!$B$14:$E$24,2,FALSE)),\"\")","v":""},0,7.5]
[2023,"2023-09-21",{"$f":"IFERROR(IF(VLOOKUP($B266,Übersichtsblatt!$B$64:$E$68,2,FALSE)=0,\"\",VLOOKUP($B266,Übersichtsblatt!$B$64:$E$68,2,FALSE)),\"\")","v":""},0,-7.5,null,2023,"2023-09-21",{"$f":"IFERROR(IF(VLOOKUP($H266,Übersichtsblatt!$B$14:$E$24,2,FALSE)=0,\"\",VLOOKUP(H266,Übersichtsblatt!$B$14:$E$24,2,FALSE)),\"\")","v":""},0,7.5]
[2023,"2023-09-22",{"$f":"IFERROR(IF(VLOOKUP($B267,Übersichtsblatt!$B$64:$E$68,2,FALSE)=0,\"\",VLOOKUP($B267,Übersichtsblatt!$B$64:$E$68,2,FALSE)),\"\")","v":""},0,-7.5,null,2023,"2023-09-22",{"$f":"IFERROR(IF(VLOOKUP($H267,Übersichtsblatt!$B$14:$E$24,2,FALSE)=0,\"\",VLOOKUP(H267,Übersichtsblatt!$B$14:$E$24,2,FALSE)),\"\")","v":""},0,7.5]
[2023,"2023-09-23",{"$f":"IFERROR(IF(VLOOKUP($B268,Übersichtsblatt!$B$64:$E$68,2,FALSE)=0,\"\",VLOOKUP($B268,Übersichtsblatt!$B$64:$E$68,2,FALSE)),\"\")","v":""},0,-7.5,null,2023,"2023-09-23",{"$f":"IFERROR(IF(VLOOKUP($H268,Übersichtsblatt!$B$14:$E$24,2,FALSE)=0,\"\",VLOOKUP(H268,Übersichtsblatt!$B$14:$E$24,2,FALSE)),\"\")","v":""},0,7.5]
[2023,"2023-09-24",{"$f":"IFERROR(IF(VLOOKUP($B269,Übersichtsblatt!$B$64:$E$68,2,FALSE)=0,\"\",VLOOKUP($B269,Übersichtsblatt!$B$64:$E$68,2,FALSE)),\"\")","v":""},0,-7.5,null,2023,"2023-09-24",{"$f":"IFERROR(IF(VLOOKUP($H269,Übersichtsblatt!$B$14:$E$24,2,FALSE)=0,\"\",VLOOKUP(H269,Übersichtsblatt!$B$14:$E$24,2,FALSE)),\"\")","v":""},0,7.5]
[2023,"2023-09-25",{"$f":"IFERROR(IF(VLOOKUP($B270,Übersichtsblatt!$B$64:$E$68,2,FALSE)=0,\"\",VLOOKUP($B270,Übersichtsblatt!$B$64:$E$68,2,FALSE)),\"\")","v":""},0,-7.5,null,2023,"2023-09-25",{"$f":"IFERROR(IF(VLOOKUP($H270,Übersichtsblatt!$B$14:$E$24,2,FALSE)=0,\"\",VLOOKUP(H270,Übersichtsblatt!$B$14:$E$24,2,FALSE)),\"\")","v":""},0,7.5]
[2023,"2023-09-26",{"$f":"IFERROR(IF(VLOOKUP($B271,Übersichtsblatt!$B$64:$E$68,2,FALSE)=0,\"\",VLOOKUP($B271,Übersichtsblatt!$B$64:$E$68,2,FALSE)),\"\")","v":""},0,-7.5,null,2023,"2023-09-26",{"$f":"IFERROR(IF(VLOOKUP($H271,Übersichtsblatt!$B$14:$E$24,2,FALSE)=0,\"\",VLOOKUP(H271,Übersichtsblatt!$B$14:$E$24,2,FALSE)),\"\")","v":""},0,7.5]
[2023,"2023-09-27",{"$f":"IFERROR(IF(VLOOKUP($B272,Übersichtsblatt!$B$64:$E$68,2,FALSE)=0,\"\",VLOOKUP($B272,Übersichtsblatt!$B$64:$E$68,2,FALSE)),\"\")","v":""},0,-7.5,null,2023,"2023-09-27",{"$f":"IFERROR(IF(VLOOKUP($H272,Übersichtsblatt!$B$14:$E$24,2,FALSE)=0,\"\",VLOOKUP(H272,Übersichtsblatt!$B$14:$E$24,2,FALSE)),\"\")","v":""},0,7.5]
[2023,"2023-09-28",{"$f":"IFERROR(IF(VLOOKUP($B273,Übersichtsblatt!$B$64:$E$68,2,FALSE)=0,\"\",VLOOKUP($B273,Übersichtsblatt!$B$64:$E$68,2,FALSE)),\"\")","v":""},0,-7.5,null,2023,"2023-09-28",{"$f":"IFERROR(IF(VLOOKUP($H273,Übersichtsblatt!$B$14:$E$24,2,FALSE)=0,\"\",VLOOKUP(H273,Übersichtsblatt!$B$14:$E$24,2,FALSE)),\"\")","v":""},0,7.5]
[2023,"2023-09-29",{"$f":"IFERROR(IF(VLOOKUP($B274,Übersichtsblatt!$B$64:$E$68,2,FALSE)=0,\"\",VLOOKUP($B274,Übersichtsblatt!$B$64:$E$68,2,FALSE)),\"\")","v":""},0,-7.5,null,2023,"2023-09-29",{"$f":"IFERROR(IF(VLOOKUP($H274,Übersichtsblatt!$B$14:$E$24,2,FALSE)=0,\"\",VLOOKUP(H274,Übersichtsblatt!$B$14:$E$24,2,FALSE)),\"\")","v":""},0,7.5]
[2023,"2023-09-30",{"$f":"IFERROR(IF(VLOOKUP($B275,Übersichtsblatt!$B$64:$E$68,2,FALSE)=0,\"\",VLOOKUP($B275,Übersichtsblatt!$B$64:$E$68,2,FALSE)),\"\")","v":""},0,-7.5,null,2023,"2023-09-30",{"$f":"IFERROR(IF(VLOOKUP($H275,Übersichtsblatt!$B$14:$E$24,2,FALSE)=0,\"\",VLOOKUP(H275,Übersichtsblatt!$B$14:$E$24,2,FALSE)),\"\")","v":""},0,7.5]
[2023,"2023-10-01",{"$f":"IFERROR(IF(VLOOKUP($B276,Übersichtsblatt!$B$64:$E$68,2,FALSE)=0,\"\",VLOOKUP($B276,Übersichtsblatt!$B$64:$E$68,2,FALSE)),\"\")","v":""},0,-4.5,null,2023,"2023-10-01",{"$f":"IFERROR(IF(VLOOKUP($H276,Übersichtsblatt!$B$14:$E$24,2,FALSE)=0,\"\",VLOOKUP(H276,Übersichtsblatt!$B$14:$E$24,2,FALSE)),\"\")","v":""},0,4.5]
[2023,"2023-10-02",{"$f":"IFERROR(IF(VLOOKUP($B277,Übersichtsblatt!$B$64:$E$68,2,FALSE)=0,\"\",VLOOKUP($B277,Übersichtsblatt!$B$64:$E$68,2,FALSE)),\"\")","v":""},0,-4.5,null,2023,"2023-10-02",{"$f":"IFERROR(IF(VLOOKUP($H277,Übersichtsblatt!$B$14:$E$24,2,FALSE)=0,\"\",VLOOKUP(H277,Übersichtsblatt!$B$14:$E$24,2,FALSE)),\"\")","v":""},0,4.5]
[2023,"2023-10-03",{"$f":"IFERROR(IF(VLOOKUP($B278,Übersichtsblatt!$B$64:$E$68,2,FALSE)=0,\"\",VLOOKUP($B278,Übersichtsblatt!$B$64:$E$68,2,FALSE)),\"\")","v":""},0,-4.5,null,2023,"2023-10-03",{"$f":"IFERROR(IF(VLOOKUP($H278,Übersichtsblatt!$B$14:$E$24,2,FALSE)=0,\"\",VLOOKUP(H278,Übersichtsblatt!$B$14:$E$24,2,FALSE)),\"\")","v":""},0,4.5]
[2023,"2023-10-04",{"$f":"IFERROR(IF(VLOOKUP($B279,Übersichtsblatt!$B$64:$E$68,2,FALSE)=0,\"\",VLOOKUP($B279,Übersichtsblatt!$B$64:$E$68,2,FALSE)),\"\")","v":""},0,-4.5,null,2023,"2023-10-04",{"$f":"IFERROR(IF(VLOOKUP($H279,Übersichtsblatt!$B$14:$E$24,2,FALSE)=0,\"\",VLOOKUP(H279,Übersichtsblatt!$B$14:$E$24,2,FALSE)),\"\")","v":""},0,4.5]
[2023,"2023-10-05",{"$f":"IFERROR(IF(VLOOKUP($B280,Übersichtsblatt!$B$64:$E$68,2,FALSE)=0,\"\",VLOOKUP($B280,Übersichtsblatt!$B$64:$E$68,2,FALSE)),\"\")","v":""},0,-4.5,null,2023,"2023-10-05",{"$f":"IFERROR(IF(VLOOKUP($H280,Übersichtsblatt!$B$14:$E$24,2,FALSE)=0,\"\",VLOOKUP(H280,Übersichtsblatt!$B$14:$E$24,2,FALSE)),\"\")","v":""},0,4.5]
[2023,"2023-10-06",{"$f":"IFERROR(IF(VLOOKUP($B281,Übersichtsblatt!$B$64:$E$68,2,FALSE)=0,\"\",VLOOKUP($B281,Übersichtsblatt!$B$64:$E$68,2,FALSE)),\"\")","v":""},0,-4.5,null,2023,"2023-10-06",{"$f":"IFERROR(IF(VLOOKUP($H281,Übersichtsblatt!$B$14:$E$24,2,FALSE)=0,\"\",VLOOKUP(H281,Übersichtsblatt!$B$14:$E$24,2,FALSE)),\"\")","v":""},0,4.5]
[2023,"2023-10-07",{"$f":"IFERROR(IF(VLOOKUP($B282,Übersichtsblatt!$B$64:$E$68,2,FALSE)=0,\"\",VLOOKUP($B282,Übersichtsblatt!$B$64:$E$68,2,FALSE)),\"\")","v":""},0,-4.5,null,2023,"2023-10-07",{"$f":"IFERROR(IF(VLOOKUP($H282,Übersichtsblatt!$B$14:$E$24,2,FALSE)=0,\"\",VLOOKUP(H282,Übersichtsblatt!$B$14:$E$24,2,FALSE)),\"\")","v":""},0,4.5]
[2023,"2023-10-08",{"$f":"IFERROR(IF(VLOOKUP($B283,Übersichtsblatt!$B$64:$E$68,2,FALSE)=0,\"\",VLOOKUP($B283,Übersichtsblatt!$B$64:$E$68,2,FALSE)),\"\")","v":""},0,-4.5,null,2023,"2023-10-08",{"$f":"IFERROR(IF(VLOOKUP($H283,Übersichtsblatt!$B$14:$E$24,2,FALSE)=0,\"\",VLOOKUP(H283,Übersichtsblatt!$B$14:$E$24,2,FALSE)),\"\")","v":""},0,4.5]
[2023,"2023-10-09",{"$f":"IFERROR(IF(VLOOKUP($B284,Übersichtsblatt!$B$64:$E$68,2,FALSE)=0,\"\",VLOOKUP($B284,Übersichtsblatt!$B$64:$E$68,2,FALSE)),\"\")","v":""},0,-4.5,null,2023,"2023-10-09",{"$f":"IFERROR(IF(VLOOKUP($H284,Übersichtsblatt!$B$14:$E$24,2,FALSE)=0,\"\",VLOOKUP(H284,Übersichtsblatt!$B$14:$E$24,2,FALSE)),\"\")","v":""},0,4.5]
[2023,"2023-10-10",{"$f":"IFERROR(IF(VLOOKUP($B285,Übersichtsblatt!$B$64:$E$68,2,FALSE)=0,\"\",VLOOKUP($B285,Übersichtsblatt!$B$64:$E$68,2,FALSE)),\"\")","v":""},0,-4.5,null,2023,"2023-10-10",{"$f":"IFERROR(IF(VLOOKUP($H285,Übersichtsblatt!$B$14:$E$24,2,FALSE)=0,\"\",VLOOKUP(H285,Übersichtsblatt!$B$14:$E$24,2,FALSE)),\"\")","v":""},0,4.5]
[2023,"2023-10-11",{"$f":"IFERROR(IF(VLOOKUP($B286,Übersichtsblatt!$B$64:$E$68,2,FALSE)=0,\"\",VLOOKUP($B286,Übersichtsblatt!$B$64:$E$68,2,FALSE)),\"\")","v":""},0,-4.5,null,2023,"2023-10-11",{"$f":"IFERROR(IF(VLOOKUP($H286,Übersichtsblatt!$B$14:$E$24,2,FALSE)=0,\"\",VLOOKUP(H286,Übersichtsblatt!$B$14:$E$24,2,FALSE)),\"\")","v":""},0,4.5]
[2023,"2023-10-12",{"$f":"IFERROR(IF(VLOOKUP($B287,Übersichtsblatt!$B$64:$E$68,2,FALSE)=0,\"\",VLOOKUP($B287,Übersichtsblatt!$B$64:$E$68,2,FALSE)),\"\")","v":""},0,-4.5,null,2023,"2023-10-12",{"$f":"IFERROR(IF(VLOOKUP($H287,Übersichtsblatt!$B$14:$E$24,2,FALSE)=0,\"\",VLOOKUP(H287,Übersichtsblatt!$B$14:$E$24,2,FALSE)),\"\")","v":""},0,4.5]
[2023,"2023-10-13",{"$f":"IFERROR(IF(VLOOKUP($B288,Übersichtsblatt!$B$64:$E$68,2,FALSE)=0,\"\",VLOOKUP($B288,Übersichtsblatt!$B$64:$E$68,2,FALSE)),\"\")","v":""},0,-4.5,null,2023,"2023-10-13",{"$f":"IFERROR(IF(VLOOKUP($H288,Übersichtsblatt!$B$14:$E$24,2,FALSE)=0,\"\",VLOOKUP(H288,Übersichtsblatt!$B$14:$E$24,2,FALSE)),\"\")","v":""},0,4.5]
[2023,"2023-10-14",{"$f":"IFERROR(IF(VLOOKUP($B289,Übersichtsblatt!$B$64:$E$68,2,FALSE)=0,\"\",VLOOKUP($B289,Übersichtsblatt!$B$64:$E$68,2,FALSE)),\"\")","v":""},0,-4.5,null,2023,"2023-10-14",{"$f":"IFERROR(IF(VLOOKUP($H289,Übersichtsblatt!$B$14:$E$24,2,FALSE)=0,\"\",VLOOKUP(H289,Übersichtsblatt!$B$14:$E$24,2,FALSE)),\"\")","v":""},0,4.5]
[2023,"2023-10-15",{"$f":"IFERROR(IF(VLOOKUP($B290,Übersichtsblatt!$B$64:$E$68,2,FALSE)=0,\"\",VLOOKUP($B290,Übersichtsblatt!$B$64:$E$68,2,FALSE)),\"\")","v":""},0,-4.5,null,2023,"2023-10-15",{"$f":"IFERROR(IF(VLOOKUP($H290,Übersichtsblatt!$B$14:$E$24,2,FALSE)=0,\"\",VLOOKUP(H290,Übersichtsblatt!$B$14:$E$24,2,FALSE)),\"\")","v":""},0,4.5]
[2023,"2023-10-16",{"$f":"IFERROR(IF(VLOOKUP($B291,Übersichtsblatt!$B$64:$E$68,2,FALSE)=0,\"\",VLOOKUP($B291,Übersichtsblatt!$B$64:$E$68,2,FALSE)),\"\")","v":""},0,-4.5,null,2023,"2023-10-16",{"$f":"IFERROR(IF(VLOOKUP($H291,Übersichtsblatt!$B$14:$E$24,2,FALSE)=0,\"\",VLOOKUP(H291,Übersichtsblatt!$B$14:$E$24,2,FALSE)),\"\")","v":""},0,4.5]
[2023,"2023-10-17",{"$f":"IFERROR(IF(VLOOKUP($B292,Übersichtsblatt!$B$64:$E$68,2,FALSE)=0,\"\",VLOOKUP($B292,Übersichtsblatt!$B$64:$E$68,2,FALSE)),\"\")","v":""},0,-4.5,null,2023,"2023-10-17",{"$f":"IFERROR(IF(VLOOKUP($H292,Übersichtsblatt!$B$14:$E$24,2,FALSE)=0,\"\",VLOOKUP(H292,Übersichtsblatt!$B$14:$E$24,2,FALSE)),\"\")","v":""},0,4.5]
[2023,"2023-10-18",{"$f":"IFERROR(IF(VLOOKUP($B293,Übersichtsblatt!$B$64:$E$68,2,FALSE)=0,\"\",VLOOKUP($B293,Übersichtsblatt!$B$64:$E$68,2,FALSE)),\"\")","v":""},0,-4.5,null,2023,"2023-10-18",{"$f":"IFERROR(IF(VLOOKUP($H293,Übersichtsblatt!$B$14:$E$24,2,FALSE)=0,\"\",VLOOKUP(H293,Übersichtsblatt!$B$14:$E$24,2,FALSE)),\"\")","v":""},0,4.5]
[2023,"2023-10-19",{"$f":"IFERROR(IF(VLOOKUP($B294,Übersichtsblatt!$B$64:$E$68,2,FALSE)=0,\"\",VLOOKUP($B294,Übersichtsblatt!$B$64:$E$68,2,FALSE)),\"\")","v":""},0,-4.5,null,2023,"2023-10-19",{"$f":"IFERROR(IF(VLOOKUP($H294,Übersichtsblatt!$B$14:$E$24,2,FALSE)=0,\"\",VLOOKUP(H294,Übersichtsblatt!$B$14:$E$24,2,FALSE)),\"\")","v":""},0,4.5]
[2023,"2023-10-20",{"$f":"IFERROR(IF(VLOOKUP($B295,Übersichtsblatt!$B$64:$E$68,2,FALSE)=0,\"\",VLOOKUP($B295,Übersichtsblatt!$B$64:$E$68,2,FALSE)),\"\")","v":""},0,-4.5,null,2023,"2023-10-20",{"$f":"IFERROR(IF(VLOOKUP($H295,Übersichtsblatt!$B$14:$E$24,2,FALSE)=0,\"\",VLOOKUP(H295,Übersichtsblatt!$B$14:$E$24,2,FALSE)),\"\")","v":""},0,4.5]
[2023,"2023-10-21",{"$f":"IFERROR(IF(VLOOKUP($B296,Übersichtsblatt!$B$64:$E$68,2,FALSE)=0,\"\",VLOOKUP($B296,Übersichtsblatt!$B$64:$E$68,2,FALSE)),\"\")","v":""},0,-4.5,null,2023,"2023-10-21",{"$f":"IFERROR(IF(VLOOKUP($H296,Übersichtsblatt!$B$14:$E$24,2,FALSE)=0,\"\",VLOOKUP(H296,Übersichtsblatt!$B$14:$E$24,2,FALSE)),\"\")","v":""},0,4.5]
[2023,"2023-10-22",{"$f":"IFERROR(IF(VLOOKUP($B297,Übersichtsblatt!$B$64:$E$68,2,FALSE)=0,\"\",VLOOKUP($B297,Übersichtsblatt!$B$64:$E$68,2,FALSE)),\"\")","v":""},0,-4.5,null,2023,"2023-10-22",{"$f":"IFERROR(IF(VLOOKUP($H297,Übersichtsblatt!$B$14:$E$24,2,FALSE)=0,\"\",VLOOKUP(H297,Übersichtsblatt!$B$14:$E$24,2,FALSE)),\"\")","v":""},0,4.5]
[2023,"2023-10-23",{"$f":"IFERROR(IF(VLOOKUP($B298,Übersichtsblatt!$B$64:$E$68,2,FALSE)=0,\"\",VLOOKUP($B298,Übersichtsblatt!$B$64:$E$68,2,FALSE)),\"\")","v":""},0,-4.5,null,2023,"2023-10-23",{"$f":"IFERROR(IF(VLOOKUP($H298,Übersichtsblatt!$B$14:$E$24,2,FALSE)=0,\"\",VLOOKUP(H298,Übersichtsblatt!$B$14:$E$24,2,FALSE)),\"\")","v":""},0,4.5]
[2023,"2023-10-24",{"$f":"IFERROR(IF(VLOOKUP($B299,Übersichtsblatt!$B$64:$E$68,2,FALSE)=0,\"\",VLOOKUP($B299,Übersichtsblatt!$B$64:$E$68,2,FALSE)),\"\")","v":""},0,-4.5,null,2023,"2023-10-24",{"$f":"IFERROR(IF(VLOOKUP($H299,Übersichtsblatt!$B$14:$E$24,2,FALSE)=0,\"\",VLOOKUP(H299,Übersichtsblatt!$B$14:$E$24,2,FALSE)),\"\")","v":""},0,4.5]
[2023,"2023-10-25",{"$f":"IFERROR(IF(VLOOKUP($B300,Übersichtsblatt!$B$64:$E$68,2,FALSE)=0,\"\",VLOOKUP($B300,Übersichtsblatt!$B$64:$E$68,2,FALSE)),\"\")","v":""},0,-4.5,null,2023,"2023-10-25",{"$f":"IFERROR(IF(VLOOKUP($H300,Übersichtsblatt!$B$14:$E$24,2,FALSE)=0,\"\",VLOOKUP(H300,Übersichtsblatt!$B$14:$E$24,2,FALSE)),\"\")","v":""},0,4.5]
[2023,"2023-10-26",{"$f":"IFERROR(IF(VLOOKUP($B301,Übersichtsblatt!$B$64:$E$68,2,FALSE)=0,\"\",VLOOKUP($B301,Übersichtsblatt!$B$64:$E$68,2,FALSE)),\"\")","v":""},0,-4.5,null,2023,"2023-10-26",{"$f":"IFERROR(IF(VLOOKUP($H301,Übersichtsblatt!$B$14:$E$24,2,FALSE)=0,\"\",VLOOKUP(H301,Übersichtsblatt!$B$14:$E$24,2,FALSE)),\"\")","v":""},0,4.5]
[2023,"2023-10-27",{"$f":"IFERROR(IF(VLOOKUP($B302,Übersichtsblatt!$B$64:$E$68,2,FALSE)=0,\"\",VLOOKUP($B302,Übersichtsblatt!$B$64:$E$68,2,FALSE)),\"\")","v":""},0,-4.5,null,2023,"2023-10-27",{"$f":"IFERROR(IF(VLOOKUP($H302,Übersichtsblatt!$B$14:$E$24,2,FALSE)=0,\"\",VLOOKUP(H302,Übersichtsblatt!$B$14:$E$24,2,FALSE)),\"\")","v":""},0,4.5]
[2023,"2023-10-28",{"$f":"IFERROR(IF(VLOOKUP($B303,Übersichtsblatt!$B$64:$E$68,2,FALSE)=0,\"\",VLOOKUP($B303,Übersichtsblatt!$B$64:$E$68,2,FALSE)),\"\")","v":""},0,-4.5,null,2023,"2023-10-28",{"$f":"IFERROR(IF(VLOOKUP($H303,Übersichtsblatt!$B$14:$E$24,2,FALSE)=0,\"\",VLOOKUP(H303,Übersichtsblatt!$B$14:$E$24,2,FALSE)),\"\")","v":""},0,4.5]
[2023,"2023-10-29",{"$f":"IFERROR(IF(VLOOKUP($B304,Übersichtsblatt!$B$64:$E$68,2,FALSE)=0,\"\",VLOOKUP($B304,Übersichtsblatt!$B$64:$E$68,2,FALSE)),\"\")","v":""},0,-4.5,null,2023,"2023-10-29",{"$f":"IFERROR(IF(VLOOKUP($H304,Übersichtsblatt!$B$14:$E$24,2,FALSE)=0,\"\",VLOOKUP(H304,Übersichtsblatt!$B$14:$E$24,2,FALSE)),\"\")","v":""},0,4.5]
[2023,"2023-10-30",{"$f":"IFERROR(IF(VLOOKUP($B305,Übersichtsblatt!$B$64:$E$68,2,FALSE)=0,\"\",VLOOKUP($B305,Übersichtsblatt!$B$64:$E$68,2,FALSE)),\"\")","v":""},0,-4.5,null,2023,"2023-10-30",{"$f":"IFERROR(IF(VLOOKUP($H305,Übersichtsblatt!$B$14:$E$24,2,FALSE)=0,\"\",VLOOKUP(H305,Übersichtsblatt!$B$14:$E$24,2,FALSE)),\"\")","v":""},0,4.5]
[2023,"2023-10-31",{"$f":"IFERROR(IF(VLOOKUP($B306,Übersichtsblatt!$B$64:$E$68,2,FALSE)=0,\"\",VLOOKUP($B306,Übersichtsblatt!$B$64:$E$68,2,FALSE)),\"\")","v":""},0,-4.5,null,2023,"2023-10-31",{"$f":"IFERROR(IF(VLOOKUP($H306,Übersichtsblatt!$B$14:$E$24,2,FALSE)=0,\"\",VLOOKUP(H306,Übersichtsblatt!$B$14:$E$24,2,FALSE)),\"\")","v":""},0,4.5]
[2023,"2023-11-01",{"$f":"IFERROR(IF(VLOOKUP($B307,Übersichtsblatt!$B$64:$E$68,2,FALSE)=0,\"\",VLOOKUP($B307,Übersichtsblatt!$B$64:$E$68,2,FALSE)),\"\")","v":""},0,-13.5,null,2023,"2023-11-01",{"$f":"IFERROR(IF(VLOOKUP($H307,Übersichtsblatt!$B$14:$E$24,2,FALSE)=0,\"\",VLOOKUP(H307,Übersichtsblatt!$B$14:$E$24,2,FALSE)),\"\")","v":""},0,13.5]
[2023,"2023-11-02",{"$f":"IFERROR(IF(VLOOKUP($B308,Übersichtsblatt!$B$64:$E$68,2,FALSE)=0,\"\",VLOOKUP($B308,Übersichtsblatt!$B$64:$E$68,2,FALSE)),\"\")","v":""},0,-13.5,null,2023,"2023-11-02",{"$f":"IFERROR(IF(VLOOKUP($H308,Übersichtsblatt!$B$14:$E$24,2,FALSE)=0,\"\",VLOOKUP(H308,Übersichtsblatt!$B$14:$E$24,2,FALSE)),\"\")","v":""},0,13.5]
[2023,"2023-11-03",{"$f":"IFERROR(IF(VLOOKUP($B309,Übersichtsblatt!$B$64:$E$68,2,FALSE)=0,\"\",VLOOKUP($B309,Übersichtsblatt!$B$64:$E$68,2,FALSE)),\"\")","v":""},0,-13.5,null,2023,"2023-11-03",{"$f":"IFERROR(IF(VLOOKUP($H309,Übersichtsblatt!$B$14:$E$24,2,FALSE)=0,\"\",VLOOKUP(H309,Übersichtsblatt!$B$14:$E$24,2,FALSE)),\"\")","v":""},0,13.5]
[2023,"2023-11-04",{"$f":"IFERROR(IF(VLOOKUP($B310,Übersichtsblatt!$B$64:$E$68,2,FALSE)=0,\"\",VLOOKUP($B310,Übersichtsblatt!$B$64:$E$68,2,FALSE)),\"\")","v":""},0,-13.5,null,2023,"2023-11-04",{"$f":"IFERROR(IF(VLOOKUP($H310,Übersichtsblatt!$B$14:$E$24,2,FALSE)=0,\"\",VLOOKUP(H310,Übersichtsblatt!$B$14:$E$24,2,FALSE)),\"\")","v":""},0,13.5]
[2023,"2023-11-05",{"$f":"IFERROR(IF(VLOOKUP($B311,Übersichtsblatt!$B$64:$E$68,2,FALSE)=0,\"\",VLOOKUP($B311,Übersichtsblatt!$B$64:$E$68,2,FALSE)),\"\")","v":""},0,-13.5,null,2023,"2023-11-05",{"$f":"IFERROR(IF(VLOOKUP($H311,Übersichtsblatt!$B$14:$E$24,2,FALSE)=0,\"\",VLOOKUP(H311,Übersichtsblatt!$B$14:$E$24,2,FALSE)),\"\")","v":""},0,13.5]
[2023,"2023-11-06",{"$f":"IFERROR(IF(VLOOKUP($B312,Übersichtsblatt!$B$64:$E$68,2,FALSE)=0,\"\",VLOOKUP($B312,Übersichtsblatt!$B$64:$E$68,2,FALSE)),\"\")","v":""},0,-13.5,null,2023,"2023-11-06",{"$f":"IFERROR(IF(VLOOKUP($H312,Übersichtsblatt!$B$14:$E$24,2,FALSE)=0,\"\",VLOOKUP(H312,Übersichtsblatt!$B$14:$E$24,2,FALSE)),\"\")","v":""},0,13.5]
[2023,"2023-11-07",{"$f":"IFERROR(IF(VLOOKUP($B313,Übersichtsblatt!$B$64:$E$68,2,FALSE)=0,\"\",VLOOKUP($B313,Übersichtsblatt!$B$64:$E$68,2,FALSE)),\"\")","v":""},0,-13.5,null,2023,"2023-11-07",{"$f":"IFERROR(IF(VLOOKUP($H313,Übersichtsblatt!$B$14:$E$24,2,FALSE)=0,\"\",VLOOKUP(H313,Übersichtsblatt!$B$14:$E$24,2,FALSE)),\"\")","v":""},0,13.5]
[2023,"2023-11-08",{"$f":"IFERROR(IF(VLOOKUP($B314,Übersichtsblatt!$B$64:$E$68,2,FALSE)=0,\"\",VLOOKUP($B314,Übersichtsblatt!$B$64:$E$68,2,FALSE)),\"\")","v":""},0,-13.5,null,2023,"2023-11-08",{"$f":"IFERROR(IF(VLOOKUP($H314,Übersichtsblatt!$B$14:$E$24,2,FALSE)=0,\"\",VLOOKUP(H314,Übersichtsblatt!$B$14:$E$24,2,FALSE)),\"\")","v":""},0,13.5]
[2023,"2023-11-09",{"$f":"IFERROR(IF(VLOOKUP($B315,Übersichtsblatt!$B$64:$E$68,2,FALSE)=0,\"\",VLOOKUP($B315,Übersichtsblatt!$B$64:$E$68,2,FALSE)),\"\")","v":""},0,-13.5,null,2023,"2023-11-09",{"$f":"IFERROR(IF(VLOOKUP($H315,Übersichtsblatt!$B$14:$E$24,2,FALSE)=0,\"\",VLOOKUP(H315,Übersichtsblatt!$B$14:$E$24,2,FALSE)),\"\")","v":""},0,13.5]
[2023,"2023-11-10",{"$f":"IFERROR(IF(VLOOKUP($B316,Übersichtsblatt!$B$64:$E$68,2,FALSE)=0,\"\",VLOOKUP($B316,Übersichtsblatt!$B$64:$E$68,2,FALSE)),\"\")","v":""},0,-13.5,null,2023,"2023-11-10",{"$f":"IFERROR(IF(VLOOKUP($H316,Übersichtsblatt!$B$14:$E$24,2,FALSE)=0,\"\",VLOOKUP(H316,Übersichtsblatt!$B$14:$E$24,2,FALSE)),\"\")","v":""},0,13.5]
[2023,"2023-11-11",{"$f":"IFERROR(IF(VLOOKUP($B317,Übersichtsblatt!$B$64:$E$68,2,FALSE)=0,\"\",VLOOKUP($B317,Übersichtsblatt!$B$64:$E$68,2,FALSE)),\"\")","v":""},0,-13.5,null,2023,"2023-11-11",{"$f":"IFERROR(IF(VLOOKUP($H317,Übersichtsblatt!$B$14:$E$24,2,FALSE)=0,\"\",VLOOKUP(H317,Übersichtsblatt!$B$14:$E$24,2,FALSE)),\"\")","v":""},0,13.5]
[2023,"2023-11-12",{"$f":"IFERROR(IF(VLOOKUP($B318,Übersichtsblatt!$B$64:$E$68,2,FALSE)=0,\"\",VLOOKUP($B318,Übersichtsblatt!$B$64:$E$68,2,FALSE)),\"\")","v":""},0,-13.5,null,2023,"2023-11-12",{"$f":"IFERROR(IF(VLOOKUP($H318,Übersichtsblatt!$B$14:$E$24,2,FALSE)=0,\"\",VLOOKUP(H318,Übersichtsblatt!$B$14:$E$24,2,FALSE)),\"\")","v":""},0,13.5]
[2023,"2023-11-13",{"$f":"IFERROR(IF(VLOOKUP($B319,Übersichtsblatt!$B$64:$E$68,2,FALSE)=0,\"\",VLOOKUP($B319,Übersichtsblatt!$B$64:$E$68,2,FALSE)),\"\")","v":""},0,-13.5,null,2023,"2023-11-13",{"$f":"IFERROR(IF(VLOOKUP($H319,Übersichtsblatt!$B$14:$E$24,2,FALSE)=0,\"\",VLOOKUP(H319,Übersichtsblatt!$B$14:$E$24,2,FALSE)),\"\")","v":""},0,13.5]
[2023,"2023-11-14",{"$f":"IFERROR(IF(VLOOKUP($B320,Übersichtsblatt!$B$64:$E$68,2,FALSE)=0,\"\",VLOOKUP($B320,Übersichtsblatt!$B$64:$E$68,2,FALSE)),\"\")","v":""},0,-13.5,null,2023,"2023-11-14",{"$f":"IFERROR(IF(VLOOKUP($H320,Übersichtsblatt!$B$14:$E$24,2,FALSE)=0,\"\",VLOOKUP(H320,Übersichtsblatt!$B$14:$E$24,2,FALSE)),\"\")","v":""},0,13.5]
[2023,"2023-11-15",{"$f":"IFERROR(IF(VLOOKUP($B321,Übersichtsblatt!$B$64:$E$68,2,FALSE)=0,\"\",VLOOKUP($B321,Übersichtsblatt!$B$64:$E$68,2,FALSE)),\"\")","v":""},0,-13.5,null,2023,"2023-11-15",{"$f":"IFERROR(IF(VLOOKUP($H321,Übersichtsblatt!$B$14:$E$24,2,FALSE)=0,\"\",VLOOKUP(H321,Übersichtsblatt!$B$14:$E$24,2,FALSE)),\"\")","v":""},0,13.5]
[2023,"2023-11-16",{"$f":"IFERROR(IF(VLOOKUP($B322,Übersichtsblatt!$B$64:$E$68,2,FALSE)=0,\"\",VLOOKUP($B322,Übersichtsblatt!$B$64:$E$68,2,FALSE)),\"\")","v":""},0,-13.5,null,2023,"2023-11-16",{"$f":"IFERROR(IF(VLOOKUP($H322,Übersichtsblatt!$B$14:$E$24,2,FALSE)=0,\"\",VLOOKUP(H322,Übersichtsblatt!$B$14:$E$24,2,FALSE)),\"\")","v":""},0,13.5]
[2023,"2023-11-17",{"$f":"IFERROR(IF(VLOOKUP($B323,Übersichtsblatt!$B$64:$E$68,2,FALSE)=0,\"\",VLOOKUP($B323,Übersichtsblatt!$B$64:$E$68,2,FALSE)),\"\")","v":""},0,-13.5,null,2023,"2023-11-17",{"$f":"IFERROR(IF(VLOOKUP($H323,Übersichtsblatt!$B$14:$E$24,2,FALSE)=0,\"\",VLOOKUP(H323,Übersichtsblatt!$B$14:$E$24,2,FALSE)),\"\")","v":""},0,13.5]
[2023,"2023-11-18",{"$f":"IFERROR(IF(VLOOKUP($B324,Übersichtsblatt!$B$64:$E$68,2,FALSE)=0,\"\",VLOOKUP($B324,Übersichtsblatt!$B$64:$E$68,2,FALSE)),\"\")","v":""},{"$f":"IF($C324=\"\",0,$E324)","v":0},-13.5,null,2023,"2023-11-18",{"$f":"IFERROR(IF(VLOOKUP($H324,Übersichtsblatt!$B$14:$E$24,2,FALSE)=0,\"\",VLOOKUP(H324,Übersichtsblatt!$B$14:$E$24,2,FALSE)),\"\")","v":""},{"$f":"IF($I324=\"\",0,$K324)","v":0},13.5]
[{"$f":"YEAR(B325)","v":2023},{"$f":"B324+1","v":"2023-11-19"},{"$f":"IFERROR(IF(VLOOKUP($B325,Übersichtsblatt!$B$64:$E$68,2,FALSE)=0,\"\",VLOOKUP($B325,Übersichtsblatt!$B$64:$E$68,2,FALSE)),\"\")","v":""},0,-13.5,null,{"$f":"YEAR(H325)","v":2023},{"$f":"H324+1","v":"2023-11-19"},{"$f":"IFERROR(IF(VLOOKUP($H325,Übersichtsblatt!$B$14:$E$24,2,FALSE)=0,\"\",VLOOKUP(H325,Übersichtsblatt!$B$14:$E$24,2,FALSE)),\"\")","v":""},0,13.5]
[2023,"2023-11-20",{"$f":"IFERROR(IF(VLOOKUP($B326,Übersichtsblatt!$B$64:$E$68,2,FALSE)=0,\"\",VLOOKUP($B326,Übersichtsblatt!$B$64:$E$68,2,FALSE)),\"\")","v":""},0,-13.5,null,2023,"2023-11-20",{"$f":"IFERROR(IF(VLOOKUP($H326,Übersichtsblatt!$B$14:$E$24,2,FALSE)=0,\"\",VLOOKUP(H326,Übersichtsblatt!$B$14:$E$24,2,FALSE)),\"\")","v":""},0,13.5]
[2023,"2023-11-21",{"$f":"IFERROR(IF(VLOOKUP($B327,Übersichtsblatt!$B$64:$E$68,2,FALSE)=0,\"\",VLOOKUP($B327,Übersichtsblatt!$B$64:$E$68,2,FALSE)),\"\")","v":""},0,-13.5,null,2023,"2023-11-21",{"$f":"IFERROR(IF(VLOOKUP($H327,Übersichtsblatt!$B$14:$E$24,2,FALSE)=0,\"\",VLOOKUP(H327,Übersichtsblatt!$B$14:$E$24,2,FALSE)),\"\")","v":""},0,13.5]
[2023,"2023-11-22",{"$f":"IFERROR(IF(VLOOKUP($B328,Übersichtsblatt!$B$64:$E$68,2,FALSE)=0,\"\",VLOOKUP($B328,Übersichtsblatt!$B$64:$E$68,2,FALSE)),\"\")","v":""},0,-13.5,null,2023,"2023-11-22",{"$f":"IFERROR(IF(VLOOKUP($H328,Übersichtsblatt!$B$14:$E$24,2,FALSE)=0,\"\",VLOOKUP(H328,Übersichtsblatt!$B$14:$E$24,2,FALSE)),\"\")","v":""},0,13.5]
[2023,"2023-11-23",{"$f":"IFERROR(IF(VLOOKUP($B329,Übersichtsblatt!$B$64:$E$68,2,FALSE)=0,\"\",VLOOKUP($B329,Übersichtsblatt!$B$64:$E$68,2,FALSE)),\"\")","v":""},0,-13.5,null,2023,"2023-11-23",{"$f":"IFERROR(IF(VLOOKUP($H329,Übersichtsblatt!$B$14:$E$24,2,FALSE)=0,\"\",VLOOKUP(H329,Übersichtsblatt!$B$14:$E$24,2,FALSE)),\"\")","v":""},0,13.5]
[2023,"2023-11-24",{"$f":"IFERROR(IF(VLOOKUP($B330,Übersichtsblatt!$B$64:$E$68,2,FALSE)=0,\"\",VLOOKUP($B330,Übersichtsblatt!$B$64:$E$68,2,FALSE)),\"\")","v":""},0,-13.5,null,2023,"2023-11-24",{"$f":"IFERROR(IF(VLOOKUP($H330,Übersichtsblatt!$B$14:$E$24,2,FALSE)=0,\"\",VLOOKUP(H330,Übersichtsblatt!$B$14:$E$24,2,FALSE)),\"\")","v":""},0,13.5]
[2023,"2023-11-25",{"$f":"IFERROR(IF(VLOOKUP($B331,Übersichtsblatt!$B$64:$E$68,2,FALSE)=0,\"\",VLOOKUP($B331,Übersichtsblatt!$B$64:$E$68,2,FALSE)),\"\")","v":""},0,-13.5,null,2023,"2023-11-25",{"$f":"IFERROR(IF(VLOOKUP($H331,Übersichtsblatt!$B$14:$E$24,2,FALSE)=0,\"\",VLOOKUP(H331,Übersichtsblatt!$B$14:$E$24,2,FALSE)),\"\")","v":""},0,13.5]
[2023,"2023-11-26",{"$f":"IFERROR(IF(VLOOKUP($B332,Übersichtsblatt!$B$64:$E$68,2,FALSE)=0,\"\",VLOOKUP($B332,Übersichtsblatt!$B$64:$E$68,2,FALSE)),\"\")","v":""},0,-13.5,null,2023,"2023-11-26",{"$f":"IFERROR(IF(VLOOKUP($H332,Übersichtsblatt!$B$14:$E$24,2,FALSE)=0,\"\",VLOOKUP(H332,Übersichtsblatt!$B$14:$E$24,2,FALSE)),\"\")","v":""},0,13.5]
[2023,"2023-11-27",{"$f":"IFERROR(IF(VLOOKUP($B333,Übersichtsblatt!$B$64:$E$68,2,FALSE)=0,\"\",VLOOKUP($B333,Übersichtsblatt!$B$64:$E$68,2,FALSE)),\"\")","v":""},0,-13.5,null,2023,"2023-11-27",{"$f":"IFERROR(IF(VLOOKUP($H333,Übersichtsblatt!$B$14:$E$24,2,FALSE)=0,\"\",VLOOKUP(H333,Übersichtsblatt!$B$14:$E$24,2,FALSE)),\"\")","v":""},0,13.5]
[2023,"2023-11-28",{"$f":"IFERROR(IF(VLOOKUP($B334,Übersichtsblatt!$B$64:$E$68,2,FALSE)=0,\"\",VLOOKUP($B334,Übersichtsblatt!$B$64:$E$68,2,FALSE)),\"\")","v":""},0,-13.5,null,2023,"2023-11-28",{"$f":"IFERROR(IF(VLOOKUP($H334,Übersichtsblatt!$B$14:$E$24,2,FALSE)=0,\"\",VLOOKUP(H334,Übersichtsblatt!$B$14:$E$24,2,FALSE)),\"\")","v":""},0,13.5]
[2023,"2023-11-29",{"$f":"IFERROR(IF(VLOOKUP($B335,Übersichtsblatt!$B$64:$E$68,2,FALSE)=0,\"\",VLOOKUP($B335,Übersichtsblatt!$B$64:$E$68,2,FALSE)),\"\")","v":""},0,-13.5,null,2023,"2023-11-29",{"$f":"IFERROR(IF(VLOOKUP($H335,Übersichtsblatt!$B$14:$E$24,2,FALSE)=0,\"\",VLOOKUP(H335,Übersichtsblatt!$B$14:$E$24,2,FALSE)),\"\")","v":""},0,13.5]
[2023,"2023-11-30",{"$f":"IFERROR(IF(VLOOKUP($B336,Übersichtsblatt!$B$64:$E$68,2,FALSE)=0,\"\",VLOOKUP($B336,Übersichtsblatt!$B$64:$E$68,2,FALSE)),\"\")","v":""},0,-13.5,null,2023,"2023-11-30",{"$f":"IFERROR(IF(VLOOKUP($H336,Übersichtsblatt!$B$14:$E$24,2,FALSE)=0,\"\",VLOOKUP(H336,Übersichtsblatt!$B$14:$E$24,2,FALSE)),\"\")","v":""},0,13.5]
[2023,"2023-12-01",{"$f":"IFERROR(IF(VLOOKUP($B337,Übersichtsblatt!$B$64:$E$68,2,FALSE)=0,\"\",VLOOKUP($B337,Übersichtsblatt!$B$64:$E$68,2,FALSE)),\"\")","v":""},0,-10.5,null,2023,"2023-12-01",{"$f":"IFERROR(IF(VLOOKUP($H337,Übersichtsblatt!$B$14:$E$24,2,FALSE)=0,\"\",VLOOKUP(H337,Übersichtsblatt!$B$14:$E$24,2,FALSE)),\"\")","v":""},0,10.5]
[2023,"2023-12-02",{"$f":"IFERROR(IF(VLOOKUP($B338,Übersichtsblatt!$B$64:$E$68,2,FALSE)=0,\"\",VLOOKUP($B338,Übersichtsblatt!$B$64:$E$68,2,FALSE)),\"\")","v":""},0,-10.5,null,2023,"2023-12-02",{"$f":"IFERROR(IF(VLOOKUP($H338,Übersichtsblatt!$B$14:$E$24,2,FALSE)=0,\"\",VLOOKUP(H338,Übersichtsblatt!$B$14:$E$24,2,FALSE)),\"\")","v":""},0,10.5]
[2023,"2023-12-03",{"$f":"IFERROR(IF(VLOOKUP($B339,Übersichtsblatt!$B$64:$E$68,2,FALSE)=0,\"\",VLOOKUP($B339,Übersichtsblatt!$B$64:$E$68,2,FALSE)),\"\")","v":""},0,-10.5,null,2023,"2023-12-03",{"$f":"IFERROR(IF(VLOOKUP($H339,Übersichtsblatt!$B$14:$E$24,2,FALSE)=0,\"\",VLOOKUP(H339,Übersichtsblatt!$B$14:$E$24,2,FALSE)),\"\")","v":""},0,10.5]
[2023,"2023-12-04",{"$f":"IFERROR(IF(VLOOKUP($B340,Übersichtsblatt!$B$64:$E$68,2,FALSE)=0,\"\",VLOOKUP($B340,Übersichtsblatt!$B$64:$E$68,2,FALSE)),\"\")","v":""},0,-10.5,null,2023,"2023-12-04",{"$f":"IFERROR(IF(VLOOKUP($H340,Übersichtsblatt!$B$14:$E$24,2,FALSE)=0,\"\",VLOOKUP(H340,Übersichtsblatt!$B$14:$E$24,2,FALSE)),\"\")","v":""},0,10.5]
[2023,"2023-12-05",{"$f":"IFERROR(IF(VLOOKUP($B341,Übersichtsblatt!$B$64:$E$68,2,FALSE)=0,\"\",VLOOKUP($B341,Übersichtsblatt!$B$64:$E$68,2,FALSE)),\"\")","v":""},0,-10.5,null,2023,"2023-12-05",{"$f":"IFERROR(IF(VLOOKUP($H341,Übersichtsblatt!$B$14:$E$24,2,FALSE)=0,\"\",VLOOKUP(H341,Übersichtsblatt!$B$14:$E$24,2,FALSE)),\"\")","v":""},0,10.5]
[2023,"2023-12-06",{"$f":"IFERROR(IF(VLOOKUP($B342,Übersichtsblatt!$B$64:$E$68,2,FALSE)=0,\"\",VLOOKUP($B342,Übersichtsblatt!$B$64:$E$68,2,FALSE)),\"\")","v":""},0,-10.5,null,2023,"2023-12-06",{"$f":"IFERROR(IF(VLOOKUP($H342,Übersichtsblatt!$B$14:$E$24,2,FALSE)=0,\"\",VLOOKUP(H342,Übersichtsblatt!$B$14:$E$24,2,FALSE)),\"\")","v":""},0,10.5]
[2023,"2023-12-07",{"$f":"IFERROR(IF(VLOOKUP($B343,Übersichtsblatt!$B$64:$E$68,2,FALSE)=0,\"\",VLOOKUP($B343,Übersichtsblatt!$B$64:$E$68,2,FALSE)),\"\")","v":""},0,-10.5,null,2023,"2023-12-07",{"$f":"IFERROR(IF(VLOOKUP($H343,Übersichtsblatt!$B$14:$E$24,2,FALSE)=0,\"\",VLOOKUP(H343,Übersichtsblatt!$B$14:$E$24,2,FALSE)),\"\")","v":""},0,10.5]
[2023,"2023-12-08",{"$f":"IFERROR(IF(VLOOKUP($B344,Übersichtsblatt!$B$64:$E$68,2,FALSE)=0,\"\",VLOOKUP($B344,Übersichtsblatt!$B$64:$E$68,2,FALSE)),\"\")","v":""},0,-10.5,null,2023,"2023-12-08",{"$f":"IFERROR(IF(VLOOKUP($H344,Übersichtsblatt!$B$14:$E$24,2,FALSE)=0,\"\",VLOOKUP(H344,Übersichtsblatt!$B$14:$E$24,2,FALSE)),\"\")","v":""},0,10.5]
[2023,"2023-12-09",{"$f":"IFERROR(IF(VLOOKUP($B345,Übersichtsblatt!$B$64:$E$68,2,FALSE)=0,\"\",VLOOKUP($B345,Übersichtsblatt!$B$64:$E$68,2,FALSE)),\"\")","v":""},0,-10.5,null,2023,"2023-12-09",{"$f":"IFERROR(IF(VLOOKUP($H345,Übersichtsblatt!$B$14:$E$24,2,FALSE)=0,\"\",VLOOKUP(H345,Übersichtsblatt!$B$14:$E$24,2,FALSE)),\"\")","v":""},0,10.5]
[2023,"2023-12-10",{"$f":"IFERROR(IF(VLOOKUP($B346,Übersichtsblatt!$B$64:$E$68,2,FALSE)=0,\"\",VLOOKUP($B346,Übersichtsblatt!$B$64:$E$68,2,FALSE)),\"\")","v":""},0,-10.5,null,2023,"2023-12-10",{"$f":"IFERROR(IF(VLOOKUP($H346,Übersichtsblatt!$B$14:$E$24,2,FALSE)=0,\"\",VLOOKUP(H346,Übersichtsblatt!$B$14:$E$24,2,FALSE)),\"\")","v":""},0,10.5]
[2023,"2023-12-11",{"$f":"IFERROR(IF(VLOOKUP($B347,Übersichtsblatt!$B$64:$E$68,2,FALSE)=0,\"\",VLOOKUP($B347,Übersichtsblatt!$B$64:$E$68,2,FALSE)),\"\")","v":""},0,-10.5,null,2023,"2023-12-11",{"$f":"IFERROR(IF(VLOOKUP($H347,Übersichtsblatt!$B$14:$E$24,2,FALSE)=0,\"\",VLOOKUP(H347,Übersichtsblatt!$B$14:$E$24,2,FALSE)),\"\")","v":""},0,10.5]
[2023,"2023-12-12",{"$f":"IFERROR(IF(VLOOKUP($B348,Übersichtsblatt!$B$64:$E$68,2,FALSE)=0,\"\",VLOOKUP($B348,Übersichtsblatt!$B$64:$E$68,2,FALSE)),\"\")","v":""},0,-10.5,null,2023,"2023-12-12",{"$f":"IFERROR(IF(VLOOKUP($H348,Übersichtsblatt!$B$14:$E$24,2,FALSE)=0,\"\",VLOOKUP(H348,Übersichtsblatt!$B$14:$E$24,2,FALSE)),\"\")","v":""},0,10.5]
[2023,"2023-12-13",{"$f":"IFERROR(IF(VLOOKUP($B349,Übersichtsblatt!$B$64:$E$68,2,FALSE)=0,\"\",VLOOKUP($B349,Übersichtsblatt!$B$64:$E$68,2,FALSE)),\"\")","v":""},0,-10.5,null,2023,"2023-12-13",{"$f":"IFERROR(IF(VLOOKUP($H349,Übersichtsblatt!$B$14:$E$24,2,FALSE)=0,\"\",VLOOKUP(H349,Übersichtsblatt!$B$14:$E$24,2,FALSE)),\"\")","v":""},0,10.5]
[2023,"2023-12-14",{"$f":"IFERROR(IF(VLOOKUP($B350,Übersichtsblatt!$B$64:$E$68,2,FALSE)=0,\"\",VLOOKUP($B350,Übersichtsblatt!$B$64:$E$68,2,FALSE)),\"\")","v":""},0,-10.5,null,2023,"2023-12-14",{"$f":"IFERROR(IF(VLOOKUP($H350,Übersichtsblatt!$B$14:$E$24,2,FALSE)=0,\"\",VLOOKUP(H350,Übersichtsblatt!$B$14:$E$24,2,FALSE)),\"\")","v":""},0,10.5]
[2023,"2023-12-15",{"$f":"IFERROR(IF(VLOOKUP($B351,Übersichtsblatt!$B$64:$E$68,2,FALSE)=0,\"\",VLOOKUP($B351,Übersichtsblatt!$B$64:$E$68,2,FALSE)),\"\")","v":""},0,-10.5,null,2023,"2023-12-15",{"$f":"IFERROR(IF(VLOOKUP($H351,Übersichtsblatt!$B$14:$E$24,2,FALSE)=0,\"\",VLOOKUP(H351,Übersichtsblatt!$B$14:$E$24,2,FALSE)),\"\")","v":""},0,10.5]
[2023,"2023-12-16",{"$f":"IFERROR(IF(VLOOKUP($B352,Übersichtsblatt!$B$64:$E$68,2,FALSE)=0,\"\",VLOOKUP($B352,Übersichtsblatt!$B$64:$E$68,2,FALSE)),\"\")","v":""},0,-10.5,null,2023,"2023-12-16",{"$f":"IFERROR(IF(VLOOKUP($H352,Übersichtsblatt!$B$14:$E$24,2,FALSE)=0,\"\",VLOOKUP(H352,Übersichtsblatt!$B$14:$E$24,2,FALSE)),\"\")","v":""},0,10.5]
[2023,"2023-12-17",{"$f":"IFERROR(IF(VLOOKUP($B353,Übersichtsblatt!$B$64:$E$68,2,FALSE)=0,\"\",VLOOKUP($B353,Übersichtsblatt!$B$64:$E$68,2,FALSE)),\"\")","v":""},0,-10.5,null,2023,"2023-12-17",{"$f":"IFERROR(IF(VLOOKUP($H353,Übersichtsblatt!$B$14:$E$24,2,FALSE)=0,\"\",VLOOKUP(H353,Übersichtsblatt!$B$14:$E$24,2,FALSE)),\"\")","v":""},0,10.5]
[2023,"2023-12-18",{"$f":"IFERROR(IF(VLOOKUP($B354,Übersichtsblatt!$B$64:$E$68,2,FALSE)=0,\"\",VLOOKUP($B354,Übersichtsblatt!$B$64:$E$68,2,FALSE)),\"\")","v":""},0,-10.5,null,2023,"2023-12-18",{"$f":"IFERROR(IF(VLOOKUP($H354,Übersichtsblatt!$B$14:$E$24,2,FALSE)=0,\"\",VLOOKUP(H354,Übersichtsblatt!$B$14:$E$24,2,FALSE)),\"\")","v":""},0,10.5]
[2023,"2023-12-19",{"$f":"IFERROR(IF(VLOOKUP($B355,Übersichtsblatt!$B$64:$E$68,2,FALSE)=0,\"\",VLOOKUP($B355,Übersichtsblatt!$B$64:$E$68,2,FALSE)),\"\")","v":""},0,-10.5,null,2023,"2023-12-19",{"$f":"IFERROR(IF(VLOOKUP($H355,Übersichtsblatt!$B$14:$E$24,2,FALSE)=0,\"\",VLOOKUP(H355,Übersichtsblatt!$B$14:$E$24,2,FALSE)),\"\")","v":""},0,10.5]
[2023,"2023-12-20",{"$f":"IFERROR(IF(VLOOKUP($B356,Übersichtsblatt!$B$64:$E$68,2,FALSE)=0,\"\",VLOOKUP($B356,Übersichtsblatt!$B$64:$E$68,2,FALSE)),\"\")","v":""},0,-10.5,null,2023,"2023-12-20",{"$f":"IFERROR(IF(VLOOKUP($H356,Übersichtsblatt!$B$14:$E$24,2,FALSE)=0,\"\",VLOOKUP(H356,Übersichtsblatt!$B$14:$E$24,2,FALSE)),\"\")","v":""},0,10.5]
[2023,"2023-12-21",{"$f":"IFERROR(IF(VLOOKUP($B357,Übersichtsblatt!$B$64:$E$68,2,FALSE)=0,\"\",VLOOKUP($B357,Übersichtsblatt!$B$64:$E$68,2,FALSE)),\"\")","v":""},0,-10.5,null,2023,"2023-12-21",{"$f":"IFERROR(IF(VLOOKUP($H357,Übersichtsblatt!$B$14:$E$24,2,FALSE)=0,\"\",VLOOKUP(H357,Übersichtsblatt!$B$14:$E$24,2,FALSE)),\"\")","v":""},0,10.5]
[2023,"2023-12-22",{"$f":"IFERROR(IF(VLOOKUP($B358,Übersichtsblatt!$B$64:$E$68,2,FALSE)=0,\"\",VLOOKUP($B358,Übersichtsblatt!$B$64:$E$68,2,FALSE)),\"\")","v":""},0,-10.5,null,2023,"2023-12-22",{"$f":"IFERROR(IF(VLOOKUP($H358,Übersichtsblatt!$B$14:$E$24,2,FALSE)=0,\"\",VLOOKUP(H358,Übersichtsblatt!$B$14:$E$24,2,FALSE)),\"\")","v":""},0,10.5]
[2023,"2023-12-23",{"$f":"IFERROR(IF(VLOOKUP($B359,Übersichtsblatt!$B$64:$E$68,2,FALSE)=0,\"\",VLOOKUP($B359,Übersichtsblatt!$B$64:$E$68,2,FALSE)),\"\")","v":""},0,-10.5,null,2023,"2023-12-23",{"$f":"IFERROR(IF(VLOOKUP($H359,Übersichtsblatt!$B$14:$E$24,2,FALSE)=0,\"\",VLOOKUP(H359,Übersichtsblatt!$B$14:$E$24,2,FALSE)),\"\")","v":""},0,10.5]
[2023,"2023-12-24",{"$f":"IFERROR(IF(VLOOKUP($B360,Übersichtsblatt!$B$64:$E$68,2,FALSE)=0,\"\",VLOOKUP($B360,Übersichtsblatt!$B$64:$E$68,2,FALSE)),\"\")","v":""},0,-10.5,null,2023,"2023-12-24",{"$f":"IFERROR(IF(VLOOKUP($H360,Übersichtsblatt!$B$14:$E$24,2,FALSE)=0,\"\",VLOOKUP(H360,Übersichtsblatt!$B$14:$E$24,2,FALSE)),\"\")","v":""},0,10.5]
[2023,"2023-12-25",{"$f":"IFERROR(IF(VLOOKUP($B361,Übersichtsblatt!$B$64:$E$68,2,FALSE)=0,\"\",VLOOKUP($B361,Übersichtsblatt!$B$64:$E$68,2,FALSE)),\"\")","v":""},0,-10.5,null,2023,"2023-12-25",{"$f":"IFERROR(IF(VLOOKUP($H361,Übersichtsblatt!$B$14:$E$24,2,FALSE)=0,\"\",VLOOKUP(H361,Übersichtsblatt!$B$14:$E$24,2,FALSE)),\"\")","v":""},0,10.5]
[2023,"2023-12-26",{"$f":"IFERROR(IF(VLOOKUP($B362,Übersichtsblatt!$B$64:$E$68,2,FALSE)=0,\"\",VLOOKUP($B362,Übersichtsblatt!$B$64:$E$68,2,FALSE)),\"\")","v":""},0,-10.5,null,2023,"2023-12-26",{"$f":"IFERROR(IF(VLOOKUP($H362,Übersichtsblatt!$B$14:$E$24,2,FALSE)=0,\"\",VLOOKUP(H362,Übersichtsblatt!$B$14:$E$24,2,FALSE)),\"\")","v":""},0,10.5]
[2023,"2023-12-27",{"$f":"IFERROR(IF(VLOOKUP($B363,Übersichtsblatt!$B$64:$E$68,2,FALSE)=0,\"\",VLOOKUP($B363,Übersichtsblatt!$B$64:$E$68,2,FALSE)),\"\")","v":""},0,-10.5,null,2023,"2023-12-27",{"$f":"IFERROR(IF(VLOOKUP($H363,Übersichtsblatt!$B$14:$E$24,2,FALSE)=0,\"\",VLOOKUP(H363,Übersichtsblatt!$B$14:$E$24,2,FALSE)),\"\")","v":""},0,10.5]
[2023,"2023-12-28",{"$f":"IFERROR(IF(VLOOKUP($B364,Übersichtsblatt!$B$64:$E$68,2,FALSE)=0,\"\",VLOOKUP($B364,Übersichtsblatt!$B$64:$E$68,2,FALSE)),\"\")","v":""},0,-10.5,null,2023,"2023-12-28",{"$f":"IFERROR(IF(VLOOKUP($H364,Übersichtsblatt!$B$14:$E$24,2,FALSE)=0,\"\",VLOOKUP(H364,Übersichtsblatt!$B$14:$E$24,2,FALSE)),\"\")","v":""},0,10.5]
[2023,"2023-12-29",{"$f":"IFERROR(IF(VLOOKUP($B365,Übersichtsblatt!$B$64:$E$68,2,FALSE)=0,\"\",VLOOKUP($B365,Übersichtsblatt!$B$64:$E$68,2,FALSE)),\"\")","v":""},0,-10.5,null,2023,"2023-12-29",{"$f":"IFERROR(IF(VLOOKUP($H365,Übersichtsblatt!$B$14:$E$24,2,FALSE)=0,\"\",VLOOKUP(H365,Übersichtsblatt!$B$14:$E$24,2,FALSE)),\"\")","v":""},0,10.5]
[2023,"2023-12-30",{"$f":"IFERROR(IF(VLOOKUP($B366,Übersichtsblatt!$B$64:$E$68,2,FALSE)=0,\"\",VLOOKUP($B366,Übersichtsblatt!$B$64:$E$68,2,FALSE)),\"\")","v":""},0,-10.5,null,2023,"2023-12-30",{"$f":"IFERROR(IF(VLOOKUP($H366,Übersichtsblatt!$B$14:$E$24,2,FALSE)=0,\"\",VLOOKUP(H366,Übersichtsblatt!$B$14:$E$24,2,FALSE)),\"\")","v":""},0,10.5]
[2023,"2023-12-31",{"$f":"IFERROR(IF(VLOOKUP($B367,Übersichtsblatt!$B$64:$E$68,2,FALSE)=0,\"\",VLOOKUP($B367,Übersichtsblatt!$B$64:$E$68,2,FALSE)),\"\")","v":""},0,-10.5,null,2023,"2023-12-31",{"$f":"IFERROR(IF(VLOOKUP($H367,Übersichtsblatt!$B$14:$E$24,2,FALSE)=0,\"\",VLOOKUP(H367,Übersichtsblatt!$B$14:$E$24,2,FALSE)),\"\")","v":""},0,10.5]
[2024,"2024-01-01",{"$f":"IFERROR(IF(VLOOKUP($B368,Übersichtsblatt!$F$64:$I$68,2,FALSE)=0,\"\",VLOOKUP($B368,Übersichtsblatt!$F$64:$I$68,2,FALSE)),\"\")","v":""},0,-3.5,null,2024,"2024-01-01",{"$f":"IFERROR(IF(VLOOKUP($H368,Übersichtsblatt!$F$14:$I$24,2,FALSE)=0,\"\",VLOOKUP(H368,Übersichtsblatt!$F$14:$I$24,2,FALSE)),\"\")","v":""},0,3.5]
[2024,"2024-01-02",{"$f":"IFERROR(IF(VLOOKUP($B369,Übersichtsblatt!$F$64:$I$68,2,FALSE)=0,\"\",VLOOKUP($B369,Übersichtsblatt!$F$64:$I$68,2,FALSE)),\"\")","v":""},0,-3.5,null,2024,"2024-01-02",{"$f":"IFERROR(IF(VLOOKUP($H369,Übersichtsblatt!$F$14:$I$24,2,FALSE)=0,\"\",VLOOKUP(H369,Übersichtsblatt!$F$14:$I$24,2,FALSE)),\"\")","v":""},0,3.5]
[2024,"2024-01-03",{"$f":"IFERROR(IF(VLOOKUP($B370,Übersichtsblatt!$F$64:$I$68,2,FALSE)=0,\"\",VLOOKUP($B370,Übersichtsblatt!$F$64:$I$68,2,FALSE)),\"\")","v":""},0,-3.5,null,2024,"2024-01-03",{"$f":"IFERROR(IF(VLOOKUP($H370,Übersichtsblatt!$F$14:$I$24,2,FALSE)=0,\"\",VLOOKUP(H370,Übersichtsblatt!$F$14:$I$24,2,FALSE)),\"\")","v":""},0,3.5]
[2024,"2024-01-04",{"$f":"IFERROR(IF(VLOOKUP($B371,Übersichtsblatt!$F$64:$I$68,2,FALSE)=0,\"\",VLOOKUP($B371,Übersichtsblatt!$F$64:$I$68,2,FALSE)),\"\")","v":""},0,-3.5,null,2024,"2024-01-04",{"$f":"IFERROR(IF(VLOOKUP($H371,Übersichtsblatt!$F$14:$I$24,2,FALSE)=0,\"\",VLOOKUP(H371,Übersichtsblatt!$F$14:$I$24,2,FALSE)),\"\")","v":""},0,3.5]
[2024,"2024-01-05",{"$f":"IFERROR(IF(VLOOKUP($B372,Übersichtsblatt!$F$64:$I$68,2,FALSE)=0,\"\",VLOOKUP($B372,Übersichtsblatt!$F$64:$I$68,2,FALSE)),\"\")","v":""},0,-3.5,null,2024,"2024-01-05",{"$f":"IFERROR(IF(VLOOKUP($H372,Übersichtsblatt!$F$14:$I$24,2,FALSE)=0,\"\",VLOOKUP(H372,Übersichtsblatt!$F$14:$I$24,2,FALSE)),\"\")","v":""},0,3.5]
[2024,"2024-01-06",{"$f":"IFERROR(IF(VLOOKUP($B373,Übersichtsblatt!$F$64:$I$68,2,FALSE)=0,\"\",VLOOKUP($B373,Übersichtsblatt!$F$64:$I$68,2,FALSE)),\"\")","v":""},0,-3.5,null,2024,"2024-01-06",{"$f":"IFERROR(IF(VLOOKUP($H373,Übersichtsblatt!$F$14:$I$24,2,FALSE)=0,\"\",VLOOKUP(H373,Übersichtsblatt!$F$14:$I$24,2,FALSE)),\"\")","v":""},0,3.5]
[2024,"2024-01-07",{"$f":"IFERROR(IF(VLOOKUP($B374,Übersichtsblatt!$F$64:$I$68,2,FALSE)=0,\"\",VLOOKUP($B374,Übersichtsblatt!$F$64:$I$68,2,FALSE)),\"\")","v":""},0,-3.5,null,2024,"2024-01-07",{"$f":"IFERROR(IF(VLOOKUP($H374,Übersichtsblatt!$F$14:$I$24,2,FALSE)=0,\"\",VLOOKUP(H374,Übersichtsblatt!$F$14:$I$24,2,FALSE)),\"\")","v":""},0,3.5]
[2024,"2024-01-08",{"$f":"IFERROR(IF(VLOOKUP($B375,Übersichtsblatt!$F$64:$I$68,2,FALSE)=0,\"\",VLOOKUP($B375,Übersichtsblatt!$F$64:$I$68,2,FALSE)),\"\")","v":""},0,-3.5,null,2024,"2024-01-08",{"$f":"IFERROR(IF(VLOOKUP($H375,Übersichtsblatt!$F$14:$I$24,2,FALSE)=0,\"\",VLOOKUP(H375,Übersichtsblatt!$F$14:$I$24,2,FALSE)),\"\")","v":""},0,3.5]
[2024,"2024-01-09",{"$f":"IFERROR(IF(VLOOKUP($B376,Übersichtsblatt!$F$64:$I$68,2,FALSE)=0,\"\",VLOOKUP($B376,Übersichtsblatt!$F$64:$I$68,2,FALSE)),\"\")","v":""},0,-3.5,null,2024,"2024-01-09",{"$f":"IFERROR(IF(VLOOKUP($H376,Übersichtsblatt!$F$14:$I$24,2,FALSE)=0,\"\",VLOOKUP(H376,Übersichtsblatt!$F$14:$I$24,2,FALSE)),\"\")","v":""},0,3.5]
[2024,"2024-01-10",{"$f":"IFERROR(IF(VLOOKUP($B377,Übersichtsblatt!$F$64:$I$68,2,FALSE)=0,\"\",VLOOKUP($B377,Übersichtsblatt!$F$64:$I$68,2,FALSE)),\"\")","v":""},0,-3.5,null,2024,"2024-01-10",{"$f":"IFERROR(IF(VLOOKUP($H377,Übersichtsblatt!$F$14:$I$24,2,FALSE)=0,\"\",VLOOKUP(H377,Übersichtsblatt!$F$14:$I$24,2,FALSE)),\"\")","v":""},0,3.5]
[2024,"2024-01-11",{"$f":"IFERROR(IF(VLOOKUP($B378,Übersichtsblatt!$F$64:$I$68,2,FALSE)=0,\"\",VLOOKUP($B378,Übersichtsblatt!$F$64:$I$68,2,FALSE)),\"\")","v":""},0,-3.5,null,2024,"2024-01-11",{"$f":"IFERROR(IF(VLOOKUP($H378,Übersichtsblatt!$F$14:$I$24,2,FALSE)=0,\"\",VLOOKUP(H378,Übersichtsblatt!$F$14:$I$24,2,FALSE)),\"\")","v":""},0,3.5]
[2024,"2024-01-12",{"$f":"IFERROR(IF(VLOOKUP($B379,Übersichtsblatt!$F$64:$I$68,2,FALSE)=0,\"\",VLOOKUP($B379,Übersichtsblatt!$F$64:$I$68,2,FALSE)),\"\")","v":""},0,-3.5,null,2024,"2024-01-12",{"$f":"IFERROR(IF(VLOOKUP($H379,Übersichtsblatt!$F$14:$I$24,2,FALSE)=0,\"\",VLOOKUP(H379,Übersichtsblatt!$F$14:$I$24,2,FALSE)),\"\")","v":""},0,3.5]
[2024,"2024-01-13",{"$f":"IFERROR(IF(VLOOKUP($B380,Übersichtsblatt!$F$64:$I$68,2,FALSE)=0,\"\",VLOOKUP($B380,Übersichtsblatt!$F$64:$I$68,2,FALSE)),\"\")","v":""},0,-3.5,null,2024,"2024-01-13",{"$f":"IFERROR(IF(VLOOKUP($H380,Übersichtsblatt!$F$14:$I$24,2,FALSE)=0,\"\",VLOOKUP(H380,Übersichtsblatt!$F$14:$I$24,2,FALSE)),\"\")","v":""},0,3.5]
[2024,"2024-01-14",{"$f":"IFERROR(IF(VLOOKUP($B381,Übersichtsblatt!$F$64:$I$68,2,FALSE)=0,\"\",VLOOKUP($B381,Übersichtsblatt!$F$64:$I$68,2,FALSE)),\"\")","v":""},0,-3.5,null,2024,"2024-01-14",{"$f":"IFERROR(IF(VLOOKUP($H381,Übersichtsblatt!$F$14:$I$24,2,FALSE)=0,\"\",VLOOKUP(H381,Übersichtsblatt!$F$14:$I$24,2,FALSE)),\"\")","v":""},0,3.5]
[2024,"2024-01-15",{"$f":"IFERROR(IF(VLOOKUP($B382,Übersichtsblatt!$F$64:$I$68,2,FALSE)=0,\"\",VLOOKUP($B382,Übersichtsblatt!$F$64:$I$68,2,FALSE)),\"\")","v":""},0,-3.5,null,2024,"2024-01-15",{"$f":"IFERROR(IF(VLOOKUP($H382,Übersichtsblatt!$F$14:$I$24,2,FALSE)=0,\"\",VLOOKUP(H382,Übersichtsblatt!$F$14:$I$24,2,FALSE)),\"\")","v":""},0,3.5]
[2024,"2024-01-16",{"$f":"IFERROR(IF(VLOOKUP($B383,Übersichtsblatt!$F$64:$I$68,2,FALSE)=0,\"\",VLOOKUP($B383,Übersichtsblatt!$F$64:$I$68,2,FALSE)),\"\")","v":""},0,-3.5,null,2024,"2024-01-16",{"$f":"IFERROR(IF(VLOOKUP($H383,Übersichtsblatt!$F$14:$I$24,2,FALSE)=0,\"\",VLOOKUP(H383,Übersichtsblatt!$F$14:$I$24,2,FALSE)),\"\")","v":""},0,3.5]
[2024,"2024-01-17",{"$f":"IFERROR(IF(VLOOKUP($B384,Übersichtsblatt!$F$64:$I$68,2,FALSE)=0,\"\",VLOOKUP($B384,Übersichtsblatt!$F$64:$I$68,2,FALSE)),\"\")","v":""},0,-3.5,null,2024,"2024-01-17",{"$f":"IFERROR(IF(VLOOKUP($H384,Übersichtsblatt!$F$14:$I$24,2,FALSE)=0,\"\",VLOOKUP(H384,Übersichtsblatt!$F$14:$I$24,2,FALSE)),\"\")","v":""},0,3.5]
[2024,"2024-01-18",{"$f":"IFERROR(IF(VLOOKUP($B385,Übersichtsblatt!$F$64:$I$68,2,FALSE)=0,\"\",VLOOKUP($B385,Übersichtsblatt!$F$64:$I$68,2,FALSE)),\"\")","v":""},0,-3.5,null,2024,"2024-01-18",{"$f":"IFERROR(IF(VLOOKUP($H385,Übersichtsblatt!$F$14:$I$24,2,FALSE)=0,\"\",VLOOKUP(H385,Übersichtsblatt!$F$14:$I$24,2,FALSE)),\"\")","v":""},0,3.5]
[2024,"2024-01-19",{"$f":"IFERROR(IF(VLOOKUP($B386,Übersichtsblatt!$F$64:$I$68,2,FALSE)=0,\"\",VLOOKUP($B386,Übersichtsblatt!$F$64:$I$68,2,FALSE)),\"\")","v":""},0,-3.5,null,2024,"2024-01-19",{"$f":"IFERROR(IF(VLOOKUP($H386,Übersichtsblatt!$F$14:$I$24,2,FALSE)=0,\"\",VLOOKUP(H386,Übersichtsblatt!$F$14:$I$24,2,FALSE)),\"\")","v":""},0,3.5]
[2024,"2024-01-20",{"$f":"IFERROR(IF(VLOOKUP($B387,Übersichtsblatt!$F$64:$I$68,2,FALSE)=0,\"\",VLOOKUP($B387,Übersichtsblatt!$F$64:$I$68,2,FALSE)),\"\")","v":""},0,-3.5,null,2024,"2024-01-20",{"$f":"IFERROR(IF(VLOOKUP($H387,Übersichtsblatt!$F$14:$I$24,2,FALSE)=0,\"\",VLOOKUP(H387,Übersichtsblatt!$F$14:$I$24,2,FALSE)),\"\")","v":""},0,3.5]
[2024,"2024-01-21",{"$f":"IFERROR(IF(VLOOKUP($B388,Übersichtsblatt!$F$64:$I$68,2,FALSE)=0,\"\",VLOOKUP($B388,Übersichtsblatt!$F$64:$I$68,2,FALSE)),\"\")","v":""},{"$f":"IF($C388=\"\",0,$E388)","v":0},-3.5,null,2024,"2024-01-21",{"$f":"IFERROR(IF(VLOOKUP($H388,Übersichtsblatt!$F$14:$I$24,2,FALSE)=0,\"\",VLOOKUP(H388,Übersichtsblatt!$F$14:$I$24,2,FALSE)),\"\")","v":""},{"$f":"IF($I388=\"\",0,$K388)","v":0},3.5]
[{"$f":"YEAR(B389)","v":2024},{"$f":"B388+1","v":"2024-01-22"},{"$f":"IFERROR(IF(VLOOKUP($B389,Übersichtsblatt!$F$64:$I$68,2,FALSE)=0,\"\",VLOOKUP($B389,Übersichtsblatt!$F$64:$I$68,2,FALSE)),\"\")","v":""},0,-3.5,null,{"$f":"YEAR(H389)","v":2024},{"$f":"H388+1","v":"2024-01-22"},{"$f":"IFERROR(IF(VLOOKUP($H389,Übersichtsblatt!$F$14:$I$24,2,FALSE)=0,\"\",VLOOKUP(H389,Übersichtsblatt!$F$14:$I$24,2,FALSE)),\"\")","v":""},0,3.5]
[2024,"2024-01-23",{"$f":"IFERROR(IF(VLOOKUP($B390,Übersichtsblatt!$F$64:$I$68,2,FALSE)=0,\"\",VLOOKUP($B390,Übersichtsblatt!$F$64:$I$68,2,FALSE)),\"\")","v":""},0,-3.5,null,2024,"2024-01-23",{"$f":"IFERROR(IF(VLOOKUP($H390,Übersichtsblatt!$F$14:$I$24,2,FALSE)=0,\"\",VLOOKUP(H390,Übersichtsblatt!$F$14:$I$24,2,FALSE)),\"\")","v":""},0,3.5]
[2024,"2024-01-24",{"$f":"IFERROR(IF(VLOOKUP($B391,Übersichtsblatt!$F$64:$I$68,2,FALSE)=0,\"\",VLOOKUP($B391,Übersichtsblatt!$F$64:$I$68,2,FALSE)),\"\")","v":""},0,-3.5,null,2024,"2024-01-24",{"$f":"IFERROR(IF(VLOOKUP($H391,Übersichtsblatt!$F$14:$I$24,2,FALSE)=0,\"\",VLOOKUP(H391,Übersichtsblatt!$F$14:$I$24,2,FALSE)),\"\")","v":""},0,3.5]
[2024,"2024-01-25",{"$f":"IFERROR(IF(VLOOKUP($B392,Übersichtsblatt!$F$64:$I$68,2,FALSE)=0,\"\",VLOOKUP($B392,Übersichtsblatt!$F$64:$I$68,2,FALSE)),\"\")","v":""},0,-3.5,null,2024,"2024-01-25",{"$f":"IFERROR(IF(VLOOKUP($H392,Übersichtsblatt!$F$14:$I$24,2,FALSE)=0,\"\",VLOOKUP(H392,Übersichtsblatt!$F$14:$I$24,2,FALSE)),\"\")","v":""},0,3.5]
[2024,"2024-01-26",{"$f":"IFERROR(IF(VLOOKUP($B393,Übersichtsblatt!$F$64:$I$68,2,FALSE)=0,\"\",VLOOKUP($B393,Übersichtsblatt!$F$64:$I$68,2,FALSE)),\"\")","v":""},0,-3.5,null,2024,"2024-01-26",{"$f":"IFERROR(IF(VLOOKUP($H393,Übersichtsblatt!$F$14:$I$24,2,FALSE)=0,\"\",VLOOKUP(H393,Übersichtsblatt!$F$14:$I$24,2,FALSE)),\"\")","v":""},0,3.5]
[2024,"2024-01-27",{"$f":"IFERROR(IF(VLOOKUP($B394,Übersichtsblatt!$F$64:$I$68,2,FALSE)=0,\"\",VLOOKUP($B394,Übersichtsblatt!$F$64:$I$68,2,FALSE)),\"\")","v":""},0,-3.5,null,2024,"2024-01-27",{"$f":"IFERROR(IF(VLOOKUP($H394,Übersichtsblatt!$F$14:$I$24,2,FALSE)=0,\"\",VLOOKUP(H394,Übersichtsblatt!$F$14:$I$24,2,FALSE)),\"\")","v":""},0,3.5]
[2024,"2024-01-28",{"$f":"IFERROR(IF(VLOOKUP($B395,Übersichtsblatt!$F$64:$I$68,2,FALSE)=0,\"\",VLOOKUP($B395,Übersichtsblatt!$F$64:$I$68,2,FALSE)),\"\")","v":""},0,-3.5,null,2024,"2024-01-28",{"$f":"IFERROR(IF(VLOOKUP($H395,Übersichtsblatt!$F$14:$I$24,2,FALSE)=0,\"\",VLOOKUP(H395,Übersichtsblatt!$F$14:$I$24,2,FALSE)),\"\")","v":""},0,3.5]
[2024,"2024-01-29",{"$f":"IFERROR(IF(VLOOKUP($B396,Übersichtsblatt!$F$64:$I$68,2,FALSE)=0,\"\",VLOOKUP($B396,Übersichtsblatt!$F$64:$I$68,2,FALSE)),\"\")","v":""},0,-3.5,null,2024,"2024-01-29",{"$f":"IFERROR(IF(VLOOKUP($H396,Übersichtsblatt!$F$14:$I$24,2,FALSE)=0,\"\",VLOOKUP(H396,Übersichtsblatt!$F$14:$I$24,2,FALSE)),\"\")","v":""},0,3.5]
[2024,"2024-01-30",{"$f":"IFERROR(IF(VLOOKUP($B397,Übersichtsblatt!$F$64:$I$68,2,FALSE)=0,\"\",VLOOKUP($B397,Übersichtsblatt!$F$64:$I$68,2,FALSE)),\"\")","v":""},0,-3.5,null,2024,"2024-01-30",{"$f":"IFERROR(IF(VLOOKUP($H397,Übersichtsblatt!$F$14:$I$24,2,FALSE)=0,\"\",VLOOKUP(H397,Übersichtsblatt!$F$14:$I$24,2,FALSE)),\"\")","v":""},0,3.5]
[2024,"2024-01-31",{"$f":"IFERROR(IF(VLOOKUP($B398,Übersichtsblatt!$F$64:$I$68,2,FALSE)=0,\"\",VLOOKUP($B398,Übersichtsblatt!$F$64:$I$68,2,FALSE)),\"\")","v":""},0,-3.5,null,2024,"2024-01-31",{"$f":"IFERROR(IF(VLOOKUP($H398,Übersichtsblatt!$F$14:$I$24,2,FALSE)=0,\"\",VLOOKUP(H398,Übersichtsblatt!$F$14:$I$24,2,FALSE)),\"\")","v":""},0,3.5]
[2024,"2024-02-01",{"$f":"IFERROR(IF(VLOOKUP($B399,Übersichtsblatt!$F$64:$I$68,2,FALSE)=0,\"\",VLOOKUP($B399,Übersichtsblatt!$F$64:$I$68,2,FALSE)),\"\")","v":""},0,-12.5,null,2024,"2024-02-01",{"$f":"IFERROR(IF(VLOOKUP($H399,Übersichtsblatt!$F$14:$I$24,2,FALSE)=0,\"\",VLOOKUP(H399,Übersichtsblatt!$F$14:$I$24,2,FALSE)),\"\")","v":""},0,12.5]
[2024,"2024-02-02",{"$f":"IFERROR(IF(VLOOKUP($B400,Übersichtsblatt!$F$64:$I$68,2,FALSE)=0,\"\",VLOOKUP($B400,Übersichtsblatt!$F$64:$I$68,2,FALSE)),\"\")","v":""},0,-12.5,null,2024,"2024-02-02",{"$f":"IFERROR(IF(VLOOKUP($H400,Übersichtsblatt!$F$14:$I$24,2,FALSE)=0,\"\",VLOOKUP(H400,Übersichtsblatt!$F$14:$I$24,2,FALSE)),\"\")","v":""},0,12.5]
[2024,"2024-02-03",{"$f":"IFERROR(IF(VLOOKUP($B401,Übersichtsblatt!$F$64:$I$68,2,FALSE)=0,\"\",VLOOKUP($B401,Übersichtsblatt!$F$64:$I$68,2,FALSE)),\"\")","v":""},0,-12.5,null,2024,"2024-02-03",{"$f":"IFERROR(IF(VLOOKUP($H401,Übersichtsblatt!$F$14:$I$24,2,FALSE)=0,\"\",VLOOKUP(H401,Übersichtsblatt!$F$14:$I$24,2,FALSE)),\"\")","v":""},0,12.5]
[2024,"2024-02-04",{"$f":"IFERROR(IF(VLOOKUP($B402,Übersichtsblatt!$F$64:$I$68,2,FALSE)=0,\"\",VLOOKUP($B402,Übersichtsblatt!$F$64:$I$68,2,FALSE)),\"\")","v":""},0,-12.5,null,2024,"2024-02-04",{"$f":"IFERROR(IF(VLOOKUP($H402,Übersichtsblatt!$F$14:$I$24,2,FALSE)=0,\"\",VLOOKUP(H402,Übersichtsblatt!$F$14:$I$24,2,FALSE)),\"\")","v":""},0,12.5]
[2024,"2024-02-05",{"$f":"IFERROR(IF(VLOOKUP($B403,Übersichtsblatt!$F$64:$I$68,2,FALSE)=0,\"\",VLOOKUP($B403,Übersichtsblatt!$F$64:$I$68,2,FALSE)),\"\")","v":""},0,-12.5,null,2024,"2024-02-05",{"$f":"IFERROR(IF(VLOOKUP($H403,Übersichtsblatt!$F$14:$I$24,2,FALSE)=0,\"\",VLOOKUP(H403,Übersichtsblatt!$F$14:$I$24,2,FALSE)),\"\")","v":""},0,12.5]
[2024,"2024-02-06",{"$f":"IFERROR(IF(VLOOKUP($B404,Übersichtsblatt!$F$64:$I$68,2,FALSE)=0,\"\",VLOOKUP($B404,Übersichtsblatt!$F$64:$I$68,2,FALSE)),\"\")","v":""},0,-12.5,null,2024,"2024-02-06",{"$f":"IFERROR(IF(VLOOKUP($H404,Übersichtsblatt!$F$14:$I$24,2,FALSE)=0,\"\",VLOOKUP(H404,Übersichtsblatt!$F$14:$I$24,2,FALSE)),\"\")","v":""},0,12.5]
[2024,"2024-02-07",{"$f":"IFERROR(IF(VLOOKUP($B405,Übersichtsblatt!$F$64:$I$68,2,FALSE)=0,\"\",VLOOKUP($B405,Übersichtsblatt!$F$64:$I$68,2,FALSE)),\"\")","v":""},0,-12.5,null,2024,"2024-02-07",{"$f":"IFERROR(IF(VLOOKUP($H405,Übersichtsblatt!$F$14:$I$24,2,FALSE)=0,\"\",VLOOKUP(H405,Übersichtsblatt!$F$14:$I$24,2,FALSE)),\"\")","v":""},0,12.5]
[2024,"2024-02-08",{"$f":"IFERROR(IF(VLOOKUP($B406,Übersichtsblatt!$F$64:$I$68,2,FALSE)=0,\"\",VLOOKUP($B406,Übersichtsblatt!$F$64:$I$68,2,FALSE)),\"\")","v":""},0,-12.5,null,2024,"2024-02-08",{"$f":"IFERROR(IF(VLOOKUP($H406,Übersichtsblatt!$F$14:$I$24,2,FALSE)=0,\"\",VLOOKUP(H406,Übersichtsblatt!$F$14:$I$24,2,FALSE)),\"\")","v":""},0,12.5]
[2024,"2024-02-09",{"$f":"IFERROR(IF(VLOOKUP($B407,Übersichtsblatt!$F$64:$I$68,2,FALSE)=0,\"\",VLOOKUP($B407,Übersichtsblatt!$F$64:$I$68,2,FALSE)),\"\")","v":""},0,-12.5,null,2024,"2024-02-09",{"$f":"IFERROR(IF(VLOOKUP($H407,Übersichtsblatt!$F$14:$I$24,2,FALSE)=0,\"\",VLOOKUP(H407,Übersichtsblatt!$F$14:$I$24,2,FALSE)),\"\")","v":""},0,12.5]
[2024,"2024-02-10",{"$f":"IFERROR(IF(VLOOKUP($B408,Übersichtsblatt!$F$64:$I$68,2,FALSE)=0,\"\",VLOOKUP($B408,Übersichtsblatt!$F$64:$I$68,2,FALSE)),\"\")","v":""},0,-12.5,null,2024,"2024-02-10",{"$f":"IFERROR(IF(VLOOKUP($H408,Übersichtsblatt!$F$14:$I$24,2,FALSE)=0,\"\",VLOOKUP(H408,Übersichtsblatt!$F$14:$I$24,2,FALSE)),\"\")","v":""},0,12.5]
[2024,"2024-02-11",{"$f":"IFERROR(IF(VLOOKUP($B409,Übersichtsblatt!$F$64:$I$68,2,FALSE)=0,\"\",VLOOKUP($B409,Übersichtsblatt!$F$64:$I$68,2,FALSE)),\"\")","v":""},0,-12.5,null,2024,"2024-02-11",{"$f":"IFERROR(IF(VLOOKUP($H409,Übersichtsblatt!$F$14:$I$24,2,FALSE)=0,\"\",VLOOKUP(H409,Übersichtsblatt!$F$14:$I$24,2,FALSE)),\"\")","v":""},0,12.5]
[2024,"2024-02-12",{"$f":"IFERROR(IF(VLOOKUP($B410,Übersichtsblatt!$F$64:$I$68,2,FALSE)=0,\"\",VLOOKUP($B410,Übersichtsblatt!$F$64:$I$68,2,FALSE)),\"\")","v":""},0,-12.5,null,2024,"2024-02-12",{"$f":"IFERROR(IF(VLOOKUP($H410,Übersichtsblatt!$F$14:$I$24,2,FALSE)=0,\"\",VLOOKUP(H410,Übersichtsblatt!$F$14:$I$24,2,FALSE)),\"\")","v":""},0,12.5]
[2024,"2024-02-13",{"$f":"IFERROR(IF(VLOOKUP($B411,Übersichtsblatt!$F$64:$I$68,2,FALSE)=0,\"\",VLOOKUP($B411,Übersichtsblatt!$F$64:$I$68,2,FALSE)),\"\")","v":""},0,-12.5,null,2024,"2024-02-13",{"$f":"IFERROR(IF(VLOOKUP($H411,Übersichtsblatt!$F$14:$I$24,2,FALSE)=0,\"\",VLOOKUP(H411,Übersichtsblatt!$F$14:$I$24,2,FALSE)),\"\")","v":""},0,12.5]
[2024,"2024-02-14",{"$f":"IFERROR(IF(VLOOKUP($B412,Übersichtsblatt!$F$64:$I$68,2,FALSE)=0,\"\",VLOOKUP($B412,Übersichtsblatt!$F$64:$I$68,2,FALSE)),\"\")","v":""},0,-12.5,null,2024,"2024-02-14",{"$f":"IFERROR(IF(VLOOKUP($H412,Übersichtsblatt!$F$14:$I$24,2,FALSE)=0,\"\",VLOOKUP(H412,Übersichtsblatt!$F$14:$I$24,2,FALSE)),\"\")","v":""},0,12.5]
[2024,"2024-02-15",{"$f":"IFERROR(IF(VLOOKUP($B413,Übersichtsblatt!$F$64:$I$68,2,FALSE)=0,\"\",VLOOKUP($B413,Übersichtsblatt!$F$64:$I$68,2,FALSE)),\"\")","v":""},0,-12.5,null,2024,"2024-02-15",{"$f":"IFERROR(IF(VLOOKUP($H413,Übersichtsblatt!$F$14:$I$24,2,FALSE)=0,\"\",VLOOKUP(H413,Übersichtsblatt!$F$14:$I$24,2,FALSE)),\"\")","v":""},0,12.5]
[2024,"2024-02-16",{"$f":"IFERROR(IF(VLOOKUP($B414,Übersichtsblatt!$F$64:$I$68,2,FALSE)=0,\"\",VLOOKUP($B414,Übersichtsblatt!$F$64:$I$68,2,FALSE)),\"\")","v":""},0,-12.5,null,2024,"2024-02-16",{"$f":"IFERROR(IF(VLOOKUP($H414,Übersichtsblatt!$F$14:$I$24,2,FALSE)=0,\"\",VLOOKUP(H414,Übersichtsblatt!$F$14:$I$24,2,FALSE)),\"\")","v":""},0,12.5]
[2024,"2024-02-17",{"$f":"IFERROR(IF(VLOOKUP($B415,Übersichtsblatt!$F$64:$I$68,2,FALSE)=0,\"\",VLOOKUP($B415,Übersichtsblatt!$F$64:$I$68,2,FALSE)),\"\")","v":""},0,-12.5,null,2024,"2024-02-17",{"$f":"IFERROR(IF(VLOOKUP($H415,Übersichtsblatt!$F$14:$I$24,2,FALSE)=0,\"\",VLOOKUP(H415,Übersichtsblatt!$F$14:$I$24,2,FALSE)),\"\")","v":""},0,12.5]
[2024,"2024-02-18",{"$f":"IFERROR(IF(VLOOKUP($B416,Übersichtsblatt!$F$64:$I$68,2,FALSE)=0,\"\",VLOOKUP($B416,Übersichtsblatt!$F$64:$I$68,2,FALSE)),\"\")","v":""},0,-12.5,null,2024,"2024-02-18",{"$f":"IFERROR(IF(VLOOKUP($H416,Übersichtsblatt!$F$14:$I$24,2,FALSE)=0,\"\",VLOOKUP(H416,Übersichtsblatt!$F$14:$I$24,2,FALSE)),\"\")","v":""},0,12.5]
[2024,"2024-02-19",{"$f":"IFERROR(IF(VLOOKUP($B417,Übersichtsblatt!$F$64:$I$68,2,FALSE)=0,\"\",VLOOKUP($B417,Übersichtsblatt!$F$64:$I$68,2,FALSE)),\"\")","v":""},0,-12.5,null,2024,"2024-02-19",{"$f":"IFERROR(IF(VLOOKUP($H417,Übersichtsblatt!$F$14:$I$24,2,FALSE)=0,\"\",VLOOKUP(H417,Übersichtsblatt!$F$14:$I$24,2,FALSE)),\"\")","v":""},0,12.5]
[2024,"2024-02-20",{"$f":"IFERROR(IF(VLOOKUP($B418,Übersichtsblatt!$F$64:$I$68,2,FALSE)=0,\"\",VLOOKUP($B418,Übersichtsblatt!$F$64:$I$68,2,FALSE)),\"\")","v":""},0,-12.5,null,2024,"2024-02-20",{"$f":"IFERROR(IF(VLOOKUP($H418,Übersichtsblatt!$F$14:$I$24,2,FALSE)=0,\"\",VLOOKUP(H418,Übersichtsblatt!$F$14:$I$24,2,FALSE)),\"\")","v":""},0,12.5]
[2024,"2024-02-21",{"$f":"IFERROR(IF(VLOOKUP($B419,Übersichtsblatt!$F$64:$I$68,2,FALSE)=0,\"\",VLOOKUP($B419,Übersichtsblatt!$F$64:$I$68,2,FALSE)),\"\")","v":""},0,-12.5,null,2024,"2024-02-21",{"$f":"IFERROR(IF(VLOOKUP($H419,Übersichtsblatt!$F$14:$I$24,2,FALSE)=0,\"\",VLOOKUP(H419,Übersichtsblatt!$F$14:$I$24,2,FALSE)),\"\")","v":""},0,12.5]
[2024,"2024-02-22",{"$f":"IFERROR(IF(VLOOKUP($B420,Übersichtsblatt!$F$64:$I$68,2,FALSE)=0,\"\",VLOOKUP($B420,Übersichtsblatt!$F$64:$I$68,2,FALSE)),\"\")","v":""},0,-12.5,null,2024,"2024-02-22",{"$f":"IFERROR(IF(VLOOKUP($H420,Übersichtsblatt!$F$14:$I$24,2,FALSE)=0,\"\",VLOOKUP(H420,Übersichtsblatt!$F$14:$I$24,2,FALSE)),\"\")","v":""},0,12.5]
[2024,"2024-02-23",{"$f":"IFERROR(IF(VLOOKUP($B421,Übersichtsblatt!$F$64:$I$68,2,FALSE)=0,\"\",VLOOKUP($B421,Übersichtsblatt!$F$64:$I$68,2,FALSE)),\"\")","v":""},0,-12.5,null,2024,"2024-02-23",{"$f":"IFERROR(IF(VLOOKUP($H421,Übersichtsblatt!$F$14:$I$24,2,FALSE)=0,\"\",VLOOKUP(H421,Übersichtsblatt!$F$14:$I$24,2,FALSE)),\"\")","v":""},0,12.5]
[2024,"2024-02-24",{"$f":"IFERROR(IF(VLOOKUP($B422,Übersichtsblatt!$F$64:$I$68,2,FALSE)=0,\"\",VLOOKUP($B422,Übersichtsblatt!$F$64:$I$68,2,FALSE)),\"\")","v":""},0,-12.5,null,2024,"2024-02-24",{"$f":"IFERROR(IF(VLOOKUP($H422,Übersichtsblatt!$F$14:$I$24,2,FALSE)=0,\"\",VLOOKUP(H422,Übersichtsblatt!$F$14:$I$24,2,FALSE)),\"\")","v":""},0,12.5]
[2024,"2024-02-25",{"$f":"IFERROR(IF(VLOOKUP($B423,Übersichtsblatt!$F$64:$I$68,2,FALSE)=0,\"\",VLOOKUP($B423,Übersichtsblatt!$F$64:$I$68,2,FALSE)),\"\")","v":""},0,-12.5,null,2024,"2024-02-25",{"$f":"IFERROR(IF(VLOOKUP($H423,Übersichtsblatt!$F$14:$I$24,2,FALSE)=0,\"\",VLOOKUP(H423,Übersichtsblatt!$F$14:$I$24,2,FALSE)),\"\")","v":""},0,12.5]
[2024,"2024-02-26",{"$f":"IFERROR(IF(VLOOKUP($B424,Übersichtsblatt!$F$64:$I$68,2,FALSE)=0,\"\",VLOOKUP($B424,Übersichtsblatt!$F$64:$I$68,2,FALSE)),\"\")","v":""},0,-12.5,null,2024,"2024-02-26",{"$f":"IFERROR(IF(VLOOKUP($H424,Übersichtsblatt!$F$14:$I$24,2,FALSE)=0,\"\",VLOOKUP(H424,Übersichtsblatt!$F$14:$I$24,2,FALSE)),\"\")","v":""},0,12.5]
[2024,"2024-02-27",{"$f":"IFERROR(IF(VLOOKUP($B425,Übersichtsblatt!$F$64:$I$68,2,FALSE)=0,\"\",VLOOKUP($B425,Übersichtsblatt!$F$64:$I$68,2,FALSE)),\"\")","v":""},0,-12.5,null,2024,"2024-02-27",{"$f":"IFERROR(IF(VLOOKUP($H425,Übersichtsblatt!$F$14:$I$24,2,FALSE)=0,\"\",VLOOKUP(H425,Übersichtsblatt!$F$14:$I$24,2,FALSE)),\"\")","v":""},0,12.5]
[2024,"2024-02-28",{"$f":"IFERROR(IF(VLOOKUP($B426,Übersichtsblatt!$F$64:$I$68,2,FALSE)=0,\"\",VLOOKUP($B426,Übersichtsblatt!$F$64:$I$68,2,FALSE)),\"\")","v":""},0,-12.5,null,2024,"2024-02-28",{"$f":"IFERROR(IF(VLOOKUP($H426,Übersichtsblatt!$F$14:$I$24,2,FALSE)=0,\"\",VLOOKUP(H426,Übersichtsblatt!$F$14:$I$24,2,FALSE)),\"\")","v":""},0,12.5]
[2024,"2024-02-29",{"$f":"IFERROR(IF(VLOOKUP($B427,Übersichtsblatt!$F$64:$I$68,2,FALSE)=0,\"\",VLOOKUP($B427,Übersichtsblatt!$F$64:$I$68,2,FALSE)),\"\")","v":""},0,-12.5,null,2024,"2024-02-29",{"$f":"IFERROR(IF(VLOOKUP($H427,Übersichtsblatt!$F$14:$I$24,2,FALSE)=0,\"\",VLOOKUP(H427,Übersichtsblatt!$F$14:$I$24,2,FALSE)),\"\")","v":""},0,13.5]
[2024,{"$f":"DATE(A427,3,1)","v":"2024-03-01"},{"$f":"IFERROR(IF(VLOOKUP($B428,Übersichtsblatt!$F$64:$I$68,2,FALSE)=0,\"\",VLOOKUP($B428,Übersichtsblatt!$F$64:$I$68,2,FALSE)),\"\")","v":""},0,-6.5,null,2024,{"$f":"DATE(G427,3,1)","v":"2024-03-01"},{"$f":"IFERROR(IF(VLOOKUP($H428,Übersichtsblatt!$F$14:$I$24,2,FALSE)=0,\"\",VLOOKUP(H428,Übersichtsblatt!$F$14:$I$24,2,FALSE)),\"\")","v":""},0,6.5]
[2024,"2024-03-02",{"$f":"IFERROR(IF(VLOOKUP($B429,Übersichtsblatt!$F$64:$I$68,2,FALSE)=0,\"\",VLOOKUP($B429,Übersichtsblatt!$F$64:$I$68,2,FALSE)),\"\")","v":""},0,-6.5,null,2024,"2024-03-02",{"$f":"IFERROR(IF(VLOOKUP($H429,Übersichtsblatt!$F$14:$I$24,2,FALSE)=0,\"\",VLOOKUP(H429,Übersichtsblatt!$F$14:$I$24,2,FALSE)),\"\")","v":""},0,6.5]
[2024,"2024-03-03",{"$f":"IFERROR(IF(VLOOKUP($B430,Übersichtsblatt!$F$64:$I$68,2,FALSE)=0,\"\",VLOOKUP($B430,Übersichtsblatt!$F$64:$I$68,2,FALSE)),\"\")","v":""},0,-6.5,null,2024,"2024-03-03",{"$f":"IFERROR(IF(VLOOKUP($H430,Übersichtsblatt!$F$14:$I$24,2,FALSE)=0,\"\",VLOOKUP(H430,Übersichtsblatt!$F$14:$I$24,2,FALSE)),\"\")","v":""},0,6.5]
[2024,"2024-03-04",{"$f":"IFERROR(IF(VLOOKUP($B431,Übersichtsblatt!$F$64:$I$68,2,FALSE)=0,\"\",VLOOKUP($B431,Übersichtsblatt!$F$64:$I$68,2,FALSE)),\"\")","v":""},0,-6.5,null,2024,"2024-03-04",{"$f":"IFERROR(IF(VLOOKUP($H431,Übersichtsblatt!$F$14:$I$24,2,FALSE)=0,\"\",VLOOKUP(H431,Übersichtsblatt!$F$14:$I$24,2,FALSE)),\"\")","v":""},0,6.5]
[2024,"2024-03-05",{"$f":"IFERROR(IF(VLOOKUP($B432,Übersichtsblatt!$F$64:$I$68,2,FALSE)=0,\"\",VLOOKUP($B432,Übersichtsblatt!$F$64:$I$68,2,FALSE)),\"\")","v":""},0,-6.5,null,2024,"2024-03-05",{"$f":"IFERROR(IF(VLOOKUP($H432,Übersichtsblatt!$F$14:$I$24,2,FALSE)=0,\"\",VLOOKUP(H432,Übersichtsblatt!$F$14:$I$24,2,FALSE)),\"\")","v":""},0,6.5]
[2024,"2024-03-06",{"$f":"IFERROR(IF(VLOOKUP($B433,Übersichtsblatt!$F$64:$I$68,2,FALSE)=0,\"\",VLOOKUP($B433,Übersichtsblatt!$F$64:$I$68,2,FALSE)),\"\")","v":""},0,-6.5,null,2024,"2024-03-06",{"$f":"IFERROR(IF(VLOOKUP($H433,Übersichtsblatt!$F$14:$I$24,2,FALSE)=0,\"\",VLOOKUP(H433,Übersichtsblatt!$F$14:$I$24,2,FALSE)),\"\")","v":""},0,6.5]
[2024,"2024-03-07",{"$f":"IFERROR(IF(VLOOKUP($B434,Übersichtsblatt!$F$64:$I$68,2,FALSE)=0,\"\",VLOOKUP($B434,Übersichtsblatt!$F$64:$I$68,2,FALSE)),\"\")","v":""},0,-6.5,null,2024,"2024-03-07",{"$f":"IFERROR(IF(VLOOKUP($H434,Übersichtsblatt!$F$14:$I$24,2,FALSE)=0,\"\",VLOOKUP(H434,Übersichtsblatt!$F$14:$I$24,2,FALSE)),\"\")","v":""},0,6.5]
[2024,"2024-03-08",{"$f":"IFERROR(IF(VLOOKUP($B435,Übersichtsblatt!$F$64:$I$68,2,FALSE)=0,\"\",VLOOKUP($B435,Übersichtsblatt!$F$64:$I$68,2,FALSE)),\"\")","v":""},0,-6.5,null,2024,"2024-03-08",{"$f":"IFERROR(IF(VLOOKUP($H435,Übersichtsblatt!$F$14:$I$24,2,FALSE)=0,\"\",VLOOKUP(H435,Übersichtsblatt!$F$14:$I$24,2,FALSE)),\"\")","v":""},0,6.5]
[2024,"2024-03-09",{"$f":"IFERROR(IF(VLOOKUP($B436,Übersichtsblatt!$F$64:$I$68,2,FALSE)=0,\"\",VLOOKUP($B436,Übersichtsblatt!$F$64:$I$68,2,FALSE)),\"\")","v":""},0,-6.5,null,2024,"2024-03-09",{"$f":"IFERROR(IF(VLOOKUP($H436,Übersichtsblatt!$F$14:$I$24,2,FALSE)=0,\"\",VLOOKUP(H436,Übersichtsblatt!$F$14:$I$24,2,FALSE)),\"\")","v":""},0,6.5]
[2024,"2024-03-10",{"$f":"IFERROR(IF(VLOOKUP($B437,Übersichtsblatt!$F$64:$I$68,2,FALSE)=0,\"\",VLOOKUP($B437,Übersichtsblatt!$F$64:$I$68,2,FALSE)),\"\")","v":""},0,-6.5,null,2024,"2024-03-10",{"$f":"IFERROR(IF(VLOOKUP($H437,Übersichtsblatt!$F$14:$I$24,2,FALSE)=0,\"\",VLOOKUP(H437,Übersichtsblatt!$F$14:$I$24,2,FALSE)),\"\")","v":""},0,6.5]
[2024,"2024-03-11",{"$f":"IFERROR(IF(VLOOKUP($B438,Übersichtsblatt!$F$64:$I$68,2,FALSE)=0,\"\",VLOOKUP($B438,Übersichtsblatt!$F$64:$I$68,2,FALSE)),\"\")","v":""},0,-6.5,null,2024,"2024-03-11",{"$f":"IFERROR(IF(VLOOKUP($H438,Übersichtsblatt!$F$14:$I$24,2,FALSE)=0,\"\",VLOOKUP(H438,Übersichtsblatt!$F$14:$I$24,2,FALSE)),\"\")","v":""},0,6.5]
[2024,"2024-03-12",{"$f":"IFERROR(IF(VLOOKUP($B439,Übersichtsblatt!$F$64:$I$68,2,FALSE)=0,\"\",VLOOKUP($B439,Übersichtsblatt!$F$64:$I$68,2,FALSE)),\"\")","v":""},0,-6.5,null,2024,"2024-03-12",{"$f":"IFERROR(IF(VLOOKUP($H439,Übersichtsblatt!$F$14:$I$24,2,FALSE)=0,\"\",VLOOKUP(H439,Übersichtsblatt!$F$14:$I$24,2,FALSE)),\"\")","v":""},0,6.5]
[2024,"2024-03-13",{"$f":"IFERROR(IF(VLOOKUP($B440,Übersichtsblatt!$F$64:$I$68,2,FALSE)=0,\"\",VLOOKUP($B440,Übersichtsblatt!$F$64:$I$68,2,FALSE)),\"\")","v":""},0,-6.5,null,2024,"2024-03-13",{"$f":"IFERROR(IF(VLOOKUP($H440,Übersichtsblatt!$F$14:$I$24,2,FALSE)=0,\"\",VLOOKUP(H440,Übersichtsblatt!$F$14:$I$24,2,FALSE)),\"\")","v":""},0,6.5]
[2024,"2024-03-14",{"$f":"IFERROR(IF(VLOOKUP($B441,Übersichtsblatt!$F$64:$I$68,2,FALSE)=0,\"\",VLOOKUP($B441,Übersichtsblatt!$F$64:$I$68,2,FALSE)),\"\")","v":""},0,-6.5,null,2024,"2024-03-14",{"$f":"IFERROR(IF(VLOOKUP($H441,Übersichtsblatt!$F$14:$I$24,2,FALSE)=0,\"\",VLOOKUP(H441,Übersichtsblatt!$F$14:$I$24,2,FALSE)),\"\")","v":""},0,6.5]
[2024,"2024-03-15",{"$f":"IFERROR(IF(VLOOKUP($B442,Übersichtsblatt!$F$64:$I$68,2,FALSE)=0,\"\",VLOOKUP($B442,Übersichtsblatt!$F$64:$I$68,2,FALSE)),\"\")","v":""},0,-6.5,null,2024,"2024-03-15",{"$f":"IFERROR(IF(VLOOKUP($H442,Übersichtsblatt!$F$14:$I$24,2,FALSE)=0,\"\",VLOOKUP(H442,Übersichtsblatt!$F$14:$I$24,2,FALSE)),\"\")","v":""},0,6.5]
[2024,"2024-03-16",{"$f":"IFERROR(IF(VLOOKUP($B443,Übersichtsblatt!$F$64:$I$68,2,FALSE)=0,\"\",VLOOKUP($B443,Übersichtsblatt!$F$64:$I$68,2,FALSE)),\"\")","v":""},0,-6.5,null,2024,"2024-03-16",{"$f":"IFERROR(IF(VLOOKUP($H443,Übersichtsblatt!$F$14:$I$24,2,FALSE)=0,\"\",VLOOKUP(H443,Übersichtsblatt!$F$14:$I$24,2,FALSE)),\"\")","v":""},0,6.5]
[2024,"2024-03-17",{"$f":"IFERROR(IF(VLOOKUP($B444,Übersichtsblatt!$F$64:$I$68,2,FALSE)=0,\"\",VLOOKUP($B444,Übersichtsblatt!$F$64:$I$68,2,FALSE)),\"\")","v":""},0,-6.5,null,2024,"2024-03-17",{"$f":"IFERROR(IF(VLOOKUP($H444,Übersichtsblatt!$F$14:$I$24,2,FALSE)=0,\"\",VLOOKUP(H444,Übersichtsblatt!$F$14:$I$24,2,FALSE)),\"\")","v":""},0,6.5]
[2024,"2024-03-18",{"$f":"IFERROR(IF(VLOOKUP($B445,Übersichtsblatt!$F$64:$I$68,2,FALSE)=0,\"\",VLOOKUP($B445,Übersichtsblatt!$F$64:$I$68,2,FALSE)),\"\")","v":""},0,-6.5,null,2024,"2024-03-18",{"$f":"IFERROR(IF(VLOOKUP($H445,Übersichtsblatt!$F$14:$I$24,2,FALSE)=0,\"\",VLOOKUP(H445,Übersichtsblatt!$F$14:$I$24,2,FALSE)),\"\")","v":""},0,6.5]
[2024,"2024-03-19",{"$f":"IFERROR(IF(VLOOKUP($B446,Übersichtsblatt!$F$64:$I$68,2,FALSE)=0,\"\",VLOOKUP($B446,Übersichtsblatt!$F$64:$I$68,2,FALSE)),\"\")","v":""},0,-6.5,null,2024,"2024-03-19",{"$f":"IFERROR(IF(VLOOKUP($H446,Übersichtsblatt!$F$14:$I$24,2,FALSE)=0,\"\",VLOOKUP(H446,Übersichtsblatt!$F$14:$I$24,2,FALSE)),\"\")","v":""},0,6.5]
[2024,"2024-03-20",{"$f":"IFERROR(IF(VLOOKUP($B447,Übersichtsblatt!$F$64:$I$68,2,FALSE)=0,\"\",VLOOKUP($B447,Übersichtsblatt!$F$64:$I$68,2,FALSE)),\"\")","v":""},0,-6.5,null,2024,"2024-03-20",{"$f":"IFERROR(IF(VLOOKUP($H447,Übersichtsblatt!$F$14:$I$24,2,FALSE)=0,\"\",VLOOKUP(H447,Übersichtsblatt!$F$14:$I$24,2,FALSE)),\"\")","v":""},0,6.5]
[2024,"2024-03-21",{"$f":"IFERROR(IF(VLOOKUP($B448,Übersichtsblatt!$F$64:$I$68,2,FALSE)=0,\"\",VLOOKUP($B448,Übersichtsblatt!$F$64:$I$68,2,FALSE)),\"\")","v":""},0,-6.5,null,2024,"2024-03-21",{"$f":"IFERROR(IF(VLOOKUP($H448,Übersichtsblatt!$F$14:$I$24,2,FALSE)=0,\"\",VLOOKUP(H448,Übersichtsblatt!$F$14:$I$24,2,FALSE)),\"\")","v":""},0,6.5]
[2024,"2024-03-22",{"$f":"IFERROR(IF(VLOOKUP($B449,Übersichtsblatt!$F$64:$I$68,2,FALSE)=0,\"\",VLOOKUP($B449,Übersichtsblatt!$F$64:$I$68,2,FALSE)),\"\")","v":""},0,-6.5,null,2024,"2024-03-22",{"$f":"IFERROR(IF(VLOOKUP($H449,Übersichtsblatt!$F$14:$I$24,2,FALSE)=0,\"\",VLOOKUP(H449,Übersichtsblatt!$F$14:$I$24,2,FALSE)),\"\")","v":""},0,6.5]
[2024,"2024-03-23",{"$f":"IFERROR(IF(VLOOKUP($B450,Übersichtsblatt!$F$64:$I$68,2,FALSE)=0,\"\",VLOOKUP($B450,Übersichtsblatt!$F$64:$I$68,2,FALSE)),\"\")","v":""},0,-6.5,null,2024,"2024-03-23",{"$f":"IFERROR(IF(VLOOKUP($H450,Übersichtsblatt!$F$14:$I$24,2,FALSE)=0,\"\",VLOOKUP(H450,Übersichtsblatt!$F$14:$I$24,2,FALSE)),\"\")","v":""},0,6.5]
[2024,"2024-03-24",{"$f":"IFERROR(IF(VLOOKUP($B451,Übersichtsblatt!$F$64:$I$68,2,FALSE)=0,\"\",VLOOKUP($B451,Übersichtsblatt!$F$64:$I$68,2,FALSE)),\"\")","v":""},0,-6.5,null,2024,"2024-03-24",{"$f":"IFERROR(IF(VLOOKUP($H451,Übersichtsblatt!$F$14:$I$24,2,FALSE)=0,\"\",VLOOKUP(H451,Übersichtsblatt!$F$14:$I$24,2,FALSE)),\"\")","v":""},0,6.5]
[2024,"2024-03-25",{"$f":"IFERROR(IF(VLOOKUP($B452,Übersichtsblatt!$F$64:$I$68,2,FALSE)=0,\"\",VLOOKUP($B452,Übersichtsblatt!$F$64:$I$68,2,FALSE)),\"\")","v":""},0,-6.5,null,2024,"2024-03-25",{"$f":"IFERROR(IF(VLOOKUP($H452,Übersichtsblatt!$F$14:$I$24,2,FALSE)=0,\"\",VLOOKUP(H452,Übersichtsblatt!$F$14:$I$24,2,FALSE)),\"\")","v":""},0,6.5]
[2024,"2024-03-26",{"$f":"IFERROR(IF(VLOOKUP($B453,Übersichtsblatt!$F$64:$I$68,2,FALSE)=0,\"\",VLOOKUP($B453,Übersichtsblatt!$F$64:$I$68,2,FALSE)),\"\")","v":""},{"$f":"IF($C453=\"\",0,$E453)","v":0},-6.5,null,2024,"2024-03-26",{"$f":"IFERROR(IF(VLOOKUP($H453,Übersichtsblatt!$F$14:$I$24,2,FALSE)=0,\"\",VLOOKUP(H453,Übersichtsblatt!$F$14:$I$24,2,FALSE)),\"\")","v":""},{"$f":"IF($I453=\"\",0,$K453)","v":0},6.5]
[{"$f":"YEAR(B454)","v":2024},{"$f":"B453+1","v":"2024-03-27"},{"$f":"IFERROR(IF(VLOOKUP($B454,Übersichtsblatt!$F$64:$I$68,2,FALSE)=0,\"\",VLOOKUP($B454,Übersichtsblatt!$F$64:$I$68,2,FALSE)),\"\")","v":""},0,-6.5,null,{"$f":"YEAR(H454)","v":2024},{"$f":"H453+1","v":"2024-03-27"},{"$f":"IFERROR(IF(VLOOKUP($H454,Übersichtsblatt!$F$14:$I$24,2,FALSE)=0,\"\",VLOOKUP(H454,Übersichtsblatt!$F$14:$I$24,2,FALSE)),\"\")","v":""},0,6.5]
[2024,"2024-03-28",{"$f":"IFERROR(IF(VLOOKUP($B455,Übersichtsblatt!$F$64:$I$68,2,FALSE)=0,\"\",VLOOKUP($B455,Übersichtsblatt!$F$64:$I$68,2,FALSE)),\"\")","v":""},0,-6.5,null,2024,"2024-03-28",{"$f":"IFERROR(IF(VLOOKUP($H455,Übersichtsblatt!$F$14:$I$24,2,FALSE)=0,\"\",VLOOKUP(H455,Übersichtsblatt!$F$14:$I$24,2,FALSE)),\"\")","v":""},0,6.5]
[2024,"2024-03-29",{"$f":"IFERROR(IF(VLOOKUP($B456,Übersichtsblatt!$F$64:$I$68,2,FALSE)=0,\"\",VLOOKUP($B456,Übersichtsblatt!$F$64:$I$68,2,FALSE)),\"\")","v":""},0,-6.5,null,2024,"2024-03-29",{"$f":"IFERROR(IF(VLOOKUP($H456,Übersichtsblatt!$F$14:$I$24,2,FALSE)=0,\"\",VLOOKUP(H456,Übersichtsblatt!$F$14:$I$24,2,FALSE)),\"\")","v":""},0,6.5]
[2024,"2024-03-30",{"$f":"IFERROR(IF(VLOOKUP($B457,Übersichtsblatt!$F$64:$I$68,2,FALSE)=0,\"\",VLOOKUP($B457,Übersichtsblatt!$F$64:$I$68,2,FALSE)),\"\")","v":""},0,-6.5,null,2024,"2024-03-30",{"$f":"IFERROR(IF(VLOOKUP($H457,Übersichtsblatt!$F$14:$I$24,2,FALSE)=0,\"\",VLOOKUP(H457,Übersichtsblatt!$F$14:$I$24,2,FALSE)),\"\")","v":""},0,6.5]
[2024,"2024-03-31",{"$f":"IFERROR(IF(VLOOKUP($B458,Übersichtsblatt!$F$64:$I$68,2,FALSE)=0,\"\",VLOOKUP($B458,Übersichtsblatt!$F$64:$I$68,2,FALSE)),\"\")","v":""},0,-6.5,null,2024,"2024-03-31",{"$f":"IFERROR(IF(VLOOKUP($H458,Übersichtsblatt!$F$14:$I$24,2,FALSE)=0,\"\",VLOOKUP(H458,Übersichtsblatt!$F$14:$I$24,2,FALSE)),\"\")","v":""},0,6.5]
[2024,"2024-04-01",{"$f":"IFERROR(IF(VLOOKUP($B459,Übersichtsblatt!$F$64:$I$68,2,FALSE)=0,\"\",VLOOKUP($B459,Übersichtsblatt!$F$64:$I$68,2,FALSE)),\"\")","v":""},0,-9.5,null,2024,"2024-04-01",{"$f":"IFERROR(IF(VLOOKUP($H459,Übersichtsblatt!$F$14:$I$24,2,FALSE)=0,\"\",VLOOKUP(H459,Übersichtsblatt!$F$14:$I$24,2,FALSE)),\"\")","v":""},0,9.5]
[2024,"2024-04-02",{"$f":"IFERROR(IF(VLOOKUP($B460,Übersichtsblatt!$F$64:$I$68,2,FALSE)=0,\"\",VLOOKUP($B460,Übersichtsblatt!$F$64:$I$68,2,FALSE)),\"\")","v":""},0,-9.5,null,2024,"2024-04-02",{"$f":"IFERROR(IF(VLOOKUP($H460,Übersichtsblatt!$F$14:$I$24,2,FALSE)=0,\"\",VLOOKUP(H460,Übersichtsblatt!$F$14:$I$24,2,FALSE)),\"\")","v":""},0,9.5]
[2024,"2024-04-03",{"$f":"IFERROR(IF(VLOOKUP($B461,Übersichtsblatt!$F$64:$I$68,2,FALSE)=0,\"\",VLOOKUP($B461,Übersichtsblatt!$F$64:$I$68,2,FALSE)),\"\")","v":""},0,-9.5,null,2024,"2024-04-03",{"$f":"IFERROR(IF(VLOOKUP($H461,Übersichtsblatt!$F$14:$I$24,2,FALSE)=0,\"\",VLOOKUP(H461,Übersichtsblatt!$F$14:$I$24,2,FALSE)),\"\")","v":""},0,9.5]
[2024,"2024-04-04",{"$f":"IFERROR(IF(VLOOKUP($B462,Übersichtsblatt!$F$64:$I$68,2,FALSE)=0,\"\",VLOOKUP($B462,Übersichtsblatt!$F$64:$I$68,2,FALSE)),\"\")","v":""},0,-9.5,null,2024,"2024-04-04",{"$f":"IFERROR(IF(VLOOKUP($H462,Übersichtsblatt!$F$14:$I$24,2,FALSE)=0,\"\",VLOOKUP(H462,Übersichtsblatt!$F$14:$I$24,2,FALSE)),\"\")","v":""},0,9.5]
[2024,"2024-04-05",{"$f":"IFERROR(IF(VLOOKUP($B463,Übersichtsblatt!$F$64:$I$68,2,FALSE)=0,\"\",VLOOKUP($B463,Übersichtsblatt!$F$64:$I$68,2,FALSE)),\"\")","v":""},0,-9.5,null,2024,"2024-04-05",{"$f":"IFERROR(IF(VLOOKUP($H463,Übersichtsblatt!$F$14:$I$24,2,FALSE)=0,\"\",VLOOKUP(H463,Übersichtsblatt!$F$14:$I$24,2,FALSE)),\"\")","v":""},0,9.5]
[2024,"2024-04-06",{"$f":"IFERROR(IF(VLOOKUP($B464,Übersichtsblatt!$F$64:$I$68,2,FALSE)=0,\"\",VLOOKUP($B464,Übersichtsblatt!$F$64:$I$68,2,FALSE)),\"\")","v":""},0,-9.5,null,2024,"2024-04-06",{"$f":"IFERROR(IF(VLOOKUP($H464,Übersichtsblatt!$F$14:$I$24,2,FALSE)=0,\"\",VLOOKUP(H464,Übersichtsblatt!$F$14:$I$24,2,FALSE)),\"\")","v":""},0,9.5]
[2024,"2024-04-07",{"$f":"IFERROR(IF(VLOOKUP($B465,Übersichtsblatt!$F$64:$I$68,2,FALSE)=0,\"\",VLOOKUP($B465,Übersichtsblatt!$F$64:$I$68,2,FALSE)),\"\")","v":""},0,-9.5,null,2024,"2024-04-07",{"$f":"IFERROR(IF(VLOOKUP($H465,Übersichtsblatt!$F$14:$I$24,2,FALSE)=0,\"\",VLOOKUP(H465,Übersichtsblatt!$F$14:$I$24,2,FALSE)),\"\")","v":""},0,9.5]
[2024,"2024-04-08",{"$f":"IFERROR(IF(VLOOKUP($B466,Übersichtsblatt!$F$64:$I$68,2,FALSE)=0,\"\",VLOOKUP($B466,Übersichtsblatt!$F$64:$I$68,2,FALSE)),\"\")","v":""},0,-9.5,null,2024,"2024-04-08",{"$f":"IFERROR(IF(VLOOKUP($H466,Übersichtsblatt!$F$14:$I$24,2,FALSE)=0,\"\",VLOOKUP(H466,Übersichtsblatt!$F$14:$I$24,2,FALSE)),\"\")","v":""},0,9.5]
[2024,"2024-04-09",{"$f":"IFERROR(IF(VLOOKUP($B467,Übersichtsblatt!$F$64:$I$68,2,FALSE)=0,\"\",VLOOKUP($B467,Übersichtsblatt!$F$64:$I$68,2,FALSE)),\"\")","v":""},0,-9.5,null,2024,"2024-04-09",{"$f":"IFERROR(IF(VLOOKUP($H467,Übersichtsblatt!$F$14:$I$24,2,FALSE)=0,\"\",VLOOKUP(H467,Übersichtsblatt!$F$14:$I$24,2,FALSE)),\"\")","v":""},0,9.5]
[2024,"2024-04-10",{"$f":"IFERROR(IF(VLOOKUP($B468,Übersichtsblatt!$F$64:$I$68,2,FALSE)=0,\"\",VLOOKUP($B468,Übersichtsblatt!$F$64:$I$68,2,FALSE)),\"\")","v":""},0,-9.5,null,2024,"2024-04-10",{"$f":"IFERROR(IF(VLOOKUP($H468,Übersichtsblatt!$F$14:$I$24,2,FALSE)=0,\"\",VLOOKUP(H468,Übersichtsblatt!$F$14:$I$24,2,FALSE)),\"\")","v":""},0,9.5]
[2024,"2024-04-11",{"$f":"IFERROR(IF(VLOOKUP($B469,Übersichtsblatt!$F$64:$I$68,2,FALSE)=0,\"\",VLOOKUP($B469,Übersichtsblatt!$F$64:$I$68,2,FALSE)),\"\")","v":""},0,-9.5,null,2024,"2024-04-11",{"$f":"IFERROR(IF(VLOOKUP($H469,Übersichtsblatt!$F$14:$I$24,2,FALSE)=0,\"\",VLOOKUP(H469,Übersichtsblatt!$F$14:$I$24,2,FALSE)),\"\")","v":""},0,9.5]
[2024,"2024-04-12",{"$f":"IFERROR(IF(VLOOKUP($B470,Übersichtsblatt!$F$64:$I$68,2,FALSE)=0,\"\",VLOOKUP($B470,Übersichtsblatt!$F$64:$I$68,2,FALSE)),\"\")","v":""},0,-9.5,null,2024,"2024-04-12",{"$f":"IFERROR(IF(VLOOKUP($H470,Übersichtsblatt!$F$14:$I$24,2,FALSE)=0,\"\",VLOOKUP(H470,Übersichtsblatt!$F$14:$I$24,2,FALSE)),\"\")","v":""},0,9.5]
[2024,"2024-04-13",{"$f":"IFERROR(IF(VLOOKUP($B471,Übersichtsblatt!$F$64:$I$68,2,FALSE)=0,\"\",VLOOKUP($B471,Übersichtsblatt!$F$64:$I$68,2,FALSE)),\"\")","v":""},0,-9.5,null,2024,"2024-04-13",{"$f":"IFERROR(IF(VLOOKUP($H471,Übersichtsblatt!$F$14:$I$24,2,FALSE)=0,\"\",VLOOKUP(H471,Übersichtsblatt!$F$14:$I$24,2,FALSE)),\"\")","v":""},0,9.5]
[2024,"2024-04-14",{"$f":"IFERROR(IF(VLOOKUP($B472,Übersichtsblatt!$F$64:$I$68,2,FALSE)=0,\"\",VLOOKUP($B472,Übersichtsblatt!$F$64:$I$68,2,FALSE)),\"\")","v":""},0,-9.5,null,2024,"2024-04-14",{"$f":"IFERROR(IF(VLOOKUP($H472,Übersichtsblatt!$F$14:$I$24,2,FALSE)=0,\"\",VLOOKUP(H472,Übersichtsblatt!$F$14:$I$24,2,FALSE)),\"\")","v":""},0,9.5]
[2024,"2024-04-15",{"$f":"IFERROR(IF(VLOOKUP($B473,Übersichtsblatt!$F$64:$I$68,2,FALSE)=0,\"\",VLOOKUP($B473,Übersichtsblatt!$F$64:$I$68,2,FALSE)),\"\")","v":""},0,-9.5,null,2024,"2024-04-15",{"$f":"IFERROR(IF(VLOOKUP($H473,Übersichtsblatt!$F$14:$I$24,2,FALSE)=0,\"\",VLOOKUP(H473,Übersichtsblatt!$F$14:$I$24,2,FALSE)),\"\")","v":""},0,9.5]
[2024,"2024-04-16",{"$f":"IFERROR(IF(VLOOKUP($B474,Übersichtsblatt!$F$64:$I$68,2,FALSE)=0,\"\",VLOOKUP($B474,Übersichtsblatt!$F$64:$I$68,2,FALSE)),\"\")","v":""},0,-9.5,null,2024,"2024-04-16",{"$f":"IFERROR(IF(VLOOKUP($H474,Übersichtsblatt!$F$14:$I$24,2,FALSE)=0,\"\",VLOOKUP(H474,Übersichtsblatt!$F$14:$I$24,2,FALSE)),\"\")","v":""},0,9.5]
[2024,"2024-04-17",{"$f":"IFERROR(IF(VLOOKUP($B475,Übersichtsblatt!$F$64:$I$68,2,FALSE)=0,\"\",VLOOKUP($B475,Übersichtsblatt!$F$64:$I$68,2,FALSE)),\"\")","v":""},0,-9.5,null,2024,"2024-04-17",{"$f":"IFERROR(IF(VLOOKUP($H475,Übersichtsblatt!$F$14:$I$24,2,FALSE)=0,\"\",VLOOKUP(H475,Übersichtsblatt!$F$14:$I$24,2,FALSE)),\"\")","v":""},0,9.5]
[2024,"2024-04-18",{"$f":"IFERROR(IF(VLOOKUP($B476,Übersichtsblatt!$F$64:$I$68,2,FALSE)=0,\"\",VLOOKUP($B476,Übersichtsblatt!$F$64:$I$68,2,FALSE)),\"\")","v":""},0,-9.5,null,2024,"2024-04-18",{"$f":"IFERROR(IF(VLOOKUP($H476,Übersichtsblatt!$F$14:$I$24,2,FALSE)=0,\"\",VLOOKUP(H476,Übersichtsblatt!$F$14:$I$24,2,FALSE)),\"\")","v":""},0,9.5]
[2024,"2024-04-19",{"$f":"IFERROR(IF(VLOOKUP($B477,Übersichtsblatt!$F$64:$I$68,2,FALSE)=0,\"\",VLOOKUP($B477,Übersichtsblatt!$F$64:$I$68,2,FALSE)),\"\")","v":""},0,-9.5,null,2024,"2024-04-19",{"$f":"IFERROR(IF(VLOOKUP($H477,Übersichtsblatt!$F$14:$I$24,2,FALSE)=0,\"\",VLOOKUP(H477,Übersichtsblatt!$F$14:$I$24,2,FALSE)),\"\")","v":""},0,9.5]
[2024,"2024-04-20",{"$f":"IFERROR(IF(VLOOKUP($B478,Übersichtsblatt!$F$64:$I$68,2,FALSE)=0,\"\",VLOOKUP($B478,Übersichtsblatt!$F$64:$I$68,2,FALSE)),\"\")","v":""},0,-9.5,null,2024,"2024-04-20",{"$f":"IFERROR(IF(VLOOKUP($H478,Übersichtsblatt!$F$14:$I$24,2,FALSE)=0,\"\",VLOOKUP(H478,Übersichtsblatt!$F$14:$I$24,2,FALSE)),\"\")","v":""},0,9.5]
[2024,"2024-04-21",{"$f":"IFERROR(IF(VLOOKUP($B479,Übersichtsblatt!$F$64:$I$68,2,FALSE)=0,\"\",VLOOKUP($B479,Übersichtsblatt!$F$64:$I$68,2,FALSE)),\"\")","v":""},0,-9.5,null,2024,"2024-04-21",{"$f":"IFERROR(IF(VLOOKUP($H479,Übersichtsblatt!$F$14:$I$24,2,FALSE)=0,\"\",VLOOKUP(H479,Übersichtsblatt!$F$14:$I$24,2,FALSE)),\"\")","v":""},0,9.5]
[2024,"2024-04-22",{"$f":"IFERROR(IF(VLOOKUP($B480,Übersichtsblatt!$F$64:$I$68,2,FALSE)=0,\"\",VLOOKUP($B480,Übersichtsblatt!$F$64:$I$68,2,FALSE)),\"\")","v":""},0,-9.5,null,2024,"2024-04-22",{"$f":"IFERROR(IF(VLOOKUP($H480,Übersichtsblatt!$F$14:$I$24,2,FALSE)=0,\"\",VLOOKUP(H480,Übersichtsblatt!$F$14:$I$24,2,FALSE)),\"\")","v":""},0,9.5]
[2024,"2024-04-23",{"$f":"IFERROR(IF(VLOOKUP($B481,Übersichtsblatt!$F$64:$I$68,2,FALSE)=0,\"\",VLOOKUP($B481,Übersichtsblatt!$F$64:$I$68,2,FALSE)),\"\")","v":""},0,-9.5,null,2024,"2024-04-23",{"$f":"IFERROR(IF(VLOOKUP($H481,Übersichtsblatt!$F$14:$I$24,2,FALSE)=0,\"\",VLOOKUP(H481,Übersichtsblatt!$F$14:$I$24,2,FALSE)),\"\")","v":""},0,9.5]
[2024,"2024-04-24",{"$f":"IFERROR(IF(VLOOKUP($B482,Übersichtsblatt!$F$64:$I$68,2,FALSE)=0,\"\",VLOOKUP($B482,Übersichtsblatt!$F$64:$I$68,2,FALSE)),\"\")","v":""},0,-9.5,null,2024,"2024-04-24",{"$f":"IFERROR(IF(VLOOKUP($H482,Übersichtsblatt!$F$14:$I$24,2,FALSE)=0,\"\",VLOOKUP(H482,Übersichtsblatt!$F$14:$I$24,2,FALSE)),\"\")","v":""},0,9.5]
[2024,"2024-04-25",{"$f":"IFERROR(IF(VLOOKUP($B483,Übersichtsblatt!$F$64:$I$68,2,FALSE)=0,\"\",VLOOKUP($B483,Übersichtsblatt!$F$64:$I$68,2,FALSE)),\"\")","v":""},0,-9.5,null,2024,"2024-04-25",{"$f":"IFERROR(IF(VLOOKUP($H483,Übersichtsblatt!$F$14:$I$24,2,FALSE)=0,\"\",VLOOKUP(H483,Übersichtsblatt!$F$14:$I$24,2,FALSE)),\"\")","v":""},0,9.5]
[2024,"2024-04-26",{"$f":"IFERROR(IF(VLOOKUP($B484,Übersichtsblatt!$F$64:$I$68,2,FALSE)=0,\"\",VLOOKUP($B484,Übersichtsblatt!$F$64:$I$68,2,FALSE)),\"\")","v":""},0,-9.5,null,2024,"2024-04-26",{"$f":"IFERROR(IF(VLOOKUP($H484,Übersichtsblatt!$F$14:$I$24,2,FALSE)=0,\"\",VLOOKUP(H484,Übersichtsblatt!$F$14:$I$24,2,FALSE)),\"\")","v":""},0,9.5]
[2024,"2024-04-27",{"$f":"IFERROR(IF(VLOOKUP($B485,Übersichtsblatt!$F$64:$I$68,2,FALSE)=0,\"\",VLOOKUP($B485,Übersichtsblatt!$F$64:$I$68,2,FALSE)),\"\")","v":""},0,-9.5,null,2024,"2024-04-27",{"$f":"IFERROR(IF(VLOOKUP($H485,Übersichtsblatt!$F$14:$I$24,2,FALSE)=0,\"\",VLOOKUP(H485,Übersichtsblatt!$F$14:$I$24,2,FALSE)),\"\")","v":""},0,9.5]
[2024,"2024-04-28",{"$f":"IFERROR(IF(VLOOKUP($B486,Übersichtsblatt!$F$64:$I$68,2,FALSE)=0,\"\",VLOOKUP($B486,Übersichtsblatt!$F$64:$I$68,2,FALSE)),\"\")","v":""},0,-9.5,null,2024,"2024-04-28",{"$f":"IFERROR(IF(VLOOKUP($H486,Übersichtsblatt!$F$14:$I$24,2,FALSE)=0,\"\",VLOOKUP(H486,Übersichtsblatt!$F$14:$I$24,2,FALSE)),\"\")","v":""},0,9.5]
[2024,"2024-04-29",{"$f":"IFERROR(IF(VLOOKUP($B487,Übersichtsblatt!$F$64:$I$68,2,FALSE)=0,\"\",VLOOKUP($B487,Übersichtsblatt!$F$64:$I$68,2,FALSE)),\"\")","v":""},0,-9.5,null,2024,"2024-04-29",{"$f":"IFERROR(IF(VLOOKUP($H487,Übersichtsblatt!$F$14:$I$24,2,FALSE)=0,\"\",VLOOKUP(H487,Übersichtsblatt!$F$14:$I$24,2,FALSE)),\"\")","v":""},0,9.5]
[2024,"2024-04-30",{"$f":"IFERROR(IF(VLOOKUP($B488,Übersichtsblatt!$F$64:$I$68,2,FALSE)=0,\"\",VLOOKUP($B488,Übersichtsblatt!$F$64:$I$68,2,FALSE)),\"\")","v":""},0,-9.5,null,2024,"2024-04-30",{"$f":"IFERROR(IF(VLOOKUP($H488,Übersichtsblatt!$F$14:$I$24,2,FALSE)=0,\"\",VLOOKUP(H488,Übersichtsblatt!$F$14:$I$24,2,FALSE)),\"\")","v":""},0,9.5]
[2024,"2024-05-01",{"$f":"IFERROR(IF(VLOOKUP($B489,Übersichtsblatt!$F$64:$I$68,2,FALSE)=0,\"\",VLOOKUP($B489,Übersichtsblatt!$F$64:$I$68,2,FALSE)),\"\")","v":""},0,-11.5,null,2024,"2024-05-01",{"$f":"IFERROR(IF(VLOOKUP($H489,Übersichtsblatt!$F$14:$I$24,2,FALSE)=0,\"\",VLOOKUP(H489,Übersichtsblatt!$F$14:$I$24,2,FALSE)),\"\")","v":""},0,11.5]
[2024,"2024-05-02",{"$f":"IFERROR(IF(VLOOKUP($B490,Übersichtsblatt!$F$64:$I$68,2,FALSE)=0,\"\",VLOOKUP($B490,Übersichtsblatt!$F$64:$I$68,2,FALSE)),\"\")","v":""},0,-11.5,null,2024,"2024-05-02",{"$f":"IFERROR(IF(VLOOKUP($H490,Übersichtsblatt!$F$14:$I$24,2,FALSE)=0,\"\",VLOOKUP(H490,Übersichtsblatt!$F$14:$I$24,2,FALSE)),\"\")","v":""},0,11.5]
[2024,"2024-05-03",{"$f":"IFERROR(IF(VLOOKUP($B491,Übersichtsblatt!$F$64:$I$68,2,FALSE)=0,\"\",VLOOKUP($B491,Übersichtsblatt!$F$64:$I$68,2,FALSE)),\"\")","v":""},0,-11.5,null,2024,"2024-05-03",{"$f":"IFERROR(IF(VLOOKUP($H491,Übersichtsblatt!$F$14:$I$24,2,FALSE)=0,\"\",VLOOKUP(H491,Übersichtsblatt!$F$14:$I$24,2,FALSE)),\"\")","v":""},0,11.5]
[2024,"2024-05-04",{"$f":"IFERROR(IF(VLOOKUP($B492,Übersichtsblatt!$F$64:$I$68,2,FALSE)=0,\"\",VLOOKUP($B492,Übersichtsblatt!$F$64:$I$68,2,FALSE)),\"\")","v":""},0,-11.5,null,2024,"2024-05-04",{"$f":"IFERROR(IF(VLOOKUP($H492,Übersichtsblatt!$F$14:$I$24,2,FALSE)=0,\"\",VLOOKUP(H492,Übersichtsblatt!$F$14:$I$24,2,FALSE)),\"\")","v":""},0,11.5]
[2024,"2024-05-05",{"$f":"IFERROR(IF(VLOOKUP($B493,Übersichtsblatt!$F$64:$I$68,2,FALSE)=0,\"\",VLOOKUP($B493,Übersichtsblatt!$F$64:$I$68,2,FALSE)),\"\")","v":""},0,-11.5,null,2024,"2024-05-05",{"$f":"IFERROR(IF(VLOOKUP($H493,Übersichtsblatt!$F$14:$I$24,2,FALSE)=0,\"\",VLOOKUP(H493,Übersichtsblatt!$F$14:$I$24,2,FALSE)),\"\")","v":""},0,11.5]
[2024,"2024-05-06",{"$f":"IFERROR(IF(VLOOKUP($B494,Übersichtsblatt!$F$64:$I$68,2,FALSE)=0,\"\",VLOOKUP($B494,Übersichtsblatt!$F$64:$I$68,2,FALSE)),\"\")","v":""},0,-11.5,null,2024,"2024-05-06",{"$f":"IFERROR(IF(VLOOKUP($H494,Übersichtsblatt!$F$14:$I$24,2,FALSE)=0,\"\",VLOOKUP(H494,Übersichtsblatt!$F$14:$I$24,2,FALSE)),\"\")","v":""},0,11.5]
[2024,"2024-05-07",{"$f":"IFERROR(IF(VLOOKUP($B495,Übersichtsblatt!$F$64:$I$68,2,FALSE)=0,\"\",VLOOKUP($B495,Übersichtsblatt!$F$64:$I$68,2,FALSE)),\"\")","v":""},0,-11.5,null,2024,"2024-05-07",{"$f":"IFERROR(IF(VLOOKUP($H495,Übersichtsblatt!$F$14:$I$24,2,FALSE)=0,\"\",VLOOKUP(H495,Übersichtsblatt!$F$14:$I$24,2,FALSE)),\"\")","v":""},0,11.5]
[2024,"2024-05-08",{"$f":"IFERROR(IF(VLOOKUP($B496,Übersichtsblatt!$F$64:$I$68,2,FALSE)=0,\"\",VLOOKUP($B496,Übersichtsblatt!$F$64:$I$68,2,FALSE)),\"\")","v":""},0,-11.5,null,2024,"2024-05-08",{"$f":"IFERROR(IF(VLOOKUP($H496,Übersichtsblatt!$F$14:$I$24,2,FALSE)=0,\"\",VLOOKUP(H496,Übersichtsblatt!$F$14:$I$24,2,FALSE)),\"\")","v":""},0,11.5]
[2024,"2024-05-09",{"$f":"IFERROR(IF(VLOOKUP($B497,Übersichtsblatt!$F$64:$I$68,2,FALSE)=0,\"\",VLOOKUP($B497,Übersichtsblatt!$F$64:$I$68,2,FALSE)),\"\")","v":""},0,-11.5,null,2024,"2024-05-09",{"$f":"IFERROR(IF(VLOOKUP($H497,Übersichtsblatt!$F$14:$I$24,2,FALSE)=0,\"\",VLOOKUP(H497,Übersichtsblatt!$F$14:$I$24,2,FALSE)),\"\")","v":""},0,11.5]
[2024,"2024-05-10",{"$f":"IFERROR(IF(VLOOKUP($B498,Übersichtsblatt!$F$64:$I$68,2,FALSE)=0,\"\",VLOOKUP($B498,Übersichtsblatt!$F$64:$I$68,2,FALSE)),\"\")","v":""},0,-11.5,null,2024,"2024-05-10",{"$f":"IFERROR(IF(VLOOKUP($H498,Übersichtsblatt!$F$14:$I$24,2,FALSE)=0,\"\",VLOOKUP(H498,Übersichtsblatt!$F$14:$I$24,2,FALSE)),\"\")","v":""},0,11.5]
[2024,"2024-05-11",{"$f":"IFERROR(IF(VLOOKUP($B499,Übersichtsblatt!$F$64:$I$68,2,FALSE)=0,\"\",VLOOKUP($B499,Übersichtsblatt!$F$64:$I$68,2,FALSE)),\"\")","v":""},0,-11.5,null,2024,"2024-05-11",{"$f":"IFERROR(IF(VLOOKUP($H499,Übersichtsblatt!$F$14:$I$24,2,FALSE)=0,\"\",VLOOKUP(H499,Übersichtsblatt!$F$14:$I$24,2,FALSE)),\"\")","v":""},0,11.5]
[2024,"2024-05-12",{"$f":"IFERROR(IF(VLOOKUP($B500,Übersichtsblatt!$F$64:$I$68,2,FALSE)=0,\"\",VLOOKUP($B500,Übersichtsblatt!$F$64:$I$68,2,FALSE)),\"\")","v":""},0,-11.5,null,2024,"2024-05-12",{"$f":"IFERROR(IF(VLOOKUP($H500,Übersichtsblatt!$F$14:$I$24,2,FALSE)=0,\"\",VLOOKUP(H500,Übersichtsblatt!$F$14:$I$24,2,FALSE)),\"\")","v":""},0,11.5]
[2024,"2024-05-13",{"$f":"IFERROR(IF(VLOOKUP($B501,Übersichtsblatt!$F$64:$I$68,2,FALSE)=0,\"\",VLOOKUP($B501,Übersichtsblatt!$F$64:$I$68,2,FALSE)),\"\")","v":""},0,-11.5,null,2024,"2024-05-13",{"$f":"IFERROR(IF(VLOOKUP($H501,Übersichtsblatt!$F$14:$I$24,2,FALSE)=0,\"\",VLOOKUP(H501,Übersichtsblatt!$F$14:$I$24,2,FALSE)),\"\")","v":""},0,11.5]
[2024,"2024-05-14",{"$f":"IFERROR(IF(VLOOKUP($B502,Übersichtsblatt!$F$64:$I$68,2,FALSE)=0,\"\",VLOOKUP($B502,Übersichtsblatt!$F$64:$I$68,2,FALSE)),\"\")","v":""},0,-11.5,null,2024,"2024-05-14",{"$f":"IFERROR(IF(VLOOKUP($H502,Übersichtsblatt!$F$14:$I$24,2,FALSE)=0,\"\",VLOOKUP(H502,Übersichtsblatt!$F$14:$I$24,2,FALSE)),\"\")","v":""},0,11.5]
[2024,"2024-05-15",{"$f":"IFERROR(IF(VLOOKUP($B503,Übersichtsblatt!$F$64:$I$68,2,FALSE)=0,\"\",VLOOKUP($B503,Übersichtsblatt!$F$64:$I$68,2,FALSE)),\"\")","v":""},0,-11.5,null,2024,"2024-05-15",{"$f":"IFERROR(IF(VLOOKUP($H503,Übersichtsblatt!$F$14:$I$24,2,FALSE)=0,\"\",VLOOKUP(H503,Übersichtsblatt!$F$14:$I$24,2,FALSE)),\"\")","v":""},0,11.5]
[2024,"2024-05-16",{"$f":"IFERROR(IF(VLOOKUP($B504,Übersichtsblatt!$F$64:$I$68,2,FALSE)=0,\"\",VLOOKUP($B504,Übersichtsblatt!$F$64:$I$68,2,FALSE)),\"\")","v":""},0,-11.5,null,2024,"2024-05-16",{"$f":"IFERROR(IF(VLOOKUP($H504,Übersichtsblatt!$F$14:$I$24,2,FALSE)=0,\"\",VLOOKUP(H504,Übersichtsblatt!$F$14:$I$24,2,FALSE)),\"\")","v":""},0,11.5]
[2024,"2024-05-17",{"$f":"IFERROR(IF(VLOOKUP($B505,Übersichtsblatt!$F$64:$I$68,2,FALSE)=0,\"\",VLOOKUP($B505,Übersichtsblatt!$F$64:$I$68,2,FALSE)),\"\")","v":""},0,-11.5,null,2024,"2024-05-17",{"$f":"IFERROR(IF(VLOOKUP($H505,Übersichtsblatt!$F$14:$I$24,2,FALSE)=0,\"\",VLOOKUP(H505,Übersichtsblatt!$F$14:$I$24,2,FALSE)),\"\")","v":""},0,11.5]
[2024,"2024-05-18",{"$f":"IFERROR(IF(VLOOKUP($B506,Übersichtsblatt!$F$64:$I$68,2,FALSE)=0,\"\",VLOOKUP($B506,Übersichtsblatt!$F$64:$I$68,2,FALSE)),\"\")","v":""},0,-11.5,null,2024,"2024-05-18",{"$f":"IFERROR(IF(VLOOKUP($H506,Übersichtsblatt!$F$14:$I$24,2,FALSE)=0,\"\",VLOOKUP(H506,Übersichtsblatt!$F$14:$I$24,2,FALSE)),\"\")","v":""},0,11.5]
[2024,"2024-05-19",{"$f":"IFERROR(IF(VLOOKUP($B507,Übersichtsblatt!$F$64:$I$68,2,FALSE)=0,\"\",VLOOKUP($B507,Übersichtsblatt!$F$64:$I$68,2,FALSE)),\"\")","v":""},0,-11.5,null,2024,"2024-05-19",{"$f":"IFERROR(IF(VLOOKUP($H507,Übersichtsblatt!$F$14:$I$24,2,FALSE)=0,\"\",VLOOKUP(H507,Übersichtsblatt!$F$14:$I$24,2,FALSE)),\"\")","v":""},0,11.5]
[2024,"2024-05-20",{"$f":"IFERROR(IF(VLOOKUP($B508,Übersichtsblatt!$F$64:$I$68,2,FALSE)=0,\"\",VLOOKUP($B508,Übersichtsblatt!$F$64:$I$68,2,FALSE)),\"\")","v":""},0,-11.5,null,2024,"2024-05-20",{"$f":"IFERROR(IF(VLOOKUP($H508,Übersichtsblatt!$F$14:$I$24,2,FALSE)=0,\"\",VLOOKUP(H508,Übersichtsblatt!$F$14:$I$24,2,FALSE)),\"\")","v":""},0,11.5]
[2024,"2024-05-21",{"$f":"IFERROR(IF(VLOOKUP($B509,Übersichtsblatt!$F$64:$I$68,2,FALSE)=0,\"\",VLOOKUP($B509,Übersichtsblatt!$F$64:$I$68,2,FALSE)),\"\")","v":""},0,-11.5,null,2024,"2024-05-21",{"$f":"IFERROR(IF(VLOOKUP($H509,Übersichtsblatt!$F$14:$I$24,2,FALSE)=0,\"\",VLOOKUP(H509,Übersichtsblatt!$F$14:$I$24,2,FALSE)),\"\")","v":""},0,11.5]
[2024,"2024-05-22",{"$f":"IFERROR(IF(VLOOKUP($B510,Übersichtsblatt!$F$64:$I$68,2,FALSE)=0,\"\",VLOOKUP($B510,Übersichtsblatt!$F$64:$I$68,2,FALSE)),\"\")","v":""},0,-11.5,null,2024,"2024-05-22",{"$f":"IFERROR(IF(VLOOKUP($H510,Übersichtsblatt!$F$14:$I$24,2,FALSE)=0,\"\",VLOOKUP(H510,Übersichtsblatt!$F$14:$I$24,2,FALSE)),\"\")","v":""},0,11.5]
[2024,"2024-05-23",{"$f":"IFERROR(IF(VLOOKUP($B511,Übersichtsblatt!$F$64:$I$68,2,FALSE)=0,\"\",VLOOKUP($B511,Übersichtsblatt!$F$64:$I$68,2,FALSE)),\"\")","v":""},0,-11.5,null,2024,"2024-05-23",{"$f":"IFERROR(IF(VLOOKUP($H511,Übersichtsblatt!$F$14:$I$24,2,FALSE)=0,\"\",VLOOKUP(H511,Übersichtsblatt!$F$14:$I$24,2,FALSE)),\"\")","v":""},0,11.5]
[2024,"2024-05-24",{"$f":"IFERROR(IF(VLOOKUP($B512,Übersichtsblatt!$F$64:$I$68,2,FALSE)=0,\"\",VLOOKUP($B512,Übersichtsblatt!$F$64:$I$68,2,FALSE)),\"\")","v":""},0,-11.5,null,2024,"2024-05-24",{"$f":"IFERROR(IF(VLOOKUP($H512,Übersichtsblatt!$F$14:$I$24,2,FALSE)=0,\"\",VLOOKUP(H512,Übersichtsblatt!$F$14:$I$24,2,FALSE)),\"\")","v":""},0,11.5]
[2024,"2024-05-25",{"$f":"IFERROR(IF(VLOOKUP($B513,Übersichtsblatt!$F$64:$I$68,2,FALSE)=0,\"\",VLOOKUP($B513,Übersichtsblatt!$F$64:$I$68,2,FALSE)),\"\")","v":""},0,-11.5,null,2024,"2024-05-25",{"$f":"IFERROR(IF(VLOOKUP($H513,Übersichtsblatt!$F$14:$I$24,2,FALSE)=0,\"\",VLOOKUP(H513,Übersichtsblatt!$F$14:$I$24,2,FALSE)),\"\")","v":""},0,11.5]
[2024,"2024-05-26",{"$f":"IFERROR(IF(VLOOKUP($B514,Übersichtsblatt!$F$64:$I$68,2,FALSE)=0,\"\",VLOOKUP($B514,Übersichtsblatt!$F$64:$I$68,2,FALSE)),\"\")","v":""},0,-11.5,null,2024,"2024-05-26",{"$f":"IFERROR(IF(VLOOKUP($H514,Übersichtsblatt!$F$14:$I$24,2,FALSE)=0,\"\",VLOOKUP(H514,Übersichtsblatt!$F$14:$I$24,2,FALSE)),\"\")","v":""},0,11.5]
[2024,"2024-05-27",{"$f":"IFERROR(IF(VLOOKUP($B515,Übersichtsblatt!$F$64:$I$68,2,FALSE)=0,\"\",VLOOKUP($B515,Übersichtsblatt!$F$64:$I$68,2,FALSE)),\"\")","v":""},0,-11.5,null,2024,"2024-05-27",{"$f":"IFERROR(IF(VLOOKUP($H515,Übersichtsblatt!$F$14:$I$24,2,FALSE)=0,\"\",VLOOKUP(H515,Übersichtsblatt!$F$14:$I$24,2,FALSE)),\"\")","v":""},0,11.5]
[2024,"2024-05-28",{"$f":"IFERROR(IF(VLOOKUP($B516,Übersichtsblatt!$F$64:$I$68,2,FALSE)=0,\"\",VLOOKUP($B516,Übersichtsblatt!$F$64:$I$68,2,FALSE)),\"\")","v":""},0,-11.5,null,2024,"2024-05-28",{"$f":"IFERROR(IF(VLOOKUP($H516,Übersichtsblatt!$F$14:$I$24,2,FALSE)=0,\"\",VLOOKUP(H516,Übersichtsblatt!$F$14:$I$24,2,FALSE)),\"\")","v":""},0,11.5]
[2024,"2024-05-29",{"$f":"IFERROR(IF(VLOOKUP($B517,Übersichtsblatt!$F$64:$I$68,2,FALSE)=0,\"\",VLOOKUP($B517,Übersichtsblatt!$F$64:$I$68,2,FALSE)),\"\")","v":""},{"$f":"IF($C517=\"\",0,$E517)","v":0},-11.5,null,2024,"2024-05-29",{"$f":"IFERROR(IF(VLOOKUP($H517,Übersichtsblatt!$F$14:$I$24,2,FALSE)=0,\"\",VLOOKUP(H517,Übersichtsblatt!$F$14:$I$24,2,FALSE)),\"\")","v":""},{"$f":"IF($I517=\"\",0,$K517)","v":0},11.5]
[{"$f":"YEAR(B518)","v":2024},{"$f":"B517+1","v":"2024-05-30"},{"$f":"IFERROR(IF(VLOOKUP($B518,Übersichtsblatt!$F$64:$I$68,2,FALSE)=0,\"\",VLOOKUP($B518,Übersichtsblatt!$F$64:$I$68,2,FALSE)),\"\")","v":""},0,-11.5,null,{"$f":"YEAR(H518)","v":2024},{"$f":"H517+1","v":"2024-05-30"},{"$f":"IFERROR(IF(VLOOKUP($H518,Übersichtsblatt!$F$14:$I$24,2,FALSE)=0,\"\",VLOOKUP(H518,Übersichtsblatt!$F$14:$I$24,2,FALSE)),\"\")","v":""},0,11.5]
[2024,"2024-05-31",{"$f":"IFERROR(IF(VLOOKUP($B519,Übersichtsblatt!$F$64:$I$68,2,FALSE)=0,\"\",VLOOKUP($B519,Übersichtsblatt!$F$64:$I$68,2,FALSE)),\"\")","v":""},0,-11.5,null,2024,"2024-05-31",{"$f":"IFERROR(IF(VLOOKUP($H519,Übersichtsblatt!$F$14:$I$24,2,FALSE)=0,\"\",VLOOKUP(H519,Übersichtsblatt!$F$14:$I$24,2,FALSE)),\"\")","v":""},0,11.5]
[2024,"2024-06-01",{"$f":"IFERROR(IF(VLOOKUP($B520,Übersichtsblatt!$F$64:$I$68,2,FALSE)=0,\"\",VLOOKUP($B520,Übersichtsblatt!$F$64:$I$68,2,FALSE)),\"\")","v":""},0,-4.5,null,2024,"2024-06-01",{"$f":"IFERROR(IF(VLOOKUP($H520,Übersichtsblatt!$F$14:$I$24,2,FALSE)=0,\"\",VLOOKUP(H520,Übersichtsblatt!$F$14:$I$24,2,FALSE)),\"\")","v":""},0,4.5]
[2024,"2024-06-02",{"$f":"IFERROR(IF(VLOOKUP($B521,Übersichtsblatt!$F$64:$I$68,2,FALSE)=0,\"\",VLOOKUP($B521,Übersichtsblatt!$F$64:$I$68,2,FALSE)),\"\")","v":""},0,-4.5,null,2024,"2024-06-02",{"$f":"IFERROR(IF(VLOOKUP($H521,Übersichtsblatt!$F$14:$I$24,2,FALSE)=0,\"\",VLOOKUP(H521,Übersichtsblatt!$F$14:$I$24,2,FALSE)),\"\")","v":""},0,4.5]
[2024,"2024-06-03",{"$f":"IFERROR(IF(VLOOKUP($B522,Übersichtsblatt!$F$64:$I$68,2,FALSE)=0,\"\",VLOOKUP($B522,Übersichtsblatt!$F$64:$I$68,2,FALSE)),\"\")","v":""},0,-4.5,null,2024,"2024-06-03",{"$f":"IFERROR(IF(VLOOKUP($H522,Übersichtsblatt!$F$14:$I$24,2,FALSE)=0,\"\",VLOOKUP(H522,Übersichtsblatt!$F$14:$I$24,2,FALSE)),\"\")","v":""},0,4.5]
[2024,"2024-06-04",{"$f":"IFERROR(IF(VLOOKUP($B523,Übersichtsblatt!$F$64:$I$68,2,FALSE)=0,\"\",VLOOKUP($B523,Übersichtsblatt!$F$64:$I$68,2,FALSE)),\"\")","v":""},0,-4.5,null,2024,"2024-06-04",{"$f":"IFERROR(IF(VLOOKUP($H523,Übersichtsblatt!$F$14:$I$24,2,FALSE)=0,\"\",VLOOKUP(H523,Übersichtsblatt!$F$14:$I$24,2,FALSE)),\"\")","v":""},0,4.5]
[2024,"2024-06-05",{"$f":"IFERROR(IF(VLOOKUP($B524,Übersichtsblatt!$F$64:$I$68,2,FALSE)=0,\"\",VLOOKUP($B524,Übersichtsblatt!$F$64:$I$68,2,FALSE)),\"\")","v":""},0,-4.5,null,2024,"2024-06-05",{"$f":"IFERROR(IF(VLOOKUP($H524,Übersichtsblatt!$F$14:$I$24,2,FALSE)=0,\"\",VLOOKUP(H524,Übersichtsblatt!$F$14:$I$24,2,FALSE)),\"\")","v":""},0,4.5]
[2024,"2024-06-06",{"$f":"IFERROR(IF(VLOOKUP($B525,Übersichtsblatt!$F$64:$I$68,2,FALSE)=0,\"\",VLOOKUP($B525,Übersichtsblatt!$F$64:$I$68,2,FALSE)),\"\")","v":""},0,-4.5,null,2024,"2024-06-06",{"$f":"IFERROR(IF(VLOOKUP($H525,Übersichtsblatt!$F$14:$I$24,2,FALSE)=0,\"\",VLOOKUP(H525,Übersichtsblatt!$F$14:$I$24,2,FALSE)),\"\")","v":""},0,4.5]
[2024,"2024-06-07",{"$f":"IFERROR(IF(VLOOKUP($B526,Übersichtsblatt!$F$64:$I$68,2,FALSE)=0,\"\",VLOOKUP($B526,Übersichtsblatt!$F$64:$I$68,2,FALSE)),\"\")","v":""},0,-4.5,null,2024,"2024-06-07",{"$f":"IFERROR(IF(VLOOKUP($H526,Übersichtsblatt!$F$14:$I$24,2,FALSE)=0,\"\",VLOOKUP(H526,Übersichtsblatt!$F$14:$I$24,2,FALSE)),\"\")","v":""},0,4.5]
[2024,"2024-06-08",{"$f":"IFERROR(IF(VLOOKUP($B527,Übersichtsblatt!$F$64:$I$68,2,FALSE)=0,\"\",VLOOKUP($B527,Übersichtsblatt!$F$64:$I$68,2,FALSE)),\"\")","v":""},0,-4.5,null,2024,"2024-06-08",{"$f":"IFERROR(IF(VLOOKUP($H527,Übersichtsblatt!$F$14:$I$24,2,FALSE)=0,\"\",VLOOKUP(H527,Übersichtsblatt!$F$14:$I$24,2,FALSE)),\"\")","v":""},0,4.5]
[2024,"2024-06-09",{"$f":"IFERROR(IF(VLOOKUP($B528,Übersichtsblatt!$F$64:$I$68,2,FALSE)=0,\"\",VLOOKUP($B528,Übersichtsblatt!$F$64:$I$68,2,FALSE)),\"\")","v":""},0,-4.5,null,2024,"2024-06-09",{"$f":"IFERROR(IF(VLOOKUP($H528,Übersichtsblatt!$F$14:$I$24,2,FALSE)=0,\"\",VLOOKUP(H528,Übersichtsblatt!$F$14:$I$24,2,FALSE)),\"\")","v":""},0,4.5]
[2024,"2024-06-10",{"$f":"IFERROR(IF(VLOOKUP($B529,Übersichtsblatt!$F$64:$I$68,2,FALSE)=0,\"\",VLOOKUP($B529,Übersichtsblatt!$F$64:$I$68,2,FALSE)),\"\")","v":""},0,-4.5,null,2024,"2024-06-10",{"$f":"IFERROR(IF(VLOOKUP($H529,Übersichtsblatt!$F$14:$I$24,2,FALSE)=0,\"\",VLOOKUP(H529,Übersichtsblatt!$F$14:$I$24,2,FALSE)),\"\")","v":""},0,4.5]
[2024,"2024-06-11",{"$f":"IFERROR(IF(VLOOKUP($B530,Übersichtsblatt!$F$64:$I$68,2,FALSE)=0,\"\",VLOOKUP($B530,Übersichtsblatt!$F$64:$I$68,2,FALSE)),\"\")","v":""},0,-4.5,null,2024,"2024-06-11",{"$f":"IFERROR(IF(VLOOKUP($H530,Übersichtsblatt!$F$14:$I$24,2,FALSE)=0,\"\",VLOOKUP(H530,Übersichtsblatt!$F$14:$I$24,2,FALSE)),\"\")","v":""},0,4.5]
[2024,"2024-06-12",{"$f":"IFERROR(IF(VLOOKUP($B531,Übersichtsblatt!$F$64:$I$68,2,FALSE)=0,\"\",VLOOKUP($B531,Übersichtsblatt!$F$64:$I$68,2,FALSE)),\"\")","v":""},0,-4.5,null,2024,"2024-06-12",{"$f":"IFERROR(IF(VLOOKUP($H531,Übersichtsblatt!$F$14:$I$24,2,FALSE)=0,\"\",VLOOKUP(H531,Übersichtsblatt!$F$14:$I$24,2,FALSE)),\"\")","v":""},0,4.5]
[2024,"2024-06-13",{"$f":"IFERROR(IF(VLOOKUP($B532,Übersichtsblatt!$F$64:$I$68,2,FALSE)=0,\"\",VLOOKUP($B532,Übersichtsblatt!$F$64:$I$68,2,FALSE)),\"\")","v":""},0,-4.5,null,2024,"2024-06-13",{"$f":"IFERROR(IF(VLOOKUP($H532,Übersichtsblatt!$F$14:$I$24,2,FALSE)=0,\"\",VLOOKUP(H532,Übersichtsblatt!$F$14:$I$24,2,FALSE)),\"\")","v":""},0,4.5]
[2024,"2024-06-14",{"$f":"IFERROR(IF(VLOOKUP($B533,Übersichtsblatt!$F$64:$I$68,2,FALSE)=0,\"\",VLOOKUP($B533,Übersichtsblatt!$F$64:$I$68,2,FALSE)),\"\")","v":""},0,-4.5,null,2024,"2024-06-14",{"$f":"IFERROR(IF(VLOOKUP($H533,Übersichtsblatt!$F$14:$I$24,2,FALSE)=0,\"\",VLOOKUP(H533,Übersichtsblatt!$F$14:$I$24,2,FALSE)),\"\")","v":""},0,4.5]
[2024,"2024-06-15",{"$f":"IFERROR(IF(VLOOKUP($B534,Übersichtsblatt!$F$64:$I$68,2,FALSE)=0,\"\",VLOOKUP($B534,Übersichtsblatt!$F$64:$I$68,2,FALSE)),\"\")","v":""},0,-4.5,null,2024,"2024-06-15",{"$f":"IFERROR(IF(VLOOKUP($H534,Übersichtsblatt!$F$14:$I$24,2,FALSE)=0,\"\",VLOOKUP(H534,Übersichtsblatt!$F$14:$I$24,2,FALSE)),\"\")","v":""},0,4.5]
[2024,"2024-06-16",{"$f":"IFERROR(IF(VLOOKUP($B535,Übersichtsblatt!$F$64:$I$68,2,FALSE)=0,\"\",VLOOKUP($B535,Übersichtsblatt!$F$64:$I$68,2,FALSE)),\"\")","v":""},0,-4.5,null,2024,"2024-06-16",{"$f":"IFERROR(IF(VLOOKUP($H535,Übersichtsblatt!$F$14:$I$24,2,FALSE)=0,\"\",VLOOKUP(H535,Übersichtsblatt!$F$14:$I$24,2,FALSE)),\"\")","v":""},0,4.5]
[2024,"2024-06-17",{"$f":"IFERROR(IF(VLOOKUP($B536,Übersichtsblatt!$F$64:$I$68,2,FALSE)=0,\"\",VLOOKUP($B536,Übersichtsblatt!$F$64:$I$68,2,FALSE)),\"\")","v":""},0,-4.5,null,2024,"2024-06-17",{"$f":"IFERROR(IF(VLOOKUP($H536,Übersichtsblatt!$F$14:$I$24,2,FALSE)=0,\"\",VLOOKUP(H536,Übersichtsblatt!$F$14:$I$24,2,FALSE)),\"\")","v":""},0,4.5]
[2024,"2024-06-18",{"$f":"IFERROR(IF(VLOOKUP($B537,Übersichtsblatt!$F$64:$I$68,2,FALSE)=0,\"\",VLOOKUP($B537,Übersichtsblatt!$F$64:$I$68,2,FALSE)),\"\")","v":""},0,-4.5,null,2024,"2024-06-18",{"$f":"IFERROR(IF(VLOOKUP($H537,Übersichtsblatt!$F$14:$I$24,2,FALSE)=0,\"\",VLOOKUP(H537,Übersichtsblatt!$F$14:$I$24,2,FALSE)),\"\")","v":""},0,4.5]
[2024,"2024-06-19",{"$f":"IFERROR(IF(VLOOKUP($B538,Übersichtsblatt!$F$64:$I$68,2,FALSE)=0,\"\",VLOOKUP($B538,Übersichtsblatt!$F$64:$I$68,2,FALSE)),\"\")","v":""},0,-4.5,null,2024,"2024-06-19",{"$f":"IFERROR(IF(VLOOKUP($H538,Übersichtsblatt!$F$14:$I$24,2,FALSE)=0,\"\",VLOOKUP(H538,Übersichtsblatt!$F$14:$I$24,2,FALSE)),\"\")","v":""},0,4.5]
[2024,"2024-06-20",{"$f":"IFERROR(IF(VLOOKUP($B539,Übersichtsblatt!$F$64:$I$68,2,FALSE)=0,\"\",VLOOKUP($B539,Übersichtsblatt!$F$64:$I$68,2,FALSE)),\"\")","v":""},0,-4.5,null,2024,"2024-06-20",{"$f":"IFERROR(IF(VLOOKUP($H539,Übersichtsblatt!$F$14:$I$24,2,FALSE)=0,\"\",VLOOKUP(H539,Übersichtsblatt!$F$14:$I$24,2,FALSE)),\"\")","v":""},0,4.5]
[2024,"2024-06-21",{"$f":"IFERROR(IF(VLOOKUP($B540,Übersichtsblatt!$F$64:$I$68,2,FALSE)=0,\"\",VLOOKUP($B540,Übersichtsblatt!$F$64:$I$68,2,FALSE)),\"\")","v":""},0,-4.5,null,2024,"2024-06-21",{"$f":"IFERROR(IF(VLOOKUP($H540,Übersichtsblatt!$F$14:$I$24,2,FALSE)=0,\"\",VLOOKUP(H540,Übersichtsblatt!$F$14:$I$24,2,FALSE)),\"\")","v":""},0,4.5]
[2024,"2024-06-22",{"$f":"IFERROR(IF(VLOOKUP($B541,Übersichtsblatt!$F$64:$I$68,2,FALSE)=0,\"\",VLOOKUP($B541,Übersichtsblatt!$F$64:$I$68,2,FALSE)),\"\")","v":""},0,-4.5,null,2024,"2024-06-22",{"$f":"IFERROR(IF(VLOOKUP($H541,Übersichtsblatt!$F$14:$I$24,2,FALSE)=0,\"\",VLOOKUP(H541,Übersichtsblatt!$F$14:$I$24,2,FALSE)),\"\")","v":""},0,4.5]
[2024,"2024-06-23",{"$f":"IFERROR(IF(VLOOKUP($B542,Übersichtsblatt!$F$64:$I$68,2,FALSE)=0,\"\",VLOOKUP($B542,Übersichtsblatt!$F$64:$I$68,2,FALSE)),\"\")","v":""},0,-4.5,null,2024,"2024-06-23",{"$f":"IFERROR(IF(VLOOKUP($H542,Übersichtsblatt!$F$14:$I$24,2,FALSE)=0,\"\",VLOOKUP(H542,Übersichtsblatt!$F$14:$I$24,2,FALSE)),\"\")","v":""},0,4.5]
[2024,"2024-06-24",{"$f":"IFERROR(IF(VLOOKUP($B543,Übersichtsblatt!$F$64:$I$68,2,FALSE)=0,\"\",VLOOKUP($B543,Übersichtsblatt!$F$64:$I$68,2,FALSE)),\"\")","v":""},0,-4.5,null,2024,"2024-06-24",{"$f":"IFERROR(IF(VLOOKUP($H543,Übersichtsblatt!$F$14:$I$24,2,FALSE)=0,\"\",VLOOKUP(H543,Übersichtsblatt!$F$14:$I$24,2,FALSE)),\"\")","v":""},0,4.5]
[2024,"2024-06-25",{"$f":"IFERROR(IF(VLOOKUP($B544,Übersichtsblatt!$F$64:$I$68,2,FALSE)=0,\"\",VLOOKUP($B544,Übersichtsblatt!$F$64:$I$68,2,FALSE)),\"\")","v":""},0,-4.5,null,2024,"2024-06-25",{"$f":"IFERROR(IF(VLOOKUP($H544,Übersichtsblatt!$F$14:$I$24,2,FALSE)=0,\"\",VLOOKUP(H544,Übersichtsblatt!$F$14:$I$24,2,FALSE)),\"\")","v":""},0,4.5]
[2024,"2024-06-26",{"$f":"IFERROR(IF(VLOOKUP($B545,Übersichtsblatt!$F$64:$I$68,2,FALSE)=0,\"\",VLOOKUP($B545,Übersichtsblatt!$F$64:$I$68,2,FALSE)),\"\")","v":""},0,-4.5,null,2024,"2024-06-26",{"$f":"IFERROR(IF(VLOOKUP($H545,Übersichtsblatt!$F$14:$I$24,2,FALSE)=0,\"\",VLOOKUP(H545,Übersichtsblatt!$F$14:$I$24,2,FALSE)),\"\")","v":""},0,4.5]
[2024,"2024-06-27",{"$f":"IFERROR(IF(VLOOKUP($B546,Übersichtsblatt!$F$64:$I$68,2,FALSE)=0,\"\",VLOOKUP($B546,Übersichtsblatt!$F$64:$I$68,2,FALSE)),\"\")","v":""},0,-4.5,null,2024,"2024-06-27",{"$f":"IFERROR(IF(VLOOKUP($H546,Übersichtsblatt!$F$14:$I$24,2,FALSE)=0,\"\",VLOOKUP(H546,Übersichtsblatt!$F$14:$I$24,2,FALSE)),\"\")","v":""},0,4.5]
[2024,"2024-06-28",{"$f":"IFERROR(IF(VLOOKUP($B547,Übersichtsblatt!$F$64:$I$68,2,FALSE)=0,\"\",VLOOKUP($B547,Übersichtsblatt!$F$64:$I$68,2,FALSE)),\"\")","v":""},0,-4.5,null,2024,"2024-06-28",{"$f":"IFERROR(IF(VLOOKUP($H547,Übersichtsblatt!$F$14:$I$24,2,FALSE)=0,\"\",VLOOKUP(H547,Übersichtsblatt!$F$14:$I$24,2,FALSE)),\"\")","v":""},0,4.5]
[2024,"2024-06-29",{"$f":"IFERROR(IF(VLOOKUP($B548,Übersichtsblatt!$F$64:$I$68,2,FALSE)=0,\"\",VLOOKUP($B548,Übersichtsblatt!$F$64:$I$68,2,FALSE)),\"\")","v":""},0,-4.5,null,2024,"2024-06-29",{"$f":"IFERROR(IF(VLOOKUP($H548,Übersichtsblatt!$F$14:$I$24,2,FALSE)=0,\"\",VLOOKUP(H548,Übersichtsblatt!$F$14:$I$24,2,FALSE)),\"\")","v":""},0,4.5]
[2024,"2024-06-30",{"$f":"IFERROR(IF(VLOOKUP($B549,Übersichtsblatt!$F$64:$I$68,2,FALSE)=0,\"\",VLOOKUP($B549,Übersichtsblatt!$F$64:$I$68,2,FALSE)),\"\")","v":""},0,-4.5,null,2024,"2024-06-30",{"$f":"IFERROR(IF(VLOOKUP($H549,Übersichtsblatt!$F$14:$I$24,2,FALSE)=0,\"\",VLOOKUP(H549,Übersichtsblatt!$F$14:$I$24,2,FALSE)),\"\")","v":""},0,4.5]
[2024,"2024-07-01",{"$f":"IFERROR(IF(VLOOKUP($B550,Übersichtsblatt!$F$64:$I$68,2,FALSE)=0,\"\",VLOOKUP($B550,Übersichtsblatt!$F$64:$I$68,2,FALSE)),\"\")","v":""},0,-8.5,null,2024,"2024-07-01",{"$f":"IFERROR(IF(VLOOKUP($H550,Übersichtsblatt!$F$14:$I$24,2,FALSE)=0,\"\",VLOOKUP(H550,Übersichtsblatt!$F$14:$I$24,2,FALSE)),\"\")","v":""},0,8.5]
[2024,"2024-07-02",{"$f":"IFERROR(IF(VLOOKUP($B551,Übersichtsblatt!$F$64:$I$68,2,FALSE)=0,\"\",VLOOKUP($B551,Übersichtsblatt!$F$64:$I$68,2,FALSE)),\"\")","v":""},0,-8.5,null,2024,"2024-07-02",{"$f":"IFERROR(IF(VLOOKUP($H551,Übersichtsblatt!$F$14:$I$24,2,FALSE)=0,\"\",VLOOKUP(H551,Übersichtsblatt!$F$14:$I$24,2,FALSE)),\"\")","v":""},0,8.5]
[2024,"2024-07-03",{"$f":"IFERROR(IF(VLOOKUP($B552,Übersichtsblatt!$F$64:$I$68,2,FALSE)=0,\"\",VLOOKUP($B552,Übersichtsblatt!$F$64:$I$68,2,FALSE)),\"\")","v":""},0,-8.5,null,2024,"2024-07-03",{"$f":"IFERROR(IF(VLOOKUP($H552,Übersichtsblatt!$F$14:$I$24,2,FALSE)=0,\"\",VLOOKUP(H552,Übersichtsblatt!$F$14:$I$24,2,FALSE)),\"\")","v":""},0,8.5]
[2024,"2024-07-04",{"$f":"IFERROR(IF(VLOOKUP($B553,Übersichtsblatt!$F$64:$I$68,2,FALSE)=0,\"\",VLOOKUP($B553,Übersichtsblatt!$F$64:$I$68,2,FALSE)),\"\")","v":""},0,-8.5,null,2024,"2024-07-04",{"$f":"IFERROR(IF(VLOOKUP($H553,Übersichtsblatt!$F$14:$I$24,2,FALSE)=0,\"\",VLOOKUP(H553,Übersichtsblatt!$F$14:$I$24,2,FALSE)),\"\")","v":""},0,8.5]
[2024,"2024-07-05",{"$f":"IFERROR(IF(VLOOKUP($B554,Übersichtsblatt!$F$64:$I$68,2,FALSE)=0,\"\",VLOOKUP($B554,Übersichtsblatt!$F$64:$I$68,2,FALSE)),\"\")","v":""},0,-8.5,null,2024,"2024-07-05",{"$f":"IFERROR(IF(VLOOKUP($H554,Übersichtsblatt!$F$14:$I$24,2,FALSE)=0,\"\",VLOOKUP(H554,Übersichtsblatt!$F$14:$I$24,2,FALSE)),\"\")","v":""},0,8.5]
[2024,"2024-07-06",{"$f":"IFERROR(IF(VLOOKUP($B555,Übersichtsblatt!$F$64:$I$68,2,FALSE)=0,\"\",VLOOKUP($B555,Übersichtsblatt!$F$64:$I$68,2,FALSE)),\"\")","v":""},0,-8.5,null,2024,"2024-07-06",{"$f":"IFERROR(IF(VLOOKUP($H555,Übersichtsblatt!$F$14:$I$24,2,FALSE)=0,\"\",VLOOKUP(H555,Übersichtsblatt!$F$14:$I$24,2,FALSE)),\"\")","v":""},0,8.5]
[2024,"2024-07-07",{"$f":"IFERROR(IF(VLOOKUP($B556,Übersichtsblatt!$F$64:$I$68,2,FALSE)=0,\"\",VLOOKUP($B556,Übersichtsblatt!$F$64:$I$68,2,FALSE)),\"\")","v":""},0,-8.5,null,2024,"2024-07-07",{"$f":"IFERROR(IF(VLOOKUP($H556,Übersichtsblatt!$F$14:$I$24,2,FALSE)=0,\"\",VLOOKUP(H556,Übersichtsblatt!$F$14:$I$24,2,FALSE)),\"\")","v":""},0,8.5]
[2024,"2024-07-08",{"$f":"IFERROR(IF(VLOOKUP($B557,Übersichtsblatt!$F$64:$I$68,2,FALSE)=0,\"\",VLOOKUP($B557,Übersichtsblatt!$F$64:$I$68,2,FALSE)),\"\")","v":""},0,-8.5,null,2024,"2024-07-08",{"$f":"IFERROR(IF(VLOOKUP($H557,Übersichtsblatt!$F$14:$I$24,2,FALSE)=0,\"\",VLOOKUP(H557,Übersichtsblatt!$F$14:$I$24,2,FALSE)),\"\")","v":""},0,8.5]
[2024,"2024-07-09",{"$f":"IFERROR(IF(VLOOKUP($B558,Übersichtsblatt!$F$64:$I$68,2,FALSE)=0,\"\",VLOOKUP($B558,Übersichtsblatt!$F$64:$I$68,2,FALSE)),\"\")","v":""},0,-8.5,null,2024,"2024-07-09",{"$f":"IFERROR(IF(VLOOKUP($H558,Übersichtsblatt!$F$14:$I$24,2,FALSE)=0,\"\",VLOOKUP(H558,Übersichtsblatt!$F$14:$I$24,2,FALSE)),\"\")","v":""},0,8.5]
[2024,"2024-07-10",{"$f":"IFERROR(IF(VLOOKUP($B559,Übersichtsblatt!$F$64:$I$68,2,FALSE)=0,\"\",VLOOKUP($B559,Übersichtsblatt!$F$64:$I$68,2,FALSE)),\"\")","v":""},0,-8.5,null,2024,"2024-07-10",{"$f":"IFERROR(IF(VLOOKUP($H559,Übersichtsblatt!$F$14:$I$24,2,FALSE)=0,\"\",VLOOKUP(H559,Übersichtsblatt!$F$14:$I$24,2,FALSE)),\"\")","v":""},0,8.5]
[2024,"2024-07-11",{"$f":"IFERROR(IF(VLOOKUP($B560,Übersichtsblatt!$F$64:$I$68,2,FALSE)=0,\"\",VLOOKUP($B560,Übersichtsblatt!$F$64:$I$68,2,FALSE)),\"\")","v":""},0,-8.5,null,2024,"2024-07-11",{"$f":"IFERROR(IF(VLOOKUP($H560,Übersichtsblatt!$F$14:$I$24,2,FALSE)=0,\"\",VLOOKUP(H560,Übersichtsblatt!$F$14:$I$24,2,FALSE)),\"\")","v":""},0,8.5]
[2024,"2024-07-12",{"$f":"IFERROR(IF(VLOOKUP($B561,Übersichtsblatt!$F$64:$I$68,2,FALSE)=0,\"\",VLOOKUP($B561,Übersichtsblatt!$F$64:$I$68,2,FALSE)),\"\")","v":""},0,-8.5,null,2024,"2024-07-12",{"$f":"IFERROR(IF(VLOOKUP($H561,Übersichtsblatt!$F$14:$I$24,2,FALSE)=0,\"\",VLOOKUP(H561,Übersichtsblatt!$F$14:$I$24,2,FALSE)),\"\")","v":""},0,8.5]
[2024,"2024-07-13",{"$f":"IFERROR(IF(VLOOKUP($B562,Übersichtsblatt!$F$64:$I$68,2,FALSE)=0,\"\",VLOOKUP($B562,Übersichtsblatt!$F$64:$I$68,2,FALSE)),\"\")","v":""},0,-8.5,null,2024,"2024-07-13",{"$f":"IFERROR(IF(VLOOKUP($H562,Übersichtsblatt!$F$14:$I$24,2,FALSE)=0,\"\",VLOOKUP(H562,Übersichtsblatt!$F$14:$I$24,2,FALSE)),\"\")","v":""},0,8.5]
[2024,"2024-07-14",{"$f":"IFERROR(IF(VLOOKUP($B563,Übersichtsblatt!$F$64:$I$68,2,FALSE)=0,\"\",VLOOKUP($B563,Übersichtsblatt!$F$64:$I$68,2,FALSE)),\"\")","v":""},0,-8.5,null,2024,"2024-07-14",{"$f":"IFERROR(IF(VLOOKUP($H563,Übersichtsblatt!$F$14:$I$24,2,FALSE)=0,\"\",VLOOKUP(H563,Übersichtsblatt!$F$14:$I$24,2,FALSE)),\"\")","v":""},0,8.5]
[2024,"2024-07-15",{"$f":"IFERROR(IF(VLOOKUP($B564,Übersichtsblatt!$F$64:$I$68,2,FALSE)=0,\"\",VLOOKUP($B564,Übersichtsblatt!$F$64:$I$68,2,FALSE)),\"\")","v":""},0,-8.5,null,2024,"2024-07-15",{"$f":"IFERROR(IF(VLOOKUP($H564,Übersichtsblatt!$F$14:$I$24,2,FALSE)=0,\"\",VLOOKUP(H564,Übersichtsblatt!$F$14:$I$24,2,FALSE)),\"\")","v":""},0,8.5]
[2024,"2024-07-16",{"$f":"IFERROR(IF(VLOOKUP($B565,Übersichtsblatt!$F$64:$I$68,2,FALSE)=0,\"\",VLOOKUP($B565,Übersichtsblatt!$F$64:$I$68,2,FALSE)),\"\")","v":""},0,-8.5,null,2024,"2024-07-16",{"$f":"IFERROR(IF(VLOOKUP($H565,Übersichtsblatt!$F$14:$I$24,2,FALSE)=0,\"\",VLOOKUP(H565,Übersichtsblatt!$F$14:$I$24,2,FALSE)),\"\")","v":""},0,8.5]
[2024,"2024-07-17",{"$f":"IFERROR(IF(VLOOKUP($B566,Übersichtsblatt!$F$64:$I$68,2,FALSE)=0,\"\",VLOOKUP($B566,Übersichtsblatt!$F$64:$I$68,2,FALSE)),\"\")","v":""},0,-8.5,null,2024,"2024-07-17",{"$f":"IFERROR(IF(VLOOKUP($H566,Übersichtsblatt!$F$14:$I$24,2,FALSE)=0,\"\",VLOOKUP(H566,Übersichtsblatt!$F$14:$I$24,2,FALSE)),\"\")","v":""},0,8.5]
[2024,"2024-07-18",{"$f":"IFERROR(IF(VLOOKUP($B567,Übersichtsblatt!$F$64:$I$68,2,FALSE)=0,\"\",VLOOKUP($B567,Übersichtsblatt!$F$64:$I$68,2,FALSE)),\"\")","v":""},0,-8.5,null,2024,"2024-07-18",{"$f":"IFERROR(IF(VLOOKUP($H567,Übersichtsblatt!$F$14:$I$24,2,FALSE)=0,\"\",VLOOKUP(H567,Übersichtsblatt!$F$14:$I$24,2,FALSE)),\"\")","v":""},0,8.5]
[2024,"2024-07-19",{"$f":"IFERROR(IF(VLOOKUP($B568,Übersichtsblatt!$F$64:$I$68,2,FALSE)=0,\"\",VLOOKUP($B568,Übersichtsblatt!$F$64:$I$68,2,FALSE)),\"\")","v":""},0,-8.5,null,2024,"2024-07-19",{"$f":"IFERROR(IF(VLOOKUP($H568,Übersichtsblatt!$F$14:$I$24,2,FALSE)=0,\"\",VLOOKUP(H568,Übersichtsblatt!$F$14:$I$24,2,FALSE)),\"\")","v":""},0,8.5]
[2024,"2024-07-20",{"$f":"IFERROR(IF(VLOOKUP($B569,Übersichtsblatt!$F$64:$I$68,2,FALSE)=0,\"\",VLOOKUP($B569,Übersichtsblatt!$F$64:$I$68,2,FALSE)),\"\")","v":""},0,-8.5,null,2024,"2024-07-20",{"$f":"IFERROR(IF(VLOOKUP($H569,Übersichtsblatt!$F$14:$I$24,2,FALSE)=0,\"\",VLOOKUP(H569,Übersichtsblatt!$F$14:$I$24,2,FALSE)),\"\")","v":""},0,8.5]
[2024,"2024-07-21",{"$f":"IFERROR(IF(VLOOKUP($B570,Übersichtsblatt!$F$64:$I$68,2,FALSE)=0,\"\",VLOOKUP($B570,Übersichtsblatt!$F$64:$I$68,2,FALSE)),\"\")","v":""},0,-8.5,null,2024,"2024-07-21",{"$f":"IFERROR(IF(VLOOKUP($H570,Übersichtsblatt!$F$14:$I$24,2,FALSE)=0,\"\",VLOOKUP(H570,Übersichtsblatt!$F$14:$I$24,2,FALSE)),\"\")","v":""},0,8.5]
[2024,"2024-07-22",{"$f":"IFERROR(IF(VLOOKUP($B571,Übersichtsblatt!$F$64:$I$68,2,FALSE)=0,\"\",VLOOKUP($B571,Übersichtsblatt!$F$64:$I$68,2,FALSE)),\"\")","v":""},0,-8.5,null,2024,"2024-07-22",{"$f":"IFERROR(IF(VLOOKUP($H571,Übersichtsblatt!$F$14:$I$24,2,FALSE)=0,\"\",VLOOKUP(H571,Übersichtsblatt!$F$14:$I$24,2,FALSE)),\"\")","v":""},0,8.5]
[2024,"2024-07-23",{"$f":"IFERROR(IF(VLOOKUP($B572,Übersichtsblatt!$F$64:$I$68,2,FALSE)=0,\"\",VLOOKUP($B572,Übersichtsblatt!$F$64:$I$68,2,FALSE)),\"\")","v":""},0,-8.5,null,2024,"2024-07-23",{"$f":"IFERROR(IF(VLOOKUP($H572,Übersichtsblatt!$F$14:$I$24,2,FALSE)=0,\"\",VLOOKUP(H572,Übersichtsblatt!$F$14:$I$24,2,FALSE)),\"\")","v":""},0,8.5]
[2024,"2024-07-24",{"$f":"IFERROR(IF(VLOOKUP($B573,Übersichtsblatt!$F$64:$I$68,2,FALSE)=0,\"\",VLOOKUP($B573,Übersichtsblatt!$F$64:$I$68,2,FALSE)),\"\")","v":""},0,-8.5,null,2024,"2024-07-24",{"$f":"IFERROR(IF(VLOOKUP($H573,Übersichtsblatt!$F$14:$I$24,2,FALSE)=0,\"\",VLOOKUP(H573,Übersichtsblatt!$F$14:$I$24,2,FALSE)),\"\")","v":""},0,8.5]
[2024,"2024-07-25",{"$f":"IFERROR(IF(VLOOKUP($B574,Übersichtsblatt!$F$64:$I$68,2,FALSE)=0,\"\",VLOOKUP($B574,Übersichtsblatt!$F$64:$I$68,2,FALSE)),\"\")","v":""},0,-8.5,null,2024,"2024-07-25",{"$f":"IFERROR(IF(VLOOKUP($H574,Übersichtsblatt!$F$14:$I$24,2,FALSE)=0,\"\",VLOOKUP(H574,Übersichtsblatt!$F$14:$I$24,2,FALSE)),\"\")","v":""},0,8.5]
[2024,"2024-07-26",{"$f":"IFERROR(IF(VLOOKUP($B575,Übersichtsblatt!$F$64:$I$68,2,FALSE)=0,\"\",VLOOKUP($B575,Übersichtsblatt!$F$64:$I$68,2,FALSE)),\"\")","v":""},0,-8.5,null,2024,"2024-07-26",{"$f":"IFERROR(IF(VLOOKUP($H575,Übersichtsblatt!$F$14:$I$24,2,FALSE)=0,\"\",VLOOKUP(H575,Übersichtsblatt!$F$14:$I$24,2,FALSE)),\"\")","v":""},0,8.5]
[2024,"2024-07-27",{"$f":"IFERROR(IF(VLOOKUP($B576,Übersichtsblatt!$F$64:$I$68,2,FALSE)=0,\"\",VLOOKUP($B576,Übersichtsblatt!$F$64:$I$68,2,FALSE)),\"\")","v":""},0,-8.5,null,2024,"2024-07-27",{"$f":"IFERROR(IF(VLOOKUP($H576,Übersichtsblatt!$F$14:$I$24,2,FALSE)=0,\"\",VLOOKUP(H576,Übersichtsblatt!$F$14:$I$24,2,FALSE)),\"\")","v":""},0,8.5]
[2024,"2024-07-28",{"$f":"IFERROR(IF(VLOOKUP($B577,Übersichtsblatt!$F$64:$I$68,2,FALSE)=0,\"\",VLOOKUP($B577,Übersichtsblatt!$F$64:$I$68,2,FALSE)),\"\")","v":""},0,-8.5,null,2024,"2024-07-28",{"$f":"IFERROR(IF(VLOOKUP($H577,Übersichtsblatt!$F$14:$I$24,2,FALSE)=0,\"\",VLOOKUP(H577,Übersichtsblatt!$F$14:$I$24,2,FALSE)),\"\")","v":""},0,8.5]
[2024,"2024-07-29",{"$f":"IFERROR(IF(VLOOKUP($B578,Übersichtsblatt!$F$64:$I$68,2,FALSE)=0,\"\",VLOOKUP($B578,Übersichtsblatt!$F$64:$I$68,2,FALSE)),\"\")","v":""},0,-8.5,null,2024,"2024-07-29",{"$f":"IFERROR(IF(VLOOKUP($H578,Übersichtsblatt!$F$14:$I$24,2,FALSE)=0,\"\",VLOOKUP(H578,Übersichtsblatt!$F$14:$I$24,2,FALSE)),\"\")","v":""},0,8.5]
[2024,"2024-07-30",{"$f":"IFERROR(IF(VLOOKUP($B579,Übersichtsblatt!$F$64:$I$68,2,FALSE)=0,\"\",VLOOKUP($B579,Übersichtsblatt!$F$64:$I$68,2,FALSE)),\"\")","v":""},0,-8.5,null,2024,"2024-07-30",{"$f":"IFERROR(IF(VLOOKUP($H579,Übersichtsblatt!$F$14:$I$24,2,FALSE)=0,\"\",VLOOKUP(H579,Übersichtsblatt!$F$14:$I$24,2,FALSE)),\"\")","v":""},0,8.5]
[2024,"2024-07-31",{"$f":"IFERROR(IF(VLOOKUP($B580,Übersichtsblatt!$F$64:$I$68,2,FALSE)=0,\"\",VLOOKUP($B580,Übersichtsblatt!$F$64:$I$68,2,FALSE)),\"\")","v":""},0,-8.5,null,2024,"2024-07-31",{"$f":"IFERROR(IF(VLOOKUP($H580,Übersichtsblatt!$F$14:$I$24,2,FALSE)=0,\"\",VLOOKUP(H580,Übersichtsblatt!$F$14:$I$24,2,FALSE)),\"\")","v":""},0,8.5]
[2024,"2024-08-01",{"$f":"IFERROR(IF(VLOOKUP($B581,Übersichtsblatt!$F$64:$I$68,2,FALSE)=0,\"\",VLOOKUP($B581,Übersichtsblatt!$F$64:$I$68,2,FALSE)),\"\")","v":""},{"$f":"IF($C581=\"\",0,$E581)","v":0},-5.5,null,2024,"2024-08-01",{"$f":"IFERROR(IF(VLOOKUP($H581,Übersichtsblatt!$F$14:$I$24,2,FALSE)=0,\"\",VLOOKUP(H581,Übersichtsblatt!$F$14:$I$24,2,FALSE)),\"\")","v":""},{"$f":"IF($I581=\"\",0,$K581)","v":0},5.5]
[{"$f":"YEAR(B582)","v":2024},{"$f":"B581+1","v":"2024-08-02"},{"$f":"IFERROR(IF(VLOOKUP($B582,Übersichtsblatt!$F$64:$I$68,2,FALSE)=0,\"\",VLOOKUP($B582,Übersichtsblatt!$F$64:$I$68,2,FALSE)),\"\")","v":""},0,-5.5,null,{"$f":"YEAR(H582)","v":2024},{"$f":"H581+1","v":"2024-08-02"},{"$f":"IFERROR(IF(VLOOKUP($H582,Übersichtsblatt!$F$14:$I$24,2,FALSE)=0,\"\",VLOOKUP(H582,Übersichtsblatt!$F$14:$I$24,2,FALSE)),\"\")","v":""},0,5.5]
[2024,"2024-08-03",{"$f":"IFERROR(IF(VLOOKUP($B583,Übersichtsblatt!$F$64:$I$68,2,FALSE)=0,\"\",VLOOKUP($B583,Übersichtsblatt!$F$64:$I$68,2,FALSE)),\"\")","v":""},0,-5.5,null,2024,"2024-08-03",{"$f":"IFERROR(IF(VLOOKUP($H583,Übersichtsblatt!$F$14:$I$24,2,FALSE)=0,\"\",VLOOKUP(H583,Übersichtsblatt!$F$14:$I$24,2,FALSE)),\"\")","v":""},0,5.5]
[2024,"2024-08-04",{"$f":"IFERROR(IF(VLOOKUP($B584,Übersichtsblatt!$F$64:$I$68,2,FALSE)=0,\"\",VLOOKUP($B584,Übersichtsblatt!$F$64:$I$68,2,FALSE)),\"\")","v":""},0,-5.5,null,2024,"2024-08-04",{"$f":"IFERROR(IF(VLOOKUP($H584,Übersichtsblatt!$F$14:$I$24,2,FALSE)=0,\"\",VLOOKUP(H584,Übersichtsblatt!$F$14:$I$24,2,FALSE)),\"\")","v":""},0,5.5]
[2024,"2024-08-05",{"$f":"IFERROR(IF(VLOOKUP($B585,Übersichtsblatt!$F$64:$I$68,2,FALSE)=0,\"\",VLOOKUP($B585,Übersichtsblatt!$F$64:$I$68,2,FALSE)),\"\")","v":""},0,-5.5,null,2024,"2024-08-05",{"$f":"IFERROR(IF(VLOOKUP($H585,Übersichtsblatt!$F$14:$I$24,2,FALSE)=0,\"\",VLOOKUP(H585,Übersichtsblatt!$F$14:$I$24,2,FALSE)),\"\")","v":""},0,5.5]
[2024,"2024-08-06",{"$f":"IFERROR(IF(VLOOKUP($B586,Übersichtsblatt!$F$64:$I$68,2,FALSE)=0,\"\",VLOOKUP($B586,Übersichtsblatt!$F$64:$I$68,2,FALSE)),\"\")","v":""},0,-5.5,null,2024,"2024-08-06",{"$f":"IFERROR(IF(VLOOKUP($H586,Übersichtsblatt!$F$14:$I$24,2,FALSE)=0,\"\",VLOOKUP(H586,Übersichtsblatt!$F$14:$I$24,2,FALSE)),\"\")","v":""},0,5.5]
[2024,"2024-08-07",{"$f":"IFERROR(IF(VLOOKUP($B587,Übersichtsblatt!$F$64:$I$68,2,FALSE)=0,\"\",VLOOKUP($B587,Übersichtsblatt!$F$64:$I$68,2,FALSE)),\"\")","v":""},0,-5.5,null,2024,"2024-08-07",{"$f":"IFERROR(IF(VLOOKUP($H587,Übersichtsblatt!$F$14:$I$24,2,FALSE)=0,\"\",VLOOKUP(H587,Übersichtsblatt!$F$14:$I$24,2,FALSE)),\"\")","v":""},0,5.5]
[2024,"2024-08-08",{"$f":"IFERROR(IF(VLOOKUP($B588,Übersichtsblatt!$F$64:$I$68,2,FALSE)=0,\"\",VLOOKUP($B588,Übersichtsblatt!$F$64:$I$68,2,FALSE)),\"\")","v":""},0,-5.5,null,2024,"2024-08-08",{"$f":"IFERROR(IF(VLOOKUP($H588,Übersichtsblatt!$F$14:$I$24,2,FALSE)=0,\"\",VLOOKUP(H588,Übersichtsblatt!$F$14:$I$24,2,FALSE)),\"\")","v":""},0,5.5]
[2024,"2024-08-09",{"$f":"IFERROR(IF(VLOOKUP($B589,Übersichtsblatt!$F$64:$I$68,2,FALSE)=0,\"\",VLOOKUP($B589,Übersichtsblatt!$F$64:$I$68,2,FALSE)),\"\")","v":""},0,-5.5,null,2024,"2024-08-09",{"$f":"IFERROR(IF(VLOOKUP($H589,Übersichtsblatt!$F$14:$I$24,2,FALSE)=0,\"\",VLOOKUP(H589,Übersichtsblatt!$F$14:$I$24,2,FALSE)),\"\")","v":""},0,5.5]
[2024,"2024-08-10",{"$f":"IFERROR(IF(VLOOKUP($B590,Übersichtsblatt!$F$64:$I$68,2,FALSE)=0,\"\",VLOOKUP($B590,Übersichtsblatt!$F$64:$I$68,2,FALSE)),\"\")","v":""},0,-5.5,null,2024,"2024-08-10",{"$f":"IFERROR(IF(VLOOKUP($H590,Übersichtsblatt!$F$14:$I$24,2,FALSE)=0,\"\",VLOOKUP(H590,Übersichtsblatt!$F$14:$I$24,2,FALSE)),\"\")","v":""},0,5.5]
[2024,"2024-08-11",{"$f":"IFERROR(IF(VLOOKUP($B591,Übersichtsblatt!$F$64:$I$68,2,FALSE)=0,\"\",VLOOKUP($B591,Übersichtsblatt!$F$64:$I$68,2,FALSE)),\"\")","v":""},0,-5.5,null,2024,"2024-08-11",{"$f":"IFERROR(IF(VLOOKUP($H591,Übersichtsblatt!$F$14:$I$24,2,FALSE)=0,\"\",VLOOKUP(H591,Übersichtsblatt!$F$14:$I$24,2,FALSE)),\"\")","v":""},0,5.5]
[2024,"2024-08-12",{"$f":"IFERROR(IF(VLOOKUP($B592,Übersichtsblatt!$F$64:$I$68,2,FALSE)=0,\"\",VLOOKUP($B592,Übersichtsblatt!$F$64:$I$68,2,FALSE)),\"\")","v":""},0,-5.5,null,2024,"2024-08-12",{"$f":"IFERROR(IF(VLOOKUP($H592,Übersichtsblatt!$F$14:$I$24,2,FALSE)=0,\"\",VLOOKUP(H592,Übersichtsblatt!$F$14:$I$24,2,FALSE)),\"\")","v":""},0,5.5]
[2024,"2024-08-13",{"$f":"IFERROR(IF(VLOOKUP($B593,Übersichtsblatt!$F$64:$I$68,2,FALSE)=0,\"\",VLOOKUP($B593,Übersichtsblatt!$F$64:$I$68,2,FALSE)),\"\")","v":""},0,-5.5,null,2024,"2024-08-13",{"$f":"IFERROR(IF(VLOOKUP($H593,Übersichtsblatt!$F$14:$I$24,2,FALSE)=0,\"\",VLOOKUP(H593,Übersichtsblatt!$F$14:$I$24,2,FALSE)),\"\")","v":""},0,5.5]
[2024,"2024-08-14",{"$f":"IFERROR(IF(VLOOKUP($B594,Übersichtsblatt!$F$64:$I$68,2,FALSE)=0,\"\",VLOOKUP($B594,Übersichtsblatt!$F$64:$I$68,2,FALSE)),\"\")","v":""},0,-5.5,null,2024,"2024-08-14",{"$f":"IFERROR(IF(VLOOKUP($H594,Übersichtsblatt!$F$14:$I$24,2,FALSE)=0,\"\",VLOOKUP(H594,Übersichtsblatt!$F$14:$I$24,2,FALSE)),\"\")","v":""},0,5.5]
[2024,"2024-08-15",{"$f":"IFERROR(IF(VLOOKUP($B595,Übersichtsblatt!$F$64:$I$68,2,FALSE)=0,\"\",VLOOKUP($B595,Übersichtsblatt!$F$64:$I$68,2,FALSE)),\"\")","v":""},0,-5.5,null,2024,"2024-08-15",{"$f":"IFERROR(IF(VLOOKUP($H595,Übersichtsblatt!$F$14:$I$24,2,FALSE)=0,\"\",VLOOKUP(H595,Übersichtsblatt!$F$14:$I$24,2,FALSE)),\"\")","v":""},0,5.5]
[2024,"2024-08-16",{"$f":"IFERROR(IF(VLOOKUP($B596,Übersichtsblatt!$F$64:$I$68,2,FALSE)=0,\"\",VLOOKUP($B596,Übersichtsblatt!$F$64:$I$68,2,FALSE)),\"\")","v":""},0,-5.5,null,2024,"2024-08-16",{"$f":"IFERROR(IF(VLOOKUP($H596,Übersichtsblatt!$F$14:$I$24,2,FALSE)=0,\"\",VLOOKUP(H596,Übersichtsblatt!$F$14:$I$24,2,FALSE)),\"\")","v":""},0,5.5]
[2024,"2024-08-17",{"$f":"IFERROR(IF(VLOOKUP($B597,Übersichtsblatt!$F$64:$I$68,2,FALSE)=0,\"\",VLOOKUP($B597,Übersichtsblatt!$F$64:$I$68,2,FALSE)),\"\")","v":""},0,-5.5,null,2024,"2024-08-17",{"$f":"IFERROR(IF(VLOOKUP($H597,Übersichtsblatt!$F$14:$I$24,2,FALSE)=0,\"\",VLOOKUP(H597,Übersichtsblatt!$F$14:$I$24,2,FALSE)),\"\")","v":""},0,5.5]
[2024,"2024-08-18",{"$f":"IFERROR(IF(VLOOKUP($B598,Übersichtsblatt!$F$64:$I$68,2,FALSE)=0,\"\",VLOOKUP($B598,Übersichtsblatt!$F$64:$I$68,2,FALSE)),\"\")","v":""},0,-5.5,null,2024,"2024-08-18",{"$f":"IFERROR(IF(VLOOKUP($H598,Übersichtsblatt!$F$14:$I$24,2,FALSE)=0,\"\",VLOOKUP(H598,Übersichtsblatt!$F$14:$I$24,2,FALSE)),\"\")","v":""},0,5.5]
[2024,"2024-08-19",{"$f":"IFERROR(IF(VLOOKUP($B599,Übersichtsblatt!$F$64:$I$68,2,FALSE)=0,\"\",VLOOKUP($B599,Übersichtsblatt!$F$64:$I$68,2,FALSE)),\"\")","v":""},0,-5.5,null,2024,"2024-08-19",{"$f":"IFERROR(IF(VLOOKUP($H599,Übersichtsblatt!$F$14:$I$24,2,FALSE)=0,\"\",VLOOKUP(H599,Übersichtsblatt!$F$14:$I$24,2,FALSE)),\"\")","v":""},0,5.5]
[2024,"2024-08-20",{"$f":"IFERROR(IF(VLOOKUP($B600,Übersichtsblatt!$F$64:$I$68,2,FALSE)=0,\"\",VLOOKUP($B600,Übersichtsblatt!$F$64:$I$68,2,FALSE)),\"\")","v":""},0,-5.5,null,2024,"2024-08-20",{"$f":"IFERROR(IF(VLOOKUP($H600,Übersichtsblatt!$F$14:$I$24,2,FALSE)=0,\"\",VLOOKUP(H600,Übersichtsblatt!$F$14:$I$24,2,FALSE)),\"\")","v":""},0,5.5]
[2024,"2024-08-21",{"$f":"IFERROR(IF(VLOOKUP($B601,Übersichtsblatt!$F$64:$I$68,2,FALSE)=0,\"\",VLOOKUP($B601,Übersichtsblatt!$F$64:$I$68,2,FALSE)),\"\")","v":""},0,-5.5,null,2024,"2024-08-21",{"$f":"IFERROR(IF(VLOOKUP($H601,Übersichtsblatt!$F$14:$I$24,2,FALSE)=0,\"\",VLOOKUP(H601,Übersichtsblatt!$F$14:$I$24,2,FALSE)),\"\")","v":""},0,5.5]
[2024,"2024-08-22",{"$f":"IFERROR(IF(VLOOKUP($B602,Übersichtsblatt!$F$64:$I$68,2,FALSE)=0,\"\",VLOOKUP($B602,Übersichtsblatt!$F$64:$I$68,2,FALSE)),\"\")","v":""},0,-5.5,null,2024,"2024-08-22",{"$f":"IFERROR(IF(VLOOKUP($H602,Übersichtsblatt!$F$14:$I$24,2,FALSE)=0,\"\",VLOOKUP(H602,Übersichtsblatt!$F$14:$I$24,2,FALSE)),\"\")","v":""},0,5.5]
[2024,"2024-08-23",{"$f":"IFERROR(IF(VLOOKUP($B603,Übersichtsblatt!$F$64:$I$68,2,FALSE)=0,\"\",VLOOKUP($B603,Übersichtsblatt!$F$64:$I$68,2,FALSE)),\"\")","v":""},0,-5.5,null,2024,"2024-08-23",{"$f":"IFERROR(IF(VLOOKUP($H603,Übersichtsblatt!$F$14:$I$24,2,FALSE)=0,\"\",VLOOKUP(H603,Übersichtsblatt!$F$14:$I$24,2,FALSE)),\"\")","v":""},0,5.5]
[2024,"2024-08-24",{"$f":"IFERROR(IF(VLOOKUP($B604,Übersichtsblatt!$F$64:$I$68,2,FALSE)=0,\"\",VLOOKUP($B604,Übersichtsblatt!$F$64:$I$68,2,FALSE)),\"\")","v":""},0,-5.5,null,2024,"2024-08-24",{"$f":"IFERROR(IF(VLOOKUP($H604,Übersichtsblatt!$F$14:$I$24,2,FALSE)=0,\"\",VLOOKUP(H604,Übersichtsblatt!$F$14:$I$24,2,FALSE)),\"\")","v":""},0,5.5]
[2024,"2024-08-25",{"$f":"IFERROR(IF(VLOOKUP($B605,Übersichtsblatt!$F$64:$I$68,2,FALSE)=0,\"\",VLOOKUP($B605,Übersichtsblatt!$F$64:$I$68,2,FALSE)),\"\")","v":""},0,-5.5,null,2024,"2024-08-25",{"$f":"IFERROR(IF(VLOOKUP($H605,Übersichtsblatt!$F$14:$I$24,2,FALSE)=0,\"\",VLOOKUP(H605,Übersichtsblatt!$F$14:$I$24,2,FALSE)),\"\")","v":""},0,5.5]
[2024,"2024-08-26",{"$f":"IFERROR(IF(VLOOKUP($B606,Übersichtsblatt!$F$64:$I$68,2,FALSE)=0,\"\",VLOOKUP($B606,Übersichtsblatt!$F$64:$I$68,2,FALSE)),\"\")","v":""},0,-5.5,null,2024,"2024-08-26",{"$f":"IFERROR(IF(VLOOKUP($H606,Übersichtsblatt!$F$14:$I$24,2,FALSE)=0,\"\",VLOOKUP(H606,Übersichtsblatt!$F$14:$I$24,2,FALSE)),\"\")","v":""},0,5.5]
[2024,"2024-08-27",{"$f":"IFERROR(IF(VLOOKUP($B607,Übersichtsblatt!$F$64:$I$68,2,FALSE)=0,\"\",VLOOKUP($B607,Übersichtsblatt!$F$64:$I$68,2,FALSE)),\"\")","v":""},0,-5.5,null,2024,"2024-08-27",{"$f":"IFERROR(IF(VLOOKUP($H607,Übersichtsblatt!$F$14:$I$24,2,FALSE)=0,\"\",VLOOKUP(H607,Übersichtsblatt!$F$14:$I$24,2,FALSE)),\"\")","v":""},0,5.5]
[2024,"2024-08-28",{"$f":"IFERROR(IF(VLOOKUP($B608,Übersichtsblatt!$F$64:$I$68,2,FALSE)=0,\"\",VLOOKUP($B608,Übersichtsblatt!$F$64:$I$68,2,FALSE)),\"\")","v":""},0,-5.5,null,2024,"2024-08-28",{"$f":"IFERROR(IF(VLOOKUP($H608,Übersichtsblatt!$F$14:$I$24,2,FALSE)=0,\"\",VLOOKUP(H608,Übersichtsblatt!$F$14:$I$24,2,FALSE)),\"\")","v":""},0,5.5]
[2024,"2024-08-29",{"$f":"IFERROR(IF(VLOOKUP($B609,Übersichtsblatt!$F$64:$I$68,2,FALSE)=0,\"\",VLOOKUP($B609,Übersichtsblatt!$F$64:$I$68,2,FALSE)),\"\")","v":""},0,-5.5,null,2024,"2024-08-29",{"$f":"IFERROR(IF(VLOOKUP($H609,Übersichtsblatt!$F$14:$I$24,2,FALSE)=0,\"\",VLOOKUP(H609,Übersichtsblatt!$F$14:$I$24,2,FALSE)),\"\")","v":""},0,5.5]
[2024,"2024-08-30",{"$f":"IFERROR(IF(VLOOKUP($B610,Übersichtsblatt!$F$64:$I$68,2,FALSE)=0,\"\",VLOOKUP($B610,Übersichtsblatt!$F$64:$I$68,2,FALSE)),\"\")","v":""},0,-5.5,null,2024,"2024-08-30",{"$f":"IFERROR(IF(VLOOKUP($H610,Übersichtsblatt!$F$14:$I$24,2,FALSE)=0,\"\",VLOOKUP(H610,Übersichtsblatt!$F$14:$I$24,2,FALSE)),\"\")","v":""},0,5.5]
[2024,"2024-08-31",{"$f":"IFERROR(IF(VLOOKUP($B611,Übersichtsblatt!$F$64:$I$68,2,FALSE)=0,\"\",VLOOKUP($B611,Übersichtsblatt!$F$64:$I$68,2,FALSE)),\"\")","v":""},0,-5.5,null,2024,"2024-08-31",{"$f":"IFERROR(IF(VLOOKUP($H611,Übersichtsblatt!$F$14:$I$24,2,FALSE)=0,\"\",VLOOKUP(H611,Übersichtsblatt!$F$14:$I$24,2,FALSE)),\"\")","v":""},0,5.5]
[2024,"2024-09-01",{"$f":"IFERROR(IF(VLOOKUP($B612,Übersichtsblatt!$F$64:$I$68,2,FALSE)=0,\"\",VLOOKUP($B612,Übersichtsblatt!$F$64:$I$68,2,FALSE)),\"\")","v":""},0,-7.5,null,2024,"2024-09-01",{"$f":"IFERROR(IF(VLOOKUP($H612,Übersichtsblatt!$F$14:$I$24,2,FALSE)=0,\"\",VLOOKUP(H612,Übersichtsblatt!$F$14:$I$24,2,FALSE)),\"\")","v":""},0,7.5]
[2024,"2024-09-02",{"$f":"IFERROR(IF(VLOOKUP($B613,Übersichtsblatt!$F$64:$I$68,2,FALSE)=0,\"\",VLOOKUP($B613,Übersichtsblatt!$F$64:$I$68,2,FALSE)),\"\")","v":""},0,-7.5,null,2024,"2024-09-02",{"$f":"IFERROR(IF(VLOOKUP($H613,Übersichtsblatt!$F$14:$I$24,2,FALSE)=0,\"\",VLOOKUP(H613,Übersichtsblatt!$F$14:$I$24,2,FALSE)),\"\")","v":""},0,7.5]
[2024,"2024-09-03",{"$f":"IFERROR(IF(VLOOKUP($B614,Übersichtsblatt!$F$64:$I$68,2,FALSE)=0,\"\",VLOOKUP($B614,Übersichtsblatt!$F$64:$I$68,2,FALSE)),\"\")","v":""},0,-7.5,null,2024,"2024-09-03",{"$f":"IFERROR(IF(VLOOKUP($H614,Übersichtsblatt!$F$14:$I$24,2,FALSE)=0,\"\",VLOOKUP(H614,Übersichtsblatt!$F$14:$I$24,2,FALSE)),\"\")","v":""},0,7.5]
[2024,"2024-09-04",{"$f":"IFERROR(IF(VLOOKUP($B615,Übersichtsblatt!$F$64:$I$68,2,FALSE)=0,\"\",VLOOKUP($B615,Übersichtsblatt!$F$64:$I$68,2,FALSE)),\"\")","v":""},0,-7.5,null,2024,"2024-09-04",{"$f":"IFERROR(IF(VLOOKUP($H615,Übersichtsblatt!$F$14:$I$24,2,FALSE)=0,\"\",VLOOKUP(H615,Übersichtsblatt!$F$14:$I$24,2,FALSE)),\"\")","v":""},0,7.5]
[2024,"2024-09-05",{"$f":"IFERROR(IF(VLOOKUP($B616,Übersichtsblatt!$F$64:$I$68,2,FALSE)=0,\"\",VLOOKUP($B616,Übersichtsblatt!$F$64:$I$68,2,FALSE)),\"\")","v":""},0,-7.5,null,2024,"2024-09-05",{"$f":"IFERROR(IF(VLOOKUP($H616,Übersichtsblatt!$F$14:$I$24,2,FALSE)=0,\"\",VLOOKUP(H616,Übersichtsblatt!$F$14:$I$24,2,FALSE)),\"\")","v":""},0,7.5]
[2024,"2024-09-06",{"$f":"IFERROR(IF(VLOOKUP($B617,Übersichtsblatt!$F$64:$I$68,2,FALSE)=0,\"\",VLOOKUP($B617,Übersichtsblatt!$F$64:$I$68,2,FALSE)),\"\")","v":""},0,-7.5,null,2024,"2024-09-06",{"$f":"IFERROR(IF(VLOOKUP($H617,Übersichtsblatt!$F$14:$I$24,2,FALSE)=0,\"\",VLOOKUP(H617,Übersichtsblatt!$F$14:$I$24,2,FALSE)),\"\")","v":""},0,7.5]
[2024,"2024-09-07",{"$f":"IFERROR(IF(VLOOKUP($B618,Übersichtsblatt!$F$64:$I$68,2,FALSE)=0,\"\",VLOOKUP($B618,Übersichtsblatt!$F$64:$I$68,2,FALSE)),\"\")","v":""},0,-7.5,null,2024,"2024-09-07",{"$f":"IFERROR(IF(VLOOKUP($H618,Übersichtsblatt!$F$14:$I$24,2,FALSE)=0,\"\",VLOOKUP(H618,Übersichtsblatt!$F$14:$I$24,2,FALSE)),\"\")","v":""},0,7.5]
[2024,"2024-09-08",{"$f":"IFERROR(IF(VLOOKUP($B619,Übersichtsblatt!$F$64:$I$68,2,FALSE)=0,\"\",VLOOKUP($B619,Übersichtsblatt!$F$64:$I$68,2,FALSE)),\"\")","v":""},0,-7.5,null,2024,"2024-09-08",{"$f":"IFERROR(IF(VLOOKUP($H619,Übersichtsblatt!$F$14:$I$24,2,FALSE)=0,\"\",VLOOKUP(H619,Übersichtsblatt!$F$14:$I$24,2,FALSE)),\"\")","v":""},0,7.5]
[2024,"2024-09-09",{"$f":"IFERROR(IF(VLOOKUP($B620,Übersichtsblatt!$F$64:$I$68,2,FALSE)=0,\"\",VLOOKUP($B620,Übersichtsblatt!$F$64:$I$68,2,FALSE)),\"\")","v":""},0,-7.5,null,2024,"2024-09-09",{"$f":"IFERROR(IF(VLOOKUP($H620,Übersichtsblatt!$F$14:$I$24,2,FALSE)=0,\"\",VLOOKUP(H620,Übersichtsblatt!$F$14:$I$24,2,FALSE)),\"\")","v":""},0,7.5]
[2024,"2024-09-10",{"$f":"IFERROR(IF(VLOOKUP($B621,Übersichtsblatt!$F$64:$I$68,2,FALSE)=0,\"\",VLOOKUP($B621,Übersichtsblatt!$F$64:$I$68,2,FALSE)),\"\")","v":""},0,-7.5,null,2024,"2024-09-10",{"$f":"IFERROR(IF(VLOOKUP($H621,Übersichtsblatt!$F$14:$I$24,2,FALSE)=0,\"\",VLOOKUP(H621,Übersichtsblatt!$F$14:$I$24,2,FALSE)),\"\")","v":""},0,7.5]
[2024,"2024-09-11",{"$f":"IFERROR(IF(VLOOKUP($B622,Übersichtsblatt!$F$64:$I$68,2,FALSE)=0,\"\",VLOOKUP($B622,Übersichtsblatt!$F$64:$I$68,2,FALSE)),\"\")","v":""},0,-7.5,null,2024,"2024-09-11",{"$f":"IFERROR(IF(VLOOKUP($H622,Übersichtsblatt!$F$14:$I$24,2,FALSE)=0,\"\",VLOOKUP(H622,Übersichtsblatt!$F$14:$I$24,2,FALSE)),\"\")","v":""},0,7.5]
[2024,"2024-09-12",{"$f":"IFERROR(IF(VLOOKUP($B623,Übersichtsblatt!$F$64:$I$68,2,FALSE)=0,\"\",VLOOKUP($B623,Übersichtsblatt!$F$64:$I$68,2,FALSE)),\"\")","v":""},0,-7.5,null,2024,"2024-09-12",{"$f":"IFERROR(IF(VLOOKUP($H623,Übersichtsblatt!$F$14:$I$24,2,FALSE)=0,\"\",VLOOKUP(H623,Übersichtsblatt!$F$14:$I$24,2,FALSE)),\"\")","v":""},0,7.5]
[2024,"2024-09-13",{"$f":"IFERROR(IF(VLOOKUP($B624,Übersichtsblatt!$F$64:$I$68,2,FALSE)=0,\"\",VLOOKUP($B624,Übersichtsblatt!$F$64:$I$68,2,FALSE)),\"\")","v":""},0,-7.5,null,2024,"2024-09-13",{"$f":"IFERROR(IF(VLOOKUP($H624,Übersichtsblatt!$F$14:$I$24,2,FALSE)=0,\"\",VLOOKUP(H624,Übersichtsblatt!$F$14:$I$24,2,FALSE)),\"\")","v":""},0,7.5]
[2024,"2024-09-14",{"$f":"IFERROR(IF(VLOOKUP($B625,Übersichtsblatt!$F$64:$I$68,2,FALSE)=0,\"\",VLOOKUP($B625,Übersichtsblatt!$F$64:$I$68,2,FALSE)),\"\")","v":""},0,-7.5,null,2024,"2024-09-14",{"$f":"IFERROR(IF(VLOOKUP($H625,Übersichtsblatt!$F$14:$I$24,2,FALSE)=0,\"\",VLOOKUP(H625,Übersichtsblatt!$F$14:$I$24,2,FALSE)),\"\")","v":""},0,7.5]
[2024,"2024-09-15",{"$f":"IFERROR(IF(VLOOKUP($B626,Übersichtsblatt!$F$64:$I$68,2,FALSE)=0,\"\",VLOOKUP($B626,Übersichtsblatt!$F$64:$I$68,2,FALSE)),\"\")","v":""},0,-7.5,null,2024,"2024-09-15",{"$f":"IFERROR(IF(VLOOKUP($H626,Übersichtsblatt!$F$14:$I$24,2,FALSE)=0,\"\",VLOOKUP(H626,Übersichtsblatt!$F$14:$I$24,2,FALSE)),\"\")","v":""},0,7.5]
[2024,"2024-09-16",{"$f":"IFERROR(IF(VLOOKUP($B627,Übersichtsblatt!$F$64:$I$68,2,FALSE)=0,\"\",VLOOKUP($B627,Übersichtsblatt!$F$64:$I$68,2,FALSE)),\"\")","v":""},0,-7.5,null,2024,"2024-09-16",{"$f":"IFERROR(IF(VLOOKUP($H627,Übersichtsblatt!$F$14:$I$24,2,FALSE)=0,\"\",VLOOKUP(H627,Übersichtsblatt!$F$14:$I$24,2,FALSE)),\"\")","v":""},0,7.5]
[2024,"2024-09-17",{"$f":"IFERROR(IF(VLOOKUP($B628,Übersichtsblatt!$F$64:$I$68,2,FALSE)=0,\"\",VLOOKUP($B628,Übersichtsblatt!$F$64:$I$68,2,FALSE)),\"\")","v":""},0,-7.5,null,2024,"2024-09-17",{"$f":"IFERROR(IF(VLOOKUP($H628,Übersichtsblatt!$F$14:$I$24,2,FALSE)=0,\"\",VLOOKUP(H628,Übersichtsblatt!$F$14:$I$24,2,FALSE)),\"\")","v":""},0,7.5]
[2024,"2024-09-18",{"$f":"IFERROR(IF(VLOOKUP($B629,Übersichtsblatt!$F$64:$I$68,2,FALSE)=0,\"\",VLOOKUP($B629,Übersichtsblatt!$F$64:$I$68,2,FALSE)),\"\")","v":""},0,-7.5,null,2024,"2024-09-18",{"$f":"IFERROR(IF(VLOOKUP($H629,Übersichtsblatt!$F$14:$I$24,2,FALSE)=0,\"\",VLOOKUP(H629,Übersichtsblatt!$F$14:$I$24,2,FALSE)),\"\")","v":""},0,7.5]
[2024,"2024-09-19",{"$f":"IFERROR(IF(VLOOKUP($B630,Übersichtsblatt!$F$64:$I$68,2,FALSE)=0,\"\",VLOOKUP($B630,Übersichtsblatt!$F$64:$I$68,2,FALSE)),\"\")","v":""},0,-7.5,null,2024,"2024-09-19",{"$f":"IFERROR(IF(VLOOKUP($H630,Übersichtsblatt!$F$14:$I$24,2,FALSE)=0,\"\",VLOOKUP(H630,Übersichtsblatt!$F$14:$I$24,2,FALSE)),\"\")","v":""},0,7.5]
[2024,"2024-09-20",{"$f":"IFERROR(IF(VLOOKUP($B631,Übersichtsblatt!$F$64:$I$68,2,FALSE)=0,\"\",VLOOKUP($B631,Übersichtsblatt!$F$64:$I$68,2,FALSE)),\"\")","v":""},0,-7.5,null,2024,"2024-09-20",{"$f":"IFERROR(IF(VLOOKUP($H631,Übersichtsblatt!$F$14:$I$24,2,FALSE)=0,\"\",VLOOKUP(H631,Übersichtsblatt!$F$14:$I$24,2,FALSE)),\"\")","v":""},0,7.5]
[2024,"2024-09-21",{"$f":"IFERROR(IF(VLOOKUP($B632,Übersichtsblatt!$F$64:$I$68,2,FALSE)=0,\"\",VLOOKUP($B632,Übersichtsblatt!$F$64:$I$68,2,FALSE)),\"\")","v":""},0,-7.5,null,2024,"2024-09-21",{"$f":"IFERROR(IF(VLOOKUP($H632,Übersichtsblatt!$F$14:$I$24,2,FALSE)=0,\"\",VLOOKUP(H632,Übersichtsblatt!$F$14:$I$24,2,FALSE)),\"\")","v":""},0,7.5]
[2024,"2024-09-22",{"$f":"IFERROR(IF(VLOOKUP($B633,Übersichtsblatt!$F$64:$I$68,2,FALSE)=0,\"\",VLOOKUP($B633,Übersichtsblatt!$F$64:$I$68,2,FALSE)),\"\")","v":""},0,-7.5,null,2024,"2024-09-22",{"$f":"IFERROR(IF(VLOOKUP($H633,Übersichtsblatt!$F$14:$I$24,2,FALSE)=0,\"\",VLOOKUP(H633,Übersichtsblatt!$F$14:$I$24,2,FALSE)),\"\")","v":""},0,7.5]
[2024,"2024-09-23",{"$f":"IFERROR(IF(VLOOKUP($B634,Übersichtsblatt!$F$64:$I$68,2,FALSE)=0,\"\",VLOOKUP($B634,Übersichtsblatt!$F$64:$I$68,2,FALSE)),\"\")","v":""},0,-7.5,null,2024,"2024-09-23",{"$f":"IFERROR(IF(VLOOKUP($H634,Übersichtsblatt!$F$14:$I$24,2,FALSE)=0,\"\",VLOOKUP(H634,Übersichtsblatt!$F$14:$I$24,2,FALSE)),\"\")","v":""},0,7.5]
[2024,"2024-09-24",{"$f":"IFERROR(IF(VLOOKUP($B635,Übersichtsblatt!$F$64:$I$68,2,FALSE)=0,\"\",VLOOKUP($B635,Übersichtsblatt!$F$64:$I$68,2,FALSE)),\"\")","v":""},0,-7.5,null,2024,"2024-09-24",{"$f":"IFERROR(IF(VLOOKUP($H635,Übersichtsblatt!$F$14:$I$24,2,FALSE)=0,\"\",VLOOKUP(H635,Übersichtsblatt!$F$14:$I$24,2,FALSE)),\"\")","v":""},0,7.5]
[2024,"2024-09-25",{"$f":"IFERROR(IF(VLOOKUP($B636,Übersichtsblatt!$F$64:$I$68,2,FALSE)=0,\"\",VLOOKUP($B636,Übersichtsblatt!$F$64:$I$68,2,FALSE)),\"\")","v":""},0,-7.5,null,2024,"2024-09-25",{"$f":"IFERROR(IF(VLOOKUP($H636,Übersichtsblatt!$F$14:$I$24,2,FALSE)=0,\"\",VLOOKUP(H636,Übersichtsblatt!$F$14:$I$24,2,FALSE)),\"\")","v":""},0,7.5]
[2024,"2024-09-26",{"$f":"IFERROR(IF(VLOOKUP($B637,Übersichtsblatt!$F$64:$I$68,2,FALSE)=0,\"\",VLOOKUP($B637,Übersichtsblatt!$F$64:$I$68,2,FALSE)),\"\")","v":""},0,-7.5,null,2024,"2024-09-26",{"$f":"IFERROR(IF(VLOOKUP($H637,Übersichtsblatt!$F$14:$I$24,2,FALSE)=0,\"\",VLOOKUP(H637,Übersichtsblatt!$F$14:$I$24,2,FALSE)),\"\")","v":""},0,7.5]
[2024,"2024-09-27",{"$f":"IFERROR(IF(VLOOKUP($B638,Übersichtsblatt!$F$64:$I$68,2,FALSE)=0,\"\",VLOOKUP($B638,Übersichtsblatt!$F$64:$I$68,2,FALSE)),\"\")","v":""},0,-7.5,null,2024,"2024-09-27",{"$f":"IFERROR(IF(VLOOKUP($H638,Übersichtsblatt!$F$14:$I$24,2,FALSE)=0,\"\",VLOOKUP(H638,Übersichtsblatt!$F$14:$I$24,2,FALSE)),\"\")","v":""},0,7.5]
[2024,"2024-09-28",{"$f":"IFERROR(IF(VLOOKUP($B639,Übersichtsblatt!$F$64:$I$68,2,FALSE)=0,\"\",VLOOKUP($B639,Übersichtsblatt!$F$64:$I$68,2,FALSE)),\"\")","v":""},0,-7.5,null,2024,"2024-09-28",{"$f":"IFERROR(IF(VLOOKUP($H639,Übersichtsblatt!$F$14:$I$24,2,FALSE)=0,\"\",VLOOKUP(H639,Übersichtsblatt!$F$14:$I$24,2,FALSE)),\"\")","v":""},0,7.5]
[2024,"2024-09-29",{"$f":"IFERROR(IF(VLOOKUP($B640,Übersichtsblatt!$F$64:$I$68,2,FALSE)=0,\"\",VLOOKUP($B640,Übersichtsblatt!$F$64:$I$68,2,FALSE)),\"\")","v":""},0,-7.5,null,2024,"2024-09-29",{"$f":"IFERROR(IF(VLOOKUP($H640,Übersichtsblatt!$F$14:$I$24,2,FALSE)=0,\"\",VLOOKUP(H640,Übersichtsblatt!$F$14:$I$24,2,FALSE)),\"\")","v":""},0,7.5]
[2024,"2024-09-30",{"$f":"IFERROR(IF(VLOOKUP($B641,Übersichtsblatt!$F$64:$I$68,2,FALSE)=0,\"\",VLOOKUP($B641,Übersichtsblatt!$F$64:$I$68,2,FALSE)),\"\")","v":""},0,-7.5,null,2024,"2024-09-30",{"$f":"IFERROR(IF(VLOOKUP($H641,Übersichtsblatt!$F$14:$I$24,2,FALSE)=0,\"\",VLOOKUP(H641,Übersichtsblatt!$F$14:$I$24,2,FALSE)),\"\")","v":""},0,7.5]
[2024,"2024-10-01",{"$f":"IFERROR(IF(VLOOKUP($B642,Übersichtsblatt!$F$64:$I$68,2,FALSE)=0,\"\",VLOOKUP($B642,Übersichtsblatt!$F$64:$I$68,2,FALSE)),\"\")","v":""},0,-4.5,null,2024,"2024-10-01",{"$f":"IFERROR(IF(VLOOKUP($H642,Übersichtsblatt!$F$14:$I$24,2,FALSE)=0,\"\",VLOOKUP(H642,Übersichtsblatt!$F$14:$I$24,2,FALSE)),\"\")","v":""},0,4.5]
[2024,"2024-10-02",{"$f":"IFERROR(IF(VLOOKUP($B643,Übersichtsblatt!$F$64:$I$68,2,FALSE)=0,\"\",VLOOKUP($B643,Übersichtsblatt!$F$64:$I$68,2,FALSE)),\"\")","v":""},0,-4.5,null,2024,"2024-10-02",{"$f":"IFERROR(IF(VLOOKUP($H643,Übersichtsblatt!$F$14:$I$24,2,FALSE)=0,\"\",VLOOKUP(H643,Übersichtsblatt!$F$14:$I$24,2,FALSE)),\"\")","v":""},0,4.5]
[2024,"2024-10-03",{"$f":"IFERROR(IF(VLOOKUP($B644,Übersichtsblatt!$F$64:$I$68,2,FALSE)=0,\"\",VLOOKUP($B644,Übersichtsblatt!$F$64:$I$68,2,FALSE)),\"\")","v":""},0,-4.5,null,2024,"2024-10-03",{"$f":"IFERROR(IF(VLOOKUP($H644,Übersichtsblatt!$F$14:$I$24,2,FALSE)=0,\"\",VLOOKUP(H644,Übersichtsblatt!$F$14:$I$24,2,FALSE)),\"\")","v":""},0,4.5]
[2024,"2024-10-04",{"$f":"IFERROR(IF(VLOOKUP($B645,Übersichtsblatt!$F$64:$I$68,2,FALSE)=0,\"\",VLOOKUP($B645,Übersichtsblatt!$F$64:$I$68,2,FALSE)),\"\")","v":""},{"$f":"IF($C645=\"\",0,$E645)","v":0},-4.5,null,2024,"2024-10-04",{"$f":"IFERROR(IF(VLOOKUP($H645,Übersichtsblatt!$F$14:$I$24,2,FALSE)=0,\"\",VLOOKUP(H645,Übersichtsblatt!$F$14:$I$24,2,FALSE)),\"\")","v":""},{"$f":"IF($I645=\"\",0,$K645)","v":0},4.5]
[{"$f":"YEAR(B646)","v":2024},{"$f":"B645+1","v":"2024-10-05"},{"$f":"IFERROR(IF(VLOOKUP($B646,Übersichtsblatt!$F$64:$I$68,2,FALSE)=0,\"\",VLOOKUP($B646,Übersichtsblatt!$F$64:$I$68,2,FALSE)),\"\")","v":""},0,-4.5,null,{"$f":"YEAR(H646)","v":2024},{"$f":"H645+1","v":"2024-10-05"},{"$f":"IFERROR(IF(VLOOKUP($H646,Übersichtsblatt!$F$14:$I$24,2,FALSE)=0,\"\",VLOOKUP(H646,Übersichtsblatt!$F$14:$I$24,2,FALSE)),\"\")","v":""},0,4.5]
[2024,"2024-10-06",{"$f":"IFERROR(IF(VLOOKUP($B647,Übersichtsblatt!$F$64:$I$68,2,FALSE)=0,\"\",VLOOKUP($B647,Übersichtsblatt!$F$64:$I$68,2,FALSE)),\"\")","v":""},0,-4.5,null,2024,"2024-10-06",{"$f":"IFERROR(IF(VLOOKUP($H647,Übersichtsblatt!$F$14:$I$24,2,FALSE)=0,\"\",VLOOKUP(H647,Übersichtsblatt!$F$14:$I$24,2,FALSE)),\"\")","v":""},0,4.5]
[2024,"2024-10-07",{"$f":"IFERROR(IF(VLOOKUP($B648,Übersichtsblatt!$F$64:$I$68,2,FALSE)=0,\"\",VLOOKUP($B648,Übersichtsblatt!$F$64:$I$68,2,FALSE)),\"\")","v":""},0,-4.5,null,2024,"2024-10-07",{"$f":"IFERROR(IF(VLOOKUP($H648,Übersichtsblatt!$F$14:$I$24,2,FALSE)=0,\"\",VLOOKUP(H648,Übersichtsblatt!$F$14:$I$24,2,FALSE)),\"\")","v":""},0,4.5]
[2024,"2024-10-08",{"$f":"IFERROR(IF(VLOOKUP($B649,Übersichtsblatt!$F$64:$I$68,2,FALSE)=0,\"\",VLOOKUP($B649,Übersichtsblatt!$F$64:$I$68,2,FALSE)),\"\")","v":""},0,-4.5,null,2024,"2024-10-08",{"$f":"IFERROR(IF(VLOOKUP($H649,Übersichtsblatt!$F$14:$I$24,2,FALSE)=0,\"\",VLOOKUP(H649,Übersichtsblatt!$F$14:$I$24,2,FALSE)),\"\")","v":""},0,4.5]
[2024,"2024-10-09",{"$f":"IFERROR(IF(VLOOKUP($B650,Übersichtsblatt!$F$64:$I$68,2,FALSE)=0,\"\",VLOOKUP($B650,Übersichtsblatt!$F$64:$I$68,2,FALSE)),\"\")","v":""},0,-4.5,null,2024,"2024-10-09",{"$f":"IFERROR(IF(VLOOKUP($H650,Übersichtsblatt!$F$14:$I$24,2,FALSE)=0,\"\",VLOOKUP(H650,Übersichtsblatt!$F$14:$I$24,2,FALSE)),\"\")","v":""},0,4.5]
[2024,"2024-10-10",{"$f":"IFERROR(IF(VLOOKUP($B651,Übersichtsblatt!$F$64:$I$68,2,FALSE)=0,\"\",VLOOKUP($B651,Übersichtsblatt!$F$64:$I$68,2,FALSE)),\"\")","v":""},0,-4.5,null,2024,"2024-10-10",{"$f":"IFERROR(IF(VLOOKUP($H651,Übersichtsblatt!$F$14:$I$24,2,FALSE)=0,\"\",VLOOKUP(H651,Übersichtsblatt!$F$14:$I$24,2,FALSE)),\"\")","v":""},0,4.5]
[2024,"2024-10-11",{"$f":"IFERROR(IF(VLOOKUP($B652,Übersichtsblatt!$F$64:$I$68,2,FALSE)=0,\"\",VLOOKUP($B652,Übersichtsblatt!$F$64:$I$68,2,FALSE)),\"\")","v":""},0,-4.5,null,2024,"2024-10-11",{"$f":"IFERROR(IF(VLOOKUP($H652,Übersichtsblatt!$F$14:$I$24,2,FALSE)=0,\"\",VLOOKUP(H652,Übersichtsblatt!$F$14:$I$24,2,FALSE)),\"\")","v":""},0,4.5]
[2024,"2024-10-12",{"$f":"IFERROR(IF(VLOOKUP($B653,Übersichtsblatt!$F$64:$I$68,2,FALSE)=0,\"\",VLOOKUP($B653,Übersichtsblatt!$F$64:$I$68,2,FALSE)),\"\")","v":""},0,-4.5,null,2024,"2024-10-12",{"$f":"IFERROR(IF(VLOOKUP($H653,Übersichtsblatt!$F$14:$I$24,2,FALSE)=0,\"\",VLOOKUP(H653,Übersichtsblatt!$F$14:$I$24,2,FALSE)),\"\")","v":""},0,4.5]
[2024,"2024-10-13",{"$f":"IFERROR(IF(VLOOKUP($B654,Übersichtsblatt!$F$64:$I$68,2,FALSE)=0,\"\",VLOOKUP($B654,Übersichtsblatt!$F$64:$I$68,2,FALSE)),\"\")","v":""},0,-4.5,null,2024,"2024-10-13",{"$f":"IFERROR(IF(VLOOKUP($H654,Übersichtsblatt!$F$14:$I$24,2,FALSE)=0,\"\",VLOOKUP(H654,Übersichtsblatt!$F$14:$I$24,2,FALSE)),\"\")","v":""},0,4.5]
[2024,"2024-10-14",{"$f":"IFERROR(IF(VLOOKUP($B655,Übersichtsblatt!$F$64:$I$68,2,FALSE)=0,\"\",VLOOKUP($B655,Übersichtsblatt!$F$64:$I$68,2,FALSE)),\"\")","v":""},0,-4.5,null,2024,"2024-10-14",{"$f":"IFERROR(IF(VLOOKUP($H655,Übersichtsblatt!$F$14:$I$24,2,FALSE)=0,\"\",VLOOKUP(H655,Übersichtsblatt!$F$14:$I$24,2,FALSE)),\"\")","v":""},0,4.5]
[2024,"2024-10-15",{"$f":"IFERROR(IF(VLOOKUP($B656,Übersichtsblatt!$F$64:$I$68,2,FALSE)=0,\"\",VLOOKUP($B656,Übersichtsblatt!$F$64:$I$68,2,FALSE)),\"\")","v":""},0,-4.5,null,2024,"2024-10-15",{"$f":"IFERROR(IF(VLOOKUP($H656,Übersichtsblatt!$F$14:$I$24,2,FALSE)=0,\"\",VLOOKUP(H656,Übersichtsblatt!$F$14:$I$24,2,FALSE)),\"\")","v":""},0,4.5]
[2024,"2024-10-16",{"$f":"IFERROR(IF(VLOOKUP($B657,Übersichtsblatt!$F$64:$I$68,2,FALSE)=0,\"\",VLOOKUP($B657,Übersichtsblatt!$F$64:$I$68,2,FALSE)),\"\")","v":""},0,-4.5,null,2024,"2024-10-16",{"$f":"IFERROR(IF(VLOOKUP($H657,Übersichtsblatt!$F$14:$I$24,2,FALSE)=0,\"\",VLOOKUP(H657,Übersichtsblatt!$F$14:$I$24,2,FALSE)),\"\")","v":""},0,4.5]
[2024,"2024-10-17",{"$f":"IFERROR(IF(VLOOKUP($B658,Übersichtsblatt!$F$64:$I$68,2,FALSE)=0,\"\",VLOOKUP($B658,Übersichtsblatt!$F$64:$I$68,2,FALSE)),\"\")","v":""},0,-4.5,null,2024,"2024-10-17",{"$f":"IFERROR(IF(VLOOKUP($H658,Übersichtsblatt!$F$14:$I$24,2,FALSE)=0,\"\",VLOOKUP(H658,Übersichtsblatt!$F$14:$I$24,2,FALSE)),\"\")","v":""},0,4.5]
[2024,"2024-10-18",{"$f":"IFERROR(IF(VLOOKUP($B659,Übersichtsblatt!$F$64:$I$68,2,FALSE)=0,\"\",VLOOKUP($B659,Übersichtsblatt!$F$64:$I$68,2,FALSE)),\"\")","v":""},0,-4.5,null,2024,"2024-10-18",{"$f":"IFERROR(IF(VLOOKUP($H659,Übersichtsblatt!$F$14:$I$24,2,FALSE)=0,\"\",VLOOKUP(H659,Übersichtsblatt!$F$14:$I$24,2,FALSE)),\"\")","v":""},0,4.5]
[2024,"2024-10-19",{"$f":"IFERROR(IF(VLOOKUP($B660,Übersichtsblatt!$F$64:$I$68,2,FALSE)=0,\"\",VLOOKUP($B660,Übersichtsblatt!$F$64:$I$68,2,FALSE)),\"\")","v":""},0,-4.5,null,2024,"2024-10-19",{"$f":"IFERROR(IF(VLOOKUP($H660,Übersichtsblatt!$F$14:$I$24,2,FALSE)=0,\"\",VLOOKUP(H660,Übersichtsblatt!$F$14:$I$24,2,FALSE)),\"\")","v":""},0,4.5]
[2024,"2024-10-20",{"$f":"IFERROR(IF(VLOOKUP($B661,Übersichtsblatt!$F$64:$I$68,2,FALSE)=0,\"\",VLOOKUP($B661,Übersichtsblatt!$F$64:$I$68,2,FALSE)),\"\")","v":""},0,-4.5,null,2024,"2024-10-20",{"$f":"IFERROR(IF(VLOOKUP($H661,Übersichtsblatt!$F$14:$I$24,2,FALSE)=0,\"\",VLOOKUP(H661,Übersichtsblatt!$F$14:$I$24,2,FALSE)),\"\")","v":""},0,4.5]
[2024,"2024-10-21",{"$f":"IFERROR(IF(VLOOKUP($B662,Übersichtsblatt!$F$64:$I$68,2,FALSE)=0,\"\",VLOOKUP($B662,Übersichtsblatt!$F$64:$I$68,2,FALSE)),\"\")","v":""},0,-4.5,null,2024,"2024-10-21",{"$f":"IFERROR(IF(VLOOKUP($H662,Übersichtsblatt!$F$14:$I$24,2,FALSE)=0,\"\",VLOOKUP(H662,Übersichtsblatt!$F$14:$I$24,2,FALSE)),\"\")","v":""},0,4.5]
[2024,"2024-10-22",{"$f":"IFERROR(IF(VLOOKUP($B663,Übersichtsblatt!$F$64:$I$68,2,FALSE)=0,\"\",VLOOKUP($B663,Übersichtsblatt!$F$64:$I$68,2,FALSE)),\"\")","v":""},0,-4.5,null,2024,"2024-10-22",{"$f":"IFERROR(IF(VLOOKUP($H663,Übersichtsblatt!$F$14:$I$24,2,FALSE)=0,\"\",VLOOKUP(H663,Übersichtsblatt!$F$14:$I$24,2,FALSE)),\"\")","v":""},0,4.5]
[2024,"2024-10-23",{"$f":"IFERROR(IF(VLOOKUP($B664,Übersichtsblatt!$F$64:$I$68,2,FALSE)=0,\"\",VLOOKUP($B664,Übersichtsblatt!$F$64:$I$68,2,FALSE)),\"\")","v":""},0,-4.5,null,2024,"2024-10-23",{"$f":"IFERROR(IF(VLOOKUP($H664,Übersichtsblatt!$F$14:$I$24,2,FALSE)=0,\"\",VLOOKUP(H664,Übersichtsblatt!$F$14:$I$24,2,FALSE)),\"\")","v":""},0,4.5]
[2024,"2024-10-24",{"$f":"IFERROR(IF(VLOOKUP($B665,Übersichtsblatt!$F$64:$I$68,2,FALSE)=0,\"\",VLOOKUP($B665,Übersichtsblatt!$F$64:$I$68,2,FALSE)),\"\")","v":""},0,-4.5,null,2024,"2024-10-24",{"$f":"IFERROR(IF(VLOOKUP($H665,Übersichtsblatt!$F$14:$I$24,2,FALSE)=0,\"\",VLOOKUP(H665,Übersichtsblatt!$F$14:$I$24,2,FALSE)),\"\")","v":""},0,4.5]
[2024,"2024-10-25",{"$f":"IFERROR(IF(VLOOKUP($B666,Übersichtsblatt!$F$64:$I$68,2,FALSE)=0,\"\",VLOOKUP($B666,Übersichtsblatt!$F$64:$I$68,2,FALSE)),\"\")","v":""},0,-4.5,null,2024,"2024-10-25",{"$f":"IFERROR(IF(VLOOKUP($H666,Übersichtsblatt!$F$14:$I$24,2,FALSE)=0,\"\",VLOOKUP(H666,Übersichtsblatt!$F$14:$I$24,2,FALSE)),\"\")","v":""},0,4.5]
[2024,"2024-10-26",{"$f":"IFERROR(IF(VLOOKUP($B667,Übersichtsblatt!$F$64:$I$68,2,FALSE)=0,\"\",VLOOKUP($B667,Übersichtsblatt!$F$64:$I$68,2,FALSE)),\"\")","v":""},0,-4.5,null,2024,"2024-10-26",{"$f":"IFERROR(IF(VLOOKUP($H667,Übersichtsblatt!$F$14:$I$24,2,FALSE)=0,\"\",VLOOKUP(H667,Übersichtsblatt!$F$14:$I$24,2,FALSE)),\"\")","v":""},0,4.5]
[2024,"2024-10-27",{"$f":"IFERROR(IF(VLOOKUP($B668,Übersichtsblatt!$F$64:$I$68,2,FALSE)=0,\"\",VLOOKUP($B668,Übersichtsblatt!$F$64:$I$68,2,FALSE)),\"\")","v":""},0,-4.5,null,2024,"2024-10-27",{"$f":"IFERROR(IF(VLOOKUP($H668,Übersichtsblatt!$F$14:$I$24,2,FALSE)=0,\"\",VLOOKUP(H668,Übersichtsblatt!$F$14:$I$24,2,FALSE)),\"\")","v":""},0,4.5]
[2024,"2024-10-28",{"$f":"IFERROR(IF(VLOOKUP($B669,Übersichtsblatt!$F$64:$I$68,2,FALSE)=0,\"\",VLOOKUP($B669,Übersichtsblatt!$F$64:$I$68,2,FALSE)),\"\")","v":""},0,-4.5,null,2024,"2024-10-28",{"$f":"IFERROR(IF(VLOOKUP($H669,Übersichtsblatt!$F$14:$I$24,2,FALSE)=0,\"\",VLOOKUP(H669,Übersichtsblatt!$F$14:$I$24,2,FALSE)),\"\")","v":""},0,4.5]
[2024,"2024-10-29",{"$f":"IFERROR(IF(VLOOKUP($B670,Übersichtsblatt!$F$64:$I$68,2,FALSE)=0,\"\",VLOOKUP($B670,Übersichtsblatt!$F$64:$I$68,2,FALSE)),\"\")","v":""},0,-4.5,null,2024,"2024-10-29",{"$f":"IFERROR(IF(VLOOKUP($H670,Übersichtsblatt!$F$14:$I$24,2,FALSE)=0,\"\",VLOOKUP(H670,Übersichtsblatt!$F$14:$I$24,2,FALSE)),\"\")","v":""},0,4.5]
[2024,"2024-10-30",{"$f":"IFERROR(IF(VLOOKUP($B671,Übersichtsblatt!$F$64:$I$68,2,FALSE)=0,\"\",VLOOKUP($B671,Übersichtsblatt!$F$64:$I$68,2,FALSE)),\"\")","v":""},0,-4.5,null,2024,"2024-10-30",{"$f":"IFERROR(IF(VLOOKUP($H671,Übersichtsblatt!$F$14:$I$24,2,FALSE)=0,\"\",VLOOKUP(H671,Übersichtsblatt!$F$14:$I$24,2,FALSE)),\"\")","v":""},0,4.5]
[2024,"2024-10-31",{"$f":"IFERROR(IF(VLOOKUP($B672,Übersichtsblatt!$F$64:$I$68,2,FALSE)=0,\"\",VLOOKUP($B672,Übersichtsblatt!$F$64:$I$68,2,FALSE)),\"\")","v":""},0,-4.5,null,2024,"2024-10-31",{"$f":"IFERROR(IF(VLOOKUP($H672,Übersichtsblatt!$F$14:$I$24,2,FALSE)=0,\"\",VLOOKUP(H672,Übersichtsblatt!$F$14:$I$24,2,FALSE)),\"\")","v":""},0,4.5]
[2024,"2024-11-01",{"$f":"IFERROR(IF(VLOOKUP($B673,Übersichtsblatt!$F$64:$I$68,2,FALSE)=0,\"\",VLOOKUP($B673,Übersichtsblatt!$F$64:$I$68,2,FALSE)),\"\")","v":""},0,-13.5,null,2024,"2024-11-01",{"$f":"IFERROR(IF(VLOOKUP($H673,Übersichtsblatt!$F$14:$I$24,2,FALSE)=0,\"\",VLOOKUP(H673,Übersichtsblatt!$F$14:$I$24,2,FALSE)),\"\")","v":""},0,13.5]
[2024,"2024-11-02",{"$f":"IFERROR(IF(VLOOKUP($B674,Übersichtsblatt!$F$64:$I$68,2,FALSE)=0,\"\",VLOOKUP($B674,Übersichtsblatt!$F$64:$I$68,2,FALSE)),\"\")","v":""},0,-13.5,null,2024,"2024-11-02",{"$f":"IFERROR(IF(VLOOKUP($H674,Übersichtsblatt!$F$14:$I$24,2,FALSE)=0,\"\",VLOOKUP(H674,Übersichtsblatt!$F$14:$I$24,2,FALSE)),\"\")","v":""},0,13.5]
[2024,"2024-11-03",{"$f":"IFERROR(IF(VLOOKUP($B675,Übersichtsblatt!$F$64:$I$68,2,FALSE)=0,\"\",VLOOKUP($B675,Übersichtsblatt!$F$64:$I$68,2,FALSE)),\"\")","v":""},0,-13.5,null,2024,"2024-11-03",{"$f":"IFERROR(IF(VLOOKUP($H675,Übersichtsblatt!$F$14:$I$24,2,FALSE)=0,\"\",VLOOKUP(H675,Übersichtsblatt!$F$14:$I$24,2,FALSE)),\"\")","v":""},0,13.5]
[2024,"2024-11-04",{"$f":"IFERROR(IF(VLOOKUP($B676,Übersichtsblatt!$F$64:$I$68,2,FALSE)=0,\"\",VLOOKUP($B676,Übersichtsblatt!$F$64:$I$68,2,FALSE)),\"\")","v":""},0,-13.5,null,2024,"2024-11-04",{"$f":"IFERROR(IF(VLOOKUP($H676,Übersichtsblatt!$F$14:$I$24,2,FALSE)=0,\"\",VLOOKUP(H676,Übersichtsblatt!$F$14:$I$24,2,FALSE)),\"\")","v":""},0,13.5]
[2024,"2024-11-05",{"$f":"IFERROR(IF(VLOOKUP($B677,Übersichtsblatt!$F$64:$I$68,2,FALSE)=0,\"\",VLOOKUP($B677,Übersichtsblatt!$F$64:$I$68,2,FALSE)),\"\")","v":""},0,-13.5,null,2024,"2024-11-05",{"$f":"IFERROR(IF(VLOOKUP($H677,Übersichtsblatt!$F$14:$I$24,2,FALSE)=0,\"\",VLOOKUP(H677,Übersichtsblatt!$F$14:$I$24,2,FALSE)),\"\")","v":""},0,13.5]
[2024,"2024-11-06",{"$f":"IFERROR(IF(VLOOKUP($B678,Übersichtsblatt!$F$64:$I$68,2,FALSE)=0,\"\",VLOOKUP($B678,Übersichtsblatt!$F$64:$I$68,2,FALSE)),\"\")","v":""},0,-13.5,null,2024,"2024-11-06",{"$f":"IFERROR(IF(VLOOKUP($H678,Übersichtsblatt!$F$14:$I$24,2,FALSE)=0,\"\",VLOOKUP(H678,Übersichtsblatt!$F$14:$I$24,2,FALSE)),\"\")","v":""},0,13.5]
[2024,"2024-11-07",{"$f":"IFERROR(IF(VLOOKUP($B679,Übersichtsblatt!$F$64:$I$68,2,FALSE)=0,\"\",VLOOKUP($B679,Übersichtsblatt!$F$64:$I$68,2,FALSE)),\"\")","v":""},0,-13.5,null,2024,"2024-11-07",{"$f":"IFERROR(IF(VLOOKUP($H679,Übersichtsblatt!$F$14:$I$24,2,FALSE)=0,\"\",VLOOKUP(H679,Übersichtsblatt!$F$14:$I$24,2,FALSE)),\"\")","v":""},0,13.5]
[2024,"2024-11-08",{"$f":"IFERROR(IF(VLOOKUP($B680,Übersichtsblatt!$F$64:$I$68,2,FALSE)=0,\"\",VLOOKUP($B680,Übersichtsblatt!$F$64:$I$68,2,FALSE)),\"\")","v":""},0,-13.5,null,2024,"2024-11-08",{"$f":"IFERROR(IF(VLOOKUP($H680,Übersichtsblatt!$F$14:$I$24,2,FALSE)=0,\"\",VLOOKUP(H680,Übersichtsblatt!$F$14:$I$24,2,FALSE)),\"\")","v":""},0,13.5]
[2024,"2024-11-09",{"$f":"IFERROR(IF(VLOOKUP($B681,Übersichtsblatt!$F$64:$I$68,2,FALSE)=0,\"\",VLOOKUP($B681,Übersichtsblatt!$F$64:$I$68,2,FALSE)),\"\")","v":""},0,-13.5,null,2024,"2024-11-09",{"$f":"IFERROR(IF(VLOOKUP($H681,Übersichtsblatt!$F$14:$I$24,2,FALSE)=0,\"\",VLOOKUP(H681,Übersichtsblatt!$F$14:$I$24,2,FALSE)),\"\")","v":""},0,13.5]
[2024,"2024-11-10",{"$f":"IFERROR(IF(VLOOKUP($B682,Übersichtsblatt!$F$64:$I$68,2,FALSE)=0,\"\",VLOOKUP($B682,Übersichtsblatt!$F$64:$I$68,2,FALSE)),\"\")","v":""},0,-13.5,null,2024,"2024-11-10",{"$f":"IFERROR(IF(VLOOKUP($H682,Übersichtsblatt!$F$14:$I$24,2,FALSE)=0,\"\",VLOOKUP(H682,Übersichtsblatt!$F$14:$I$24,2,FALSE)),\"\")","v":""},0,13.5]
[2024,"2024-11-11",{"$f":"IFERROR(IF(VLOOKUP($B683,Übersichtsblatt!$F$64:$I$68,2,FALSE)=0,\"\",VLOOKUP($B683,Übersichtsblatt!$F$64:$I$68,2,FALSE)),\"\")","v":""},0,-13.5,null,2024,"2024-11-11",{"$f":"IFERROR(IF(VLOOKUP($H683,Übersichtsblatt!$F$14:$I$24,2,FALSE)=0,\"\",VLOOKUP(H683,Übersichtsblatt!$F$14:$I$24,2,FALSE)),\"\")","v":""},0,13.5]
[2024,"2024-11-12",{"$f":"IFERROR(IF(VLOOKUP($B684,Übersichtsblatt!$F$64:$I$68,2,FALSE)=0,\"\",VLOOKUP($B684,Übersichtsblatt!$F$64:$I$68,2,FALSE)),\"\")","v":""},0,-13.5,null,2024,"2024-11-12",{"$f":"IFERROR(IF(VLOOKUP($H684,Übersichtsblatt!$F$14:$I$24,2,FALSE)=0,\"\",VLOOKUP(H684,Übersichtsblatt!$F$14:$I$24,2,FALSE)),\"\")","v":""},0,13.5]
[2024,"2024-11-13",{"$f":"IFERROR(IF(VLOOKUP($B685,Übersichtsblatt!$F$64:$I$68,2,FALSE)=0,\"\",VLOOKUP($B685,Übersichtsblatt!$F$64:$I$68,2,FALSE)),\"\")","v":""},0,-13.5,null,2024,"2024-11-13",{"$f":"IFERROR(IF(VLOOKUP($H685,Übersichtsblatt!$F$14:$I$24,2,FALSE)=0,\"\",VLOOKUP(H685,Übersichtsblatt!$F$14:$I$24,2,FALSE)),\"\")","v":""},0,13.5]
[2024,"2024-11-14",{"$f":"IFERROR(IF(VLOOKUP($B686,Übersichtsblatt!$F$64:$I$68,2,FALSE)=0,\"\",VLOOKUP($B686,Übersichtsblatt!$F$64:$I$68,2,FALSE)),\"\")","v":""},0,-13.5,null,2024,"2024-11-14",{"$f":"IFERROR(IF(VLOOKUP($H686,Übersichtsblatt!$F$14:$I$24,2,FALSE)=0,\"\",VLOOKUP(H686,Übersichtsblatt!$F$14:$I$24,2,FALSE)),\"\")","v":""},0,13.5]
[2024,"2024-11-15",{"$f":"IFERROR(IF(VLOOKUP($B687,Übersichtsblatt!$F$64:$I$68,2,FALSE)=0,\"\",VLOOKUP($B687,Übersichtsblatt!$F$64:$I$68,2,FALSE)),\"\")","v":""},0,-13.5,null,2024,"2024-11-15",{"$f":"IFERROR(IF(VLOOKUP($H687,Übersichtsblatt!$F$14:$I$24,2,FALSE)=0,\"\",VLOOKUP(H687,Übersichtsblatt!$F$14:$I$24,2,FALSE)),\"\")","v":""},0,13.5]
[2024,"2024-11-16",{"$f":"IFERROR(IF(VLOOKUP($B688,Übersichtsblatt!$F$64:$I$68,2,FALSE)=0,\"\",VLOOKUP($B688,Übersichtsblatt!$F$64:$I$68,2,FALSE)),\"\")","v":""},0,-13.5,null,2024,"2024-11-16",{"$f":"IFERROR(IF(VLOOKUP($H688,Übersichtsblatt!$F$14:$I$24,2,FALSE)=0,\"\",VLOOKUP(H688,Übersichtsblatt!$F$14:$I$24,2,FALSE)),\"\")","v":""},0,13.5]
[2024,"2024-11-17",{"$f":"IFERROR(IF(VLOOKUP($B689,Übersichtsblatt!$F$64:$I$68,2,FALSE)=0,\"\",VLOOKUP($B689,Übersichtsblatt!$F$64:$I$68,2,FALSE)),\"\")","v":""},0,-13.5,null,2024,"2024-11-17",{"$f":"IFERROR(IF(VLOOKUP($H689,Übersichtsblatt!$F$14:$I$24,2,FALSE)=0,\"\",VLOOKUP(H689,Übersichtsblatt!$F$14:$I$24,2,FALSE)),\"\")","v":""},0,13.5]
[2024,"2024-11-18",{"$f":"IFERROR(IF(VLOOKUP($B690,Übersichtsblatt!$F$64:$I$68,2,FALSE)=0,\"\",VLOOKUP($B690,Übersichtsblatt!$F$64:$I$68,2,FALSE)),\"\")","v":""},0,-13.5,null,2024,"2024-11-18",{"$f":"IFERROR(IF(VLOOKUP($H690,Übersichtsblatt!$F$14:$I$24,2,FALSE)=0,\"\",VLOOKUP(H690,Übersichtsblatt!$F$14:$I$24,2,FALSE)),\"\")","v":""},0,13.5]
[2024,"2024-11-19",{"$f":"IFERROR(IF(VLOOKUP($B691,Übersichtsblatt!$F$64:$I$68,2,FALSE)=0,\"\",VLOOKUP($B691,Übersichtsblatt!$F$64:$I$68,2,FALSE)),\"\")","v":""},0,-13.5,null,2024,"2024-11-19",{"$f":"IFERROR(IF(VLOOKUP($H691,Übersichtsblatt!$F$14:$I$24,2,FALSE)=0,\"\",VLOOKUP(H691,Übersichtsblatt!$F$14:$I$24,2,FALSE)),\"\")","v":""},0,13.5]
[2024,"2024-11-20",{"$f":"IFERROR(IF(VLOOKUP($B692,Übersichtsblatt!$F$64:$I$68,2,FALSE)=0,\"\",VLOOKUP($B692,Übersichtsblatt!$F$64:$I$68,2,FALSE)),\"\")","v":""},0,-13.5,null,2024,"2024-11-20",{"$f":"IFERROR(IF(VLOOKUP($H692,Übersichtsblatt!$F$14:$I$24,2,FALSE)=0,\"\",VLOOKUP(H692,Übersichtsblatt!$F$14:$I$24,2,FALSE)),\"\")","v":""},0,13.5]
[2024,"2024-11-21",{"$f":"IFERROR(IF(VLOOKUP($B693,Übersichtsblatt!$F$64:$I$68,2,FALSE)=0,\"\",VLOOKUP($B693,Übersichtsblatt!$F$64:$I$68,2,FALSE)),\"\")","v":""},0,-13.5,null,2024,"2024-11-21",{"$f":"IFERROR(IF(VLOOKUP($H693,Übersichtsblatt!$F$14:$I$24,2,FALSE)=0,\"\",VLOOKUP(H693,Übersichtsblatt!$F$14:$I$24,2,FALSE)),\"\")","v":""},0,13.5]
[2024,"2024-11-22",{"$f":"IFERROR(IF(VLOOKUP($B694,Übersichtsblatt!$F$64:$I$68,2,FALSE)=0,\"\",VLOOKUP($B694,Übersichtsblatt!$F$64:$I$68,2,FALSE)),\"\")","v":""},0,-13.5,null,2024,"2024-11-22",{"$f":"IFERROR(IF(VLOOKUP($H694,Übersichtsblatt!$F$14:$I$24,2,FALSE)=0,\"\",VLOOKUP(H694,Übersichtsblatt!$F$14:$I$24,2,FALSE)),\"\")","v":""},0,13.5]
[2024,"2024-11-23",{"$f":"IFERROR(IF(VLOOKUP($B695,Übersichtsblatt!$F$64:$I$68,2,FALSE)=0,\"\",VLOOKUP($B695,Übersichtsblatt!$F$64:$I$68,2,FALSE)),\"\")","v":""},0,-13.5,null,2024,"2024-11-23",{"$f":"IFERROR(IF(VLOOKUP($H695,Übersichtsblatt!$F$14:$I$24,2,FALSE)=0,\"\",VLOOKUP(H695,Übersichtsblatt!$F$14:$I$24,2,FALSE)),\"\")","v":""},0,13.5]
[2024,"2024-11-24",{"$f":"IFERROR(IF(VLOOKUP($B696,Übersichtsblatt!$F$64:$I$68,2,FALSE)=0,\"\",VLOOKUP($B696,Übersichtsblatt!$F$64:$I$68,2,FALSE)),\"\")","v":""},0,-13.5,null,2024,"2024-11-24",{"$f":"IFERROR(IF(VLOOKUP($H696,Übersichtsblatt!$F$14:$I$24,2,FALSE)=0,\"\",VLOOKUP(H696,Übersichtsblatt!$F$14:$I$24,2,FALSE)),\"\")","v":""},0,13.5]
[2024,"2024-11-25",{"$f":"IFERROR(IF(VLOOKUP($B697,Übersichtsblatt!$F$64:$I$68,2,FALSE)=0,\"\",VLOOKUP($B697,Übersichtsblatt!$F$64:$I$68,2,FALSE)),\"\")","v":""},0,-13.5,null,2024,"2024-11-25",{"$f":"IFERROR(IF(VLOOKUP($H697,Übersichtsblatt!$F$14:$I$24,2,FALSE)=0,\"\",VLOOKUP(H697,Übersichtsblatt!$F$14:$I$24,2,FALSE)),\"\")","v":""},0,13.5]
[2024,"2024-11-26",{"$f":"IFERROR(IF(VLOOKUP($B698,Übersichtsblatt!$F$64:$I$68,2,FALSE)=0,\"\",VLOOKUP($B698,Übersichtsblatt!$F$64:$I$68,2,FALSE)),\"\")","v":""},0,-13.5,null,2024,"2024-11-26",{"$f":"IFERROR(IF(VLOOKUP($H698,Übersichtsblatt!$F$14:$I$24,2,FALSE)=0,\"\",VLOOKUP(H698,Übersichtsblatt!$F$14:$I$24,2,FALSE)),\"\")","v":""},0,13.5]
[2024,"2024-11-27",{"$f":"IFERROR(IF(VLOOKUP($B699,Übersichtsblatt!$F$64:$I$68,2,FALSE)=0,\"\",VLOOKUP($B699,Übersichtsblatt!$F$64:$I$68,2,FALSE)),\"\")","v":""},0,-13.5,null,2024,"2024-11-27",{"$f":"IFERROR(IF(VLOOKUP($H699,Übersichtsblatt!$F$14:$I$24,2,FALSE)=0,\"\",VLOOKUP(H699,Übersichtsblatt!$F$14:$I$24,2,FALSE)),\"\")","v":""},0,13.5]
[2024,"2024-11-28",{"$f":"IFERROR(IF(VLOOKUP($B700,Übersichtsblatt!$F$64:$I$68,2,FALSE)=0,\"\",VLOOKUP($B700,Übersichtsblatt!$F$64:$I$68,2,FALSE)),\"\")","v":""},0,-13.5,null,2024,"2024-11-28",{"$f":"IFERROR(IF(VLOOKUP($H700,Übersichtsblatt!$F$14:$I$24,2,FALSE)=0,\"\",VLOOKUP(H700,Übersichtsblatt!$F$14:$I$24,2,FALSE)),\"\")","v":""},0,13.5]
[2024,"2024-11-29",{"$f":"IFERROR(IF(VLOOKUP($B701,Übersichtsblatt!$F$64:$I$68,2,FALSE)=0,\"\",VLOOKUP($B701,Übersichtsblatt!$F$64:$I$68,2,FALSE)),\"\")","v":""},0,-13.5,null,2024,"2024-11-29",{"$f":"IFERROR(IF(VLOOKUP($H701,Übersichtsblatt!$F$14:$I$24,2,FALSE)=0,\"\",VLOOKUP(H701,Übersichtsblatt!$F$14:$I$24,2,FALSE)),\"\")","v":""},0,13.5]
[2024,"2024-11-30",{"$f":"IFERROR(IF(VLOOKUP($B702,Übersichtsblatt!$F$64:$I$68,2,FALSE)=0,\"\",VLOOKUP($B702,Übersichtsblatt!$F$64:$I$68,2,FALSE)),\"\")","v":""},0,-13.5,null,2024,"2024-11-30",{"$f":"IFERROR(IF(VLOOKUP($H702,Übersichtsblatt!$F$14:$I$24,2,FALSE)=0,\"\",VLOOKUP(H702,Übersichtsblatt!$F$14:$I$24,2,FALSE)),\"\")","v":""},0,13.5]
[2024,"2024-12-01",{"$f":"IFERROR(IF(VLOOKUP($B703,Übersichtsblatt!$F$64:$I$68,2,FALSE)=0,\"\",VLOOKUP($B703,Übersichtsblatt!$F$64:$I$68,2,FALSE)),\"\")","v":""},0,-10.5,null,2024,"2024-12-01",{"$f":"IFERROR(IF(VLOOKUP($H703,Übersichtsblatt!$F$14:$I$24,2,FALSE)=0,\"\",VLOOKUP(H703,Übersichtsblatt!$F$14:$I$24,2,FALSE)),\"\")","v":""},0,10.5]
[2024,"2024-12-02",{"$f":"IFERROR(IF(VLOOKUP($B704,Übersichtsblatt!$F$64:$I$68,2,FALSE)=0,\"\",VLOOKUP($B704,Übersichtsblatt!$F$64:$I$68,2,FALSE)),\"\")","v":""},0,-10.5,null,2024,"2024-12-02",{"$f":"IFERROR(IF(VLOOKUP($H704,Übersichtsblatt!$F$14:$I$24,2,FALSE)=0,\"\",VLOOKUP(H704,Übersichtsblatt!$F$14:$I$24,2,FALSE)),\"\")","v":""},0,10.5]
[2024,"2024-12-03",{"$f":"IFERROR(IF(VLOOKUP($B705,Übersichtsblatt!$F$64:$I$68,2,FALSE)=0,\"\",VLOOKUP($B705,Übersichtsblatt!$F$64:$I$68,2,FALSE)),\"\")","v":""},0,-10.5,null,2024,"2024-12-03",{"$f":"IFERROR(IF(VLOOKUP($H705,Übersichtsblatt!$F$14:$I$24,2,FALSE)=0,\"\",VLOOKUP(H705,Übersichtsblatt!$F$14:$I$24,2,FALSE)),\"\")","v":""},0,10.5]
[2024,"2024-12-04",{"$f":"IFERROR(IF(VLOOKUP($B706,Übersichtsblatt!$F$64:$I$68,2,FALSE)=0,\"\",VLOOKUP($B706,Übersichtsblatt!$F$64:$I$68,2,FALSE)),\"\")","v":""},0,-10.5,null,2024,"2024-12-04",{"$f":"IFERROR(IF(VLOOKUP($H706,Übersichtsblatt!$F$14:$I$24,2,FALSE)=0,\"\",VLOOKUP(H706,Übersichtsblatt!$F$14:$I$24,2,FALSE)),\"\")","v":""},0,10.5]
[2024,"2024-12-05",{"$f":"IFERROR(IF(VLOOKUP($B707,Übersichtsblatt!$F$64:$I$68,2,FALSE)=0,\"\",VLOOKUP($B707,Übersichtsblatt!$F$64:$I$68,2,FALSE)),\"\")","v":""},0,-10.5,null,2024,"2024-12-05",{"$f":"IFERROR(IF(VLOOKUP($H707,Übersichtsblatt!$F$14:$I$24,2,FALSE)=0,\"\",VLOOKUP(H707,Übersichtsblatt!$F$14:$I$24,2,FALSE)),\"\")","v":""},0,10.5]
[2024,"2024-12-06",{"$f":"IFERROR(IF(VLOOKUP($B708,Übersichtsblatt!$F$64:$I$68,2,FALSE)=0,\"\",VLOOKUP($B708,Übersichtsblatt!$F$64:$I$68,2,FALSE)),\"\")","v":""},0,-10.5,null,2024,"2024-12-06",{"$f":"IFERROR(IF(VLOOKUP($H708,Übersichtsblatt!$F$14:$I$24,2,FALSE)=0,\"\",VLOOKUP(H708,Übersichtsblatt!$F$14:$I$24,2,FALSE)),\"\")","v":""},0,10.5]
[2024,"2024-12-07",{"$f":"IFERROR(IF(VLOOKUP($B709,Übersichtsblatt!$F$64:$I$68,2,FALSE)=0,\"\",VLOOKUP($B709,Übersichtsblatt!$F$64:$I$68,2,FALSE)),\"\")","v":""},{"$f":"IF($C709=\"\",0,$E709)","v":0},-10.5,null,2024,"2024-12-07",{"$f":"IFERROR(IF(VLOOKUP($H709,Übersichtsblatt!$F$14:$I$24,2,FALSE)=0,\"\",VLOOKUP(H709,Übersichtsblatt!$F$14:$I$24,2,FALSE)),\"\")","v":""},{"$f":"IF($I709=\"\",0,$K709)","v":0},10.5]
[{"$f":"YEAR(B710)","v":2024},{"$f":"B709+1","v":"2024-12-08"},{"$f":"IFERROR(IF(VLOOKUP($B710,Übersichtsblatt!$F$64:$I$68,2,FALSE)=0,\"\",VLOOKUP($B710,Übersichtsblatt!$F$64:$I$68,2,FALSE)),\"\")","v":""},0,-10.5,null,{"$f":"YEAR(H710)","v":2024},{"$f":"H709+1","v":"2024-12-08"},{"$f":"IFERROR(IF(VLOOKUP($H710,Übersichtsblatt!$F$14:$I$24,2,FALSE)=0,\"\",VLOOKUP(H710,Übersichtsblatt!$F$14:$I$24,2,FALSE)),\"\")","v":""},0,10.5]
[2024,"2024-12-09",{"$f":"IFERROR(IF(VLOOKUP($B711,Übersichtsblatt!$F$64:$I$68,2,FALSE)=0,\"\",VLOOKUP($B711,Übersichtsblatt!$F$64:$I$68,2,FALSE)),\"\")","v":""},0,-10.5,null,2024,"2024-12-09",{"$f":"IFERROR(IF(VLOOKUP($H711,Übersichtsblatt!$F$14:$I$24,2,FALSE)=0,\"\",VLOOKUP(H711,Übersichtsblatt!$F$14:$I$24,2,FALSE)),\"\")","v":""},0,10.5]
[2024,"2024-12-10",{"$f":"IFERROR(IF(VLOOKUP($B712,Übersichtsblatt!$F$64:$I$68,2,FALSE)=0,\"\",VLOOKUP($B712,Übersichtsblatt!$F$64:$I$68,2,FALSE)),\"\")","v":""},0,-10.5,null,2024,"2024-12-10",{"$f":"IFERROR(IF(VLOOKUP($H712,Übersichtsblatt!$F$14:$I$24,2,FALSE)=0,\"\",VLOOKUP(H712,Übersichtsblatt!$F$14:$I$24,2,FALSE)),\"\")","v":""},0,10.5]
[2024,"2024-12-11",{"$f":"IFERROR(IF(VLOOKUP($B713,Übersichtsblatt!$F$64:$I$68,2,FALSE)=0,\"\",VLOOKUP($B713,Übersichtsblatt!$F$64:$I$68,2,FALSE)),\"\")","v":""},0,-10.5,null,2024,"2024-12-11",{"$f":"IFERROR(IF(VLOOKUP($H713,Übersichtsblatt!$F$14:$I$24,2,FALSE)=0,\"\",VLOOKUP(H713,Übersichtsblatt!$F$14:$I$24,2,FALSE)),\"\")","v":""},0,10.5]
[2024,"2024-12-12",{"$f":"IFERROR(IF(VLOOKUP($B714,Übersichtsblatt!$F$64:$I$68,2,FALSE)=0,\"\",VLOOKUP($B714,Übersichtsblatt!$F$64:$I$68,2,FALSE)),\"\")","v":""},0,-10.5,null,2024,"2024-12-12",{"$f":"IFERROR(IF(VLOOKUP($H714,Übersichtsblatt!$F$14:$I$24,2,FALSE)=0,\"\",VLOOKUP(H714,Übersichtsblatt!$F$14:$I$24,2,FALSE)),\"\")","v":""},0,10.5]
[2024,"2024-12-13",{"$f":"IFERROR(IF(VLOOKUP($B715,Übersichtsblatt!$F$64:$I$68,2,FALSE)=0,\"\",VLOOKUP($B715,Übersichtsblatt!$F$64:$I$68,2,FALSE)),\"\")","v":""},0,-10.5,null,2024,"2024-12-13",{"$f":"IFERROR(IF(VLOOKUP($H715,Übersichtsblatt!$F$14:$I$24,2,FALSE)=0,\"\",VLOOKUP(H715,Übersichtsblatt!$F$14:$I$24,2,FALSE)),\"\")","v":""},0,10.5]
[2024,"2024-12-14",{"$f":"IFERROR(IF(VLOOKUP($B716,Übersichtsblatt!$F$64:$I$68,2,FALSE)=0,\"\",VLOOKUP($B716,Übersichtsblatt!$F$64:$I$68,2,FALSE)),\"\")","v":""},0,-10.5,null,2024,"2024-12-14",{"$f":"IFERROR(IF(VLOOKUP($H716,Übersichtsblatt!$F$14:$I$24,2,FALSE)=0,\"\",VLOOKUP(H716,Übersichtsblatt!$F$14:$I$24,2,FALSE)),\"\")","v":""},0,10.5]
[2024,"2024-12-15",{"$f":"IFERROR(IF(VLOOKUP($B717,Übersichtsblatt!$F$64:$I$68,2,FALSE)=0,\"\",VLOOKUP($B717,Übersichtsblatt!$F$64:$I$68,2,FALSE)),\"\")","v":""},0,-10.5,null,2024,"2024-12-15",{"$f":"IFERROR(IF(VLOOKUP($H717,Übersichtsblatt!$F$14:$I$24,2,FALSE)=0,\"\",VLOOKUP(H717,Übersichtsblatt!$F$14:$I$24,2,FALSE)),\"\")","v":""},0,10.5]
[2024,"2024-12-16",{"$f":"IFERROR(IF(VLOOKUP($B718,Übersichtsblatt!$F$64:$I$68,2,FALSE)=0,\"\",VLOOKUP($B718,Übersichtsblatt!$F$64:$I$68,2,FALSE)),\"\")","v":""},0,-10.5,null,2024,"2024-12-16",{"$f":"IFERROR(IF(VLOOKUP($H718,Übersichtsblatt!$F$14:$I$24,2,FALSE)=0,\"\",VLOOKUP(H718,Übersichtsblatt!$F$14:$I$24,2,FALSE)),\"\")","v":""},0,10.5]
[2024,"2024-12-17",{"$f":"IFERROR(IF(VLOOKUP($B719,Übersichtsblatt!$F$64:$I$68,2,FALSE)=0,\"\",VLOOKUP($B719,Übersichtsblatt!$F$64:$I$68,2,FALSE)),\"\")","v":""},0,-10.5,null,2024,"2024-12-17",{"$f":"IFERROR(IF(VLOOKUP($H719,Übersichtsblatt!$F$14:$I$24,2,FALSE)=0,\"\",VLOOKUP(H719,Übersichtsblatt!$F$14:$I$24,2,FALSE)),\"\")","v":""},0,10.5]
[2024,"2024-12-18",{"$f":"IFERROR(IF(VLOOKUP($B720,Übersichtsblatt!$F$64:$I$68,2,FALSE)=0,\"\",VLOOKUP($B720,Übersichtsblatt!$F$64:$I$68,2,FALSE)),\"\")","v":""},0,-10.5,null,2024,"2024-12-18",{"$f":"IFERROR(IF(VLOOKUP($H720,Übersichtsblatt!$F$14:$I$24,2,FALSE)=0,\"\",VLOOKUP(H720,Übersichtsblatt!$F$14:$I$24,2,FALSE)),\"\")","v":""},0,10.5]
[2024,"2024-12-19",{"$f":"IFERROR(IF(VLOOKUP($B721,Übersichtsblatt!$F$64:$I$68,2,FALSE)=0,\"\",VLOOKUP($B721,Übersichtsblatt!$F$64:$I$68,2,FALSE)),\"\")","v":""},0,-10.5,null,2024,"2024-12-19",{"$f":"IFERROR(IF(VLOOKUP($H721,Übersichtsblatt!$F$14:$I$24,2,FALSE)=0,\"\",VLOOKUP(H721,Übersichtsblatt!$F$14:$I$24,2,FALSE)),\"\")","v":""},0,10.5]
[2024,"2024-12-20",{"$f":"IFERROR(IF(VLOOKUP($B722,Übersichtsblatt!$F$64:$I$68,2,FALSE)=0,\"\",VLOOKUP($B722,Übersichtsblatt!$F$64:$I$68,2,FALSE)),\"\")","v":""},0,-10.5,null,2024,"2024-12-20",{"$f":"IFERROR(IF(VLOOKUP($H722,Übersichtsblatt!$F$14:$I$24,2,FALSE)=0,\"\",VLOOKUP(H722,Übersichtsblatt!$F$14:$I$24,2,FALSE)),\"\")","v":""},0,10.5]
[2024,"2024-12-21",{"$f":"IFERROR(IF(VLOOKUP($B723,Übersichtsblatt!$F$64:$I$68,2,FALSE)=0,\"\",VLOOKUP($B723,Übersichtsblatt!$F$64:$I$68,2,FALSE)),\"\")","v":""},0,-10.5,null,2024,"2024-12-21",{"$f":"IFERROR(IF(VLOOKUP($H723,Übersichtsblatt!$F$14:$I$24,2,FALSE)=0,\"\",VLOOKUP(H723,Übersichtsblatt!$F$14:$I$24,2,FALSE)),\"\")","v":""},0,10.5]
[2024,"2024-12-22",{"$f":"IFERROR(IF(VLOOKUP($B724,Übersichtsblatt!$F$64:$I$68,2,FALSE)=0,\"\",VLOOKUP($B724,Übersichtsblatt!$F$64:$I$68,2,FALSE)),\"\")","v":""},0,-10.5,null,2024,"2024-12-22",{"$f":"IFERROR(IF(VLOOKUP($H724,Übersichtsblatt!$F$14:$I$24,2,FALSE)=0,\"\",VLOOKUP(H724,Übersichtsblatt!$F$14:$I$24,2,FALSE)),\"\")","v":""},0,10.5]
[2024,"2024-12-23",{"$f":"IFERROR(IF(VLOOKUP($B725,Übersichtsblatt!$F$64:$I$68,2,FALSE)=0,\"\",VLOOKUP($B725,Übersichtsblatt!$F$64:$I$68,2,FALSE)),\"\")","v":""},0,-10.5,null,2024,"2024-12-23",{"$f":"IFERROR(IF(VLOOKUP($H725,Übersichtsblatt!$F$14:$I$24,2,FALSE)=0,\"\",VLOOKUP(H725,Übersichtsblatt!$F$14:$I$24,2,FALSE)),\"\")","v":""},0,10.5]
[2024,"2024-12-24",{"$f":"IFERROR(IF(VLOOKUP($B726,Übersichtsblatt!$F$64:$I$68,2,FALSE)=0,\"\",VLOOKUP($B726,Übersichtsblatt!$F$64:$I$68,2,FALSE)),\"\")","v":""},0,-10.5,null,2024,"2024-12-24",{"$f":"IFERROR(IF(VLOOKUP($H726,Übersichtsblatt!$F$14:$I$24,2,FALSE)=0,\"\",VLOOKUP(H726,Übersichtsblatt!$F$14:$I$24,2,FALSE)),\"\")","v":""},0,10.5]
[2024,"2024-12-25",{"$f":"IFERROR(IF(VLOOKUP($B727,Übersichtsblatt!$F$64:$I$68,2,FALSE)=0,\"\",VLOOKUP($B727,Übersichtsblatt!$F$64:$I$68,2,FALSE)),\"\")","v":""},0,-10.5,null,2024,"2024-12-25",{"$f":"IFERROR(IF(VLOOKUP($H727,Übersichtsblatt!$F$14:$I$24,2,FALSE)=0,\"\",VLOOKUP(H727,Übersichtsblatt!$F$14:$I$24,2,FALSE)),\"\")","v":""},0,10.5]
[2024,"2024-12-26",{"$f":"IFERROR(IF(VLOOKUP($B728,Übersichtsblatt!$F$64:$I$68,2,FALSE)=0,\"\",VLOOKUP($B728,Übersichtsblatt!$F$64:$I$68,2,FALSE)),\"\")","v":""},0,-10.5,null,2024,"2024-12-26",{"$f":"IFERROR(IF(VLOOKUP($H728,Übersichtsblatt!$F$14:$I$24,2,FALSE)=0,\"\",VLOOKUP(H728,Übersichtsblatt!$F$14:$I$24,2,FALSE)),\"\")","v":""},0,10.5]
[2024,"2024-12-27",{"$f":"IFERROR(IF(VLOOKUP($B729,Übersichtsblatt!$F$64:$I$68,2,FALSE)=0,\"\",VLOOKUP($B729,Übersichtsblatt!$F$64:$I$68,2,FALSE)),\"\")","v":""},0,-10.5,null,2024,"2024-12-27",{"$f":"IFERROR(IF(VLOOKUP($H729,Übersichtsblatt!$F$14:$I$24,2,FALSE)=0,\"\",VLOOKUP(H729,Übersichtsblatt!$F$14:$I$24,2,FALSE)),\"\")","v":""},0,10.5]
[2024,"2024-12-28",{"$f":"IFERROR(IF(VLOOKUP($B730,Übersichtsblatt!$F$64:$I$68,2,FALSE)=0,\"\",VLOOKUP($B730,Übersichtsblatt!$F$64:$I$68,2,FALSE)),\"\")","v":""},0,-10.5,null,2024,"2024-12-28",{"$f":"IFERROR(IF(VLOOKUP($H730,Übersichtsblatt!$F$14:$I$24,2,FALSE)=0,\"\",VLOOKUP(H730,Übersichtsblatt!$F$14:$I$24,2,FALSE)),\"\")","v":""},0,10.5]
[2024,"2024-12-29",{"$f":"IFERROR(IF(VLOOKUP($B731,Übersichtsblatt!$F$64:$I$68,2,FALSE)=0,\"\",VLOOKUP($B731,Übersichtsblatt!$F$64:$I$68,2,FALSE)),\"\")","v":""},0,-10.5,null,2024,"2024-12-29",{"$f":"IFERROR(IF(VLOOKUP($H731,Übersichtsblatt!$F$14:$I$24,2,FALSE)=0,\"\",VLOOKUP(H731,Übersichtsblatt!$F$14:$I$24,2,FALSE)),\"\")","v":""},0,10.5]
[2024,"2024-12-30",{"$f":"IFERROR(IF(VLOOKUP($B732,Übersichtsblatt!$F$64:$I$68,2,FALSE)=0,\"\",VLOOKUP($B732,Übersichtsblatt!$F$64:$I$68,2,FALSE)),\"\")","v":""},0,-10.5,null,2024,"2024-12-30",{"$f":"IFERROR(IF(VLOOKUP($H732,Übersichtsblatt!$F$14:$I$24,2,FALSE)=0,\"\",VLOOKUP(H732,Übersichtsblatt!$F$14:$I$24,2,FALSE)),\"\")","v":""},0,10.5]
[2024,"2024-12-31",{"$f":"IFERROR(IF(VLOOKUP($B733,Übersichtsblatt!$F$64:$I$68,2,FALSE)=0,\"\",VLOOKUP($B733,Übersichtsblatt!$F$64:$I$68,2,FALSE)),\"\")","v":""},0,-10.5,null,2024,"2024-12-31",{"$f":"IFERROR(IF(VLOOKUP($H733,Übersichtsblatt!$F$14:$I$24,2,FALSE)=0,\"\",VLOOKUP(H733,Übersichtsblatt!$F$14:$I$24,2,FALSE)),\"\")","v":""},0,10.5]
[2025,"2025-01-01",{"$f":"IFERROR(IF(VLOOKUP($B734,Übersichtsblatt!$J$64:$M$68,2,FALSE)=0,\"\",VLOOKUP($B734,Übersichtsblatt!$J$64:$M$68,2,FALSE)),\"\")","v":""},0,-3.5,null,2025,"2025-01-01",{"$f":"IFERROR(IF(VLOOKUP($H734,Übersichtsblatt!$J$14:$M$24,2,FALSE)=0,\"\",VLOOKUP(H734,Übersichtsblatt!$J$14:$M$24,2,FALSE)),\"\")","v":""},0,3.5]
[2025,"2025-01-02",{"$f":"IFERROR(IF(VLOOKUP($B735,Übersichtsblatt!$J$64:$M$68,2,FALSE)=0,\"\",VLOOKUP($B735,Übersichtsblatt!$J$64:$M$68,2,FALSE)),\"\")","v":""},0,-3.5,null,2025,"2025-01-02",{"$f":"IFERROR(IF(VLOOKUP($H735,Übersichtsblatt!$J$14:$M$24,2,FALSE)=0,\"\",VLOOKUP(H735,Übersichtsblatt!$J$14:$M$24,2,FALSE)),\"\")","v":""},0,3.5]
[2025,"2025-01-03",{"$f":"IFERROR(IF(VLOOKUP($B736,Übersichtsblatt!$J$64:$M$68,2,FALSE)=0,\"\",VLOOKUP($B736,Übersichtsblatt!$J$64:$M$68,2,FALSE)),\"\")","v":""},0,-3.5,null,2025,"2025-01-03",{"$f":"IFERROR(IF(VLOOKUP($H736,Übersichtsblatt!$J$14:$M$24,2,FALSE)=0,\"\",VLOOKUP(H736,Übersichtsblatt!$J$14:$M$24,2,FALSE)),\"\")","v":""},0,3.5]
[2025,"2025-01-04",{"$f":"IFERROR(IF(VLOOKUP($B737,Übersichtsblatt!$J$64:$M$68,2,FALSE)=0,\"\",VLOOKUP($B737,Übersichtsblatt!$J$64:$M$68,2,FALSE)),\"\")","v":""},0,-3.5,null,2025,"2025-01-04",{"$f":"IFERROR(IF(VLOOKUP($H737,Übersichtsblatt!$J$14:$M$24,2,FALSE)=0,\"\",VLOOKUP(H737,Übersichtsblatt!$J$14:$M$24,2,FALSE)),\"\")","v":""},0,3.5]
[2025,"2025-01-05",{"$f":"IFERROR(IF(VLOOKUP($B738,Übersichtsblatt!$J$64:$M$68,2,FALSE)=0,\"\",VLOOKUP($B738,Übersichtsblatt!$J$64:$M$68,2,FALSE)),\"\")","v":""},0,-3.5,null,2025,"2025-01-05",{"$f":"IFERROR(IF(VLOOKUP($H738,Übersichtsblatt!$J$14:$M$24,2,FALSE)=0,\"\",VLOOKUP(H738,Übersichtsblatt!$J$14:$M$24,2,FALSE)),\"\")","v":""},0,3.5]
[2025,"2025-01-06",{"$f":"IFERROR(IF(VLOOKUP($B739,Übersichtsblatt!$J$64:$M$68,2,FALSE)=0,\"\",VLOOKUP($B739,Übersichtsblatt!$J$64:$M$68,2,FALSE)),\"\")","v":""},0,-3.5,null,2025,"2025-01-06",{"$f":"IFERROR(IF(VLOOKUP($H739,Übersichtsblatt!$J$14:$M$24,2,FALSE)=0,\"\",VLOOKUP(H739,Übersichtsblatt!$J$14:$M$24,2,FALSE)),\"\")","v":""},0,3.5]
[2025,"2025-01-07",{"$f":"IFERROR(IF(VLOOKUP($B740,Übersichtsblatt!$J$64:$M$68,2,FALSE)=0,\"\",VLOOKUP($B740,Übersichtsblatt!$J$64:$M$68,2,FALSE)),\"\")","v":""},0,-3.5,null,2025,"2025-01-07",{"$f":"IFERROR(IF(VLOOKUP($H740,Übersichtsblatt!$J$14:$M$24,2,FALSE)=0,\"\",VLOOKUP(H740,Übersichtsblatt!$J$14:$M$24,2,FALSE)),\"\")","v":""},0,3.5]
[2025,"2025-01-08",{"$f":"IFERROR(IF(VLOOKUP($B741,Übersichtsblatt!$J$64:$M$68,2,FALSE)=0,\"\",VLOOKUP($B741,Übersichtsblatt!$J$64:$M$68,2,FALSE)),\"\")","v":""},0,-3.5,null,2025,"2025-01-08",{"$f":"IFERROR(IF(VLOOKUP($H741,Übersichtsblatt!$J$14:$M$24,2,FALSE)=0,\"\",VLOOKUP(H741,Übersichtsblatt!$J$14:$M$24,2,FALSE)),\"\")","v":""},0,3.5]
[2025,"2025-01-09",{"$f":"IFERROR(IF(VLOOKUP($B742,Übersichtsblatt!$J$64:$M$68,2,FALSE)=0,\"\",VLOOKUP($B742,Übersichtsblatt!$J$64:$M$68,2,FALSE)),\"\")","v":""},0,-3.5,null,2025,"2025-01-09",{"$f":"IFERROR(IF(VLOOKUP($H742,Übersichtsblatt!$J$14:$M$24,2,FALSE)=0,\"\",VLOOKUP(H742,Übersichtsblatt!$J$14:$M$24,2,FALSE)),\"\")","v":""},0,3.5]
[2025,"2025-01-10",{"$f":"IFERROR(IF(VLOOKUP($B743,Übersichtsblatt!$J$64:$M$68,2,FALSE)=0,\"\",VLOOKUP($B743,Übersichtsblatt!$J$64:$M$68,2,FALSE)),\"\")","v":""},0,-3.5,null,2025,"2025-01-10",{"$f":"IFERROR(IF(VLOOKUP($H743,Übersichtsblatt!$J$14:$M$24,2,FALSE)=0,\"\",VLOOKUP(H743,Übersichtsblatt!$J$14:$M$24,2,FALSE)),\"\")","v":""},0,3.5]
[2025,"2025-01-11",{"$f":"IFERROR(IF(VLOOKUP($B744,Übersichtsblatt!$J$64:$M$68,2,FALSE)=0,\"\",VLOOKUP($B744,Übersichtsblatt!$J$64:$M$68,2,FALSE)),\"\")","v":""},0,-3.5,null,2025,"2025-01-11",{"$f":"IFERROR(IF(VLOOKUP($H744,Übersichtsblatt!$J$14:$M$24,2,FALSE)=0,\"\",VLOOKUP(H744,Übersichtsblatt!$J$14:$M$24,2,FALSE)),\"\")","v":""},0,3.5]
[2025,"2025-01-12",{"$f":"IFERROR(IF(VLOOKUP($B745,Übersichtsblatt!$J$64:$M$68,2,FALSE)=0,\"\",VLOOKUP($B745,Übersichtsblatt!$J$64:$M$68,2,FALSE)),\"\")","v":""},0,-3.5,null,2025,"2025-01-12",{"$f":"IFERROR(IF(VLOOKUP($H745,Übersichtsblatt!$J$14:$M$24,2,FALSE)=0,\"\",VLOOKUP(H745,Übersichtsblatt!$J$14:$M$24,2,FALSE)),\"\")","v":""},0,3.5]
[2025,"2025-01-13",{"$f":"IFERROR(IF(VLOOKUP($B746,Übersichtsblatt!$J$64:$M$68,2,FALSE)=0,\"\",VLOOKUP($B746,Übersichtsblatt!$J$64:$M$68,2,FALSE)),\"\")","v":""},0,-3.5,null,2025,"2025-01-13",{"$f":"IFERROR(IF(VLOOKUP($H746,Übersichtsblatt!$J$14:$M$24,2,FALSE)=0,\"\",VLOOKUP(H746,Übersichtsblatt!$J$14:$M$24,2,FALSE)),\"\")","v":""},0,3.5]
[2025,"2025-01-14",{"$f":"IFERROR(IF(VLOOKUP($B747,Übersichtsblatt!$J$64:$M$68,2,FALSE)=0,\"\",VLOOKUP($B747,Übersichtsblatt!$J$64:$M$68,2,FALSE)),\"\")","v":""},0,-3.5,null,2025,"2025-01-14",{"$f":"IFERROR(IF(VLOOKUP($H747,Übersichtsblatt!$J$14:$M$24,2,FALSE)=0,\"\",VLOOKUP(H747,Übersichtsblatt!$J$14:$M$24,2,FALSE)),\"\")","v":""},0,3.5]
[2025,"2025-01-15",{"$f":"IFERROR(IF(VLOOKUP($B748,Übersichtsblatt!$J$64:$M$68,2,FALSE)=0,\"\",VLOOKUP($B748,Übersichtsblatt!$J$64:$M$68,2,FALSE)),\"\")","v":""},0,-3.5,null,2025,"2025-01-15",{"$f":"IFERROR(IF(VLOOKUP($H748,Übersichtsblatt!$J$14:$M$24,2,FALSE)=0,\"\",VLOOKUP(H748,Übersichtsblatt!$J$14:$M$24,2,FALSE)),\"\")","v":""},0,3.5]
[2025,"2025-01-16",{"$f":"IFERROR(IF(VLOOKUP($B749,Übersichtsblatt!$J$64:$M$68,2,FALSE)=0,\"\",VLOOKUP($B749,Übersichtsblatt!$J$64:$M$68,2,FALSE)),\"\")","v":""},0,-3.5,null,2025,"2025-01-16",{"$f":"IFERROR(IF(VLOOKUP($H749,Übersichtsblatt!$J$14:$M$24,2,FALSE)=0,\"\",VLOOKUP(H749,Übersichtsblatt!$J$14:$M$24,2,FALSE)),\"\")","v":""},0,3.5]
[2025,"2025-01-17",{"$f":"IFERROR(IF(VLOOKUP($B750,Übersichtsblatt!$J$64:$M$68,2,FALSE)=0,\"\",VLOOKUP($B750,Übersichtsblatt!$J$64:$M$68,2,FALSE)),\"\")","v":""},0,-3.5,null,2025,"2025-01-17",{"$f":"IFERROR(IF(VLOOKUP($H750,Übersichtsblatt!$J$14:$M$24,2,FALSE)=0,\"\",VLOOKUP(H750,Übersichtsblatt!$J$14:$M$24,2,FALSE)),\"\")","v":""},0,3.5]
[2025,"2025-01-18",{"$f":"IFERROR(IF(VLOOKUP($B751,Übersichtsblatt!$J$64:$M$68,2,FALSE)=0,\"\",VLOOKUP($B751,Übersichtsblatt!$J$64:$M$68,2,FALSE)),\"\")","v":""},0,-3.5,null,2025,"2025-01-18",{"$f":"IFERROR(IF(VLOOKUP($H751,Übersichtsblatt!$J$14:$M$24,2,FALSE)=0,\"\",VLOOKUP(H751,Übersichtsblatt!$J$14:$M$24,2,FALSE)),\"\")","v":""},0,3.5]
[2025,"2025-01-19",{"$f":"IFERROR(IF(VLOOKUP($B752,Übersichtsblatt!$J$64:$M$68,2,FALSE)=0,\"\",VLOOKUP($B752,Übersichtsblatt!$J$64:$M$68,2,FALSE)),\"\")","v":""},0,-3.5,null,2025,"2025-01-19",{"$f":"IFERROR(IF(VLOOKUP($H752,Übersichtsblatt!$J$14:$M$24,2,FALSE)=0,\"\",VLOOKUP(H752,Übersichtsblatt!$J$14:$M$24,2,FALSE)),\"\")","v":""},0,3.5]
[2025,"2025-01-20",{"$f":"IFERROR(IF(VLOOKUP($B753,Übersichtsblatt!$J$64:$M$68,2,FALSE)=0,\"\",VLOOKUP($B753,Übersichtsblatt!$J$64:$M$68,2,FALSE)),\"\")","v":""},0,-3.5,null,2025,"2025-01-20",{"$f":"IFERROR(IF(VLOOKUP($H753,Übersichtsblatt!$J$14:$M$24,2,FALSE)=0,\"\",VLOOKUP(H753,Übersichtsblatt!$J$14:$M$24,2,FALSE)),\"\")","v":""},0,3.5]
[2025,"2025-01-21",{"$f":"IFERROR(IF(VLOOKUP($B754,Übersichtsblatt!$J$64:$M$68,2,FALSE)=0,\"\",VLOOKUP($B754,Übersichtsblatt!$J$64:$M$68,2,FALSE)),\"\")","v":""},0,-3.5,null,2025,"2025-01-21",{"$f":"IFERROR(IF(VLOOKUP($H754,Übersichtsblatt!$J$14:$M$24,2,FALSE)=0,\"\",VLOOKUP(H754,Übersichtsblatt!$J$14:$M$24,2,FALSE)),\"\")","v":""},0,3.5]
[2025,"2025-01-22",{"$f":"IFERROR(IF(VLOOKUP($B755,Übersichtsblatt!$J$64:$M$68,2,FALSE)=0,\"\",VLOOKUP($B755,Übersichtsblatt!$J$64:$M$68,2,FALSE)),\"\")","v":""},0,-3.5,null,2025,"2025-01-22",{"$f":"IFERROR(IF(VLOOKUP($H755,Übersichtsblatt!$J$14:$M$24,2,FALSE)=0,\"\",VLOOKUP(H755,Übersichtsblatt!$J$14:$M$24,2,FALSE)),\"\")","v":""},0,3.5]
[2025,"2025-01-23",{"$f":"IFERROR(IF(VLOOKUP($B756,Übersichtsblatt!$J$64:$M$68,2,FALSE)=0,\"\",VLOOKUP($B756,Übersichtsblatt!$J$64:$M$68,2,FALSE)),\"\")","v":""},0,-3.5,null,2025,"2025-01-23",{"$f":"IFERROR(IF(VLOOKUP($H756,Übersichtsblatt!$J$14:$M$24,2,FALSE)=0,\"\",VLOOKUP(H756,Übersichtsblatt!$J$14:$M$24,2,FALSE)),\"\")","v":""},0,3.5]
[2025,"2025-01-24",{"$f":"IFERROR(IF(VLOOKUP($B757,Übersichtsblatt!$J$64:$M$68,2,FALSE)=0,\"\",VLOOKUP($B757,Übersichtsblatt!$J$64:$M$68,2,FALSE)),\"\")","v":""},0,-3.5,null,2025,"2025-01-24",{"$f":"IFERROR(IF(VLOOKUP($H757,Übersichtsblatt!$J$14:$M$24,2,FALSE)=0,\"\",VLOOKUP(H757,Übersichtsblatt!$J$14:$M$24,2,FALSE)),\"\")","v":""},0,3.5]
[2025,"2025-01-25",{"$f":"IFERROR(IF(VLOOKUP($B758,Übersichtsblatt!$J$64:$M$68,2,FALSE)=0,\"\",VLOOKUP($B758,Übersichtsblatt!$J$64:$M$68,2,FALSE)),\"\")","v":""},0,-3.5,null,2025,"2025-01-25",{"$f":"IFERROR(IF(VLOOKUP($H758,Übersichtsblatt!$J$14:$M$24,2,FALSE)=0,\"\",VLOOKUP(H758,Übersichtsblatt!$J$14:$M$24,2,FALSE)),\"\")","v":""},0,3.5]
[2025,"2025-01-26",{"$f":"IFERROR(IF(VLOOKUP($B759,Übersichtsblatt!$J$64:$M$68,2,FALSE)=0,\"\",VLOOKUP($B759,Übersichtsblatt!$J$64:$M$68,2,FALSE)),\"\")","v":""},0,-3.5,null,2025,"2025-01-26",{"$f":"IFERROR(IF(VLOOKUP($H759,Übersichtsblatt!$J$14:$M$24,2,FALSE)=0,\"\",VLOOKUP(H759,Übersichtsblatt!$J$14:$M$24,2,FALSE)),\"\")","v":""},0,3.5]
[2025,"2025-01-27",{"$f":"IFERROR(IF(VLOOKUP($B760,Übersichtsblatt!$J$64:$M$68,2,FALSE)=0,\"\",VLOOKUP($B760,Übersichtsblatt!$J$64:$M$68,2,FALSE)),\"\")","v":""},0,-3.5,null,2025,"2025-01-27",{"$f":"IFERROR(IF(VLOOKUP($H760,Übersichtsblatt!$J$14:$M$24,2,FALSE)=0,\"\",VLOOKUP(H760,Übersichtsblatt!$J$14:$M$24,2,FALSE)),\"\")","v":""},0,3.5]
[2025,"2025-01-28",{"$f":"IFERROR(IF(VLOOKUP($B761,Übersichtsblatt!$J$64:$M$68,2,FALSE)=0,\"\",VLOOKUP($B761,Übersichtsblatt!$J$64:$M$68,2,FALSE)),\"\")","v":""},0,-3.5,null,2025,"2025-01-28",{"$f":"IFERROR(IF(VLOOKUP($H761,Übersichtsblatt!$J$14:$M$24,2,FALSE)=0,\"\",VLOOKUP(H761,Übersichtsblatt!$J$14:$M$24,2,FALSE)),\"\")","v":""},0,3.5]
[2025,"2025-01-29",{"$f":"IFERROR(IF(VLOOKUP($B762,Übersichtsblatt!$J$64:$M$68,2,FALSE)=0,\"\",VLOOKUP($B762,Übersichtsblatt!$J$64:$M$68,2,FALSE)),\"\")","v":""},0,-3.5,null,2025,"2025-01-29",{"$f":"IFERROR(IF(VLOOKUP($H762,Übersichtsblatt!$J$14:$M$24,2,FALSE)=0,\"\",VLOOKUP(H762,Übersichtsblatt!$J$14:$M$24,2,FALSE)),\"\")","v":""},0,3.5]
[2025,"2025-01-30",{"$f":"IFERROR(IF(VLOOKUP($B763,Übersichtsblatt!$J$64:$M$68,2,FALSE)=0,\"\",VLOOKUP($B763,Übersichtsblatt!$J$64:$M$68,2,FALSE)),\"\")","v":""},0,-3.5,null,2025,"2025-01-30",{"$f":"IFERROR(IF(VLOOKUP($H763,Übersichtsblatt!$J$14:$M$24,2,FALSE)=0,\"\",VLOOKUP(H763,Übersichtsblatt!$J$14:$M$24,2,FALSE)),\"\")","v":""},0,3.5]
[2025,"2025-01-31",{"$f":"IFERROR(IF(VLOOKUP($B764,Übersichtsblatt!$J$64:$M$68,2,FALSE)=0,\"\",VLOOKUP($B764,Übersichtsblatt!$J$64:$M$68,2,FALSE)),\"\")","v":""},0,-3.5,null,2025,"2025-01-31",{"$f":"IFERROR(IF(VLOOKUP($H764,Übersichtsblatt!$J$14:$M$24,2,FALSE)=0,\"\",VLOOKUP(H764,Übersichtsblatt!$J$14:$M$24,2,FALSE)),\"\")","v":""},0,3.5]
[2025,"2025-02-01",{"$f":"IFERROR(IF(VLOOKUP($B765,Übersichtsblatt!$J$64:$M$68,2,FALSE)=0,\"\",VLOOKUP($B765,Übersichtsblatt!$J$64:$M$68,2,FALSE)),\"\")","v":""},0,-12.5,null,2025,"2025-02-01",{"$f":"IFERROR(IF(VLOOKUP($H765,Übersichtsblatt!$J$14:$M$24,2,FALSE)=0,\"\",VLOOKUP(H765,Übersichtsblatt!$J$14:$M$24,2,FALSE)),\"\")","v":""},0,12.5]
[2025,"2025-02-02",{"$f":"IFERROR(IF(VLOOKUP($B766,Übersichtsblatt!$J$64:$M$68,2,FALSE)=0,\"\",VLOOKUP($B766,Übersichtsblatt!$J$64:$M$68,2,FALSE)),\"\")","v":""},0,-12.5,null,2025,"2025-02-02",{"$f":"IFERROR(IF(VLOOKUP($H766,Übersichtsblatt!$J$14:$M$24,2,FALSE)=0,\"\",VLOOKUP(H766,Übersichtsblatt!$J$14:$M$24,2,FALSE)),\"\")","v":""},0,12.5]
[2025,"2025-02-03",{"$f":"IFERROR(IF(VLOOKUP($B767,Übersichtsblatt!$J$64:$M$68,2,FALSE)=0,\"\",VLOOKUP($B767,Übersichtsblatt!$J$64:$M$68,2,FALSE)),\"\")","v":""},0,-12.5,null,2025,"2025-02-03",{"$f":"IFERROR(IF(VLOOKUP($H767,Übersichtsblatt!$J$14:$M$24,2,FALSE)=0,\"\",VLOOKUP(H767,Übersichtsblatt!$J$14:$M$24,2,FALSE)),\"\")","v":""},0,12.5]
[2025,"2025-02-04",{"$f":"IFERROR(IF(VLOOKUP($B768,Übersichtsblatt!$J$64:$M$68,2,FALSE)=0,\"\",VLOOKUP($B768,Übersichtsblatt!$J$64:$M$68,2,FALSE)),\"\")","v":""},0,-12.5,null,2025,"2025-02-04",{"$f":"IFERROR(IF(VLOOKUP($H768,Übersichtsblatt!$J$14:$M$24,2,FALSE)=0,\"\",VLOOKUP(H768,Übersichtsblatt!$J$14:$M$24,2,FALSE)),\"\")","v":""},0,12.5]
[2025,"2025-02-05",{"$f":"IFERROR(IF(VLOOKUP($B769,Übersichtsblatt!$J$64:$M$68,2,FALSE)=0,\"\",VLOOKUP($B769,Übersichtsblatt!$J$64:$M$68,2,FALSE)),\"\")","v":""},0,-12.5,null,2025,"2025-02-05",{"$f":"IFERROR(IF(VLOOKUP($H769,Übersichtsblatt!$J$14:$M$24,2,FALSE)=0,\"\",VLOOKUP(H769,Übersichtsblatt!$J$14:$M$24,2,FALSE)),\"\")","v":""},0,12.5]
[2025,"2025-02-06",{"$f":"IFERROR(IF(VLOOKUP($B770,Übersichtsblatt!$J$64:$M$68,2,FALSE)=0,\"\",VLOOKUP($B770,Übersichtsblatt!$J$64:$M$68,2,FALSE)),\"\")","v":""},0,-12.5,null,2025,"2025-02-06",{"$f":"IFERROR(IF(VLOOKUP($H770,Übersichtsblatt!$J$14:$M$24,2,FALSE)=0,\"\",VLOOKUP(H770,Übersichtsblatt!$J$14:$M$24,2,FALSE)),\"\")","v":""},0,12.5]
[2025,"2025-02-07",{"$f":"IFERROR(IF(VLOOKUP($B771,Übersichtsblatt!$J$64:$M$68,2,FALSE)=0,\"\",VLOOKUP($B771,Übersichtsblatt!$J$64:$M$68,2,FALSE)),\"\")","v":""},0,-12.5,null,2025,"2025-02-07",{"$f":"IFERROR(IF(VLOOKUP($H771,Übersichtsblatt!$J$14:$M$24,2,FALSE)=0,\"\",VLOOKUP(H771,Übersichtsblatt!$J$14:$M$24,2,FALSE)),\"\")","v":""},0,12.5]
[2025,"2025-02-08",{"$f":"IFERROR(IF(VLOOKUP($B772,Übersichtsblatt!$J$64:$M$68,2,FALSE)=0,\"\",VLOOKUP($B772,Übersichtsblatt!$J$64:$M$68,2,FALSE)),\"\")","v":""},0,-12.5,null,2025,"2025-02-08",{"$f":"IFERROR(IF(VLOOKUP($H772,Übersichtsblatt!$J$14:$M$24,2,FALSE)=0,\"\",VLOOKUP(H772,Übersichtsblatt!$J$14:$M$24,2,FALSE)),\"\")","v":""},0,12.5]
[2025,"2025-02-09",{"$f":"IFERROR(IF(VLOOKUP($B773,Übersichtsblatt!$J$64:$M$68,2,FALSE)=0,\"\",VLOOKUP($B773,Übersichtsblatt!$J$64:$M$68,2,FALSE)),\"\")","v":""},{"$f":"IF($C773=\"\",0,$E773)","v":0},-12.5,null,2025,"2025-02-09",{"$f":"IFERROR(IF(VLOOKUP($H773,Übersichtsblatt!$J$14:$M$24,2,FALSE)=0,\"\",VLOOKUP(H773,Übersichtsblatt!$J$14:$M$24,2,FALSE)),\"\")","v":""},{"$f":"IF($I773=\"\",0,$K773)","v":0},12.5]
[{"$f":"YEAR(B774)","v":2025},{"$f":"B773+1","v":"2025-02-10"},{"$f":"IFERROR(IF(VLOOKUP($B774,Übersichtsblatt!$J$64:$M$68,2,FALSE)=0,\"\",VLOOKUP($B774,Übersichtsblatt!$J$64:$M$68,2,FALSE)),\"\")","v":""},0,-12.5,null,{"$f":"YEAR(H774)","v":2025},{"$f":"H773+1","v":"2025-02-10"},{"$f":"IFERROR(IF(VLOOKUP($H774,Übersichtsblatt!$J$14:$M$24,2,FALSE)=0,\"\",VLOOKUP(H774,Übersichtsblatt!$J$14:$M$24,2,FALSE)),\"\")","v":""},0,12.5]
[2025,"2025-02-11",{"$f":"IFERROR(IF(VLOOKUP($B775,Übersichtsblatt!$J$64:$M$68,2,FALSE)=0,\"\",VLOOKUP($B775,Übersichtsblatt!$J$64:$M$68,2,FALSE)),\"\")","v":""},0,-12.5,null,2025,"2025-02-11",{"$f":"IFERROR(IF(VLOOKUP($H775,Übersichtsblatt!$J$14:$M$24,2,FALSE)=0,\"\",VLOOKUP(H775,Übersichtsblatt!$J$14:$M$24,2,FALSE)),\"\")","v":""},0,12.5]
[2025,"2025-02-12",{"$f":"IFERROR(IF(VLOOKUP($B776,Übersichtsblatt!$J$64:$M$68,2,FALSE)=0,\"\",VLOOKUP($B776,Übersichtsblatt!$J$64:$M$68,2,FALSE)),\"\")","v":""},0,-12.5,null,2025,"2025-02-12",{"$f":"IFERROR(IF(VLOOKUP($H776,Übersichtsblatt!$J$14:$M$24,2,FALSE)=0,\"\",VLOOKUP(H776,Übersichtsblatt!$J$14:$M$24,2,FALSE)),\"\")","v":""},0,12.5]
[2025,"2025-02-13",{"$f":"IFERROR(IF(VLOOKUP($B777,Übersichtsblatt!$J$64:$M$68,2,FALSE)=0,\"\",VLOOKUP($B777,Übersichtsblatt!$J$64:$M$68,2,FALSE)),\"\")","v":""},0,-12.5,null,2025,"2025-02-13",{"$f":"IFERROR(IF(VLOOKUP($H777,Übersichtsblatt!$J$14:$M$24,2,FALSE)=0,\"\",VLOOKUP(H777,Übersichtsblatt!$J$14:$M$24,2,FALSE)),\"\")","v":""},0,12.5]
[2025,"2025-02-14",{"$f":"IFERROR(IF(VLOOKUP($B778,Übersichtsblatt!$J$64:$M$68,2,FALSE)=0,\"\",VLOOKUP($B778,Übersichtsblatt!$J$64:$M$68,2,FALSE)),\"\")","v":""},0,-12.5,null,2025,"2025-02-14",{"$f":"IFERROR(IF(VLOOKUP($H778,Übersichtsblatt!$J$14:$M$24,2,FALSE)=0,\"\",VLOOKUP(H778,Übersichtsblatt!$J$14:$M$24,2,FALSE)),\"\")","v":""},0,12.5]
[2025,"2025-02-15",{"$f":"IFERROR(IF(VLOOKUP($B779,Übersichtsblatt!$J$64:$M$68,2,FALSE)=0,\"\",VLOOKUP($B779,Übersichtsblatt!$J$64:$M$68,2,FALSE)),\"\")","v":""},0,-12.5,null,2025,"2025-02-15",{"$f":"IFERROR(IF(VLOOKUP($H779,Übersichtsblatt!$J$14:$M$24,2,FALSE)=0,\"\",VLOOKUP(H779,Übersichtsblatt!$J$14:$M$24,2,FALSE)),\"\")","v":""},0,12.5]
[2025,"2025-02-16",{"$f":"IFERROR(IF(VLOOKUP($B780,Übersichtsblatt!$J$64:$M$68,2,FALSE)=0,\"\",VLOOKUP($B780,Übersichtsblatt!$J$64:$M$68,2,FALSE)),\"\")","v":""},0,-12.5,null,2025,"2025-02-16",{"$f":"IFERROR(IF(VLOOKUP($H780,Übersichtsblatt!$J$14:$M$24,2,FALSE)=0,\"\",VLOOKUP(H780,Übersichtsblatt!$J$14:$M$24,2,FALSE)),\"\")","v":""},0,12.5]
[2025,"2025-02-17",{"$f":"IFERROR(IF(VLOOKUP($B781,Übersichtsblatt!$J$64:$M$68,2,FALSE)=0,\"\",VLOOKUP($B781,Übersichtsblatt!$J$64:$M$68,2,FALSE)),\"\")","v":""},0,-12.5,null,2025,"2025-02-17",{"$f":"IFERROR(IF(VLOOKUP($H781,Übersichtsblatt!$J$14:$M$24,2,FALSE)=0,\"\",VLOOKUP(H781,Übersichtsblatt!$J$14:$M$24,2,FALSE)),\"\")","v":""},0,12.5]
[2025,"2025-02-18",{"$f":"IFERROR(IF(VLOOKUP($B782,Übersichtsblatt!$J$64:$M$68,2,FALSE)=0,\"\",VLOOKUP($B782,Übersichtsblatt!$J$64:$M$68,2,FALSE)),\"\")","v":""},0,-12.5,null,2025,"2025-02-18",{"$f":"IFERROR(IF(VLOOKUP($H782,Übersichtsblatt!$J$14:$M$24,2,FALSE)=0,\"\",VLOOKUP(H782,Übersichtsblatt!$J$14:$M$24,2,FALSE)),\"\")","v":""},0,12.5]
[2025,"2025-02-19",{"$f":"IFERROR(IF(VLOOKUP($B783,Übersichtsblatt!$J$64:$M$68,2,FALSE)=0,\"\",VLOOKUP($B783,Übersichtsblatt!$J$64:$M$68,2,FALSE)),\"\")","v":""},0,-12.5,null,2025,"2025-02-19",{"$f":"IFERROR(IF(VLOOKUP($H783,Übersichtsblatt!$J$14:$M$24,2,FALSE)=0,\"\",VLOOKUP(H783,Übersichtsblatt!$J$14:$M$24,2,FALSE)),\"\")","v":""},0,12.5]
[2025,"2025-02-20",{"$f":"IFERROR(IF(VLOOKUP($B784,Übersichtsblatt!$J$64:$M$68,2,FALSE)=0,\"\",VLOOKUP($B784,Übersichtsblatt!$J$64:$M$68,2,FALSE)),\"\")","v":""},0,-12.5,null,2025,"2025-02-20",{"$f":"IFERROR(IF(VLOOKUP($H784,Übersichtsblatt!$J$14:$M$24,2,FALSE)=0,\"\",VLOOKUP(H784,Übersichtsblatt!$J$14:$M$24,2,FALSE)),\"\")","v":""},0,12.5]
[2025,"2025-02-21",{"$f":"IFERROR(IF(VLOOKUP($B785,Übersichtsblatt!$J$64:$M$68,2,FALSE)=0,\"\",VLOOKUP($B785,Übersichtsblatt!$J$64:$M$68,2,FALSE)),\"\")","v":""},0,-12.5,null,2025,"2025-02-21",{"$f":"IFERROR(IF(VLOOKUP($H785,Übersichtsblatt!$J$14:$M$24,2,FALSE)=0,\"\",VLOOKUP(H785,Übersichtsblatt!$J$14:$M$24,2,FALSE)),\"\")","v":""},0,12.5]
[2025,"2025-02-22",{"$f":"IFERROR(IF(VLOOKUP($B786,Übersichtsblatt!$J$64:$M$68,2,FALSE)=0,\"\",VLOOKUP($B786,Übersichtsblatt!$J$64:$M$68,2,FALSE)),\"\")","v":""},0,-12.5,null,2025,"2025-02-22",{"$f":"IFERROR(IF(VLOOKUP($H786,Übersichtsblatt!$J$14:$M$24,2,FALSE)=0,\"\",VLOOKUP(H786,Übersichtsblatt!$J$14:$M$24,2,FALSE)),\"\")","v":""},0,12.5]
[2025,"2025-02-23",{"$f":"IFERROR(IF(VLOOKUP($B787,Übersichtsblatt!$J$64:$M$68,2,FALSE)=0,\"\",VLOOKUP($B787,Übersichtsblatt!$J$64:$M$68,2,FALSE)),\"\")","v":""},0,-12.5,null,2025,"2025-02-23",{"$f":"IFERROR(IF(VLOOKUP($H787,Übersichtsblatt!$J$14:$M$24,2,FALSE)=0,\"\",VLOOKUP(H787,Übersichtsblatt!$J$14:$M$24,2,FALSE)),\"\")","v":""},0,12.5]
[2025,"2025-02-24",{"$f":"IFERROR(IF(VLOOKUP($B788,Übersichtsblatt!$J$64:$M$68,2,FALSE)=0,\"\",VLOOKUP($B788,Übersichtsblatt!$J$64:$M$68,2,FALSE)),\"\")","v":""},0,-12.5,null,2025,"2025-02-24",{"$f":"IFERROR(IF(VLOOKUP($H788,Übersichtsblatt!$J$14:$M$24,2,FALSE)=0,\"\",VLOOKUP(H788,Übersichtsblatt!$J$14:$M$24,2,FALSE)),\"\")","v":""},0,12.5]
[2025,"2025-02-25",{"$f":"IFERROR(IF(VLOOKUP($B789,Übersichtsblatt!$J$64:$M$68,2,FALSE)=0,\"\",VLOOKUP($B789,Übersichtsblatt!$J$64:$M$68,2,FALSE)),\"\")","v":""},0,-12.5,null,2025,"2025-02-25",{"$f":"IFERROR(IF(VLOOKUP($H789,Übersichtsblatt!$J$14:$M$24,2,FALSE)=0,\"\",VLOOKUP(H789,Übersichtsblatt!$J$14:$M$24,2,FALSE)),\"\")","v":""},0,12.5]
[2025,"2025-02-26",{"$f":"IFERROR(IF(VLOOKUP($B790,Übersichtsblatt!$J$64:$M$68,2,FALSE)=0,\"\",VLOOKUP($B790,Übersichtsblatt!$J$64:$M$68,2,FALSE)),\"\")","v":""},0,-12.5,null,2025,"2025-02-26",{"$f":"IFERROR(IF(VLOOKUP($H790,Übersichtsblatt!$J$14:$M$24,2,FALSE)=0,\"\",VLOOKUP(H790,Übersichtsblatt!$J$14:$M$24,2,FALSE)),\"\")","v":""},0,12.5]
[2025,"2025-02-27",{"$f":"IFERROR(IF(VLOOKUP($B791,Übersichtsblatt!$J$64:$M$68,2,FALSE)=0,\"\",VLOOKUP($B791,Übersichtsblatt!$J$64:$M$68,2,FALSE)),\"\")","v":""},0,-12.5,null,2025,"2025-02-27",{"$f":"IFERROR(IF(VLOOKUP($H791,Übersichtsblatt!$J$14:$M$24,2,FALSE)=0,\"\",VLOOKUP(H791,Übersichtsblatt!$J$14:$M$24,2,FALSE)),\"\")","v":""},0,12.5]
[2025,"2025-02-28",{"$f":"IFERROR(IF(VLOOKUP($B792,Übersichtsblatt!$J$64:$M$68,2,FALSE)=0,\"\",VLOOKUP($B792,Übersichtsblatt!$J$64:$M$68,2,FALSE)),\"\")","v":""},0,-12.5,null,2025,"2025-02-28",{"$f":"IFERROR(IF(VLOOKUP($H792,Übersichtsblatt!$J$14:$M$24,2,FALSE)=0,\"\",VLOOKUP(H792,Übersichtsblatt!$J$14:$M$24,2,FALSE)),\"\")","v":""},0,12.5]
[2025,{"$f":"B792+1","v":"2025-03-01"},{"$f":"IFERROR(IF(VLOOKUP($B793,Übersichtsblatt!$J$64:$M$68,2,FALSE)=0,\"\",VLOOKUP($B793,Übersichtsblatt!$J$64:$M$68,2,FALSE)),\"\")","v":""},0,-11.5,null,2025,{"$f":"H792+1","v":"2025-03-01"},{"$f":"IFERROR(IF(VLOOKUP($H793,Übersichtsblatt!$J$14:$M$24,2,FALSE)=0,\"\",VLOOKUP(H793,Übersichtsblatt!$J$14:$M$24,2,FALSE)),\"\")","v":""},0,13.5]
[2025,{"$f":"DATE(A793,3,1)","v":"2025-03-01"},{"$f":"IFERROR(IF(VLOOKUP($B794,Übersichtsblatt!$J$64:$M$68,2,FALSE)=0,\"\",VLOOKUP($B794,Übersichtsblatt!$J$64:$M$68,2,FALSE)),\"\")","v":""},0,-6.5,null,2025,{"$f":"DATE(G793,3,1)","v":"2025-03-01"},{"$f":"IFERROR(IF(VLOOKUP($H794,Übersichtsblatt!$J$14:$M$24,2,FALSE)=0,\"\",VLOOKUP(H794,Übersichtsblatt!$J$14:$M$24,2,FALSE)),\"\")","v":""},0,6.5]
[2025,"2025-03-02",{"$f":"IFERROR(IF(VLOOKUP($B795,Übersichtsblatt!$J$64:$M$68,2,FALSE)=0,\"\",VLOOKUP($B795,Übersichtsblatt!$J$64:$M$68,2,FALSE)),\"\")","v":""},0,-6.5,null,2025,"2025-03-02",{"$f":"IFERROR(IF(VLOOKUP($H795,Übersichtsblatt!$J$14:$M$24,2,FALSE)=0,\"\",VLOOKUP(H795,Übersichtsblatt!$J$14:$M$24,2,FALSE)),\"\")","v":""},0,6.5]
[2025,"2025-03-03",{"$f":"IFERROR(IF(VLOOKUP($B796,Übersichtsblatt!$J$64:$M$68,2,FALSE)=0,\"\",VLOOKUP($B796,Übersichtsblatt!$J$64:$M$68,2,FALSE)),\"\")","v":""},0,-6.5,null,2025,"2025-03-03",{"$f":"IFERROR(IF(VLOOKUP($H796,Übersichtsblatt!$J$14:$M$24,2,FALSE)=0,\"\",VLOOKUP(H796,Übersichtsblatt!$J$14:$M$24,2,FALSE)),\"\")","v":""},0,6.5]
[2025,"2025-03-04",{"$f":"IFERROR(IF(VLOOKUP($B797,Übersichtsblatt!$J$64:$M$68,2,FALSE)=0,\"\",VLOOKUP($B797,Übersichtsblatt!$J$64:$M$68,2,FALSE)),\"\")","v":""},0,-6.5,null,2025,"2025-03-04",{"$f":"IFERROR(IF(VLOOKUP($H797,Übersichtsblatt!$J$14:$M$24,2,FALSE)=0,\"\",VLOOKUP(H797,Übersichtsblatt!$J$14:$M$24,2,FALSE)),\"\")","v":""},0,6.5]
[2025,"2025-03-05",{"$f":"IFERROR(IF(VLOOKUP($B798,Übersichtsblatt!$J$64:$M$68,2,FALSE)=0,\"\",VLOOKUP($B798,Übersichtsblatt!$J$64:$M$68,2,FALSE)),\"\")","v":""},0,-6.5,null,2025,"2025-03-05",{"$f":"IFERROR(IF(VLOOKUP($H798,Übersichtsblatt!$J$14:$M$24,2,FALSE)=0,\"\",VLOOKUP(H798,Übersichtsblatt!$J$14:$M$24,2,FALSE)),\"\")","v":""},0,6.5]
[2025,"2025-03-06",{"$f":"IFERROR(IF(VLOOKUP($B799,Übersichtsblatt!$J$64:$M$68,2,FALSE)=0,\"\",VLOOKUP($B799,Übersichtsblatt!$J$64:$M$68,2,FALSE)),\"\")","v":""},0,-6.5,null,2025,"2025-03-06",{"$f":"IFERROR(IF(VLOOKUP($H799,Übersichtsblatt!$J$14:$M$24,2,FALSE)=0,\"\",VLOOKUP(H799,Übersichtsblatt!$J$14:$M$24,2,FALSE)),\"\")","v":""},0,6.5]
[2025,"2025-03-07",{"$f":"IFERROR(IF(VLOOKUP($B800,Übersichtsblatt!$J$64:$M$68,2,FALSE)=0,\"\",VLOOKUP($B800,Übersichtsblatt!$J$64:$M$68,2,FALSE)),\"\")","v":""},0,-6.5,null,2025,"2025-03-07",{"$f":"IFERROR(IF(VLOOKUP($H800,Übersichtsblatt!$J$14:$M$24,2,FALSE)=0,\"\",VLOOKUP(H800,Übersichtsblatt!$J$14:$M$24,2,FALSE)),\"\")","v":""},0,6.5]
[2025,"2025-03-08",{"$f":"IFERROR(IF(VLOOKUP($B801,Übersichtsblatt!$J$64:$M$68,2,FALSE)=0,\"\",VLOOKUP($B801,Übersichtsblatt!$J$64:$M$68,2,FALSE)),\"\")","v":""},0,-6.5,null,2025,"2025-03-08",{"$f":"IFERROR(IF(VLOOKUP($H801,Übersichtsblatt!$J$14:$M$24,2,FALSE)=0,\"\",VLOOKUP(H801,Übersichtsblatt!$J$14:$M$24,2,FALSE)),\"\")","v":""},0,6.5]
[2025,"2025-03-09",{"$f":"IFERROR(IF(VLOOKUP($B802,Übersichtsblatt!$J$64:$M$68,2,FALSE)=0,\"\",VLOOKUP($B802,Übersichtsblatt!$J$64:$M$68,2,FALSE)),\"\")","v":""},0,-6.5,null,2025,"2025-03-09",{"$f":"IFERROR(IF(VLOOKUP($H802,Übersichtsblatt!$J$14:$M$24,2,FALSE)=0,\"\",VLOOKUP(H802,Übersichtsblatt!$J$14:$M$24,2,FALSE)),\"\")","v":""},0,6.5]
[2025,"2025-03-10",{"$f":"IFERROR(IF(VLOOKUP($B803,Übersichtsblatt!$J$64:$M$68,2,FALSE)=0,\"\",VLOOKUP($B803,Übersichtsblatt!$J$64:$M$68,2,FALSE)),\"\")","v":""},0,-6.5,null,2025,"2025-03-10",{"$f":"IFERROR(IF(VLOOKUP($H803,Übersichtsblatt!$J$14:$M$24,2,FALSE)=0,\"\",VLOOKUP(H803,Übersichtsblatt!$J$14:$M$24,2,FALSE)),\"\")","v":""},0,6.5]
[2025,"2025-03-11",{"$f":"IFERROR(IF(VLOOKUP($B804,Übersichtsblatt!$J$64:$M$68,2,FALSE)=0,\"\",VLOOKUP($B804,Übersichtsblatt!$J$64:$M$68,2,FALSE)),\"\")","v":""},0,-6.5,null,2025,"2025-03-11",{"$f":"IFERROR(IF(VLOOKUP($H804,Übersichtsblatt!$J$14:$M$24,2,FALSE)=0,\"\",VLOOKUP(H804,Übersichtsblatt!$J$14:$M$24,2,FALSE)),\"\")","v":""},0,6.5]
[2025,"2025-03-12",{"$f":"IFERROR(IF(VLOOKUP($B805,Übersichtsblatt!$J$64:$M$68,2,FALSE)=0,\"\",VLOOKUP($B805,Übersichtsblatt!$J$64:$M$68,2,FALSE)),\"\")","v":""},0,-6.5,null,2025,"2025-03-12",{"$f":"IFERROR(IF(VLOOKUP($H805,Übersichtsblatt!$J$14:$M$24,2,FALSE)=0,\"\",VLOOKUP(H805,Übersichtsblatt!$J$14:$M$24,2,FALSE)),\"\")","v":""},0,6.5]
[2025,"2025-03-13",{"$f":"IFERROR(IF(VLOOKUP($B806,Übersichtsblatt!$J$64:$M$68,2,FALSE)=0,\"\",VLOOKUP($B806,Übersichtsblatt!$J$64:$M$68,2,FALSE)),\"\")","v":""},0,-6.5,null,2025,"2025-03-13",{"$f":"IFERROR(IF(VLOOKUP($H806,Übersichtsblatt!$J$14:$M$24,2,FALSE)=0,\"\",VLOOKUP(H806,Übersichtsblatt!$J$14:$M$24,2,FALSE)),\"\")","v":""},0,6.5]
[2025,"2025-03-14",{"$f":"IFERROR(IF(VLOOKUP($B807,Übersichtsblatt!$J$64:$M$68,2,FALSE)=0,\"\",VLOOKUP($B807,Übersichtsblatt!$J$64:$M$68,2,FALSE)),\"\")","v":""},0,-6.5,null,2025,"2025-03-14",{"$f":"IFERROR(IF(VLOOKUP($H807,Übersichtsblatt!$J$14:$M$24,2,FALSE)=0,\"\",VLOOKUP(H807,Übersichtsblatt!$J$14:$M$24,2,FALSE)),\"\")","v":""},0,6.5]
[2025,"2025-03-15",{"$f":"IFERROR(IF(VLOOKUP($B808,Übersichtsblatt!$J$64:$M$68,2,FALSE)=0,\"\",VLOOKUP($B808,Übersichtsblatt!$J$64:$M$68,2,FALSE)),\"\")","v":""},0,-6.5,null,2025,"2025-03-15",{"$f":"IFERROR(IF(VLOOKUP($H808,Übersichtsblatt!$J$14:$M$24,2,FALSE)=0,\"\",VLOOKUP(H808,Übersichtsblatt!$J$14:$M$24,2,FALSE)),\"\")","v":""},0,6.5]
[2025,"2025-03-16",{"$f":"IFERROR(IF(VLOOKUP($B809,Übersichtsblatt!$J$64:$M$68,2,FALSE)=0,\"\",VLOOKUP($B809,Übersichtsblatt!$J$64:$M$68,2,FALSE)),\"\")","v":""},0,-6.5,null,2025,"2025-03-16",{"$f":"IFERROR(IF(VLOOKUP($H809,Übersichtsblatt!$J$14:$M$24,2,FALSE)=0,\"\",VLOOKUP(H809,Übersichtsblatt!$J$14:$M$24,2,FALSE)),\"\")","v":""},0,6.5]
[2025,"2025-03-17",{"$f":"IFERROR(IF(VLOOKUP($B810,Übersichtsblatt!$J$64:$M$68,2,FALSE)=0,\"\",VLOOKUP($B810,Übersichtsblatt!$J$64:$M$68,2,FALSE)),\"\")","v":""},0,-6.5,null,2025,"2025-03-17",{"$f":"IFERROR(IF(VLOOKUP($H810,Übersichtsblatt!$J$14:$M$24,2,FALSE)=0,\"\",VLOOKUP(H810,Übersichtsblatt!$J$14:$M$24,2,FALSE)),\"\")","v":""},0,6.5]
[2025,"2025-03-18",{"$f":"IFERROR(IF(VLOOKUP($B811,Übersichtsblatt!$J$64:$M$68,2,FALSE)=0,\"\",VLOOKUP($B811,Übersichtsblatt!$J$64:$M$68,2,FALSE)),\"\")","v":""},0,-6.5,null,2025,"2025-03-18",{"$f":"IFERROR(IF(VLOOKUP($H811,Übersichtsblatt!$J$14:$M$24,2,FALSE)=0,\"\",VLOOKUP(H811,Übersichtsblatt!$J$14:$M$24,2,FALSE)),\"\")","v":""},0,6.5]
[2025,"2025-03-19",{"$f":"IFERROR(IF(VLOOKUP($B812,Übersichtsblatt!$J$64:$M$68,2,FALSE)=0,\"\",VLOOKUP($B812,Übersichtsblatt!$J$64:$M$68,2,FALSE)),\"\")","v":""},0,-6.5,null,2025,"2025-03-19",{"$f":"IFERROR(IF(VLOOKUP($H812,Übersichtsblatt!$J$14:$M$24,2,FALSE)=0,\"\",VLOOKUP(H812,Übersichtsblatt!$J$14:$M$24,2,FALSE)),\"\")","v":""},0,6.5]
[2025,"2025-03-20",{"$f":"IFERROR(IF(VLOOKUP($B813,Übersichtsblatt!$J$64:$M$68,2,FALSE)=0,\"\",VLOOKUP($B813,Übersichtsblatt!$J$64:$M$68,2,FALSE)),\"\")","v":""},0,-6.5,null,2025,"2025-03-20",{"$f":"IFERROR(IF(VLOOKUP($H813,Übersichtsblatt!$J$14:$M$24,2,FALSE)=0,\"\",VLOOKUP(H813,Übersichtsblatt!$J$14:$M$24,2,FALSE)),\"\")","v":""},0,6.5]
[2025,"2025-03-21",{"$f":"IFERROR(IF(VLOOKUP($B814,Übersichtsblatt!$J$64:$M$68,2,FALSE)=0,\"\",VLOOKUP($B814,Übersichtsblatt!$J$64:$M$68,2,FALSE)),\"\")","v":""},0,-6.5,null,2025,"2025-03-21",{"$f":"IFERROR(IF(VLOOKUP($H814,Übersichtsblatt!$J$14:$M$24,2,FALSE)=0,\"\",VLOOKUP(H814,Übersichtsblatt!$J$14:$M$24,2,FALSE)),\"\")","v":""},0,6.5]
[2025,"2025-03-22",{"$f":"IFERROR(IF(VLOOKUP($B815,Übersichtsblatt!$J$64:$M$68,2,FALSE)=0,\"\",VLOOKUP($B815,Übersichtsblatt!$J$64:$M$68,2,FALSE)),\"\")","v":""},0,-6.5,null,2025,"2025-03-22",{"$f":"IFERROR(IF(VLOOKUP($H815,Übersichtsblatt!$J$14:$M$24,2,FALSE)=0,\"\",VLOOKUP(H815,Übersichtsblatt!$J$14:$M$24,2,FALSE)),\"\")","v":""},0,6.5]
[2025,"2025-03-23",{"$f":"IFERROR(IF(VLOOKUP($B816,Übersichtsblatt!$J$64:$M$68,2,FALSE)=0,\"\",VLOOKUP($B816,Übersichtsblatt!$J$64:$M$68,2,FALSE)),\"\")","v":""},0,-6.5,null,2025,"2025-03-23",{"$f":"IFERROR(IF(VLOOKUP($H816,Übersichtsblatt!$J$14:$M$24,2,FALSE)=0,\"\",VLOOKUP(H816,Übersichtsblatt!$J$14:$M$24,2,FALSE)),\"\")","v":""},0,6.5]
[2025,"2025-03-24",{"$f":"IFERROR(IF(VLOOKUP($B817,Übersichtsblatt!$J$64:$M$68,2,FALSE)=0,\"\",VLOOKUP($B817,Übersichtsblatt!$J$64:$M$68,2,FALSE)),\"\")","v":""},0,-6.5,null,2025,"2025-03-24",{"$f":"IFERROR(IF(VLOOKUP($H817,Übersichtsblatt!$J$14:$M$24,2,FALSE)=0,\"\",VLOOKUP(H817,Übersichtsblatt!$J$14:$M$24,2,FALSE)),\"\")","v":""},0,6.5]
[2025,"2025-03-25",{"$f":"IFERROR(IF(VLOOKUP($B818,Übersichtsblatt!$J$64:$M$68,2,FALSE)=0,\"\",VLOOKUP($B818,Übersichtsblatt!$J$64:$M$68,2,FALSE)),\"\")","v":""},0,-6.5,null,2025,"2025-03-25",{"$f":"IFERROR(IF(VLOOKUP($H818,Übersichtsblatt!$J$14:$M$24,2,FALSE)=0,\"\",VLOOKUP(H818,Übersichtsblatt!$J$14:$M$24,2,FALSE)),\"\")","v":""},0,6.5]
[2025,"2025-03-26",{"$f":"IFERROR(IF(VLOOKUP($B819,Übersichtsblatt!$J$64:$M$68,2,FALSE)=0,\"\",VLOOKUP($B819,Übersichtsblatt!$J$64:$M$68,2,FALSE)),\"\")","v":""},0,-6.5,null,2025,"2025-03-26",{"$f":"IFERROR(IF(VLOOKUP($H819,Übersichtsblatt!$J$14:$M$24,2,FALSE)=0,\"\",VLOOKUP(H819,Übersichtsblatt!$J$14:$M$24,2,FALSE)),\"\")","v":""},0,6.5]
[2025,"2025-03-27",{"$f":"IFERROR(IF(VLOOKUP($B820,Übersichtsblatt!$J$64:$M$68,2,FALSE)=0,\"\",VLOOKUP($B820,Übersichtsblatt!$J$64:$M$68,2,FALSE)),\"\")","v":""},0,-6.5,null,2025,"2025-03-27",{"$f":"IFERROR(IF(VLOOKUP($H820,Übersichtsblatt!$J$14:$M$24,2,FALSE)=0,\"\",VLOOKUP(H820,Übersichtsblatt!$J$14:$M$24,2,FALSE)),\"\")","v":""},0,6.5]
[2025,"2025-03-28",{"$f":"IFERROR(IF(VLOOKUP($B821,Übersichtsblatt!$J$64:$M$68,2,FALSE)=0,\"\",VLOOKUP($B821,Übersichtsblatt!$J$64:$M$68,2,FALSE)),\"\")","v":""},0,-6.5,null,2025,"2025-03-28",{"$f":"IFERROR(IF(VLOOKUP($H821,Übersichtsblatt!$J$14:$M$24,2,FALSE)=0,\"\",VLOOKUP(H821,Übersichtsblatt!$J$14:$M$24,2,FALSE)),\"\")","v":""},0,6.5]
[2025,"2025-03-29",{"$f":"IFERROR(IF(VLOOKUP($B822,Übersichtsblatt!$J$64:$M$68,2,FALSE)=0,\"\",VLOOKUP($B822,Übersichtsblatt!$J$64:$M$68,2,FALSE)),\"\")","v":""},0,-6.5,null,2025,"2025-03-29",{"$f":"IFERROR(IF(VLOOKUP($H822,Übersichtsblatt!$J$14:$M$24,2,FALSE)=0,\"\",VLOOKUP(H822,Übersichtsblatt!$J$14:$M$24,2,FALSE)),\"\")","v":""},0,6.5]
[2025,"2025-03-30",{"$f":"IFERROR(IF(VLOOKUP($B823,Übersichtsblatt!$J$64:$M$68,2,FALSE)=0,\"\",VLOOKUP($B823,Übersichtsblatt!$J$64:$M$68,2,FALSE)),\"\")","v":""},0,-6.5,null,2025,"2025-03-30",{"$f":"IFERROR(IF(VLOOKUP($H823,Übersichtsblatt!$J$14:$M$24,2,FALSE)=0,\"\",VLOOKUP(H823,Übersichtsblatt!$J$14:$M$24,2,FALSE)),\"\")","v":""},0,6.5]
[2025,"2025-03-31",{"$f":"IFERROR(IF(VLOOKUP($B824,Übersichtsblatt!$J$64:$M$68,2,FALSE)=0,\"\",VLOOKUP($B824,Übersichtsblatt!$J$64:$M$68,2,FALSE)),\"\")","v":""},0,-6.5,null,2025,"2025-03-31",{"$f":"IFERROR(IF(VLOOKUP($H824,Übersichtsblatt!$J$14:$M$24,2,FALSE)=0,\"\",VLOOKUP(H824,Übersichtsblatt!$J$14:$M$24,2,FALSE)),\"\")","v":""},0,6.5]
[2025,"2025-04-01",{"$f":"IFERROR(IF(VLOOKUP($B825,Übersichtsblatt!$J$64:$M$68,2,FALSE)=0,\"\",VLOOKUP($B825,Übersichtsblatt!$J$64:$M$68,2,FALSE)),\"\")","v":""},0,-9.5,null,2025,"2025-04-01",{"$f":"IFERROR(IF(VLOOKUP($H825,Übersichtsblatt!$J$14:$M$24,2,FALSE)=0,\"\",VLOOKUP(H825,Übersichtsblatt!$J$14:$M$24,2,FALSE)),\"\")","v":""},0,9.5]
[2025,"2025-04-02",{"$f":"IFERROR(IF(VLOOKUP($B826,Übersichtsblatt!$J$64:$M$68,2,FALSE)=0,\"\",VLOOKUP($B826,Übersichtsblatt!$J$64:$M$68,2,FALSE)),\"\")","v":""},0,-9.5,null,2025,"2025-04-02",{"$f":"IFERROR(IF(VLOOKUP($H826,Übersichtsblatt!$J$14:$M$24,2,FALSE)=0,\"\",VLOOKUP(H826,Übersichtsblatt!$J$14:$M$24,2,FALSE)),\"\")","v":""},0,9.5]
[2025,"2025-04-03",{"$f":"IFERROR(IF(VLOOKUP($B827,Übersichtsblatt!$J$64:$M$68,2,FALSE)=0,\"\",VLOOKUP($B827,Übersichtsblatt!$J$64:$M$68,2,FALSE)),\"\")","v":""},0,-9.5,null,2025,"2025-04-03",{"$f":"IFERROR(IF(VLOOKUP($H827,Übersichtsblatt!$J$14:$M$24,2,FALSE)=0,\"\",VLOOKUP(H827,Übersichtsblatt!$J$14:$M$24,2,FALSE)),\"\")","v":""},0,9.5]
[2025,"2025-04-04",{"$f":"IFERROR(IF(VLOOKUP($B828,Übersichtsblatt!$J$64:$M$68,2,FALSE)=0,\"\",VLOOKUP($B828,Übersichtsblatt!$J$64:$M$68,2,FALSE)),\"\")","v":""},0,-9.5,null,2025,"2025-04-04",{"$f":"IFERROR(IF(VLOOKUP($H828,Übersichtsblatt!$J$14:$M$24,2,FALSE)=0,\"\",VLOOKUP(H828,Übersichtsblatt!$J$14:$M$24,2,FALSE)),\"\")","v":""},0,9.5]
[2025,"2025-04-05",{"$f":"IFERROR(IF(VLOOKUP($B829,Übersichtsblatt!$J$64:$M$68,2,FALSE)=0,\"\",VLOOKUP($B829,Übersichtsblatt!$J$64:$M$68,2,FALSE)),\"\")","v":""},0,-9.5,null,2025,"2025-04-05",{"$f":"IFERROR(IF(VLOOKUP($H829,Übersichtsblatt!$J$14:$M$24,2,FALSE)=0,\"\",VLOOKUP(H829,Übersichtsblatt!$J$14:$M$24,2,FALSE)),\"\")","v":""},0,9.5]
[2025,"2025-04-06",{"$f":"IFERROR(IF(VLOOKUP($B830,Übersichtsblatt!$J$64:$M$68,2,FALSE)=0,\"\",VLOOKUP($B830,Übersichtsblatt!$J$64:$M$68,2,FALSE)),\"\")","v":""},0,-9.5,null,2025,"2025-04-06",{"$f":"IFERROR(IF(VLOOKUP($H830,Übersichtsblatt!$J$14:$M$24,2,FALSE)=0,\"\",VLOOKUP(H830,Übersichtsblatt!$J$14:$M$24,2,FALSE)),\"\")","v":""},0,9.5]
[2025,"2025-04-07",{"$f":"IFERROR(IF(VLOOKUP($B831,Übersichtsblatt!$J$64:$M$68,2,FALSE)=0,\"\",VLOOKUP($B831,Übersichtsblatt!$J$64:$M$68,2,FALSE)),\"\")","v":""},0,-9.5,null,2025,"2025-04-07",{"$f":"IFERROR(IF(VLOOKUP($H831,Übersichtsblatt!$J$14:$M$24,2,FALSE)=0,\"\",VLOOKUP(H831,Übersichtsblatt!$J$14:$M$24,2,FALSE)),\"\")","v":""},0,9.5]
[2025,"2025-04-08",{"$f":"IFERROR(IF(VLOOKUP($B832,Übersichtsblatt!$J$64:$M$68,2,FALSE)=0,\"\",VLOOKUP($B832,Übersichtsblatt!$J$64:$M$68,2,FALSE)),\"\")","v":""},0,-9.5,null,2025,"2025-04-08",{"$f":"IFERROR(IF(VLOOKUP($H832,Übersichtsblatt!$J$14:$M$24,2,FALSE)=0,\"\",VLOOKUP(H832,Übersichtsblatt!$J$14:$M$24,2,FALSE)),\"\")","v":""},0,9.5]
[2025,"2025-04-09",{"$f":"IFERROR(IF(VLOOKUP($B833,Übersichtsblatt!$J$64:$M$68,2,FALSE)=0,\"\",VLOOKUP($B833,Übersichtsblatt!$J$64:$M$68,2,FALSE)),\"\")","v":""},0,-9.5,null,2025,"2025-04-09",{"$f":"IFERROR(IF(VLOOKUP($H833,Übersichtsblatt!$J$14:$M$24,2,FALSE)=0,\"\",VLOOKUP(H833,Übersichtsblatt!$J$14:$M$24,2,FALSE)),\"\")","v":""},0,9.5]
[2025,"2025-04-10",{"$f":"IFERROR(IF(VLOOKUP($B834,Übersichtsblatt!$J$64:$M$68,2,FALSE)=0,\"\",VLOOKUP($B834,Übersichtsblatt!$J$64:$M$68,2,FALSE)),\"\")","v":""},0,-9.5,null,2025,"2025-04-10",{"$f":"IFERROR(IF(VLOOKUP($H834,Übersichtsblatt!$J$14:$M$24,2,FALSE)=0,\"\",VLOOKUP(H834,Übersichtsblatt!$J$14:$M$24,2,FALSE)),\"\")","v":""},0,9.5]
[2025,"2025-04-11",{"$f":"IFERROR(IF(VLOOKUP($B835,Übersichtsblatt!$J$64:$M$68,2,FALSE)=0,\"\",VLOOKUP($B835,Übersichtsblatt!$J$64:$M$68,2,FALSE)),\"\")","v":""},0,-9.5,null,2025,"2025-04-11",{"$f":"IFERROR(IF(VLOOKUP($H835,Übersichtsblatt!$J$14:$M$24,2,FALSE)=0,\"\",VLOOKUP(H835,Übersichtsblatt!$J$14:$M$24,2,FALSE)),\"\")","v":""},0,9.5]
[2025,"2025-04-12",{"$f":"IFERROR(IF(VLOOKUP($B836,Übersichtsblatt!$J$64:$M$68,2,FALSE)=0,\"\",VLOOKUP($B836,Übersichtsblatt!$J$64:$M$68,2,FALSE)),\"\")","v":""},0,-9.5,null,2025,"2025-04-12",{"$f":"IFERROR(IF(VLOOKUP($H836,Übersichtsblatt!$J$14:$M$24,2,FALSE)=0,\"\",VLOOKUP(H836,Übersichtsblatt!$J$14:$M$24,2,FALSE)),\"\")","v":""},0,9.5]
[2025,"2025-04-13",{"$f":"IFERROR(IF(VLOOKUP($B837,Übersichtsblatt!$J$64:$M$68,2,FALSE)=0,\"\",VLOOKUP($B837,Übersichtsblatt!$J$64:$M$68,2,FALSE)),\"\")","v":""},0,-9.5,null,2025,"2025-04-13",{"$f":"IFERROR(IF(VLOOKUP($H837,Übersichtsblatt!$J$14:$M$24,2,FALSE)=0,\"\",VLOOKUP(H837,Übersichtsblatt!$J$14:$M$24,2,FALSE)),\"\")","v":""},0,9.5]
[2025,"2025-04-14",{"$f":"IFERROR(IF(VLOOKUP($B838,Übersichtsblatt!$J$64:$M$68,2,FALSE)=0,\"\",VLOOKUP($B838,Übersichtsblatt!$J$64:$M$68,2,FALSE)),\"\")","v":""},{"$f":"IF($C838=\"\",0,$E838)","v":0},-9.5,null,2025,"2025-04-14",{"$f":"IFERROR(IF(VLOOKUP($H838,Übersichtsblatt!$J$14:$M$24,2,FALSE)=0,\"\",VLOOKUP(H838,Übersichtsblatt!$J$14:$M$24,2,FALSE)),\"\")","v":""},{"$f":"IF($I838=\"\",0,$K838)","v":0},9.5]
[{"$f":"YEAR(B839)","v":2025},{"$f":"B838+1","v":"2025-04-15"},{"$f":"IFERROR(IF(VLOOKUP($B839,Übersichtsblatt!$J$64:$M$68,2,FALSE)=0,\"\",VLOOKUP($B839,Übersichtsblatt!$J$64:$M$68,2,FALSE)),\"\")","v":""},0,-9.5,null,{"$f":"YEAR(H839)","v":2025},{"$f":"H838+1","v":"2025-04-15"},{"$f":"IFERROR(IF(VLOOKUP($H839,Übersichtsblatt!$J$14:$M$24,2,FALSE)=0,\"\",VLOOKUP(H839,Übersichtsblatt!$J$14:$M$24,2,FALSE)),\"\")","v":""},0,9.5]
[2025,"2025-04-16",{"$f":"IFERROR(IF(VLOOKUP($B840,Übersichtsblatt!$J$64:$M$68,2,FALSE)=0,\"\",VLOOKUP($B840,Übersichtsblatt!$J$64:$M$68,2,FALSE)),\"\")","v":""},0,-9.5,null,2025,"2025-04-16",{"$f":"IFERROR(IF(VLOOKUP($H840,Übersichtsblatt!$J$14:$M$24,2,FALSE)=0,\"\",VLOOKUP(H840,Übersichtsblatt!$J$14:$M$24,2,FALSE)),\"\")","v":""},0,9.5]
[2025,"2025-04-17",{"$f":"IFERROR(IF(VLOOKUP($B841,Übersichtsblatt!$J$64:$M$68,2,FALSE)=0,\"\",VLOOKUP($B841,Übersichtsblatt!$J$64:$M$68,2,FALSE)),\"\")","v":""},0,-9.5,null,2025,"2025-04-17",{"$f":"IFERROR(IF(VLOOKUP($H841,Übersichtsblatt!$J$14:$M$24,2,FALSE)=0,\"\",VLOOKUP(H841,Übersichtsblatt!$J$14:$M$24,2,FALSE)),\"\")","v":""},0,9.5]
[2025,"2025-04-18",{"$f":"IFERROR(IF(VLOOKUP($B842,Übersichtsblatt!$J$64:$M$68,2,FALSE)=0,\"\",VLOOKUP($B842,Übersichtsblatt!$J$64:$M$68,2,FALSE)),\"\")","v":""},0,-9.5,null,2025,"2025-04-18",{"$f":"IFERROR(IF(VLOOKUP($H842,Übersichtsblatt!$J$14:$M$24,2,FALSE)=0,\"\",VLOOKUP(H842,Übersichtsblatt!$J$14:$M$24,2,FALSE)),\"\")","v":""},0,9.5]
[2025,"2025-04-19",{"$f":"IFERROR(IF(VLOOKUP($B843,Übersichtsblatt!$J$64:$M$68,2,FALSE)=0,\"\",VLOOKUP($B843,Übersichtsblatt!$J$64:$M$68,2,FALSE)),\"\")","v":""},0,-9.5,null,2025,"2025-04-19",{"$f":"IFERROR(IF(VLOOKUP($H843,Übersichtsblatt!$J$14:$M$24,2,FALSE)=0,\"\",VLOOKUP(H843,Übersichtsblatt!$J$14:$M$24,2,FALSE)),\"\")","v":""},0,9.5]
[2025,"2025-04-20",{"$f":"IFERROR(IF(VLOOKUP($B844,Übersichtsblatt!$J$64:$M$68,2,FALSE)=0,\"\",VLOOKUP($B844,Übersichtsblatt!$J$64:$M$68,2,FALSE)),\"\")","v":""},0,-9.5,null,2025,"2025-04-20",{"$f":"IFERROR(IF(VLOOKUP($H844,Übersichtsblatt!$J$14:$M$24,2,FALSE)=0,\"\",VLOOKUP(H844,Übersichtsblatt!$J$14:$M$24,2,FALSE)),\"\")","v":""},0,9.5]
[2025,"2025-04-21",{"$f":"IFERROR(IF(VLOOKUP($B845,Übersichtsblatt!$J$64:$M$68,2,FALSE)=0,\"\",VLOOKUP($B845,Übersichtsblatt!$J$64:$M$68,2,FALSE)),\"\")","v":""},0,-9.5,null,2025,"2025-04-21",{"$f":"IFERROR(IF(VLOOKUP($H845,Übersichtsblatt!$J$14:$M$24,2,FALSE)=0,\"\",VLOOKUP(H845,Übersichtsblatt!$J$14:$M$24,2,FALSE)),\"\")","v":""},0,9.5]
[2025,"2025-04-22",{"$f":"IFERROR(IF(VLOOKUP($B846,Übersichtsblatt!$J$64:$M$68,2,FALSE)=0,\"\",VLOOKUP($B846,Übersichtsblatt!$J$64:$M$68,2,FALSE)),\"\")","v":""},0,-9.5,null,2025,"2025-04-22",{"$f":"IFERROR(IF(VLOOKUP($H846,Übersichtsblatt!$J$14:$M$24,2,FALSE)=0,\"\",VLOOKUP(H846,Übersichtsblatt!$J$14:$M$24,2,FALSE)),\"\")","v":""},0,9.5]
[2025,"2025-04-23",{"$f":"IFERROR(IF(VLOOKUP($B847,Übersichtsblatt!$J$64:$M$68,2,FALSE)=0,\"\",VLOOKUP($B847,Übersichtsblatt!$J$64:$M$68,2,FALSE)),\"\")","v":""},0,-9.5,null,2025,"2025-04-23",{"$f":"IFERROR(IF(VLOOKUP($H847,Übersichtsblatt!$J$14:$M$24,2,FALSE)=0,\"\",VLOOKUP(H847,Übersichtsblatt!$J$14:$M$24,2,FALSE)),\"\")","v":""},0,9.5]
[2025,"2025-04-24",{"$f":"IFERROR(IF(VLOOKUP($B848,Übersichtsblatt!$J$64:$M$68,2,FALSE)=0,\"\",VLOOKUP($B848,Übersichtsblatt!$J$64:$M$68,2,FALSE)),\"\")","v":""},0,-9.5,null,2025,"2025-04-24",{"$f":"IFERROR(IF(VLOOKUP($H848,Übersichtsblatt!$J$14:$M$24,2,FALSE)=0,\"\",VLOOKUP(H848,Übersichtsblatt!$J$14:$M$24,2,FALSE)),\"\")","v":""},0,9.5]
[2025,"2025-04-25",{"$f":"IFERROR(IF(VLOOKUP($B849,Übersichtsblatt!$J$64:$M$68,2,FALSE)=0,\"\",VLOOKUP($B849,Übersichtsblatt!$J$64:$M$68,2,FALSE)),\"\")","v":""},0,-9.5,null,2025,"2025-04-25",{"$f":"IFERROR(IF(VLOOKUP($H849,Übersichtsblatt!$J$14:$M$24,2,FALSE)=0,\"\",VLOOKUP(H849,Übersichtsblatt!$J$14:$M$24,2,FALSE)),\"\")","v":""},0,9.5]
[2025,"2025-04-26",{"$f":"IFERROR(IF(VLOOKUP($B850,Übersichtsblatt!$J$64:$M$68,2,FALSE)=0,\"\",VLOOKUP($B850,Übersichtsblatt!$J$64:$M$68,2,FALSE)),\"\")","v":""},0,-9.5,null,2025,"2025-04-26",{"$f":"IFERROR(IF(VLOOKUP($H850,Übersichtsblatt!$J$14:$M$24,2,FALSE)=0,\"\",VLOOKUP(H850,Übersichtsblatt!$J$14:$M$24,2,FALSE)),\"\")","v":""},0,9.5]
[2025,"2025-04-27",{"$f":"IFERROR(IF(VLOOKUP($B851,Übersichtsblatt!$J$64:$M$68,2,FALSE)=0,\"\",VLOOKUP($B851,Übersichtsblatt!$J$64:$M$68,2,FALSE)),\"\")","v":""},0,-9.5,null,2025,"2025-04-27",{"$f":"IFERROR(IF(VLOOKUP($H851,Übersichtsblatt!$J$14:$M$24,2,FALSE)=0,\"\",VLOOKUP(H851,Übersichtsblatt!$J$14:$M$24,2,FALSE)),\"\")","v":""},0,9.5]
[2025,"2025-04-28",{"$f":"IFERROR(IF(VLOOKUP($B852,Übersichtsblatt!$J$64:$M$68,2,FALSE)=0,\"\",VLOOKUP($B852,Übersichtsblatt!$J$64:$M$68,2,FALSE)),\"\")","v":""},0,-9.5,null,2025,"2025-04-28",{"$f":"IFERROR(IF(VLOOKUP($H852,Übersichtsblatt!$J$14:$M$24,2,FALSE)=0,\"\",VLOOKUP(H852,Übersichtsblatt!$J$14:$M$24,2,FALSE)),\"\")","v":""},0,9.5]
[2025,"2025-04-29",{"$f":"IFERROR(IF(VLOOKUP($B853,Übersichtsblatt!$J$64:$M$68,2,FALSE)=0,\"\",VLOOKUP($B853,Übersichtsblatt!$J$64:$M$68,2,FALSE)),\"\")","v":""},0,-9.5,null,2025,"2025-04-29",{"$f":"IFERROR(IF(VLOOKUP($H853,Übersichtsblatt!$J$14:$M$24,2,FALSE)=0,\"\",VLOOKUP(H853,Übersichtsblatt!$J$14:$M$24,2,FALSE)),\"\")","v":""},0,9.5]
[2025,"2025-04-30",{"$f":"IFERROR(IF(VLOOKUP($B854,Übersichtsblatt!$J$64:$M$68,2,FALSE)=0,\"\",VLOOKUP($B854,Übersichtsblatt!$J$64:$M$68,2,FALSE)),\"\")","v":""},0,-9.5,null,2025,"2025-04-30",{"$f":"IFERROR(IF(VLOOKUP($H854,Übersichtsblatt!$J$14:$M$24,2,FALSE)=0,\"\",VLOOKUP(H854,Übersichtsblatt!$J$14:$M$24,2,FALSE)),\"\")","v":""},0,9.5]
[2025,"2025-05-01",{"$f":"IFERROR(IF(VLOOKUP($B855,Übersichtsblatt!$J$64:$M$68,2,FALSE)=0,\"\",VLOOKUP($B855,Übersichtsblatt!$J$64:$M$68,2,FALSE)),\"\")","v":""},0,-11.5,null,2025,"2025-05-01",{"$f":"IFERROR(IF(VLOOKUP($H855,Übersichtsblatt!$J$14:$M$24,2,FALSE)=0,\"\",VLOOKUP(H855,Übersichtsblatt!$J$14:$M$24,2,FALSE)),\"\")","v":""},0,11.5]
[2025,"2025-05-02",{"$f":"IFERROR(IF(VLOOKUP($B856,Übersichtsblatt!$J$64:$M$68,2,FALSE)=0,\"\",VLOOKUP($B856,Übersichtsblatt!$J$64:$M$68,2,FALSE)),\"\")","v":""},0,-11.5,null,2025,"2025-05-02",{"$f":"IFERROR(IF(VLOOKUP($H856,Übersichtsblatt!$J$14:$M$24,2,FALSE)=0,\"\",VLOOKUP(H856,Übersichtsblatt!$J$14:$M$24,2,FALSE)),\"\")","v":""},0,11.5]
[2025,"2025-05-03",{"$f":"IFERROR(IF(VLOOKUP($B857,Übersichtsblatt!$J$64:$M$68,2,FALSE)=0,\"\",VLOOKUP($B857,Übersichtsblatt!$J$64:$M$68,2,FALSE)),\"\")","v":""},0,-11.5,null,2025,"2025-05-03",{"$f":"IFERROR(IF(VLOOKUP($H857,Übersichtsblatt!$J$14:$M$24,2,FALSE)=0,\"\",VLOOKUP(H857,Übersichtsblatt!$J$14:$M$24,2,FALSE)),\"\")","v":""},0,11.5]
[2025,"2025-05-04",{"$f":"IFERROR(IF(VLOOKUP($B858,Übersichtsblatt!$J$64:$M$68,2,FALSE)=0,\"\",VLOOKUP($B858,Übersichtsblatt!$J$64:$M$68,2,FALSE)),\"\")","v":""},0,-11.5,null,2025,"2025-05-04",{"$f":"IFERROR(IF(VLOOKUP($H858,Übersichtsblatt!$J$14:$M$24,2,FALSE)=0,\"\",VLOOKUP(H858,Übersichtsblatt!$J$14:$M$24,2,FALSE)),\"\")","v":""},0,11.5]
[2025,"2025-05-05",{"$f":"IFERROR(IF(VLOOKUP($B859,Übersichtsblatt!$J$64:$M$68,2,FALSE)=0,\"\",VLOOKUP($B859,Übersichtsblatt!$J$64:$M$68,2,FALSE)),\"\")","v":""},0,-11.5,null,2025,"2025-05-05",{"$f":"IFERROR(IF(VLOOKUP($H859,Übersichtsblatt!$J$14:$M$24,2,FALSE)=0,\"\",VLOOKUP(H859,Übersichtsblatt!$J$14:$M$24,2,FALSE)),\"\")","v":""},0,11.5]
[2025,"2025-05-06",{"$f":"IFERROR(IF(VLOOKUP($B860,Übersichtsblatt!$J$64:$M$68,2,FALSE)=0,\"\",VLOOKUP($B860,Übersichtsblatt!$J$64:$M$68,2,FALSE)),\"\")","v":""},0,-11.5,null,2025,"2025-05-06",{"$f":"IFERROR(IF(VLOOKUP($H860,Übersichtsblatt!$J$14:$M$24,2,FALSE)=0,\"\",VLOOKUP(H860,Übersichtsblatt!$J$14:$M$24,2,FALSE)),\"\")","v":""},0,11.5]
[2025,"2025-05-07",{"$f":"IFERROR(IF(VLOOKUP($B861,Übersichtsblatt!$J$64:$M$68,2,FALSE)=0,\"\",VLOOKUP($B861,Übersichtsblatt!$J$64:$M$68,2,FALSE)),\"\")","v":""},0,-11.5,null,2025,"2025-05-07",{"$f":"IFERROR(IF(VLOOKUP($H861,Übersichtsblatt!$J$14:$M$24,2,FALSE)=0,\"\",VLOOKUP(H861,Übersichtsblatt!$J$14:$M$24,2,FALSE)),\"\")","v":""},0,11.5]
[2025,"2025-05-08",{"$f":"IFERROR(IF(VLOOKUP($B862,Übersichtsblatt!$J$64:$M$68,2,FALSE)=0,\"\",VLOOKUP($B862,Übersichtsblatt!$J$64:$M$68,2,FALSE)),\"\")","v":""},0,-11.5,null,2025,"2025-05-08",{"$f":"IFERROR(IF(VLOOKUP($H862,Übersichtsblatt!$J$14:$M$24,2,FALSE)=0,\"\",VLOOKUP(H862,Übersichtsblatt!$J$14:$M$24,2,FALSE)),\"\")","v":""},0,11.5]
[2025,"2025-05-09",{"$f":"IFERROR(IF(VLOOKUP($B863,Übersichtsblatt!$J$64:$M$68,2,FALSE)=0,\"\",VLOOKUP($B863,Übersichtsblatt!$J$64:$M$68,2,FALSE)),\"\")","v":""},0,-11.5,null,2025,"2025-05-09",{"$f":"IFERROR(IF(VLOOKUP($H863,Übersichtsblatt!$J$14:$M$24,2,FALSE)=0,\"\",VLOOKUP(H863,Übersichtsblatt!$J$14:$M$24,2,FALSE)),\"\")","v":""},0,11.5]
[2025,"2025-05-10",{"$f":"IFERROR(IF(VLOOKUP($B864,Übersichtsblatt!$J$64:$M$68,2,FALSE)=0,\"\",VLOOKUP($B864,Übersichtsblatt!$J$64:$M$68,2,FALSE)),\"\")","v":""},0,-11.5,null,2025,"2025-05-10",{"$f":"IFERROR(IF(VLOOKUP($H864,Übersichtsblatt!$J$14:$M$24,2,FALSE)=0,\"\",VLOOKUP(H864,Übersichtsblatt!$J$14:$M$24,2,FALSE)),\"\")","v":""},0,11.5]
[2025,"2025-05-11",{"$f":"IFERROR(IF(VLOOKUP($B865,Übersichtsblatt!$J$64:$M$68,2,FALSE)=0,\"\",VLOOKUP($B865,Übersichtsblatt!$J$64:$M$68,2,FALSE)),\"\")","v":""},0,-11.5,null,2025,"2025-05-11",{"$f":"IFERROR(IF(VLOOKUP($H865,Übersichtsblatt!$J$14:$M$24,2,FALSE)=0,\"\",VLOOKUP(H865,Übersichtsblatt!$J$14:$M$24,2,FALSE)),\"\")","v":""},0,11.5]
[2025,"2025-05-12",{"$f":"IFERROR(IF(VLOOKUP($B866,Übersichtsblatt!$J$64:$M$68,2,FALSE)=0,\"\",VLOOKUP($B866,Übersichtsblatt!$J$64:$M$68,2,FALSE)),\"\")","v":""},0,-11.5,null,2025,"2025-05-12",{"$f":"IFERROR(IF(VLOOKUP($H866,Übersichtsblatt!$J$14:$M$24,2,FALSE)=0,\"\",VLOOKUP(H866,Übersichtsblatt!$J$14:$M$24,2,FALSE)),\"\")","v":""},0,11.5]
[2025,"2025-05-13",{"$f":"IFERROR(IF(VLOOKUP($B867,Übersichtsblatt!$J$64:$M$68,2,FALSE)=0,\"\",VLOOKUP($B867,Übersichtsblatt!$J$64:$M$68,2,FALSE)),\"\")","v":""},0,-11.5,null,2025,"2025-05-13",{"$f":"IFERROR(IF(VLOOKUP($H867,Übersichtsblatt!$J$14:$M$24,2,FALSE)=0,\"\",VLOOKUP(H867,Übersichtsblatt!$J$14:$M$24,2,FALSE)),\"\")","v":""},0,11.5]
[2025,"2025-05-14",{"$f":"IFERROR(IF(VLOOKUP($B868,Übersichtsblatt!$J$64:$M$68,2,FALSE)=0,\"\",VLOOKUP($B868,Übersichtsblatt!$J$64:$M$68,2,FALSE)),\"\")","v":""},0,-11.5,null,2025,"2025-05-14",{"$f":"IFERROR(IF(VLOOKUP($H868,Übersichtsblatt!$J$14:$M$24,2,FALSE)=0,\"\",VLOOKUP(H868,Übersichtsblatt!$J$14:$M$24,2,FALSE)),\"\")","v":""},0,11.5]
[2025,"2025-05-15",{"$f":"IFERROR(IF(VLOOKUP($B869,Übersichtsblatt!$J$64:$M$68,2,FALSE)=0,\"\",VLOOKUP($B869,Übersichtsblatt!$J$64:$M$68,2,FALSE)),\"\")","v":""},0,-11.5,null,2025,"2025-05-15",{"$f":"IFERROR(IF(VLOOKUP($H869,Übersichtsblatt!$J$14:$M$24,2,FALSE)=0,\"\",VLOOKUP(H869,Übersichtsblatt!$J$14:$M$24,2,FALSE)),\"\")","v":""},0,11.5]
[2025,"2025-05-16",{"$f":"IFERROR(IF(VLOOKUP($B870,Übersichtsblatt!$J$64:$M$68,2,FALSE)=0,\"\",VLOOKUP($B870,Übersichtsblatt!$J$64:$M$68,2,FALSE)),\"\")","v":""},0,-11.5,null,2025,"2025-05-16",{"$f":"IFERROR(IF(VLOOKUP($H870,Übersichtsblatt!$J$14:$M$24,2,FALSE)=0,\"\",VLOOKUP(H870,Übersichtsblatt!$J$14:$M$24,2,FALSE)),\"\")","v":""},0,11.5]
[2025,"2025-05-17",{"$f":"IFERROR(IF(VLOOKUP($B871,Übersichtsblatt!$J$64:$M$68,2,FALSE)=0,\"\",VLOOKUP($B871,Übersichtsblatt!$J$64:$M$68,2,FALSE)),\"\")","v":""},0,-11.5,null,2025,"2025-05-17",{"$f":"IFERROR(IF(VLOOKUP($H871,Übersichtsblatt!$J$14:$M$24,2,FALSE)=0,\"\",VLOOKUP(H871,Übersichtsblatt!$J$14:$M$24,2,FALSE)),\"\")","v":""},0,11.5]
[2025,"2025-05-18",{"$f":"IFERROR(IF(VLOOKUP($B872,Übersichtsblatt!$J$64:$M$68,2,FALSE)=0,\"\",VLOOKUP($B872,Übersichtsblatt!$J$64:$M$68,2,FALSE)),\"\")","v":""},0,-11.5,null,2025,"2025-05-18",{"$f":"IFERROR(IF(VLOOKUP($H872,Übersichtsblatt!$J$14:$M$24,2,FALSE)=0,\"\",VLOOKUP(H872,Übersichtsblatt!$J$14:$M$24,2,FALSE)),\"\")","v":""},0,11.5]
[2025,"2025-05-19",{"$f":"IFERROR(IF(VLOOKUP($B873,Übersichtsblatt!$J$64:$M$68,2,FALSE)=0,\"\",VLOOKUP($B873,Übersichtsblatt!$J$64:$M$68,2,FALSE)),\"\")","v":""},0,-11.5,null,2025,"2025-05-19",{"$f":"IFERROR(IF(VLOOKUP($H873,Übersichtsblatt!$J$14:$M$24,2,FALSE)=0,\"\",VLOOKUP(H873,Übersichtsblatt!$J$14:$M$24,2,FALSE)),\"\")","v":""},0,11.5]
[2025,"2025-05-20",{"$f":"IFERROR(IF(VLOOKUP($B874,Übersichtsblatt!$J$64:$M$68,2,FALSE)=0,\"\",VLOOKUP($B874,Übersichtsblatt!$J$64:$M$68,2,FALSE)),\"\")","v":""},0,-11.5,null,2025,"2025-05-20",{"$f":"IFERROR(IF(VLOOKUP($H874,Übersichtsblatt!$J$14:$M$24,2,FALSE)=0,\"\",VLOOKUP(H874,Übersichtsblatt!$J$14:$M$24,2,FALSE)),\"\")","v":""},0,11.5]
[2025,"2025-05-21",{"$f":"IFERROR(IF(VLOOKUP($B875,Übersichtsblatt!$J$64:$M$68,2,FALSE)=0,\"\",VLOOKUP($B875,Übersichtsblatt!$J$64:$M$68,2,FALSE)),\"\")","v":""},0,-11.5,null,2025,"2025-05-21",{"$f":"IFERROR(IF(VLOOKUP($H875,Übersichtsblatt!$J$14:$M$24,2,FALSE)=0,\"\",VLOOKUP(H875,Übersichtsblatt!$J$14:$M$24,2,FALSE)),\"\")","v":""},0,11.5]
[2025,"2025-05-22",{"$f":"IFERROR(IF(VLOOKUP($B876,Übersichtsblatt!$J$64:$M$68,2,FALSE)=0,\"\",VLOOKUP($B876,Übersichtsblatt!$J$64:$M$68,2,FALSE)),\"\")","v":""},0,-11.5,null,2025,"2025-05-22",{"$f":"IFERROR(IF(VLOOKUP($H876,Übersichtsblatt!$J$14:$M$24,2,FALSE)=0,\"\",VLOOKUP(H876,Übersichtsblatt!$J$14:$M$24,2,FALSE)),\"\")","v":""},0,11.5]
[2025,"2025-05-23",{"$f":"IFERROR(IF(VLOOKUP($B877,Übersichtsblatt!$J$64:$M$68,2,FALSE)=0,\"\",VLOOKUP($B877,Übersichtsblatt!$J$64:$M$68,2,FALSE)),\"\")","v":""},0,-11.5,null,2025,"2025-05-23",{"$f":"IFERROR(IF(VLOOKUP($H877,Übersichtsblatt!$J$14:$M$24,2,FALSE)=0,\"\",VLOOKUP(H877,Übersichtsblatt!$J$14:$M$24,2,FALSE)),\"\")","v":""},0,11.5]
[2025,"2025-05-24",{"$f":"IFERROR(IF(VLOOKUP($B878,Übersichtsblatt!$J$64:$M$68,2,FALSE)=0,\"\",VLOOKUP($B878,Übersichtsblatt!$J$64:$M$68,2,FALSE)),\"\")","v":""},0,-11.5,null,2025,"2025-05-24",{"$f":"IFERROR(IF(VLOOKUP($H878,Übersichtsblatt!$J$14:$M$24,2,FALSE)=0,\"\",VLOOKUP(H878,Übersichtsblatt!$J$14:$M$24,2,FALSE)),\"\")","v":""},0,11.5]
[2025,"2025-05-25",{"$f":"IFERROR(IF(VLOOKUP($B879,Übersichtsblatt!$J$64:$M$68,2,FALSE)=0,\"\",VLOOKUP($B879,Übersichtsblatt!$J$64:$M$68,2,FALSE)),\"\")","v":""},0,-11.5,null,2025,"2025-05-25",{"$f":"IFERROR(IF(VLOOKUP($H879,Übersichtsblatt!$J$14:$M$24,2,FALSE)=0,\"\",VLOOKUP(H879,Übersichtsblatt!$J$14:$M$24,2,FALSE)),\"\")","v":""},0,11.5]
[2025,"2025-05-26",{"$f":"IFERROR(IF(VLOOKUP($B880,Übersichtsblatt!$J$64:$M$68,2,FALSE)=0,\"\",VLOOKUP($B880,Übersichtsblatt!$J$64:$M$68,2,FALSE)),\"\")","v":""},0,-11.5,null,2025,"2025-05-26",{"$f":"IFERROR(IF(VLOOKUP($H880,Übersichtsblatt!$J$14:$M$24,2,FALSE)=0,\"\",VLOOKUP(H880,Übersichtsblatt!$J$14:$M$24,2,FALSE)),\"\")","v":""},0,11.5]
[2025,"2025-05-27",{"$f":"IFERROR(IF(VLOOKUP($B881,Übersichtsblatt!$J$64:$M$68,2,FALSE)=0,\"\",VLOOKUP($B881,Übersichtsblatt!$J$64:$M$68,2,FALSE)),\"\")","v":""},0,-11.5,null,2025,"2025-05-27",{"$f":"IFERROR(IF(VLOOKUP($H881,Übersichtsblatt!$J$14:$M$24,2,FALSE)=0,\"\",VLOOKUP(H881,Übersichtsblatt!$J$14:$M$24,2,FALSE)),\"\")","v":""},0,11.5]
[2025,"2025-05-28",{"$f":"IFERROR(IF(VLOOKUP($B882,Übersichtsblatt!$J$64:$M$68,2,FALSE)=0,\"\",VLOOKUP($B882,Übersichtsblatt!$J$64:$M$68,2,FALSE)),\"\")","v":""},0,-11.5,null,2025,"2025-05-28",{"$f":"IFERROR(IF(VLOOKUP($H882,Übersichtsblatt!$J$14:$M$24,2,FALSE)=0,\"\",VLOOKUP(H882,Übersichtsblatt!$J$14:$M$24,2,FALSE)),\"\")","v":""},0,11.5]
[2025,"2025-05-29",{"$f":"IFERROR(IF(VLOOKUP($B883,Übersichtsblatt!$J$64:$M$68,2,FALSE)=0,\"\",VLOOKUP($B883,Übersichtsblatt!$J$64:$M$68,2,FALSE)),\"\")","v":""},0,-11.5,null,2025,"2025-05-29",{"$f":"IFERROR(IF(VLOOKUP($H883,Übersichtsblatt!$J$14:$M$24,2,FALSE)=0,\"\",VLOOKUP(H883,Übersichtsblatt!$J$14:$M$24,2,FALSE)),\"\")","v":""},0,11.5]
[2025,"2025-05-30",{"$f":"IFERROR(IF(VLOOKUP($B884,Übersichtsblatt!$J$64:$M$68,2,FALSE)=0,\"\",VLOOKUP($B884,Übersichtsblatt!$J$64:$M$68,2,FALSE)),\"\")","v":""},0,-11.5,null,2025,"2025-05-30",{"$f":"IFERROR(IF(VLOOKUP($H884,Übersichtsblatt!$J$14:$M$24,2,FALSE)=0,\"\",VLOOKUP(H884,Übersichtsblatt!$J$14:$M$24,2,FALSE)),\"\")","v":""},0,11.5]
[2025,"2025-05-31",{"$f":"IFERROR(IF(VLOOKUP($B885,Übersichtsblatt!$J$64:$M$68,2,FALSE)=0,\"\",VLOOKUP($B885,Übersichtsblatt!$J$64:$M$68,2,FALSE)),\"\")","v":""},0,-11.5,null,2025,"2025-05-31",{"$f":"IFERROR(IF(VLOOKUP($H885,Übersichtsblatt!$J$14:$M$24,2,FALSE)=0,\"\",VLOOKUP(H885,Übersichtsblatt!$J$14:$M$24,2,FALSE)),\"\")","v":""},0,11.5]
[2025,"2025-06-01",{"$f":"IFERROR(IF(VLOOKUP($B886,Übersichtsblatt!$J$64:$M$68,2,FALSE)=0,\"\",VLOOKUP($B886,Übersichtsblatt!$J$64:$M$68,2,FALSE)),\"\")","v":""},0,-4.5,null,2025,"2025-06-01",{"$f":"IFERROR(IF(VLOOKUP($H886,Übersichtsblatt!$J$14:$M$24,2,FALSE)=0,\"\",VLOOKUP(H886,Übersichtsblatt!$J$14:$M$24,2,FALSE)),\"\")","v":""},0,4.5]
[2025,"2025-06-02",{"$f":"IFERROR(IF(VLOOKUP($B887,Übersichtsblatt!$J$64:$M$68,2,FALSE)=0,\"\",VLOOKUP($B887,Übersichtsblatt!$J$64:$M$68,2,FALSE)),\"\")","v":""},0,-4.5,null,2025,"2025-06-02",{"$f":"IFERROR(IF(VLOOKUP($H887,Übersichtsblatt!$J$14:$M$24,2,FALSE)=0,\"\",VLOOKUP(H887,Übersichtsblatt!$J$14:$M$24,2,FALSE)),\"\")","v":""},0,4.5]
[2025,"2025-06-03",{"$f":"IFERROR(IF(VLOOKUP($B888,Übersichtsblatt!$J$64:$M$68,2,FALSE)=0,\"\",VLOOKUP($B888,Übersichtsblatt!$J$64:$M$68,2,FALSE)),\"\")","v":""},0,-4.5,null,2025,"2025-06-03",{"$f":"IFERROR(IF(VLOOKUP($H888,Übersichtsblatt!$J$14:$M$24,2,FALSE)=0,\"\",VLOOKUP(H888,Übersichtsblatt!$J$14:$M$24,2,FALSE)),\"\")","v":""},0,4.5]
[2025,"2025-06-04",{"$f":"IFERROR(IF(VLOOKUP($B889,Übersichtsblatt!$J$64:$M$68,2,FALSE)=0,\"\",VLOOKUP($B889,Übersichtsblatt!$J$64:$M$68,2,FALSE)),\"\")","v":""},0,-4.5,null,2025,"2025-06-04",{"$f":"IFERROR(IF(VLOOKUP($H889,Übersichtsblatt!$J$14:$M$24,2,FALSE)=0,\"\",VLOOKUP(H889,Übersichtsblatt!$J$14:$M$24,2,FALSE)),\"\")","v":""},0,4.5]
[2025,"2025-06-05",{"$f":"IFERROR(IF(VLOOKUP($B890,Übersichtsblatt!$J$64:$M$68,2,FALSE)=0,\"\",VLOOKUP($B890,Übersichtsblatt!$J$64:$M$68,2,FALSE)),\"\")","v":""},0,-4.5,null,2025,"2025-06-05",{"$f":"IFERROR(IF(VLOOKUP($H890,Übersichtsblatt!$J$14:$M$24,2,FALSE)=0,\"\",VLOOKUP(H890,Übersichtsblatt!$J$14:$M$24,2,FALSE)),\"\")","v":""},0,4.5]
[2025,"2025-06-06",{"$f":"IFERROR(IF(VLOOKUP($B891,Übersichtsblatt!$J$64:$M$68,2,FALSE)=0,\"\",VLOOKUP($B891,Übersichtsblatt!$J$64:$M$68,2,FALSE)),\"\")","v":""},0,-4.5,null,2025,"2025-06-06",{"$f":"IFERROR(IF(VLOOKUP($H891,Übersichtsblatt!$J$14:$M$24,2,FALSE)=0,\"\",VLOOKUP(H891,Übersichtsblatt!$J$14:$M$24,2,FALSE)),\"\")","v":""},0,4.5]
[2025,"2025-06-07",{"$f":"IFERROR(IF(VLOOKUP($B892,Übersichtsblatt!$J$64:$M$68,2,FALSE)=0,\"\",VLOOKUP($B892,Übersichtsblatt!$J$64:$M$68,2,FALSE)),\"\")","v":""},0,-4.5,null,2025,"2025-06-07",{"$f":"IFERROR(IF(VLOOKUP($H892,Übersichtsblatt!$J$14:$M$24,2,FALSE)=0,\"\",VLOOKUP(H892,Übersichtsblatt!$J$14:$M$24,2,FALSE)),\"\")","v":""},0,4.5]
[2025,"2025-06-08",{"$f":"IFERROR(IF(VLOOKUP($B893,Übersichtsblatt!$J$64:$M$68,2,FALSE)=0,\"\",VLOOKUP($B893,Übersichtsblatt!$J$64:$M$68,2,FALSE)),\"\")","v":""},0,-4.5,null,2025,"2025-06-08",{"$f":"IFERROR(IF(VLOOKUP($H893,Übersichtsblatt!$J$14:$M$24,2,FALSE)=0,\"\",VLOOKUP(H893,Übersichtsblatt!$J$14:$M$24,2,FALSE)),\"\")","v":""},0,4.5]
[2025,"2025-06-09",{"$f":"IFERROR(IF(VLOOKUP($B894,Übersichtsblatt!$J$64:$M$68,2,FALSE)=0,\"\",VLOOKUP($B894,Übersichtsblatt!$J$64:$M$68,2,FALSE)),\"\")","v":""},0,-4.5,null,2025,"2025-06-09",{"$f":"IFERROR(IF(VLOOKUP($H894,Übersichtsblatt!$J$14:$M$24,2,FALSE)=0,\"\",VLOOKUP(H894,Übersichtsblatt!$J$14:$M$24,2,FALSE)),\"\")","v":""},0,4.5]
[2025,"2025-06-10",{"$f":"IFERROR(IF(VLOOKUP($B895,Übersichtsblatt!$J$64:$M$68,2,FALSE)=0,\"\",VLOOKUP($B895,Übersichtsblatt!$J$64:$M$68,2,FALSE)),\"\")","v":""},0,-4.5,null,2025,"2025-06-10",{"$f":"IFERROR(IF(VLOOKUP($H895,Übersichtsblatt!$J$14:$M$24,2,FALSE)=0,\"\",VLOOKUP(H895,Übersichtsblatt!$J$14:$M$24,2,FALSE)),\"\")","v":""},0,4.5]
[2025,"2025-06-11",{"$f":"IFERROR(IF(VLOOKUP($B896,Übersichtsblatt!$J$64:$M$68,2,FALSE)=0,\"\",VLOOKUP($B896,Übersichtsblatt!$J$64:$M$68,2,FALSE)),\"\")","v":""},0,-4.5,null,2025,"2025-06-11",{"$f":"IFERROR(IF(VLOOKUP($H896,Übersichtsblatt!$J$14:$M$24,2,FALSE)=0,\"\",VLOOKUP(H896,Übersichtsblatt!$J$14:$M$24,2,FALSE)),\"\")","v":""},0,4.5]
[2025,"2025-06-12",{"$f":"IFERROR(IF(VLOOKUP($B897,Übersichtsblatt!$J$64:$M$68,2,FALSE)=0,\"\",VLOOKUP($B897,Übersichtsblatt!$J$64:$M$68,2,FALSE)),\"\")","v":""},0,-4.5,null,2025,"2025-06-12",{"$f":"IFERROR(IF(VLOOKUP($H897,Übersichtsblatt!$J$14:$M$24,2,FALSE)=0,\"\",VLOOKUP(H897,Übersichtsblatt!$J$14:$M$24,2,FALSE)),\"\")","v":""},0,4.5]
[2025,"2025-06-13",{"$f":"IFERROR(IF(VLOOKUP($B898,Übersichtsblatt!$J$64:$M$68,2,FALSE)=0,\"\",VLOOKUP($B898,Übersichtsblatt!$J$64:$M$68,2,FALSE)),\"\")","v":""},0,-4.5,null,2025,"2025-06-13",{"$f":"IFERROR(IF(VLOOKUP($H898,Übersichtsblatt!$J$14:$M$24,2,FALSE)=0,\"\",VLOOKUP(H898,Übersichtsblatt!$J$14:$M$24,2,FALSE)),\"\")","v":""},0,4.5]
[2025,"2025-06-14",{"$f":"IFERROR(IF(VLOOKUP($B899,Übersichtsblatt!$J$64:$M$68,2,FALSE)=0,\"\",VLOOKUP($B899,Übersichtsblatt!$J$64:$M$68,2,FALSE)),\"\")","v":""},0,-4.5,null,2025,"2025-06-14",{"$f":"IFERROR(IF(VLOOKUP($H899,Übersichtsblatt!$J$14:$M$24,2,FALSE)=0,\"\",VLOOKUP(H899,Übersichtsblatt!$J$14:$M$24,2,FALSE)),\"\")","v":""},0,4.5]
[2025,"2025-06-15",{"$f":"IFERROR(IF(VLOOKUP($B900,Übersichtsblatt!$J$64:$M$68,2,FALSE)=0,\"\",VLOOKUP($B900,Übersichtsblatt!$J$64:$M$68,2,FALSE)),\"\")","v":""},0,-4.5,null,2025,"2025-06-15",{"$f":"IFERROR(IF(VLOOKUP($H900,Übersichtsblatt!$J$14:$M$24,2,FALSE)=0,\"\",VLOOKUP(H900,Übersichtsblatt!$J$14:$M$24,2,FALSE)),\"\")","v":""},0,4.5]
[2025,"2025-06-16",{"$f":"IFERROR(IF(VLOOKUP($B901,Übersichtsblatt!$J$64:$M$68,2,FALSE)=0,\"\",VLOOKUP($B901,Übersichtsblatt!$J$64:$M$68,2,FALSE)),\"\")","v":""},0,-4.5,null,2025,"2025-06-16",{"$f":"IFERROR(IF(VLOOKUP($H901,Übersichtsblatt!$J$14:$M$24,2,FALSE)=0,\"\",VLOOKUP(H901,Übersichtsblatt!$J$14:$M$24,2,FALSE)),\"\")","v":""},0,4.5]
[2025,"2025-06-17",{"$f":"IFERROR(IF(VLOOKUP($B902,Übersichtsblatt!$J$64:$M$68,2,FALSE)=0,\"\",VLOOKUP($B902,Übersichtsblatt!$J$64:$M$68,2,FALSE)),\"\")","v":""},{"$f":"IF($C902=\"\",0,$E902)","v":0},-4.5,null,2025,"2025-06-17",{"$f":"IFERROR(IF(VLOOKUP($H902,Übersichtsblatt!$J$14:$M$24,2,FALSE)=0,\"\",VLOOKUP(H902,Übersichtsblatt!$J$14:$M$24,2,FALSE)),\"\")","v":""},{"$f":"IF($I902=\"\",0,$K902)","v":0},4.5]
[{"$f":"YEAR(B903)","v":2025},{"$f":"B902+1","v":"2025-06-18"},{"$f":"IFERROR(IF(VLOOKUP($B903,Übersichtsblatt!$J$64:$M$68,2,FALSE)=0,\"\",VLOOKUP($B903,Übersichtsblatt!$J$64:$M$68,2,FALSE)),\"\")","v":""},0,-4.5,null,{"$f":"YEAR(H903)","v":2025},{"$f":"H902+1","v":"2025-06-18"},{"$f":"IFERROR(IF(VLOOKUP($H903,Übersichtsblatt!$J$14:$M$24,2,FALSE)=0,\"\",VLOOKUP(H903,Übersichtsblatt!$J$14:$M$24,2,FALSE)),\"\")","v":""},0,4.5]
[2025,"2025-06-19",{"$f":"IFERROR(IF(VLOOKUP($B904,Übersichtsblatt!$J$64:$M$68,2,FALSE)=0,\"\",VLOOKUP($B904,Übersichtsblatt!$J$64:$M$68,2,FALSE)),\"\")","v":""},0,-4.5,null,2025,"2025-06-19",{"$f":"IFERROR(IF(VLOOKUP($H904,Übersichtsblatt!$J$14:$M$24,2,FALSE)=0,\"\",VLOOKUP(H904,Übersichtsblatt!$J$14:$M$24,2,FALSE)),\"\")","v":""},0,4.5]
[2025,"2025-06-20",{"$f":"IFERROR(IF(VLOOKUP($B905,Übersichtsblatt!$J$64:$M$68,2,FALSE)=0,\"\",VLOOKUP($B905,Übersichtsblatt!$J$64:$M$68,2,FALSE)),\"\")","v":""},0,-4.5,null,2025,"2025-06-20",{"$f":"IFERROR(IF(VLOOKUP($H905,Übersichtsblatt!$J$14:$M$24,2,FALSE)=0,\"\",VLOOKUP(H905,Übersichtsblatt!$J$14:$M$24,2,FALSE)),\"\")","v":""},0,4.5]
[2025,"2025-06-21",{"$f":"IFERROR(IF(VLOOKUP($B906,Übersichtsblatt!$J$64:$M$68,2,FALSE)=0,\"\",VLOOKUP($B906,Übersichtsblatt!$J$64:$M$68,2,FALSE)),\"\")","v":""},0,-4.5,null,2025,"2025-06-21",{"$f":"IFERROR(IF(VLOOKUP($H906,Übersichtsblatt!$J$14:$M$24,2,FALSE)=0,\"\",VLOOKUP(H906,Übersichtsblatt!$J$14:$M$24,2,FALSE)),\"\")","v":""},0,4.5]
[2025,"2025-06-22",{"$f":"IFERROR(IF(VLOOKUP($B907,Übersichtsblatt!$J$64:$M$68,2,FALSE)=0,\"\",VLOOKUP($B907,Übersichtsblatt!$J$64:$M$68,2,FALSE)),\"\")","v":""},0,-4.5,null,2025,"2025-06-22",{"$f":"IFERROR(IF(VLOOKUP($H907,Übersichtsblatt!$J$14:$M$24,2,FALSE)=0,\"\",VLOOKUP(H907,Übersichtsblatt!$J$14:$M$24,2,FALSE)),\"\")","v":""},0,4.5]
[2025,"2025-06-23",{"$f":"IFERROR(IF(VLOOKUP($B908,Übersichtsblatt!$J$64:$M$68,2,FALSE)=0,\"\",VLOOKUP($B908,Übersichtsblatt!$J$64:$M$68,2,FALSE)),\"\")","v":""},0,-4.5,null,2025,"2025-06-23",{"$f":"IFERROR(IF(VLOOKUP($H908,Übersichtsblatt!$J$14:$M$24,2,FALSE)=0,\"\",VLOOKUP(H908,Übersichtsblatt!$J$14:$M$24,2,FALSE)),\"\")","v":""},0,4.5]
[2025,"2025-06-24",{"$f":"IFERROR(IF(VLOOKUP($B909,Übersichtsblatt!$J$64:$M$68,2,FALSE)=0,\"\",VLOOKUP($B909,Übersichtsblatt!$J$64:$M$68,2,FALSE)),\"\")","v":""},0,-4.5,null,2025,"2025-06-24",{"$f":"IFERROR(IF(VLOOKUP($H909,Übersichtsblatt!$J$14:$M$24,2,FALSE)=0,\"\",VLOOKUP(H909,Übersichtsblatt!$J$14:$M$24,2,FALSE)),\"\")","v":""},0,4.5]
[2025,"2025-06-25",{"$f":"IFERROR(IF(VLOOKUP($B910,Übersichtsblatt!$J$64:$M$68,2,FALSE)=0,\"\",VLOOKUP($B910,Übersichtsblatt!$J$64:$M$68,2,FALSE)),\"\")","v":""},0,-4.5,null,2025,"2025-06-25",{"$f":"IFERROR(IF(VLOOKUP($H910,Übersichtsblatt!$J$14:$M$24,2,FALSE)=0,\"\",VLOOKUP(H910,Übersichtsblatt!$J$14:$M$24,2,FALSE)),\"\")","v":""},0,4.5]
[2025,"2025-06-26",{"$f":"IFERROR(IF(VLOOKUP($B911,Übersichtsblatt!$J$64:$M$68,2,FALSE)=0,\"\",VLOOKUP($B911,Übersichtsblatt!$J$64:$M$68,2,FALSE)),\"\")","v":""},0,-4.5,null,2025,"2025-06-26",{"$f":"IFERROR(IF(VLOOKUP($H911,Übersichtsblatt!$J$14:$M$24,2,FALSE)=0,\"\",VLOOKUP(H911,Übersichtsblatt!$J$14:$M$24,2,FALSE)),\"\")","v":""},0,4.5]
[2025,"2025-06-27",{"$f":"IFERROR(IF(VLOOKUP($B912,Übersichtsblatt!$J$64:$M$68,2,FALSE)=0,\"\",VLOOKUP($B912,Übersichtsblatt!$J$64:$M$68,2,FALSE)),\"\")","v":""},0,-4.5,null,2025,"2025-06-27",{"$f":"IFERROR(IF(VLOOKUP($H912,Übersichtsblatt!$J$14:$M$24,2,FALSE)=0,\"\",VLOOKUP(H912,Übersichtsblatt!$J$14:$M$24,2,FALSE)),\"\")","v":""},0,4.5]
[2025,"2025-06-28",{"$f":"IFERROR(IF(VLOOKUP($B913,Übersichtsblatt!$J$64:$M$68,2,FALSE)=0,\"\",VLOOKUP($B913,Übersichtsblatt!$J$64:$M$68,2,FALSE)),\"\")","v":""},0,-4.5,null,2025,"2025-06-28",{"$f":"IFERROR(IF(VLOOKUP($H913,Übersichtsblatt!$J$14:$M$24,2,FALSE)=0,\"\",VLOOKUP(H913,Übersichtsblatt!$J$14:$M$24,2,FALSE)),\"\")","v":""},0,4.5]
[2025,"2025-06-29",{"$f":"IFERROR(IF(VLOOKUP($B914,Übersichtsblatt!$J$64:$M$68,2,FALSE)=0,\"\",VLOOKUP($B914,Übersichtsblatt!$J$64:$M$68,2,FALSE)),\"\")","v":""},0,-4.5,null,2025,"2025-06-29",{"$f":"IFERROR(IF(VLOOKUP($H914,Übersichtsblatt!$J$14:$M$24,2,FALSE)=0,\"\",VLOOKUP(H914,Übersichtsblatt!$J$14:$M$24,2,FALSE)),\"\")","v":""},0,4.5]
[2025,"2025-06-30",{"$f":"IFERROR(IF(VLOOKUP($B915,Übersichtsblatt!$J$64:$M$68,2,FALSE)=0,\"\",VLOOKUP($B915,Übersichtsblatt!$J$64:$M$68,2,FALSE)),\"\")","v":""},0,-4.5,null,2025,"2025-06-30",{"$f":"IFERROR(IF(VLOOKUP($H915,Übersichtsblatt!$J$14:$M$24,2,FALSE)=0,\"\",VLOOKUP(H915,Übersichtsblatt!$J$14:$M$24,2,FALSE)),\"\")","v":""},0,4.5]
[2025,"2025-07-01",{"$f":"IFERROR(IF(VLOOKUP($B916,Übersichtsblatt!$J$64:$M$68,2,FALSE)=0,\"\",VLOOKUP($B916,Übersichtsblatt!$J$64:$M$68,2,FALSE)),\"\")","v":""},0,-8.5,null,2025,"2025-07-01",{"$f":"IFERROR(IF(VLOOKUP($H916,Übersichtsblatt!$J$14:$M$24,2,FALSE)=0,\"\",VLOOKUP(H916,Übersichtsblatt!$J$14:$M$24,2,FALSE)),\"\")","v":""},0,8.5]
[2025,"2025-07-02",{"$f":"IFERROR(IF(VLOOKUP($B917,Übersichtsblatt!$J$64:$M$68,2,FALSE)=0,\"\",VLOOKUP($B917,Übersichtsblatt!$J$64:$M$68,2,FALSE)),\"\")","v":""},0,-8.5,null,2025,"2025-07-02",{"$f":"IFERROR(IF(VLOOKUP($H917,Übersichtsblatt!$J$14:$M$24,2,FALSE)=0,\"\",VLOOKUP(H917,Übersichtsblatt!$J$14:$M$24,2,FALSE)),\"\")","v":""},0,8.5]
[2025,"2025-07-03",{"$f":"IFERROR(IF(VLOOKUP($B918,Übersichtsblatt!$J$64:$M$68,2,FALSE)=0,\"\",VLOOKUP($B918,Übersichtsblatt!$J$64:$M$68,2,FALSE)),\"\")","v":""},0,-8.5,null,2025,"2025-07-03",{"$f":"IFERROR(IF(VLOOKUP($H918,Übersichtsblatt!$J$14:$M$24,2,FALSE)=0,\"\",VLOOKUP(H918,Übersichtsblatt!$J$14:$M$24,2,FALSE)),\"\")","v":""},0,8.5]
[2025,"2025-07-04",{"$f":"IFERROR(IF(VLOOKUP($B919,Übersichtsblatt!$J$64:$M$68,2,FALSE)=0,\"\",VLOOKUP($B919,Übersichtsblatt!$J$64:$M$68,2,FALSE)),\"\")","v":""},0,-8.5,null,2025,"2025-07-04",{"$f":"IFERROR(IF(VLOOKUP($H919,Übersichtsblatt!$J$14:$M$24,2,FALSE)=0,\"\",VLOOKUP(H919,Übersichtsblatt!$J$14:$M$24,2,FALSE)),\"\")","v":""},0,8.5]
[2025,"2025-07-05",{"$f":"IFERROR(IF(VLOOKUP($B920,Übersichtsblatt!$J$64:$M$68,2,FALSE)=0,\"\",VLOOKUP($B920,Übersichtsblatt!$J$64:$M$68,2,FALSE)),\"\")","v":""},0,-8.5,null,2025,"2025-07-05",{"$f":"IFERROR(IF(VLOOKUP($H920,Übersichtsblatt!$J$14:$M$24,2,FALSE)=0,\"\",VLOOKUP(H920,Übersichtsblatt!$J$14:$M$24,2,FALSE)),\"\")","v":""},0,8.5]
[2025,"2025-07-06",{"$f":"IFERROR(IF(VLOOKUP($B921,Übersichtsblatt!$J$64:$M$68,2,FALSE)=0,\"\",VLOOKUP($B921,Übersichtsblatt!$J$64:$M$68,2,FALSE)),\"\")","v":""},0,-8.5,null,2025,"2025-07-06",{"$f":"IFERROR(IF(VLOOKUP($H921,Übersichtsblatt!$J$14:$M$24,2,FALSE)=0,\"\",VLOOKUP(H921,Übersichtsblatt!$J$14:$M$24,2,FALSE)),\"\")","v":""},0,8.5]
[2025,"2025-07-07",{"$f":"IFERROR(IF(VLOOKUP($B922,Übersichtsblatt!$J$64:$M$68,2,FALSE)=0,\"\",VLOOKUP($B922,Übersichtsblatt!$J$64:$M$68,2,FALSE)),\"\")","v":""},0,-8.5,null,2025,"2025-07-07",{"$f":"IFERROR(IF(VLOOKUP($H922,Übersichtsblatt!$J$14:$M$24,2,FALSE)=0,\"\",VLOOKUP(H922,Übersichtsblatt!$J$14:$M$24,2,FALSE)),\"\")","v":""},0,8.5]
[2025,"2025-07-08",{"$f":"IFERROR(IF(VLOOKUP($B923,Übersichtsblatt!$J$64:$M$68,2,FALSE)=0,\"\",VLOOKUP($B923,Übersichtsblatt!$J$64:$M$68,2,FALSE)),\"\")","v":""},0,-8.5,null,2025,"2025-07-08",{"$f":"IFERROR(IF(VLOOKUP($H923,Übersichtsblatt!$J$14:$M$24,2,FALSE)=0,\"\",VLOOKUP(H923,Übersichtsblatt!$J$14:$M$24,2,FALSE)),\"\")","v":""},0,8.5]
[2025,"2025-07-09",{"$f":"IFERROR(IF(VLOOKUP($B924,Übersichtsblatt!$J$64:$M$68,2,FALSE)=0,\"\",VLOOKUP($B924,Übersichtsblatt!$J$64:$M$68,2,FALSE)),\"\")","v":""},0,-8.5,null,2025,"2025-07-09",{"$f":"IFERROR(IF(VLOOKUP($H924,Übersichtsblatt!$J$14:$M$24,2,FALSE)=0,\"\",VLOOKUP(H924,Übersichtsblatt!$J$14:$M$24,2,FALSE)),\"\")","v":""},0,8.5]
[2025,"2025-07-10",{"$f":"IFERROR(IF(VLOOKUP($B925,Übersichtsblatt!$J$64:$M$68,2,FALSE)=0,\"\",VLOOKUP($B925,Übersichtsblatt!$J$64:$M$68,2,FALSE)),\"\")","v":""},0,-8.5,null,2025,"2025-07-10",{"$f":"IFERROR(IF(VLOOKUP($H925,Übersichtsblatt!$J$14:$M$24,2,FALSE)=0,\"\",VLOOKUP(H925,Übersichtsblatt!$J$14:$M$24,2,FALSE)),\"\")","v":""},0,8.5]
[2025,"2025-07-11",{"$f":"IFERROR(IF(VLOOKUP($B926,Übersichtsblatt!$J$64:$M$68,2,FALSE)=0,\"\",VLOOKUP($B926,Übersichtsblatt!$J$64:$M$68,2,FALSE)),\"\")","v":""},0,-8.5,null,2025,"2025-07-11",{"$f":"IFERROR(IF(VLOOKUP($H926,Übersichtsblatt!$J$14:$M$24,2,FALSE)=0,\"\",VLOOKUP(H926,Übersichtsblatt!$J$14:$M$24,2,FALSE)),\"\")","v":""},0,8.5]
[2025,"2025-07-12",{"$f":"IFERROR(IF(VLOOKUP($B927,Übersichtsblatt!$J$64:$M$68,2,FALSE)=0,\"\",VLOOKUP($B927,Übersichtsblatt!$J$64:$M$68,2,FALSE)),\"\")","v":""},0,-8.5,null,2025,"2025-07-12",{"$f":"IFERROR(IF(VLOOKUP($H927,Übersichtsblatt!$J$14:$M$24,2,FALSE)=0,\"\",VLOOKUP(H927,Übersichtsblatt!$J$14:$M$24,2,FALSE)),\"\")","v":""},0,8.5]
[2025,"2025-07-13",{"$f":"IFERROR(IF(VLOOKUP($B928,Übersichtsblatt!$J$64:$M$68,2,FALSE)=0,\"\",VLOOKUP($B928,Übersichtsblatt!$J$64:$M$68,2,FALSE)),\"\")","v":""},0,-8.5,null,2025,"2025-07-13",{"$f":"IFERROR(IF(VLOOKUP($H928,Übersichtsblatt!$J$14:$M$24,2,FALSE)=0,\"\",VLOOKUP(H928,Übersichtsblatt!$J$14:$M$24,2,FALSE)),\"\")","v":""},0,8.5]
[2025,"2025-07-14",{"$f":"IFERROR(IF(VLOOKUP($B929,Übersichtsblatt!$J$64:$M$68,2,FALSE)=0,\"\",VLOOKUP($B929,Übersichtsblatt!$J$64:$M$68,2,FALSE)),\"\")","v":""},0,-8.5,null,2025,"2025-07-14",{"$f":"IFERROR(IF(VLOOKUP($H929,Übersichtsblatt!$J$14:$M$24,2,FALSE)=0,\"\",VLOOKUP(H929,Übersichtsblatt!$J$14:$M$24,2,FALSE)),\"\")","v":""},0,8.5]
[2025,"2025-07-15",{"$f":"IFERROR(IF(VLOOKUP($B930,Übersichtsblatt!$J$64:$M$68,2,FALSE)=0,\"\",VLOOKUP($B930,Übersichtsblatt!$J$64:$M$68,2,FALSE)),\"\")","v":""},0,-8.5,null,2025,"2025-07-15",{"$f":"IFERROR(IF(VLOOKUP($H930,Übersichtsblatt!$J$14:$M$24,2,FALSE)=0,\"\",VLOOKUP(H930,Übersichtsblatt!$J$14:$M$24,2,FALSE)),\"\")","v":""},0,8.5]
[2025,"2025-07-16",{"$f":"IFERROR(IF(VLOOKUP($B931,Übersichtsblatt!$J$64:$M$68,2,FALSE)=0,\"\",VLOOKUP($B931,Übersichtsblatt!$J$64:$M$68,2,FALSE)),\"\")","v":""},0,-8.5,null,2025,"2025-07-16",{"$f":"IFERROR(IF(VLOOKUP($H931,Übersichtsblatt!$J$14:$M$24,2,FALSE)=0,\"\",VLOOKUP(H931,Übersichtsblatt!$J$14:$M$24,2,FALSE)),\"\")","v":""},0,8.5]
[2025,"2025-07-17",{"$f":"IFERROR(IF(VLOOKUP($B932,Übersichtsblatt!$J$64:$M$68,2,FALSE)=0,\"\",VLOOKUP($B932,Übersichtsblatt!$J$64:$M$68,2,FALSE)),\"\")","v":""},0,-8.5,null,2025,"2025-07-17",{"$f":"IFERROR(IF(VLOOKUP($H932,Übersichtsblatt!$J$14:$M$24,2,FALSE)=0,\"\",VLOOKUP(H932,Übersichtsblatt!$J$14:$M$24,2,FALSE)),\"\")","v":""},0,8.5]
[2025,"2025-07-18",{"$f":"IFERROR(IF(VLOOKUP($B933,Übersichtsblatt!$J$64:$M$68,2,FALSE)=0,\"\",VLOOKUP($B933,Übersichtsblatt!$J$64:$M$68,2,FALSE)),\"\")","v":""},0,-8.5,null,2025,"2025-07-18",{"$f":"IFERROR(IF(VLOOKUP($H933,Übersichtsblatt!$J$14:$M$24,2,FALSE)=0,\"\",VLOOKUP(H933,Übersichtsblatt!$J$14:$M$24,2,FALSE)),\"\")","v":""},0,8.5]
[2025,"2025-07-19",{"$f":"IFERROR(IF(VLOOKUP($B934,Übersichtsblatt!$J$64:$M$68,2,FALSE)=0,\"\",VLOOKUP($B934,Übersichtsblatt!$J$64:$M$68,2,FALSE)),\"\")","v":""},0,-8.5,null,2025,"2025-07-19",{"$f":"IFERROR(IF(VLOOKUP($H934,Übersichtsblatt!$J$14:$M$24,2,FALSE)=0,\"\",VLOOKUP(H934,Übersichtsblatt!$J$14:$M$24,2,FALSE)),\"\")","v":""},0,8.5]
[2025,"2025-07-20",{"$f":"IFERROR(IF(VLOOKUP($B935,Übersichtsblatt!$J$64:$M$68,2,FALSE)=0,\"\",VLOOKUP($B935,Übersichtsblatt!$J$64:$M$68,2,FALSE)),\"\")","v":""},0,-8.5,null,2025,"2025-07-20",{"$f":"IFERROR(IF(VLOOKUP($H935,Übersichtsblatt!$J$14:$M$24,2,FALSE)=0,\"\",VLOOKUP(H935,Übersichtsblatt!$J$14:$M$24,2,FALSE)),\"\")","v":""},0,8.5]
[2025,"2025-07-21",{"$f":"IFERROR(IF(VLOOKUP($B936,Übersichtsblatt!$J$64:$M$68,2,FALSE)=0,\"\",VLOOKUP($B936,Übersichtsblatt!$J$64:$M$68,2,FALSE)),\"\")","v":""},0,-8.5,null,2025,"2025-07-21",{"$f":"IFERROR(IF(VLOOKUP($H936,Übersichtsblatt!$J$14:$M$24,2,FALSE)=0,\"\",VLOOKUP(H936,Übersichtsblatt!$J$14:$M$24,2,FALSE)),\"\")","v":""},0,8.5]
[2025,"2025-07-22",{"$f":"IFERROR(IF(VLOOKUP($B937,Übersichtsblatt!$J$64:$M$68,2,FALSE)=0,\"\",VLOOKUP($B937,Übersichtsblatt!$J$64:$M$68,2,FALSE)),\"\")","v":""},0,-8.5,null,2025,"2025-07-22",{"$f":"IFERROR(IF(VLOOKUP($H937,Übersichtsblatt!$J$14:$M$24,2,FALSE)=0,\"\",VLOOKUP(H937,Übersichtsblatt!$J$14:$M$24,2,FALSE)),\"\")","v":""},0,8.5]
[2025,"2025-07-23",{"$f":"IFERROR(IF(VLOOKUP($B938,Übersichtsblatt!$J$64:$M$68,2,FALSE)=0,\"\",VLOOKUP($B938,Übersichtsblatt!$J$64:$M$68,2,FALSE)),\"\")","v":""},0,-8.5,null,2025,"2025-07-23",{"$f":"IFERROR(IF(VLOOKUP($H938,Übersichtsblatt!$J$14:$M$24,2,FALSE)=0,\"\",VLOOKUP(H938,Übersichtsblatt!$J$14:$M$24,2,FALSE)),\"\")","v":""},0,8.5]
[2025,"2025-07-24",{"$f":"IFERROR(IF(VLOOKUP($B939,Übersichtsblatt!$J$64:$M$68,2,FALSE)=0,\"\",VLOOKUP($B939,Übersichtsblatt!$J$64:$M$68,2,FALSE)),\"\")","v":""},0,-8.5,null,2025,"2025-07-24",{"$f":"IFERROR(IF(VLOOKUP($H939,Übersichtsblatt!$J$14:$M$24,2,FALSE)=0,\"\",VLOOKUP(H939,Übersichtsblatt!$J$14:$M$24,2,FALSE)),\"\")","v":""},0,8.5]
[2025,"2025-07-25",{"$f":"IFERROR(IF(VLOOKUP($B940,Übersichtsblatt!$J$64:$M$68,2,FALSE)=0,\"\",VLOOKUP($B940,Übersichtsblatt!$J$64:$M$68,2,FALSE)),\"\")","v":""},0,-8.5,null,2025,"2025-07-25",{"$f":"IFERROR(IF(VLOOKUP($H940,Übersichtsblatt!$J$14:$M$24,2,FALSE)=0,\"\",VLOOKUP(H940,Übersichtsblatt!$J$14:$M$24,2,FALSE)),\"\")","v":""},0,8.5]
[2025,"2025-07-26",{"$f":"IFERROR(IF(VLOOKUP($B941,Übersichtsblatt!$J$64:$M$68,2,FALSE)=0,\"\",VLOOKUP($B941,Übersichtsblatt!$J$64:$M$68,2,FALSE)),\"\")","v":""},0,-8.5,null,2025,"2025-07-26",{"$f":"IFERROR(IF(VLOOKUP($H941,Übersichtsblatt!$J$14:$M$24,2,FALSE)=0,\"\",VLOOKUP(H941,Übersichtsblatt!$J$14:$M$24,2,FALSE)),\"\")","v":""},0,8.5]
[2025,"2025-07-27",{"$f":"IFERROR(IF(VLOOKUP($B942,Übersichtsblatt!$J$64:$M$68,2,FALSE)=0,\"\",VLOOKUP($B942,Übersichtsblatt!$J$64:$M$68,2,FALSE)),\"\")","v":""},0,-8.5,null,2025,"2025-07-27",{"$f":"IFERROR(IF(VLOOKUP($H942,Übersichtsblatt!$J$14:$M$24,2,FALSE)=0,\"\",VLOOKUP(H942,Übersichtsblatt!$J$14:$M$24,2,FALSE)),\"\")","v":""},0,8.5]
[2025,"2025-07-28",{"$f":"IFERROR(IF(VLOOKUP($B943,Übersichtsblatt!$J$64:$M$68,2,FALSE)=0,\"\",VLOOKUP($B943,Übersichtsblatt!$J$64:$M$68,2,FALSE)),\"\")","v":""},0,-8.5,null,2025,"2025-07-28",{"$f":"IFERROR(IF(VLOOKUP($H943,Übersichtsblatt!$J$14:$M$24,2,FALSE)=0,\"\",VLOOKUP(H943,Übersichtsblatt!$J$14:$M$24,2,FALSE)),\"\")","v":""},0,8.5]
[2025,"2025-07-29",{"$f":"IFERROR(IF(VLOOKUP($B944,Übersichtsblatt!$J$64:$M$68,2,FALSE)=0,\"\",VLOOKUP($B944,Übersichtsblatt!$J$64:$M$68,2,FALSE)),\"\")","v":""},0,-8.5,null,2025,"2025-07-29",{"$f":"IFERROR(IF(VLOOKUP($H944,Übersichtsblatt!$J$14:$M$24,2,FALSE)=0,\"\",VLOOKUP(H944,Übersichtsblatt!$J$14:$M$24,2,FALSE)),\"\")","v":""},0,8.5]
[2025,"2025-07-30",{"$f":"IFERROR(IF(VLOOKUP($B945,Übersichtsblatt!$J$64:$M$68,2,FALSE)=0,\"\",VLOOKUP($B945,Übersichtsblatt!$J$64:$M$68,2,FALSE)),\"\")","v":""},0,-8.5,null,2025,"2025-07-30",{"$f":"IFERROR(IF(VLOOKUP($H945,Übersichtsblatt!$J$14:$M$24,2,FALSE)=0,\"\",VLOOKUP(H945,Übersichtsblatt!$J$14:$M$24,2,FALSE)),\"\")","v":""},0,8.5]
[2025,"2025-07-31",{"$f":"IFERROR(IF(VLOOKUP($B946,Übersichtsblatt!$J$64:$M$68,2,FALSE)=0,\"\",VLOOKUP($B946,Übersichtsblatt!$J$64:$M$68,2,FALSE)),\"\")","v":""},0,-8.5,null,2025,"2025-07-31",{"$f":"IFERROR(IF(VLOOKUP($H946,Übersichtsblatt!$J$14:$M$24,2,FALSE)=0,\"\",VLOOKUP(H946,Übersichtsblatt!$J$14:$M$24,2,FALSE)),\"\")","v":""},0,8.5]
[2025,"2025-08-01",{"$f":"IFERROR(IF(VLOOKUP($B947,Übersichtsblatt!$J$64:$M$68,2,FALSE)=0,\"\",VLOOKUP($B947,Übersichtsblatt!$J$64:$M$68,2,FALSE)),\"\")","v":""},0,-5.5,null,2025,"2025-08-01",{"$f":"IFERROR(IF(VLOOKUP($H947,Übersichtsblatt!$J$14:$M$24,2,FALSE)=0,\"\",VLOOKUP(H947,Übersichtsblatt!$J$14:$M$24,2,FALSE)),\"\")","v":""},0,5.5]
[2025,"2025-08-02",{"$f":"IFERROR(IF(VLOOKUP($B948,Übersichtsblatt!$J$64:$M$68,2,FALSE)=0,\"\",VLOOKUP($B948,Übersichtsblatt!$J$64:$M$68,2,FALSE)),\"\")","v":""},0,-5.5,null,2025,"2025-08-02",{"$f":"IFERROR(IF(VLOOKUP($H948,Übersichtsblatt!$J$14:$M$24,2,FALSE)=0,\"\",VLOOKUP(H948,Übersichtsblatt!$J$14:$M$24,2,FALSE)),\"\")","v":""},0,5.5]
[2025,"2025-08-03",{"$f":"IFERROR(IF(VLOOKUP($B949,Übersichtsblatt!$J$64:$M$68,2,FALSE)=0,\"\",VLOOKUP($B949,Übersichtsblatt!$J$64:$M$68,2,FALSE)),\"\")","v":""},0,-5.5,null,2025,"2025-08-03",{"$f":"IFERROR(IF(VLOOKUP($H949,Übersichtsblatt!$J$14:$M$24,2,FALSE)=0,\"\",VLOOKUP(H949,Übersichtsblatt!$J$14:$M$24,2,FALSE)),\"\")","v":""},0,5.5]
[2025,"2025-08-04",{"$f":"IFERROR(IF(VLOOKUP($B950,Übersichtsblatt!$J$64:$M$68,2,FALSE)=0,\"\",VLOOKUP($B950,Übersichtsblatt!$J$64:$M$68,2,FALSE)),\"\")","v":""},0,-5.5,null,2025,"2025-08-04",{"$f":"IFERROR(IF(VLOOKUP($H950,Übersichtsblatt!$J$14:$M$24,2,FALSE)=0,\"\",VLOOKUP(H950,Übersichtsblatt!$J$14:$M$24,2,FALSE)),\"\")","v":""},0,5.5]
[2025,"2025-08-05",{"$f":"IFERROR(IF(VLOOKUP($B951,Übersichtsblatt!$J$64:$M$68,2,FALSE)=0,\"\",VLOOKUP($B951,Übersichtsblatt!$J$64:$M$68,2,FALSE)),\"\")","v":""},0,-5.5,null,2025,"2025-08-05",{"$f":"IFERROR(IF(VLOOKUP($H951,Übersichtsblatt!$J$14:$M$24,2,FALSE)=0,\"\",VLOOKUP(H951,Übersichtsblatt!$J$14:$M$24,2,FALSE)),\"\")","v":""},0,5.5]
[2025,"2025-08-06",{"$f":"IFERROR(IF(VLOOKUP($B952,Übersichtsblatt!$J$64:$M$68,2,FALSE)=0,\"\",VLOOKUP($B952,Übersichtsblatt!$J$64:$M$68,2,FALSE)),\"\")","v":""},0,-5.5,null,2025,"2025-08-06",{"$f":"IFERROR(IF(VLOOKUP($H952,Übersichtsblatt!$J$14:$M$24,2,FALSE)=0,\"\",VLOOKUP(H952,Übersichtsblatt!$J$14:$M$24,2,FALSE)),\"\")","v":""},0,5.5]
[2025,"2025-08-07",{"$f":"IFERROR(IF(VLOOKUP($B953,Übersichtsblatt!$J$64:$M$68,2,FALSE)=0,\"\",VLOOKUP($B953,Übersichtsblatt!$J$64:$M$68,2,FALSE)),\"\")","v":""},0,-5.5,null,2025,"2025-08-07",{"$f":"IFERROR(IF(VLOOKUP($H953,Übersichtsblatt!$J$14:$M$24,2,FALSE)=0,\"\",VLOOKUP(H953,Übersichtsblatt!$J$14:$M$24,2,FALSE)),\"\")","v":""},0,5.5]
[2025,"2025-08-08",{"$f":"IFERROR(IF(VLOOKUP($B954,Übersichtsblatt!$J$64:$M$68,2,FALSE)=0,\"\",VLOOKUP($B954,Übersichtsblatt!$J$64:$M$68,2,FALSE)),\"\")","v":""},0,-5.5,null,2025,"2025-08-08",{"$f":"IFERROR(IF(VLOOKUP($H954,Übersichtsblatt!$J$14:$M$24,2,FALSE)=0,\"\",VLOOKUP(H954,Übersichtsblatt!$J$14:$M$24,2,FALSE)),\"\")","v":""},0,5.5]
[2025,"2025-08-09",{"$f":"IFERROR(IF(VLOOKUP($B955,Übersichtsblatt!$J$64:$M$68,2,FALSE)=0,\"\",VLOOKUP($B955,Übersichtsblatt!$J$64:$M$68,2,FALSE)),\"\")","v":""},0,-5.5,null,2025,"2025-08-09",{"$f":"IFERROR(IF(VLOOKUP($H955,Übersichtsblatt!$J$14:$M$24,2,FALSE)=0,\"\",VLOOKUP(H955,Übersichtsblatt!$J$14:$M$24,2,FALSE)),\"\")","v":""},0,5.5]
[2025,"2025-08-10",{"$f":"IFERROR(IF(VLOOKUP($B956,Übersichtsblatt!$J$64:$M$68,2,FALSE)=0,\"\",VLOOKUP($B956,Übersichtsblatt!$J$64:$M$68,2,FALSE)),\"\")","v":""},0,-5.5,null,2025,"2025-08-10",{"$f":"IFERROR(IF(VLOOKUP($H956,Übersichtsblatt!$J$14:$M$24,2,FALSE)=0,\"\",VLOOKUP(H956,Übersichtsblatt!$J$14:$M$24,2,FALSE)),\"\")","v":""},0,5.5]
[2025,"2025-08-11",{"$f":"IFERROR(IF(VLOOKUP($B957,Übersichtsblatt!$J$64:$M$68,2,FALSE)=0,\"\",VLOOKUP($B957,Übersichtsblatt!$J$64:$M$68,2,FALSE)),\"\")","v":""},0,-5.5,null,2025,"2025-08-11",{"$f":"IFERROR(IF(VLOOKUP($H957,Übersichtsblatt!$J$14:$M$24,2,FALSE)=0,\"\",VLOOKUP(H957,Übersichtsblatt!$J$14:$M$24,2,FALSE)),\"\")","v":""},0,5.5]
[2025,"2025-08-12",{"$f":"IFERROR(IF(VLOOKUP($B958,Übersichtsblatt!$J$64:$M$68,2,FALSE)=0,\"\",VLOOKUP($B958,Übersichtsblatt!$J$64:$M$68,2,FALSE)),\"\")","v":""},0,-5.5,null,2025,"2025-08-12",{"$f":"IFERROR(IF(VLOOKUP($H958,Übersichtsblatt!$J$14:$M$24,2,FALSE)=0,\"\",VLOOKUP(H958,Übersichtsblatt!$J$14:$M$24,2,FALSE)),\"\")","v":""},0,5.5]
[2025,"2025-08-13",{"$f":"IFERROR(IF(VLOOKUP($B959,Übersichtsblatt!$J$64:$M$68,2,FALSE)=0,\"\",VLOOKUP($B959,Übersichtsblatt!$J$64:$M$68,2,FALSE)),\"\")","v":""},0,-5.5,null,2025,"2025-08-13",{"$f":"IFERROR(IF(VLOOKUP($H959,Übersichtsblatt!$J$14:$M$24,2,FALSE)=0,\"\",VLOOKUP(H959,Übersichtsblatt!$J$14:$M$24,2,FALSE)),\"\")","v":""},0,5.5]
[2025,"2025-08-14",{"$f":"IFERROR(IF(VLOOKUP($B960,Übersichtsblatt!$J$64:$M$68,2,FALSE)=0,\"\",VLOOKUP($B960,Übersichtsblatt!$J$64:$M$68,2,FALSE)),\"\")","v":""},0,-5.5,null,2025,"2025-08-14",{"$f":"IFERROR(IF(VLOOKUP($H960,Übersichtsblatt!$J$14:$M$24,2,FALSE)=0,\"\",VLOOKUP(H960,Übersichtsblatt!$J$14:$M$24,2,FALSE)),\"\")","v":""},0,5.5]
[2025,"2025-08-15",{"$f":"IFERROR(IF(VLOOKUP($B961,Übersichtsblatt!$J$64:$M$68,2,FALSE)=0,\"\",VLOOKUP($B961,Übersichtsblatt!$J$64:$M$68,2,FALSE)),\"\")","v":""},0,-5.5,null,2025,"2025-08-15",{"$f":"IFERROR(IF(VLOOKUP($H961,Übersichtsblatt!$J$14:$M$24,2,FALSE)=0,\"\",VLOOKUP(H961,Übersichtsblatt!$J$14:$M$24,2,FALSE)),\"\")","v":""},0,5.5]
[2025,"2025-08-16",{"$f":"IFERROR(IF(VLOOKUP($B962,Übersichtsblatt!$J$64:$M$68,2,FALSE)=0,\"\",VLOOKUP($B962,Übersichtsblatt!$J$64:$M$68,2,FALSE)),\"\")","v":""},0,-5.5,null,2025,"2025-08-16",{"$f":"IFERROR(IF(VLOOKUP($H962,Übersichtsblatt!$J$14:$M$24,2,FALSE)=0,\"\",VLOOKUP(H962,Übersichtsblatt!$J$14:$M$24,2,FALSE)),\"\")","v":""},0,5.5]
[2025,"2025-08-17",{"$f":"IFERROR(IF(VLOOKUP($B963,Übersichtsblatt!$J$64:$M$68,2,FALSE)=0,\"\",VLOOKUP($B963,Übersichtsblatt!$J$64:$M$68,2,FALSE)),\"\")","v":""},0,-5.5,null,2025,"2025-08-17",{"$f":"IFERROR(IF(VLOOKUP($H963,Übersichtsblatt!$J$14:$M$24,2,FALSE)=0,\"\",VLOOKUP(H963,Übersichtsblatt!$J$14:$M$24,2,FALSE)),\"\")","v":""},0,5.5]
[2025,"2025-08-18",{"$f":"IFERROR(IF(VLOOKUP($B964,Übersichtsblatt!$J$64:$M$68,2,FALSE)=0,\"\",VLOOKUP($B964,Übersichtsblatt!$J$64:$M$68,2,FALSE)),\"\")","v":""},0,-5.5,null,2025,"2025-08-18",{"$f":"IFERROR(IF(VLOOKUP($H964,Übersichtsblatt!$J$14:$M$24,2,FALSE)=0,\"\",VLOOKUP(H964,Übersichtsblatt!$J$14:$M$24,2,FALSE)),\"\")","v":""},0,5.5]
[2025,"2025-08-19",{"$f":"IFERROR(IF(VLOOKUP($B965,Übersichtsblatt!$J$64:$M$68,2,FALSE)=0,\"\",VLOOKUP($B965,Übersichtsblatt!$J$64:$M$68,2,FALSE)),\"\")","v":""},0,-5.5,null,2025,"2025-08-19",{"$f":"IFERROR(IF(VLOOKUP($H965,Übersichtsblatt!$J$14:$M$24,2,FALSE)=0,\"\",VLOOKUP(H965,Übersichtsblatt!$J$14:$M$24,2,FALSE)),\"\")","v":""},0,5.5]
[2025,"2025-08-20",{"$f":"IFERROR(IF(VLOOKUP($B966,Übersichtsblatt!$J$64:$M$68,2,FALSE)=0,\"\",VLOOKUP($B966,Übersichtsblatt!$J$64:$M$68,2,FALSE)),\"\")","v":""},{"$f":"IF($C966=\"\",0,$E966)","v":0},-5.5,null,2025,"2025-08-20",{"$f":"IFERROR(IF(VLOOKUP($H966,Übersichtsblatt!$J$14:$M$24,2,FALSE)=0,\"\",VLOOKUP(H966,Übersichtsblatt!$J$14:$M$24,2,FALSE)),\"\")","v":""},{"$f":"IF($I966=\"\",0,$K966)","v":0},5.5]
[{"$f":"YEAR(B967)","v":2025},{"$f":"B966+1","v":"2025-08-21"},{"$f":"IFERROR(IF(VLOOKUP($B967,Übersichtsblatt!$J$64:$M$68,2,FALSE)=0,\"\",VLOOKUP($B967,Übersichtsblatt!$J$64:$M$68,2,FALSE)),\"\")","v":""},0,-5.5,null,{"$f":"YEAR(H967)","v":2025},{"$f":"H966+1","v":"2025-08-21"},{"$f":"IFERROR(IF(VLOOKUP($H967,Übersichtsblatt!$J$14:$M$24,2,FALSE)=0,\"\",VLOOKUP(H967,Übersichtsblatt!$J$14:$M$24,2,FALSE)),\"\")","v":""},0,5.5]
[2025,"2025-08-22",{"$f":"IFERROR(IF(VLOOKUP($B968,Übersichtsblatt!$J$64:$M$68,2,FALSE)=0,\"\",VLOOKUP($B968,Übersichtsblatt!$J$64:$M$68,2,FALSE)),\"\")","v":""},0,-5.5,null,2025,"2025-08-22",{"$f":"IFERROR(IF(VLOOKUP($H968,Übersichtsblatt!$J$14:$M$24,2,FALSE)=0,\"\",VLOOKUP(H968,Übersichtsblatt!$J$14:$M$24,2,FALSE)),\"\")","v":""},0,5.5]
[2025,"2025-08-23",{"$f":"IFERROR(IF(VLOOKUP($B969,Übersichtsblatt!$J$64:$M$68,2,FALSE)=0,\"\",VLOOKUP($B969,Übersichtsblatt!$J$64:$M$68,2,FALSE)),\"\")","v":""},0,-5.5,null,2025,"2025-08-23",{"$f":"IFERROR(IF(VLOOKUP($H969,Übersichtsblatt!$J$14:$M$24,2,FALSE)=0,\"\",VLOOKUP(H969,Übersichtsblatt!$J$14:$M$24,2,FALSE)),\"\")","v":""},0,5.5]
[2025,"2025-08-24",{"$f":"IFERROR(IF(VLOOKUP($B970,Übersichtsblatt!$J$64:$M$68,2,FALSE)=0,\"\",VLOOKUP($B970,Übersichtsblatt!$J$64:$M$68,2,FALSE)),\"\")","v":""},0,-5.5,null,2025,"2025-08-24",{"$f":"IFERROR(IF(VLOOKUP($H970,Übersichtsblatt!$J$14:$M$24,2,FALSE)=0,\"\",VLOOKUP(H970,Übersichtsblatt!$J$14:$M$24,2,FALSE)),\"\")","v":""},0,5.5]
[2025,"2025-08-25",{"$f":"IFERROR(IF(VLOOKUP($B971,Übersichtsblatt!$J$64:$M$68,2,FALSE)=0,\"\",VLOOKUP($B971,Übersichtsblatt!$J$64:$M$68,2,FALSE)),\"\")","v":""},0,-5.5,null,2025,"2025-08-25",{"$f":"IFERROR(IF(VLOOKUP($H971,Übersichtsblatt!$J$14:$M$24,2,FALSE)=0,\"\",VLOOKUP(H971,Übersichtsblatt!$J$14:$M$24,2,FALSE)),\"\")","v":""},0,5.5]
[2025,"2025-08-26",{"$f":"IFERROR(IF(VLOOKUP($B972,Übersichtsblatt!$J$64:$M$68,2,FALSE)=0,\"\",VLOOKUP($B972,Übersichtsblatt!$J$64:$M$68,2,FALSE)),\"\")","v":""},0,-5.5,null,2025,"2025-08-26",{"$f":"IFERROR(IF(VLOOKUP($H972,Übersichtsblatt!$J$14:$M$24,2,FALSE)=0,\"\",VLOOKUP(H972,Übersichtsblatt!$J$14:$M$24,2,FALSE)),\"\")","v":""},0,5.5]
[2025,"2025-08-27",{"$f":"IFERROR(IF(VLOOKUP($B973,Übersichtsblatt!$J$64:$M$68,2,FALSE)=0,\"\",VLOOKUP($B973,Übersichtsblatt!$J$64:$M$68,2,FALSE)),\"\")","v":""},0,-5.5,null,2025,"2025-08-27",{"$f":"IFERROR(IF(VLOOKUP($H973,Übersichtsblatt!$J$14:$M$24,2,FALSE)=0,\"\",VLOOKUP(H973,Übersichtsblatt!$J$14:$M$24,2,FALSE)),\"\")","v":""},0,5.5]
[2025,"2025-08-28",{"$f":"IFERROR(IF(VLOOKUP($B974,Übersichtsblatt!$J$64:$M$68,2,FALSE)=0,\"\",VLOOKUP($B974,Übersichtsblatt!$J$64:$M$68,2,FALSE)),\"\")","v":""},0,-5.5,null,2025,"2025-08-28",{"$f":"IFERROR(IF(VLOOKUP($H974,Übersichtsblatt!$J$14:$M$24,2,FALSE)=0,\"\",VLOOKUP(H974,Übersichtsblatt!$J$14:$M$24,2,FALSE)),\"\")","v":""},0,5.5]
[2025,"2025-08-29",{"$f":"IFERROR(IF(VLOOKUP($B975,Übersichtsblatt!$J$64:$M$68,2,FALSE)=0,\"\",VLOOKUP($B975,Übersichtsblatt!$J$64:$M$68,2,FALSE)),\"\")","v":""},0,-5.5,null,2025,"2025-08-29",{"$f":"IFERROR(IF(VLOOKUP($H975,Übersichtsblatt!$J$14:$M$24,2,FALSE)=0,\"\",VLOOKUP(H975,Übersichtsblatt!$J$14:$M$24,2,FALSE)),\"\")","v":""},0,5.5]
[2025,"2025-08-30",{"$f":"IFERROR(IF(VLOOKUP($B976,Übersichtsblatt!$J$64:$M$68,2,FALSE)=0,\"\",VLOOKUP($B976,Übersichtsblatt!$J$64:$M$68,2,FALSE)),\"\")","v":""},0,-5.5,null,2025,"2025-08-30",{"$f":"IFERROR(IF(VLOOKUP($H976,Übersichtsblatt!$J$14:$M$24,2,FALSE)=0,\"\",VLOOKUP(H976,Übersichtsblatt!$J$14:$M$24,2,FALSE)),\"\")","v":""},0,5.5]
[2025,"2025-08-31",{"$f":"IFERROR(IF(VLOOKUP($B977,Übersichtsblatt!$J$64:$M$68,2,FALSE)=0,\"\",VLOOKUP($B977,Übersichtsblatt!$J$64:$M$68,2,FALSE)),\"\")","v":""},0,-5.5,null,2025,"2025-08-31",{"$f":"IFERROR(IF(VLOOKUP($H977,Übersichtsblatt!$J$14:$M$24,2,FALSE)=0,\"\",VLOOKUP(H977,Übersichtsblatt!$J$14:$M$24,2,FALSE)),\"\")","v":""},0,5.5]
[2025,"2025-09-01",{"$f":"IFERROR(IF(VLOOKUP($B978,Übersichtsblatt!$J$64:$M$68,2,FALSE)=0,\"\",VLOOKUP($B978,Übersichtsblatt!$J$64:$M$68,2,FALSE)),\"\")","v":""},0,-7.5,null,2025,"2025-09-01",{"$f":"IFERROR(IF(VLOOKUP($H978,Übersichtsblatt!$J$14:$M$24,2,FALSE)=0,\"\",VLOOKUP(H978,Übersichtsblatt!$J$14:$M$24,2,FALSE)),\"\")","v":""},0,7.5]
[2025,"2025-09-02",{"$f":"IFERROR(IF(VLOOKUP($B979,Übersichtsblatt!$J$64:$M$68,2,FALSE)=0,\"\",VLOOKUP($B979,Übersichtsblatt!$J$64:$M$68,2,FALSE)),\"\")","v":""},0,-7.5,null,2025,"2025-09-02",{"$f":"IFERROR(IF(VLOOKUP($H979,Übersichtsblatt!$J$14:$M$24,2,FALSE)=0,\"\",VLOOKUP(H979,Übersichtsblatt!$J$14:$M$24,2,FALSE)),\"\")","v":""},0,7.5]
[2025,"2025-09-03",{"$f":"IFERROR(IF(VLOOKUP($B980,Übersichtsblatt!$J$64:$M$68,2,FALSE)=0,\"\",VLOOKUP($B980,Übersichtsblatt!$J$64:$M$68,2,FALSE)),\"\")","v":""},0,-7.5,null,2025,"2025-09-03",{"$f":"IFERROR(IF(VLOOKUP($H980,Übersichtsblatt!$J$14:$M$24,2,FALSE)=0,\"\",VLOOKUP(H980,Übersichtsblatt!$J$14:$M$24,2,FALSE)),\"\")","v":""},0,7.5]
[2025,"2025-09-04",{"$f":"IFERROR(IF(VLOOKUP($B981,Übersichtsblatt!$J$64:$M$68,2,FALSE)=0,\"\",VLOOKUP($B981,Übersichtsblatt!$J$64:$M$68,2,FALSE)),\"\")","v":""},0,-7.5,null,2025,"2025-09-04",{"$f":"IFERROR(IF(VLOOKUP($H981,Übersichtsblatt!$J$14:$M$24,2,FALSE)=0,\"\",VLOOKUP(H981,Übersichtsblatt!$J$14:$M$24,2,FALSE)),\"\")","v":""},0,7.5]
[2025,"2025-09-05",{"$f":"IFERROR(IF(VLOOKUP($B982,Übersichtsblatt!$J$64:$M$68,2,FALSE)=0,\"\",VLOOKUP($B982,Übersichtsblatt!$J$64:$M$68,2,FALSE)),\"\")","v":""},0,-7.5,null,2025,"2025-09-05",{"$f":"IFERROR(IF(VLOOKUP($H982,Übersichtsblatt!$J$14:$M$24,2,FALSE)=0,\"\",VLOOKUP(H982,Übersichtsblatt!$J$14:$M$24,2,FALSE)),\"\")","v":""},0,7.5]
[2025,"2025-09-06",{"$f":"IFERROR(IF(VLOOKUP($B983,Übersichtsblatt!$J$64:$M$68,2,FALSE)=0,\"\",VLOOKUP($B983,Übersichtsblatt!$J$64:$M$68,2,FALSE)),\"\")","v":""},0,-7.5,null,2025,"2025-09-06",{"$f":"IFERROR(IF(VLOOKUP($H983,Übersichtsblatt!$J$14:$M$24,2,FALSE)=0,\"\",VLOOKUP(H983,Übersichtsblatt!$J$14:$M$24,2,FALSE)),\"\")","v":""},0,7.5]
[2025,"2025-09-07",{"$f":"IFERROR(IF(VLOOKUP($B984,Übersichtsblatt!$J$64:$M$68,2,FALSE)=0,\"\",VLOOKUP($B984,Übersichtsblatt!$J$64:$M$68,2,FALSE)),\"\")","v":""},0,-7.5,null,2025,"2025-09-07",{"$f":"IFERROR(IF(VLOOKUP($H984,Übersichtsblatt!$J$14:$M$24,2,FALSE)=0,\"\",VLOOKUP(H984,Übersichtsblatt!$J$14:$M$24,2,FALSE)),\"\")","v":""},0,7.5]
[2025,"2025-09-08",{"$f":"IFERROR(IF(VLOOKUP($B985,Übersichtsblatt!$J$64:$M$68,2,FALSE)=0,\"\",VLOOKUP($B985,Übersichtsblatt!$J$64:$M$68,2,FALSE)),\"\")","v":""},0,-7.5,null,2025,"2025-09-08",{"$f":"IFERROR(IF(VLOOKUP($H985,Übersichtsblatt!$J$14:$M$24,2,FALSE)=0,\"\",VLOOKUP(H985,Übersichtsblatt!$J$14:$M$24,2,FALSE)),\"\")","v":""},0,7.5]
[2025,"2025-09-09",{"$f":"IFERROR(IF(VLOOKUP($B986,Übersichtsblatt!$J$64:$M$68,2,FALSE)=0,\"\",VLOOKUP($B986,Übersichtsblatt!$J$64:$M$68,2,FALSE)),\"\")","v":""},0,-7.5,null,2025,"2025-09-09",{"$f":"IFERROR(IF(VLOOKUP($H986,Übersichtsblatt!$J$14:$M$24,2,FALSE)=0,\"\",VLOOKUP(H986,Übersichtsblatt!$J$14:$M$24,2,FALSE)),\"\")","v":""},0,7.5]
[2025,"2025-09-10",{"$f":"IFERROR(IF(VLOOKUP($B987,Übersichtsblatt!$J$64:$M$68,2,FALSE)=0,\"\",VLOOKUP($B987,Übersichtsblatt!$J$64:$M$68,2,FALSE)),\"\")","v":""},0,-7.5,null,2025,"2025-09-10",{"$f":"IFERROR(IF(VLOOKUP($H987,Übersichtsblatt!$J$14:$M$24,2,FALSE)=0,\"\",VLOOKUP(H987,Übersichtsblatt!$J$14:$M$24,2,FALSE)),\"\")","v":""},0,7.5]
[2025,"2025-09-11",{"$f":"IFERROR(IF(VLOOKUP($B988,Übersichtsblatt!$J$64:$M$68,2,FALSE)=0,\"\",VLOOKUP($B988,Übersichtsblatt!$J$64:$M$68,2,FALSE)),\"\")","v":""},0,-7.5,null,2025,"2025-09-11",{"$f":"IFERROR(IF(VLOOKUP($H988,Übersichtsblatt!$J$14:$M$24,2,FALSE)=0,\"\",VLOOKUP(H988,Übersichtsblatt!$J$14:$M$24,2,FALSE)),\"\")","v":""},0,7.5]
[2025,"2025-09-12",{"$f":"IFERROR(IF(VLOOKUP($B989,Übersichtsblatt!$J$64:$M$68,2,FALSE)=0,\"\",VLOOKUP($B989,Übersichtsblatt!$J$64:$M$68,2,FALSE)),\"\")","v":""},0,-7.5,null,2025,"2025-09-12",{"$f":"IFERROR(IF(VLOOKUP($H989,Übersichtsblatt!$J$14:$M$24,2,FALSE)=0,\"\",VLOOKUP(H989,Übersichtsblatt!$J$14:$M$24,2,FALSE)),\"\")","v":""},0,7.5]
[2025,"2025-09-13",{"$f":"IFERROR(IF(VLOOKUP($B990,Übersichtsblatt!$J$64:$M$68,2,FALSE)=0,\"\",VLOOKUP($B990,Übersichtsblatt!$J$64:$M$68,2,FALSE)),\"\")","v":""},0,-7.5,null,2025,"2025-09-13",{"$f":"IFERROR(IF(VLOOKUP($H990,Übersichtsblatt!$J$14:$M$24,2,FALSE)=0,\"\",VLOOKUP(H990,Übersichtsblatt!$J$14:$M$24,2,FALSE)),\"\")","v":""},0,7.5]
[2025,"2025-09-14",{"$f":"IFERROR(IF(VLOOKUP($B991,Übersichtsblatt!$J$64:$M$68,2,FALSE)=0,\"\",VLOOKUP($B991,Übersichtsblatt!$J$64:$M$68,2,FALSE)),\"\")","v":""},0,-7.5,null,2025,"2025-09-14",{"$f":"IFERROR(IF(VLOOKUP($H991,Übersichtsblatt!$J$14:$M$24,2,FALSE)=0,\"\",VLOOKUP(H991,Übersichtsblatt!$J$14:$M$24,2,FALSE)),\"\")","v":""},0,7.5]
[2025,"2025-09-15",{"$f":"IFERROR(IF(VLOOKUP($B992,Übersichtsblatt!$J$64:$M$68,2,FALSE)=0,\"\",VLOOKUP($B992,Übersichtsblatt!$J$64:$M$68,2,FALSE)),\"\")","v":""},0,-7.5,null,2025,"2025-09-15",{"$f":"IFERROR(IF(VLOOKUP($H992,Übersichtsblatt!$J$14:$M$24,2,FALSE)=0,\"\",VLOOKUP(H992,Übersichtsblatt!$J$14:$M$24,2,FALSE)),\"\")","v":""},0,7.5]
[2025,"2025-09-16",{"$f":"IFERROR(IF(VLOOKUP($B993,Übersichtsblatt!$J$64:$M$68,2,FALSE)=0,\"\",VLOOKUP($B993,Übersichtsblatt!$J$64:$M$68,2,FALSE)),\"\")","v":""},0,-7.5,null,2025,"2025-09-16",{"$f":"IFERROR(IF(VLOOKUP($H993,Übersichtsblatt!$J$14:$M$24,2,FALSE)=0,\"\",VLOOKUP(H993,Übersichtsblatt!$J$14:$M$24,2,FALSE)),\"\")","v":""},0,7.5]
[2025,"2025-09-17",{"$f":"IFERROR(IF(VLOOKUP($B994,Übersichtsblatt!$J$64:$M$68,2,FALSE)=0,\"\",VLOOKUP($B994,Übersichtsblatt!$J$64:$M$68,2,FALSE)),\"\")","v":""},0,-7.5,null,2025,"2025-09-17",{"$f":"IFERROR(IF(VLOOKUP($H994,Übersichtsblatt!$J$14:$M$24,2,FALSE)=0,\"\",VLOOKUP(H994,Übersichtsblatt!$J$14:$M$24,2,FALSE)),\"\")","v":""},0,7.5]
[2025,"2025-09-18",{"$f":"IFERROR(IF(VLOOKUP($B995,Übersichtsblatt!$J$64:$M$68,2,FALSE)=0,\"\",VLOOKUP($B995,Übersichtsblatt!$J$64:$M$68,2,FALSE)),\"\")","v":""},0,-7.5,null,2025,"2025-09-18",{"$f":"IFERROR(IF(VLOOKUP($H995,Übersichtsblatt!$J$14:$M$24,2,FALSE)=0,\"\",VLOOKUP(H995,Übersichtsblatt!$J$14:$M$24,2,FALSE)),\"\")","v":""},0,7.5]
[2025,"2025-09-19",{"$f":"IFERROR(IF(VLOOKUP($B996,Übersichtsblatt!$J$64:$M$68,2,FALSE)=0,\"\",VLOOKUP($B996,Übersichtsblatt!$J$64:$M$68,2,FALSE)),\"\")","v":""},0,-7.5,null,2025,"2025-09-19",{"$f":"IFERROR(IF(VLOOKUP($H996,Übersichtsblatt!$J$14:$M$24,2,FALSE)=0,\"\",VLOOKUP(H996,Übersichtsblatt!$J$14:$M$24,2,FALSE)),\"\")","v":""},0,7.5]
[2025,"2025-09-20",{"$f":"IFERROR(IF(VLOOKUP($B997,Übersichtsblatt!$J$64:$M$68,2,FALSE)=0,\"\",VLOOKUP($B997,Übersichtsblatt!$J$64:$M$68,2,FALSE)),\"\")","v":""},0,-7.5,null,2025,"2025-09-20",{"$f":"IFERROR(IF(VLOOKUP($H997,Übersichtsblatt!$J$14:$M$24,2,FALSE)=0,\"\",VLOOKUP(H997,Übersichtsblatt!$J$14:$M$24,2,FALSE)),\"\")","v":""},0,7.5]
[2025,"2025-09-21",{"$f":"IFERROR(IF(VLOOKUP($B998,Übersichtsblatt!$J$64:$M$68,2,FALSE)=0,\"\",VLOOKUP($B998,Übersichtsblatt!$J$64:$M$68,2,FALSE)),\"\")","v":""},0,-7.5,null,2025,"2025-09-21",{"$f":"IFERROR(IF(VLOOKUP($H998,Übersichtsblatt!$J$14:$M$24,2,FALSE)=0,\"\",VLOOKUP(H998,Übersichtsblatt!$J$14:$M$24,2,FALSE)),\"\")","v":""},0,7.5]
[2025,"2025-09-22",{"$f":"IFERROR(IF(VLOOKUP($B999,Übersichtsblatt!$J$64:$M$68,2,FALSE)=0,\"\",VLOOKUP($B999,Übersichtsblatt!$J$64:$M$68,2,FALSE)),\"\")","v":""},0,-7.5,null,2025,"2025-09-22",{"$f":"IFERROR(IF(VLOOKUP($H999,Übersichtsblatt!$J$14:$M$24,2,FALSE)=0,\"\",VLOOKUP(H999,Übersichtsblatt!$J$14:$M$24,2,FALSE)),\"\")","v":""},0,7.5]
[2025,"2025-09-23",{"$f":"IFERROR(IF(VLOOKUP($B1000,Übersichtsblatt!$J$64:$M$68,2,FALSE)=0,\"\",VLOOKUP($B1000,Übersichtsblatt!$J$64:$M$68,2,FALSE)),\"\")","v":""},0,-7.5,null,2025,"2025-09-23",{"$f":"IFERROR(IF(VLOOKUP($H1000,Übersichtsblatt!$J$14:$M$24,2,FALSE)=0,\"\",VLOOKUP(H1000,Übersichtsblatt!$J$14:$M$24,2,FALSE)),\"\")","v":""},0,7.5]
[2025,"2025-09-24",{"$f":"IFERROR(IF(VLOOKUP($B1001,Übersichtsblatt!$J$64:$M$68,2,FALSE)=0,\"\",VLOOKUP($B1001,Übersichtsblatt!$J$64:$M$68,2,FALSE)),\"\")","v":""},0,-7.5,null,2025,"2025-09-24",{"$f":"IFERROR(IF(VLOOKUP($H1001,Übersichtsblatt!$J$14:$M$24,2,FALSE)=0,\"\",VLOOKUP(H1001,Übersichtsblatt!$J$14:$M$24,2,FALSE)),\"\")","v":""},0,7.5]
[2025,"2025-09-25",{"$f":"IFERROR(IF(VLOOKUP($B1002,Übersichtsblatt!$J$64:$M$68,2,FALSE)=0,\"\",VLOOKUP($B1002,Übersichtsblatt!$J$64:$M$68,2,FALSE)),\"\")","v":""},0,-7.5,null,2025,"2025-09-25",{"$f":"IFERROR(IF(VLOOKUP($H1002,Übersichtsblatt!$J$14:$M$24,2,FALSE)=0,\"\",VLOOKUP(H1002,Übersichtsblatt!$J$14:$M$24,2,FALSE)),\"\")","v":""},0,7.5]
[2025,"2025-09-26",{"$f":"IFERROR(IF(VLOOKUP($B1003,Übersichtsblatt!$J$64:$M$68,2,FALSE)=0,\"\",VLOOKUP($B1003,Übersichtsblatt!$J$64:$M$68,2,FALSE)),\"\")","v":""},0,-7.5,null,2025,"2025-09-26",{"$f":"IFERROR(IF(VLOOKUP($H1003,Übersichtsblatt!$J$14:$M$24,2,FALSE)=0,\"\",VLOOKUP(H1003,Übersichtsblatt!$J$14:$M$24,2,FALSE)),\"\")","v":""},0,7.5]
[2025,"2025-09-27",{"$f":"IFERROR(IF(VLOOKUP($B1004,Übersichtsblatt!$J$64:$M$68,2,FALSE)=0,\"\",VLOOKUP($B1004,Übersichtsblatt!$J$64:$M$68,2,FALSE)),\"\")","v":""},0,-7.5,null,2025,"2025-09-27",{"$f":"IFERROR(IF(VLOOKUP($H1004,Übersichtsblatt!$J$14:$M$24,2,FALSE)=0,\"\",VLOOKUP(H1004,Übersichtsblatt!$J$14:$M$24,2,FALSE)),\"\")","v":""},0,7.5]
[2025,"2025-09-28",{"$f":"IFERROR(IF(VLOOKUP($B1005,Übersichtsblatt!$J$64:$M$68,2,FALSE)=0,\"\",VLOOKUP($B1005,Übersichtsblatt!$J$64:$M$68,2,FALSE)),\"\")","v":""},0,-7.5,null,2025,"2025-09-28",{"$f":"IFERROR(IF(VLOOKUP($H1005,Übersichtsblatt!$J$14:$M$24,2,FALSE)=0,\"\",VLOOKUP(H1005,Übersichtsblatt!$J$14:$M$24,2,FALSE)),\"\")","v":""},0,7.5]
[2025,"2025-09-29",{"$f":"IFERROR(IF(VLOOKUP($B1006,Übersichtsblatt!$J$64:$M$68,2,FALSE)=0,\"\",VLOOKUP($B1006,Übersichtsblatt!$J$64:$M$68,2,FALSE)),\"\")","v":""},0,-7.5,null,2025,"2025-09-29",{"$f":"IFERROR(IF(VLOOKUP($H1006,Übersichtsblatt!$J$14:$M$24,2,FALSE)=0,\"\",VLOOKUP(H1006,Übersichtsblatt!$J$14:$M$24,2,FALSE)),\"\")","v":""},0,7.5]
[2025,"2025-09-30",{"$f":"IFERROR(IF(VLOOKUP($B1007,Übersichtsblatt!$J$64:$M$68,2,FALSE)=0,\"\",VLOOKUP($B1007,Übersichtsblatt!$J$64:$M$68,2,FALSE)),\"\")","v":""},0,-7.5,null,2025,"2025-09-30",{"$f":"IFERROR(IF(VLOOKUP($H1007,Übersichtsblatt!$J$14:$M$24,2,FALSE)=0,\"\",VLOOKUP(H1007,Übersichtsblatt!$J$14:$M$24,2,FALSE)),\"\")","v":""},0,7.5]
[2025,"2025-10-01",{"$f":"IFERROR(IF(VLOOKUP($B1008,Übersichtsblatt!$J$64:$M$68,2,FALSE)=0,\"\",VLOOKUP($B1008,Übersichtsblatt!$J$64:$M$68,2,FALSE)),\"\")","v":""},0,-4.5,null,2025,"2025-10-01",{"$f":"IFERROR(IF(VLOOKUP($H1008,Übersichtsblatt!$J$14:$M$24,2,FALSE)=0,\"\",VLOOKUP(H1008,Übersichtsblatt!$J$14:$M$24,2,FALSE)),\"\")","v":""},0,4.5]
[2025,"2025-10-02",{"$f":"IFERROR(IF(VLOOKUP($B1009,Übersichtsblatt!$J$64:$M$68,2,FALSE)=0,\"\",VLOOKUP($B1009,Übersichtsblatt!$J$64:$M$68,2,FALSE)),\"\")","v":""},0,-4.5,null,2025,"2025-10-02",{"$f":"IFERROR(IF(VLOOKUP($H1009,Übersichtsblatt!$J$14:$M$24,2,FALSE)=0,\"\",VLOOKUP(H1009,Übersichtsblatt!$J$14:$M$24,2,FALSE)),\"\")","v":""},0,4.5]
[2025,"2025-10-03",{"$f":"IFERROR(IF(VLOOKUP($B1010,Übersichtsblatt!$J$64:$M$68,2,FALSE)=0,\"\",VLOOKUP($B1010,Übersichtsblatt!$J$64:$M$68,2,FALSE)),\"\")","v":""},0,-4.5,null,2025,"2025-10-03",{"$f":"IFERROR(IF(VLOOKUP($H1010,Übersichtsblatt!$J$14:$M$24,2,FALSE)=0,\"\",VLOOKUP(H1010,Übersichtsblatt!$J$14:$M$24,2,FALSE)),\"\")","v":""},0,4.5]
[2025,"2025-10-04",{"$f":"IFERROR(IF(VLOOKUP($B1011,Übersichtsblatt!$J$64:$M$68,2,FALSE)=0,\"\",VLOOKUP($B1011,Übersichtsblatt!$J$64:$M$68,2,FALSE)),\"\")","v":""},0,-4.5,null,2025,"2025-10-04",{"$f":"IFERROR(IF(VLOOKUP($H1011,Übersichtsblatt!$J$14:$M$24,2,FALSE)=0,\"\",VLOOKUP(H1011,Übersichtsblatt!$J$14:$M$24,2,FALSE)),\"\")","v":""},0,4.5]
[2025,"2025-10-05",{"$f":"IFERROR(IF(VLOOKUP($B1012,Übersichtsblatt!$J$64:$M$68,2,FALSE)=0,\"\",VLOOKUP($B1012,Übersichtsblatt!$J$64:$M$68,2,FALSE)),\"\")","v":""},0,-4.5,null,2025,"2025-10-05",{"$f":"IFERROR(IF(VLOOKUP($H1012,Übersichtsblatt!$J$14:$M$24,2,FALSE)=0,\"\",VLOOKUP(H1012,Übersichtsblatt!$J$14:$M$24,2,FALSE)),\"\")","v":""},0,4.5]
[2025,"2025-10-06",{"$f":"IFERROR(IF(VLOOKUP($B1013,Übersichtsblatt!$J$64:$M$68,2,FALSE)=0,\"\",VLOOKUP($B1013,Übersichtsblatt!$J$64:$M$68,2,FALSE)),\"\")","v":""},0,-4.5,null,2025,"2025-10-06",{"$f":"IFERROR(IF(VLOOKUP($H1013,Übersichtsblatt!$J$14:$M$24,2,FALSE)=0,\"\",VLOOKUP(H1013,Übersichtsblatt!$J$14:$M$24,2,FALSE)),\"\")","v":""},0,4.5]
[2025,"2025-10-07",{"$f":"IFERROR(IF(VLOOKUP($B1014,Übersichtsblatt!$J$64:$M$68,2,FALSE)=0,\"\",VLOOKUP($B1014,Übersichtsblatt!$J$64:$M$68,2,FALSE)),\"\")","v":""},0,-4.5,null,2025,"2025-10-07",{"$f":"IFERROR(IF(VLOOKUP($H1014,Übersichtsblatt!$J$14:$M$24,2,FALSE)=0,\"\",VLOOKUP(H1014,Übersichtsblatt!$J$14:$M$24,2,FALSE)),\"\")","v":""},0,4.5]
[2025,"2025-10-08",{"$f":"IFERROR(IF(VLOOKUP($B1015,Übersichtsblatt!$J$64:$M$68,2,FALSE)=0,\"\",VLOOKUP($B1015,Übersichtsblatt!$J$64:$M$68,2,FALSE)),\"\")","v":""},0,-4.5,null,2025,"2025-10-08",{"$f":"IFERROR(IF(VLOOKUP($H1015,Übersichtsblatt!$J$14:$M$24,2,FALSE)=0,\"\",VLOOKUP(H1015,Übersichtsblatt!$J$14:$M$24,2,FALSE)),\"\")","v":""},0,4.5]
[2025,"2025-10-09",{"$f":"IFERROR(IF(VLOOKUP($B1016,Übersichtsblatt!$J$64:$M$68,2,FALSE)=0,\"\",VLOOKUP($B1016,Übersichtsblatt!$J$64:$M$68,2,FALSE)),\"\")","v":""},0,-4.5,null,2025,"2025-10-09",{"$f":"IFERROR(IF(VLOOKUP($H1016,Übersichtsblatt!$J$14:$M$24,2,FALSE)=0,\"\",VLOOKUP(H1016,Übersichtsblatt!$J$14:$M$24,2,FALSE)),\"\")","v":""},0,4.5]
[2025,"2025-10-10",{"$f":"IFERROR(IF(VLOOKUP($B1017,Übersichtsblatt!$J$64:$M$68,2,FALSE)=0,\"\",VLOOKUP($B1017,Übersichtsblatt!$J$64:$M$68,2,FALSE)),\"\")","v":""},0,-4.5,null,2025,"2025-10-10",{"$f":"IFERROR(IF(VLOOKUP($H1017,Übersichtsblatt!$J$14:$M$24,2,FALSE)=0,\"\",VLOOKUP(H1017,Übersichtsblatt!$J$14:$M$24,2,FALSE)),\"\")","v":""},0,4.5]
[2025,"2025-10-11",{"$f":"IFERROR(IF(VLOOKUP($B1018,Übersichtsblatt!$J$64:$M$68,2,FALSE)=0,\"\",VLOOKUP($B1018,Übersichtsblatt!$J$64:$M$68,2,FALSE)),\"\")","v":""},0,-4.5,null,2025,"2025-10-11",{"$f":"IFERROR(IF(VLOOKUP($H1018,Übersichtsblatt!$J$14:$M$24,2,FALSE)=0,\"\",VLOOKUP(H1018,Übersichtsblatt!$J$14:$M$24,2,FALSE)),\"\")","v":""},0,4.5]
[2025,"2025-10-12",{"$f":"IFERROR(IF(VLOOKUP($B1019,Übersichtsblatt!$J$64:$M$68,2,FALSE)=0,\"\",VLOOKUP($B1019,Übersichtsblatt!$J$64:$M$68,2,FALSE)),\"\")","v":""},0,-4.5,null,2025,"2025-10-12",{"$f":"IFERROR(IF(VLOOKUP($H1019,Übersichtsblatt!$J$14:$M$24,2,FALSE)=0,\"\",VLOOKUP(H1019,Übersichtsblatt!$J$14:$M$24,2,FALSE)),\"\")","v":""},0,4.5]
[2025,"2025-10-13",{"$f":"IFERROR(IF(VLOOKUP($B1020,Übersichtsblatt!$J$64:$M$68,2,FALSE)=0,\"\",VLOOKUP($B1020,Übersichtsblatt!$J$64:$M$68,2,FALSE)),\"\")","v":""},0,-4.5,null,2025,"2025-10-13",{"$f":"IFERROR(IF(VLOOKUP($H1020,Übersichtsblatt!$J$14:$M$24,2,FALSE)=0,\"\",VLOOKUP(H1020,Übersichtsblatt!$J$14:$M$24,2,FALSE)),\"\")","v":""},0,4.5]
[2025,"2025-10-14",{"$f":"IFERROR(IF(VLOOKUP($B1021,Übersichtsblatt!$J$64:$M$68,2,FALSE)=0,\"\",VLOOKUP($B1021,Übersichtsblatt!$J$64:$M$68,2,FALSE)),\"\")","v":""},0,-4.5,null,2025,"2025-10-14",{"$f":"IFERROR(IF(VLOOKUP($H1021,Übersichtsblatt!$J$14:$M$24,2,FALSE)=0,\"\",VLOOKUP(H1021,Übersichtsblatt!$J$14:$M$24,2,FALSE)),\"\")","v":""},0,4.5]
[2025,"2025-10-15",{"$f":"IFERROR(IF(VLOOKUP($B1022,Übersichtsblatt!$J$64:$M$68,2,FALSE)=0,\"\",VLOOKUP($B1022,Übersichtsblatt!$J$64:$M$68,2,FALSE)),\"\")","v":""},0,-4.5,null,2025,"2025-10-15",{"$f":"IFERROR(IF(VLOOKUP($H1022,Übersichtsblatt!$J$14:$M$24,2,FALSE)=0,\"\",VLOOKUP(H1022,Übersichtsblatt!$J$14:$M$24,2,FALSE)),\"\")","v":""},0,4.5]
[2025,"2025-10-16",{"$f":"IFERROR(IF(VLOOKUP($B1023,Übersichtsblatt!$J$64:$M$68,2,FALSE)=0,\"\",VLOOKUP($B1023,Übersichtsblatt!$J$64:$M$68,2,FALSE)),\"\")","v":""},0,-4.5,null,2025,"2025-10-16",{"$f":"IFERROR(IF(VLOOKUP($H1023,Übersichtsblatt!$J$14:$M$24,2,FALSE)=0,\"\",VLOOKUP(H1023,Übersichtsblatt!$J$14:$M$24,2,FALSE)),\"\")","v":""},0,4.5]
[2025,"2025-10-17",{"$f":"IFERROR(IF(VLOOKUP($B1024,Übersichtsblatt!$J$64:$M$68,2,FALSE)=0,\"\",VLOOKUP($B1024,Übersichtsblatt!$J$64:$M$68,2,FALSE)),\"\")","v":""},0,-4.5,null,2025,"2025-10-17",{"$f":"IFERROR(IF(VLOOKUP($H1024,Übersichtsblatt!$J$14:$M$24,2,FALSE)=0,\"\",VLOOKUP(H1024,Übersichtsblatt!$J$14:$M$24,2,FALSE)),\"\")","v":""},0,4.5]
[2025,"2025-10-18",{"$f":"IFERROR(IF(VLOOKUP($B1025,Übersichtsblatt!$J$64:$M$68,2,FALSE)=0,\"\",VLOOKUP($B1025,Übersichtsblatt!$J$64:$M$68,2,FALSE)),\"\")","v":""},0,-4.5,null,2025,"2025-10-18",{"$f":"IFERROR(IF(VLOOKUP($H1025,Übersichtsblatt!$J$14:$M$24,2,FALSE)=0,\"\",VLOOKUP(H1025,Übersichtsblatt!$J$14:$M$24,2,FALSE)),\"\")","v":""},0,4.5]
[2025,"2025-10-19",{"$f":"IFERROR(IF(VLOOKUP($B1026,Übersichtsblatt!$J$64:$M$68,2,FALSE)=0,\"\",VLOOKUP($B1026,Übersichtsblatt!$J$64:$M$68,2,FALSE)),\"\")","v":""},0,-4.5,null,2025,"2025-10-19",{"$f":"IFERROR(IF(VLOOKUP($H1026,Übersichtsblatt!$J$14:$M$24,2,FALSE)=0,\"\",VLOOKUP(H1026,Übersichtsblatt!$J$14:$M$24,2,FALSE)),\"\")","v":""},0,4.5]
[2025,"2025-10-20",{"$f":"IFERROR(IF(VLOOKUP($B1027,Übersichtsblatt!$J$64:$M$68,2,FALSE)=0,\"\",VLOOKUP($B1027,Übersichtsblatt!$J$64:$M$68,2,FALSE)),\"\")","v":""},0,-4.5,null,2025,"2025-10-20",{"$f":"IFERROR(IF(VLOOKUP($H1027,Übersichtsblatt!$J$14:$M$24,2,FALSE)=0,\"\",VLOOKUP(H1027,Übersichtsblatt!$J$14:$M$24,2,FALSE)),\"\")","v":""},0,4.5]
[2025,"2025-10-21",{"$f":"IFERROR(IF(VLOOKUP($B1028,Übersichtsblatt!$J$64:$M$68,2,FALSE)=0,\"\",VLOOKUP($B1028,Übersichtsblatt!$J$64:$M$68,2,FALSE)),\"\")","v":""},0,-4.5,null,2025,"2025-10-21",{"$f":"IFERROR(IF(VLOOKUP($H1028,Übersichtsblatt!$J$14:$M$24,2,FALSE)=0,\"\",VLOOKUP(H1028,Übersichtsblatt!$J$14:$M$24,2,FALSE)),\"\")","v":""},0,4.5]
[2025,"2025-10-22",{"$f":"IFERROR(IF(VLOOKUP($B1029,Übersichtsblatt!$J$64:$M$68,2,FALSE)=0,\"\",VLOOKUP($B1029,Übersichtsblatt!$J$64:$M$68,2,FALSE)),\"\")","v":""},0,-4.5,null,2025,"2025-10-22",{"$f":"IFERROR(IF(VLOOKUP($H1029,Übersichtsblatt!$J$14:$M$24,2,FALSE)=0,\"\",VLOOKUP(H1029,Übersichtsblatt!$J$14:$M$24,2,FALSE)),\"\")","v":""},0,4.5]
[2025,"2025-10-23",{"$f":"IFERROR(IF(VLOOKUP($B1030,Übersichtsblatt!$J$64:$M$68,2,FALSE)=0,\"\",VLOOKUP($B1030,Übersichtsblatt!$J$64:$M$68,2,FALSE)),\"\")","v":""},{"$f":"IF($C1030=\"\",0,$E1030)","v":0},-4.5,null,2025,"2025-10-23",{"$f":"IFERROR(IF(VLOOKUP($H1030,Übersichtsblatt!$J$14:$M$24,2,FALSE)=0,\"\",VLOOKUP(H1030,Übersichtsblatt!$J$14:$M$24,2,FALSE)),\"\")","v":""},{"$f":"IF($I1030=\"\",0,$K1030)","v":0},4.5]
[{"$f":"YEAR(B1031)","v":2025},{"$f":"B1030+1","v":"2025-10-24"},{"$f":"IFERROR(IF(VLOOKUP($B1031,Übersichtsblatt!$J$64:$M$68,2,FALSE)=0,\"\",VLOOKUP($B1031,Übersichtsblatt!$J$64:$M$68,2,FALSE)),\"\")","v":""},0,-4.5,null,{"$f":"YEAR(H1031)","v":2025},{"$f":"H1030+1","v":"2025-10-24"},{"$f":"IFERROR(IF(VLOOKUP($H1031,Übersichtsblatt!$J$14:$M$24,2,FALSE)=0,\"\",VLOOKUP(H1031,Übersichtsblatt!$J$14:$M$24,2,FALSE)),\"\")","v":""},0,4.5]
[2025,"2025-10-25",{"$f":"IFERROR(IF(VLOOKUP($B1032,Übersichtsblatt!$J$64:$M$68,2,FALSE)=0,\"\",VLOOKUP($B1032,Übersichtsblatt!$J$64:$M$68,2,FALSE)),\"\")","v":""},0,-4.5,null,2025,"2025-10-25",{"$f":"IFERROR(IF(VLOOKUP($H1032,Übersichtsblatt!$J$14:$M$24,2,FALSE)=0,\"\",VLOOKUP(H1032,Übersichtsblatt!$J$14:$M$24,2,FALSE)),\"\")","v":""},0,4.5]
[2025,"2025-10-26",{"$f":"IFERROR(IF(VLOOKUP($B1033,Übersichtsblatt!$J$64:$M$68,2,FALSE)=0,\"\",VLOOKUP($B1033,Übersichtsblatt!$J$64:$M$68,2,FALSE)),\"\")","v":""},0,-4.5,null,2025,"2025-10-26",{"$f":"IFERROR(IF(VLOOKUP($H1033,Übersichtsblatt!$J$14:$M$24,2,FALSE)=0,\"\",VLOOKUP(H1033,Übersichtsblatt!$J$14:$M$24,2,FALSE)),\"\")","v":""},0,4.5]
[2025,"2025-10-27",{"$f":"IFERROR(IF(VLOOKUP($B1034,Übersichtsblatt!$J$64:$M$68,2,FALSE)=0,\"\",VLOOKUP($B1034,Übersichtsblatt!$J$64:$M$68,2,FALSE)),\"\")","v":""},0,-4.5,null,2025,"2025-10-27",{"$f":"IFERROR(IF(VLOOKUP($H1034,Übersichtsblatt!$J$14:$M$24,2,FALSE)=0,\"\",VLOOKUP(H1034,Übersichtsblatt!$J$14:$M$24,2,FALSE)),\"\")","v":""},0,4.5]
[2025,"2025-10-28",{"$f":"IFERROR(IF(VLOOKUP($B1035,Übersichtsblatt!$J$64:$M$68,2,FALSE)=0,\"\",VLOOKUP($B1035,Übersichtsblatt!$J$64:$M$68,2,FALSE)),\"\")","v":""},0,-4.5,null,2025,"2025-10-28",{"$f":"IFERROR(IF(VLOOKUP($H1035,Übersichtsblatt!$J$14:$M$24,2,FALSE)=0,\"\",VLOOKUP(H1035,Übersichtsblatt!$J$14:$M$24,2,FALSE)),\"\")","v":""},0,4.5]
[2025,"2025-10-29",{"$f":"IFERROR(IF(VLOOKUP($B1036,Übersichtsblatt!$J$64:$M$68,2,FALSE)=0,\"\",VLOOKUP($B1036,Übersichtsblatt!$J$64:$M$68,2,FALSE)),\"\")","v":""},0,-4.5,null,2025,"2025-10-29",{"$f":"IFERROR(IF(VLOOKUP($H1036,Übersichtsblatt!$J$14:$M$24,2,FALSE)=0,\"\",VLOOKUP(H1036,Übersichtsblatt!$J$14:$M$24,2,FALSE)),\"\")","v":""},0,4.5]
[2025,"2025-10-30",{"$f":"IFERROR(IF(VLOOKUP($B1037,Übersichtsblatt!$J$64:$M$68,2,FALSE)=0,\"\",VLOOKUP($B1037,Übersichtsblatt!$J$64:$M$68,2,FALSE)),\"\")","v":""},0,-4.5,null,2025,"2025-10-30",{"$f":"IFERROR(IF(VLOOKUP($H1037,Übersichtsblatt!$J$14:$M$24,2,FALSE)=0,\"\",VLOOKUP(H1037,Übersichtsblatt!$J$14:$M$24,2,FALSE)),\"\")","v":""},0,4.5]
[2025,"2025-10-31",{"$f":"IFERROR(IF(VLOOKUP($B1038,Übersichtsblatt!$J$64:$M$68,2,FALSE)=0,\"\",VLOOKUP($B1038,Übersichtsblatt!$J$64:$M$68,2,FALSE)),\"\")","v":""},0,-4.5,null,2025,"2025-10-31",{"$f":"IFERROR(IF(VLOOKUP($H1038,Übersichtsblatt!$J$14:$M$24,2,FALSE)=0,\"\",VLOOKUP(H1038,Übersichtsblatt!$J$14:$M$24,2,FALSE)),\"\")","v":""},0,4.5]
[2025,"2025-11-01",{"$f":"IFERROR(IF(VLOOKUP($B1039,Übersichtsblatt!$J$64:$M$68,2,FALSE)=0,\"\",VLOOKUP($B1039,Übersichtsblatt!$J$64:$M$68,2,FALSE)),\"\")","v":""},0,-13.5,null,2025,"2025-11-01",{"$f":"IFERROR(IF(VLOOKUP($H1039,Übersichtsblatt!$J$14:$M$24,2,FALSE)=0,\"\",VLOOKUP(H1039,Übersichtsblatt!$J$14:$M$24,2,FALSE)),\"\")","v":""},0,13.5]
[2025,"2025-11-02",{"$f":"IFERROR(IF(VLOOKUP($B1040,Übersichtsblatt!$J$64:$M$68,2,FALSE)=0,\"\",VLOOKUP($B1040,Übersichtsblatt!$J$64:$M$68,2,FALSE)),\"\")","v":""},0,-13.5,null,2025,"2025-11-02",{"$f":"IFERROR(IF(VLOOKUP($H1040,Übersichtsblatt!$J$14:$M$24,2,FALSE)=0,\"\",VLOOKUP(H1040,Übersichtsblatt!$J$14:$M$24,2,FALSE)),\"\")","v":""},0,13.5]
[2025,"2025-11-03",{"$f":"IFERROR(IF(VLOOKUP($B1041,Übersichtsblatt!$J$64:$M$68,2,FALSE)=0,\"\",VLOOKUP($B1041,Übersichtsblatt!$J$64:$M$68,2,FALSE)),\"\")","v":""},0,-13.5,null,2025,"2025-11-03",{"$f":"IFERROR(IF(VLOOKUP($H1041,Übersichtsblatt!$J$14:$M$24,2,FALSE)=0,\"\",VLOOKUP(H1041,Übersichtsblatt!$J$14:$M$24,2,FALSE)),\"\")","v":""},0,13.5]
[2025,"2025-11-04",{"$f":"IFERROR(IF(VLOOKUP($B1042,Übersichtsblatt!$J$64:$M$68,2,FALSE)=0,\"\",VLOOKUP($B1042,Übersichtsblatt!$J$64:$M$68,2,FALSE)),\"\")","v":""},0,-13.5,null,2025,"2025-11-04",{"$f":"IFERROR(IF(VLOOKUP($H1042,Übersichtsblatt!$J$14:$M$24,2,FALSE)=0,\"\",VLOOKUP(H1042,Übersichtsblatt!$J$14:$M$24,2,FALSE)),\"\")","v":""},0,13.5]
[2025,"2025-11-05",{"$f":"IFERROR(IF(VLOOKUP($B1043,Übersichtsblatt!$J$64:$M$68,2,FALSE)=0,\"\",VLOOKUP($B1043,Übersichtsblatt!$J$64:$M$68,2,FALSE)),\"\")","v":""},0,-13.5,null,2025,"2025-11-05",{"$f":"IFERROR(IF(VLOOKUP($H1043,Übersichtsblatt!$J$14:$M$24,2,FALSE)=0,\"\",VLOOKUP(H1043,Übersichtsblatt!$J$14:$M$24,2,FALSE)),\"\")","v":""},0,13.5]
[2025,"2025-11-06",{"$f":"IFERROR(IF(VLOOKUP($B1044,Übersichtsblatt!$J$64:$M$68,2,FALSE)=0,\"\",VLOOKUP($B1044,Übersichtsblatt!$J$64:$M$68,2,FALSE)),\"\")","v":""},0,-13.5,null,2025,"2025-11-06",{"$f":"IFERROR(IF(VLOOKUP($H1044,Übersichtsblatt!$J$14:$M$24,2,FALSE)=0,\"\",VLOOKUP(H1044,Übersichtsblatt!$J$14:$M$24,2,FALSE)),\"\")","v":""},0,13.5]
[2025,"2025-11-07",{"$f":"IFERROR(IF(VLOOKUP($B1045,Übersichtsblatt!$J$64:$M$68,2,FALSE)=0,\"\",VLOOKUP($B1045,Übersichtsblatt!$J$64:$M$68,2,FALSE)),\"\")","v":""},0,-13.5,null,2025,"2025-11-07",{"$f":"IFERROR(IF(VLOOKUP($H1045,Übersichtsblatt!$J$14:$M$24,2,FALSE)=0,\"\",VLOOKUP(H1045,Übersichtsblatt!$J$14:$M$24,2,FALSE)),\"\")","v":""},0,13.5]
[2025,"2025-11-08",{"$f":"IFERROR(IF(VLOOKUP($B1046,Übersichtsblatt!$J$64:$M$68,2,FALSE)=0,\"\",VLOOKUP($B1046,Übersichtsblatt!$J$64:$M$68,2,FALSE)),\"\")","v":""},0,-13.5,null,2025,"2025-11-08",{"$f":"IFERROR(IF(VLOOKUP($H1046,Übersichtsblatt!$J$14:$M$24,2,FALSE)=0,\"\",VLOOKUP(H1046,Übersichtsblatt!$J$14:$M$24,2,FALSE)),\"\")","v":""},0,13.5]
[2025,"2025-11-09",{"$f":"IFERROR(IF(VLOOKUP($B1047,Übersichtsblatt!$J$64:$M$68,2,FALSE)=0,\"\",VLOOKUP($B1047,Übersichtsblatt!$J$64:$M$68,2,FALSE)),\"\")","v":""},0,-13.5,null,2025,"2025-11-09",{"$f":"IFERROR(IF(VLOOKUP($H1047,Übersichtsblatt!$J$14:$M$24,2,FALSE)=0,\"\",VLOOKUP(H1047,Übersichtsblatt!$J$14:$M$24,2,FALSE)),\"\")","v":""},0,13.5]
[2025,"2025-11-10",{"$f":"IFERROR(IF(VLOOKUP($B1048,Übersichtsblatt!$J$64:$M$68,2,FALSE)=0,\"\",VLOOKUP($B1048,Übersichtsblatt!$J$64:$M$68,2,FALSE)),\"\")","v":""},0,-13.5,null,2025,"2025-11-10",{"$f":"IFERROR(IF(VLOOKUP($H1048,Übersichtsblatt!$J$14:$M$24,2,FALSE)=0,\"\",VLOOKUP(H1048,Übersichtsblatt!$J$14:$M$24,2,FALSE)),\"\")","v":""},0,13.5]
[2025,"2025-11-11",{"$f":"IFERROR(IF(VLOOKUP($B1049,Übersichtsblatt!$J$64:$M$68,2,FALSE)=0,\"\",VLOOKUP($B1049,Übersichtsblatt!$J$64:$M$68,2,FALSE)),\"\")","v":""},0,-13.5,null,2025,"2025-11-11",{"$f":"IFERROR(IF(VLOOKUP($H1049,Übersichtsblatt!$J$14:$M$24,2,FALSE)=0,\"\",VLOOKUP(H1049,Übersichtsblatt!$J$14:$M$24,2,FALSE)),\"\")","v":""},0,13.5]
[2025,"2025-11-12",{"$f":"IFERROR(IF(VLOOKUP($B1050,Übersichtsblatt!$J$64:$M$68,2,FALSE)=0,\"\",VLOOKUP($B1050,Übersichtsblatt!$J$64:$M$68,2,FALSE)),\"\")","v":""},0,-13.5,null,2025,"2025-11-12",{"$f":"IFERROR(IF(VLOOKUP($H1050,Übersichtsblatt!$J$14:$M$24,2,FALSE)=0,\"\",VLOOKUP(H1050,Übersichtsblatt!$J$14:$M$24,2,FALSE)),\"\")","v":""},0,13.5]
[2025,"2025-11-13",{"$f":"IFERROR(IF(VLOOKUP($B1051,Übersichtsblatt!$J$64:$M$68,2,FALSE)=0,\"\",VLOOKUP($B1051,Übersichtsblatt!$J$64:$M$68,2,FALSE)),\"\")","v":""},0,-13.5,null,2025,"2025-11-13",{"$f":"IFERROR(IF(VLOOKUP($H1051,Übersichtsblatt!$J$14:$M$24,2,FALSE)=0,\"\",VLOOKUP(H1051,Übersichtsblatt!$J$14:$M$24,2,FALSE)),\"\")","v":""},0,13.5]
[2025,"2025-11-14",{"$f":"IFERROR(IF(VLOOKUP($B1052,Übersichtsblatt!$J$64:$M$68,2,FALSE)=0,\"\",VLOOKUP($B1052,Übersichtsblatt!$J$64:$M$68,2,FALSE)),\"\")","v":""},0,-13.5,null,2025,"2025-11-14",{"$f":"IFERROR(IF(VLOOKUP($H1052,Übersichtsblatt!$J$14:$M$24,2,FALSE)=0,\"\",VLOOKUP(H1052,Übersichtsblatt!$J$14:$M$24,2,FALSE)),\"\")","v":""},0,13.5]
[2025,"2025-11-15",{"$f":"IFERROR(IF(VLOOKUP($B1053,Übersichtsblatt!$J$64:$M$68,2,FALSE)=0,\"\",VLOOKUP($B1053,Übersichtsblatt!$J$64:$M$68,2,FALSE)),\"\")","v":""},0,-13.5,null,2025,"2025-11-15",{"$f":"IFERROR(IF(VLOOKUP($H1053,Übersichtsblatt!$J$14:$M$24,2,FALSE)=0,\"\",VLOOKUP(H1053,Übersichtsblatt!$J$14:$M$24,2,FALSE)),\"\")","v":""},0,13.5]
[2025,"2025-11-16",{"$f":"IFERROR(IF(VLOOKUP($B1054,Übersichtsblatt!$J$64:$M$68,2,FALSE)=0,\"\",VLOOKUP($B1054,Übersichtsblatt!$J$64:$M$68,2,FALSE)),\"\")","v":""},0,-13.5,null,2025,"2025-11-16",{"$f":"IFERROR(IF(VLOOKUP($H1054,Übersichtsblatt!$J$14:$M$24,2,FALSE)=0,\"\",VLOOKUP(H1054,Übersichtsblatt!$J$14:$M$24,2,FALSE)),\"\")","v":""},0,13.5]
[2025,"2025-11-17",{"$f":"IFERROR(IF(VLOOKUP($B1055,Übersichtsblatt!$J$64:$M$68,2,FALSE)=0,\"\",VLOOKUP($B1055,Übersichtsblatt!$J$64:$M$68,2,FALSE)),\"\")","v":""},0,-13.5,null,2025,"2025-11-17",{"$f":"IFERROR(IF(VLOOKUP($H1055,Übersichtsblatt!$J$14:$M$24,2,FALSE)=0,\"\",VLOOKUP(H1055,Übersichtsblatt!$J$14:$M$24,2,FALSE)),\"\")","v":""},0,13.5]
[2025,"2025-11-18",{"$f":"IFERROR(IF(VLOOKUP($B1056,Übersichtsblatt!$J$64:$M$68,2,FALSE)=0,\"\",VLOOKUP($B1056,Übersichtsblatt!$J$64:$M$68,2,FALSE)),\"\")","v":""},0,-13.5,null,2025,"2025-11-18",{"$f":"IFERROR(IF(VLOOKUP($H1056,Übersichtsblatt!$J$14:$M$24,2,FALSE)=0,\"\",VLOOKUP(H1056,Übersichtsblatt!$J$14:$M$24,2,FALSE)),\"\")","v":""},0,13.5]
[2025,"2025-11-19",{"$f":"IFERROR(IF(VLOOKUP($B1057,Übersichtsblatt!$J$64:$M$68,2,FALSE)=0,\"\",VLOOKUP($B1057,Übersichtsblatt!$J$64:$M$68,2,FALSE)),\"\")","v":""},0,-13.5,null,2025,"2025-11-19",{"$f":"IFERROR(IF(VLOOKUP($H1057,Übersichtsblatt!$J$14:$M$24,2,FALSE)=0,\"\",VLOOKUP(H1057,Übersichtsblatt!$J$14:$M$24,2,FALSE)),\"\")","v":""},0,13.5]
[2025,"2025-11-20",{"$f":"IFERROR(IF(VLOOKUP($B1058,Übersichtsblatt!$J$64:$M$68,2,FALSE)=0,\"\",VLOOKUP($B1058,Übersichtsblatt!$J$64:$M$68,2,FALSE)),\"\")","v":""},0,-13.5,null,2025,"2025-11-20",{"$f":"IFERROR(IF(VLOOKUP($H1058,Übersichtsblatt!$J$14:$M$24,2,FALSE)=0,\"\",VLOOKUP(H1058,Übersichtsblatt!$J$14:$M$24,2,FALSE)),\"\")","v":""},0,13.5]
[2025,"2025-11-21",{"$f":"IFERROR(IF(VLOOKUP($B1059,Übersichtsblatt!$J$64:$M$68,2,FALSE)=0,\"\",VLOOKUP($B1059,Übersichtsblatt!$J$64:$M$68,2,FALSE)),\"\")","v":""},0,-13.5,null,2025,"2025-11-21",{"$f":"IFERROR(IF(VLOOKUP($H1059,Übersichtsblatt!$J$14:$M$24,2,FALSE)=0,\"\",VLOOKUP(H1059,Übersichtsblatt!$J$14:$M$24,2,FALSE)),\"\")","v":""},0,13.5]
[2025,"2025-11-22",{"$f":"IFERROR(IF(VLOOKUP($B1060,Übersichtsblatt!$J$64:$M$68,2,FALSE)=0,\"\",VLOOKUP($B1060,Übersichtsblatt!$J$64:$M$68,2,FALSE)),\"\")","v":""},0,-13.5,null,2025,"2025-11-22",{"$f":"IFERROR(IF(VLOOKUP($H1060,Übersichtsblatt!$J$14:$M$24,2,FALSE)=0,\"\",VLOOKUP(H1060,Übersichtsblatt!$J$14:$M$24,2,FALSE)),\"\")","v":""},0,13.5]
[2025,"2025-11-23",{"$f":"IFERROR(IF(VLOOKUP($B1061,Übersichtsblatt!$J$64:$M$68,2,FALSE)=0,\"\",VLOOKUP($B1061,Übersichtsblatt!$J$64:$M$68,2,FALSE)),\"\")","v":""},0,-13.5,null,2025,"2025-11-23",{"$f":"IFERROR(IF(VLOOKUP($H1061,Übersichtsblatt!$J$14:$M$24,2,FALSE)=0,\"\",VLOOKUP(H1061,Übersichtsblatt!$J$14:$M$24,2,FALSE)),\"\")","v":""},0,13.5]
[2025,"2025-11-24",{"$f":"IFERROR(IF(VLOOKUP($B1062,Übersichtsblatt!$J$64:$M$68,2,FALSE)=0,\"\",VLOOKUP($B1062,Übersichtsblatt!$J$64:$M$68,2,FALSE)),\"\")","v":""},0,-13.5,null,2025,"2025-11-24",{"$f":"IFERROR(IF(VLOOKUP($H1062,Übersichtsblatt!$J$14:$M$24,2,FALSE)=0,\"\",VLOOKUP(H1062,Übersichtsblatt!$J$14:$M$24,2,FALSE)),\"\")","v":""},0,13.5]
[2025,"2025-11-25",{"$f":"IFERROR(IF(VLOOKUP($B1063,Übersichtsblatt!$J$64:$M$68,2,FALSE)=0,\"\",VLOOKUP($B1063,Übersichtsblatt!$J$64:$M$68,2,FALSE)),\"\")","v":""},0,-13.5,null,2025,"2025-11-25",{"$f":"IFERROR(IF(VLOOKUP($H1063,Übersichtsblatt!$J$14:$M$24,2,FALSE)=0,\"\",VLOOKUP(H1063,Übersichtsblatt!$J$14:$M$24,2,FALSE)),\"\")","v":""},0,13.5]
[2025,"2025-11-26",{"$f":"IFERROR(IF(VLOOKUP($B1064,Übersichtsblatt!$J$64:$M$68,2,FALSE)=0,\"\",VLOOKUP($B1064,Übersichtsblatt!$J$64:$M$68,2,FALSE)),\"\")","v":""},0,-13.5,null,2025,"2025-11-26",{"$f":"IFERROR(IF(VLOOKUP($H1064,Übersichtsblatt!$J$14:$M$24,2,FALSE)=0,\"\",VLOOKUP(H1064,Übersichtsblatt!$J$14:$M$24,2,FALSE)),\"\")","v":""},0,13.5]
[2025,"2025-11-27",{"$f":"IFERROR(IF(VLOOKUP($B1065,Übersichtsblatt!$J$64:$M$68,2,FALSE)=0,\"\",VLOOKUP($B1065,Übersichtsblatt!$J$64:$M$68,2,FALSE)),\"\")","v":""},0,-13.5,null,2025,"2025-11-27",{"$f":"IFERROR(IF(VLOOKUP($H1065,Übersichtsblatt!$J$14:$M$24,2,FALSE)=0,\"\",VLOOKUP(H1065,Übersichtsblatt!$J$14:$M$24,2,FALSE)),\"\")","v":""},0,13.5]
[2025,"2025-11-28",{"$f":"IFERROR(IF(VLOOKUP($B1066,Übersichtsblatt!$J$64:$M$68,2,FALSE)=0,\"\",VLOOKUP($B1066,Übersichtsblatt!$J$64:$M$68,2,FALSE)),\"\")","v":""},0,-13.5,null,2025,"2025-11-28",{"$f":"IFERROR(IF(VLOOKUP($H1066,Übersichtsblatt!$J$14:$M$24,2,FALSE)=0,\"\",VLOOKUP(H1066,Übersichtsblatt!$J$14:$M$24,2,FALSE)),\"\")","v":""},0,13.5]
[2025,"2025-11-29",{"$f":"IFERROR(IF(VLOOKUP($B1067,Übersichtsblatt!$J$64:$M$68,2,FALSE)=0,\"\",VLOOKUP($B1067,Übersichtsblatt!$J$64:$M$68,2,FALSE)),\"\")","v":""},0,-13.5,null,2025,"2025-11-29",{"$f":"IFERROR(IF(VLOOKUP($H1067,Übersichtsblatt!$J$14:$M$24,2,FALSE)=0,\"\",VLOOKUP(H1067,Übersichtsblatt!$J$14:$M$24,2,FALSE)),\"\")","v":""},0,13.5]
[2025,"2025-11-30",{"$f":"IFERROR(IF(VLOOKUP($B1068,Übersichtsblatt!$J$64:$M$68,2,FALSE)=0,\"\",VLOOKUP($B1068,Übersichtsblatt!$J$64:$M$68,2,FALSE)),\"\")","v":""},0,-13.5,null,2025,"2025-11-30",{"$f":"IFERROR(IF(VLOOKUP($H1068,Übersichtsblatt!$J$14:$M$24,2,FALSE)=0,\"\",VLOOKUP(H1068,Übersichtsblatt!$J$14:$M$24,2,FALSE)),\"\")","v":""},0,13.5]
[2025,"2025-12-01",{"$f":"IFERROR(IF(VLOOKUP($B1069,Übersichtsblatt!$J$64:$M$68,2,FALSE)=0,\"\",VLOOKUP($B1069,Übersichtsblatt!$J$64:$M$68,2,FALSE)),\"\")","v":""},0,-10.5,null,2025,"2025-12-01",{"$f":"IFERROR(IF(VLOOKUP($H1069,Übersichtsblatt!$J$14:$M$24,2,FALSE)=0,\"\",VLOOKUP(H1069,Übersichtsblatt!$J$14:$M$24,2,FALSE)),\"\")","v":""},0,10.5]
[2025,"2025-12-02",{"$f":"IFERROR(IF(VLOOKUP($B1070,Übersichtsblatt!$J$64:$M$68,2,FALSE)=0,\"\",VLOOKUP($B1070,Übersichtsblatt!$J$64:$M$68,2,FALSE)),\"\")","v":""},0,-10.5,null,2025,"2025-12-02",{"$f":"IFERROR(IF(VLOOKUP($H1070,Übersichtsblatt!$J$14:$M$24,2,FALSE)=0,\"\",VLOOKUP(H1070,Übersichtsblatt!$J$14:$M$24,2,FALSE)),\"\")","v":""},0,10.5]
[2025,"2025-12-03",{"$f":"IFERROR(IF(VLOOKUP($B1071,Übersichtsblatt!$J$64:$M$68,2,FALSE)=0,\"\",VLOOKUP($B1071,Übersichtsblatt!$J$64:$M$68,2,FALSE)),\"\")","v":""},0,-10.5,null,2025,"2025-12-03",{"$f":"IFERROR(IF(VLOOKUP($H1071,Übersichtsblatt!$J$14:$M$24,2,FALSE)=0,\"\",VLOOKUP(H1071,Übersichtsblatt!$J$14:$M$24,2,FALSE)),\"\")","v":""},0,10.5]
[2025,"2025-12-04",{"$f":"IFERROR(IF(VLOOKUP($B1072,Übersichtsblatt!$J$64:$M$68,2,FALSE)=0,\"\",VLOOKUP($B1072,Übersichtsblatt!$J$64:$M$68,2,FALSE)),\"\")","v":""},0,-10.5,null,2025,"2025-12-04",{"$f":"IFERROR(IF(VLOOKUP($H1072,Übersichtsblatt!$J$14:$M$24,2,FALSE)=0,\"\",VLOOKUP(H1072,Übersichtsblatt!$J$14:$M$24,2,FALSE)),\"\")","v":""},0,10.5]
[2025,"2025-12-05",{"$f":"IFERROR(IF(VLOOKUP($B1073,Übersichtsblatt!$J$64:$M$68,2,FALSE)=0,\"\",VLOOKUP($B1073,Übersichtsblatt!$J$64:$M$68,2,FALSE)),\"\")","v":""},0,-10.5,null,2025,"2025-12-05",{"$f":"IFERROR(IF(VLOOKUP($H1073,Übersichtsblatt!$J$14:$M$24,2,FALSE)=0,\"\",VLOOKUP(H1073,Übersichtsblatt!$J$14:$M$24,2,FALSE)),\"\")","v":""},0,10.5]
[2025,"2025-12-06",{"$f":"IFERROR(IF(VLOOKUP($B1074,Übersichtsblatt!$J$64:$M$68,2,FALSE)=0,\"\",VLOOKUP($B1074,Übersichtsblatt!$J$64:$M$68,2,FALSE)),\"\")","v":""},0,-10.5,null,2025,"2025-12-06",{"$f":"IFERROR(IF(VLOOKUP($H1074,Übersichtsblatt!$J$14:$M$24,2,FALSE)=0,\"\",VLOOKUP(H1074,Übersichtsblatt!$J$14:$M$24,2,FALSE)),\"\")","v":""},0,10.5]
[2025,"2025-12-07",{"$f":"IFERROR(IF(VLOOKUP($B1075,Übersichtsblatt!$J$64:$M$68,2,FALSE)=0,\"\",VLOOKUP($B1075,Übersichtsblatt!$J$64:$M$68,2,FALSE)),\"\")","v":""},0,-10.5,null,2025,"2025-12-07",{"$f":"IFERROR(IF(VLOOKUP($H1075,Übersichtsblatt!$J$14:$M$24,2,FALSE)=0,\"\",VLOOKUP(H1075,Übersichtsblatt!$J$14:$M$24,2,FALSE)),\"\")","v":""},0,10.5]
[2025,"2025-12-08",{"$f":"IFERROR(IF(VLOOKUP($B1076,Übersichtsblatt!$J$64:$M$68,2,FALSE)=0,\"\",VLOOKUP($B1076,Übersichtsblatt!$J$64:$M$68,2,FALSE)),\"\")","v":""},0,-10.5,null,2025,"2025-12-08",{"$f":"IFERROR(IF(VLOOKUP($H1076,Übersichtsblatt!$J$14:$M$24,2,FALSE)=0,\"\",VLOOKUP(H1076,Übersichtsblatt!$J$14:$M$24,2,FALSE)),\"\")","v":""},0,10.5]
[2025,"2025-12-09",{"$f":"IFERROR(IF(VLOOKUP($B1077,Übersichtsblatt!$J$64:$M$68,2,FALSE)=0,\"\",VLOOKUP($B1077,Übersichtsblatt!$J$64:$M$68,2,FALSE)),\"\")","v":""},0,-10.5,null,2025,"2025-12-09",{"$f":"IFERROR(IF(VLOOKUP($H1077,Übersichtsblatt!$J$14:$M$24,2,FALSE)=0,\"\",VLOOKUP(H1077,Übersichtsblatt!$J$14:$M$24,2,FALSE)),\"\")","v":""},0,10.5]
[2025,"2025-12-10",{"$f":"IFERROR(IF(VLOOKUP($B1078,Übersichtsblatt!$J$64:$M$68,2,FALSE)=0,\"\",VLOOKUP($B1078,Übersichtsblatt!$J$64:$M$68,2,FALSE)),\"\")","v":""},0,-10.5,null,2025,"2025-12-10",{"$f":"IFERROR(IF(VLOOKUP($H1078,Übersichtsblatt!$J$14:$M$24,2,FALSE)=0,\"\",VLOOKUP(H1078,Übersichtsblatt!$J$14:$M$24,2,FALSE)),\"\")","v":""},0,10.5]
[2025,"2025-12-11",{"$f":"IFERROR(IF(VLOOKUP($B1079,Übersichtsblatt!$J$64:$M$68,2,FALSE)=0,\"\",VLOOKUP($B1079,Übersichtsblatt!$J$64:$M$68,2,FALSE)),\"\")","v":""},0,-10.5,null,2025,"2025-12-11",{"$f":"IFERROR(IF(VLOOKUP($H1079,Übersichtsblatt!$J$14:$M$24,2,FALSE)=0,\"\",VLOOKUP(H1079,Übersichtsblatt!$J$14:$M$24,2,FALSE)),\"\")","v":""},0,10.5]
[2025,"2025-12-12",{"$f":"IFERROR(IF(VLOOKUP($B1080,Übersichtsblatt!$J$64:$M$68,2,FALSE)=0,\"\",VLOOKUP($B1080,Übersichtsblatt!$J$64:$M$68,2,FALSE)),\"\")","v":""},0,-10.5,null,2025,"2025-12-12",{"$f":"IFERROR(IF(VLOOKUP($H1080,Übersichtsblatt!$J$14:$M$24,2,FALSE)=0,\"\",VLOOKUP(H1080,Übersichtsblatt!$J$14:$M$24,2,FALSE)),\"\")","v":""},0,10.5]
[2025,"2025-12-13",{"$f":"IFERROR(IF(VLOOKUP($B1081,Übersichtsblatt!$J$64:$M$68,2,FALSE)=0,\"\",VLOOKUP($B1081,Übersichtsblatt!$J$64:$M$68,2,FALSE)),\"\")","v":""},0,-10.5,null,2025,"2025-12-13",{"$f":"IFERROR(IF(VLOOKUP($H1081,Übersichtsblatt!$J$14:$M$24,2,FALSE)=0,\"\",VLOOKUP(H1081,Übersichtsblatt!$J$14:$M$24,2,FALSE)),\"\")","v":""},0,10.5]
[2025,"2025-12-14",{"$f":"IFERROR(IF(VLOOKUP($B1082,Übersichtsblatt!$J$64:$M$68,2,FALSE)=0,\"\",VLOOKUP($B1082,Übersichtsblatt!$J$64:$M$68,2,FALSE)),\"\")","v":""},0,-10.5,null,2025,"2025-12-14",{"$f":"IFERROR(IF(VLOOKUP($H1082,Übersichtsblatt!$J$14:$M$24,2,FALSE)=0,\"\",VLOOKUP(H1082,Übersichtsblatt!$J$14:$M$24,2,FALSE)),\"\")","v":""},0,10.5]
[2025,"2025-12-15",{"$f":"IFERROR(IF(VLOOKUP($B1083,Übersichtsblatt!$J$64:$M$68,2,FALSE)=0,\"\",VLOOKUP($B1083,Übersichtsblatt!$J$64:$M$68,2,FALSE)),\"\")","v":""},0,-10.5,null,2025,"2025-12-15",{"$f":"IFERROR(IF(VLOOKUP($H1083,Übersichtsblatt!$J$14:$M$24,2,FALSE)=0,\"\",VLOOKUP(H1083,Übersichtsblatt!$J$14:$M$24,2,FALSE)),\"\")","v":""},0,10.5]
[2025,"2025-12-16",{"$f":"IFERROR(IF(VLOOKUP($B1084,Übersichtsblatt!$J$64:$M$68,2,FALSE)=0,\"\",VLOOKUP($B1084,Übersichtsblatt!$J$64:$M$68,2,FALSE)),\"\")","v":""},0,-10.5,null,2025,"2025-12-16",{"$f":"IFERROR(IF(VLOOKUP($H1084,Übersichtsblatt!$J$14:$M$24,2,FALSE)=0,\"\",VLOOKUP(H1084,Übersichtsblatt!$J$14:$M$24,2,FALSE)),\"\")","v":""},0,10.5]
[2025,"2025-12-17",{"$f":"IFERROR(IF(VLOOKUP($B1085,Übersichtsblatt!$J$64:$M$68,2,FALSE)=0,\"\",VLOOKUP($B1085,Übersichtsblatt!$J$64:$M$68,2,FALSE)),\"\")","v":""},0,-10.5,null,2025,"2025-12-17",{"$f":"IFERROR(IF(VLOOKUP($H1085,Übersichtsblatt!$J$14:$M$24,2,FALSE)=0,\"\",VLOOKUP(H1085,Übersichtsblatt!$J$14:$M$24,2,FALSE)),\"\")","v":""},0,10.5]
[2025,"2025-12-18",{"$f":"IFERROR(IF(VLOOKUP($B1086,Übersichtsblatt!$J$64:$M$68,2,FALSE)=0,\"\",VLOOKUP($B1086,Übersichtsblatt!$J$64:$M$68,2,FALSE)),\"\")","v":""},0,-10.5,null,2025,"2025-12-18",{"$f":"IFERROR(IF(VLOOKUP($H1086,Übersichtsblatt!$J$14:$M$24,2,FALSE)=0,\"\",VLOOKUP(H1086,Übersichtsblatt!$J$14:$M$24,2,FALSE)),\"\")","v":""},0,10.5]
[2025,"2025-12-19",{"$f":"IFERROR(IF(VLOOKUP($B1087,Übersichtsblatt!$J$64:$M$68,2,FALSE)=0,\"\",VLOOKUP($B1087,Übersichtsblatt!$J$64:$M$68,2,FALSE)),\"\")","v":""},0,-10.5,null,2025,"2025-12-19",{"$f":"IFERROR(IF(VLOOKUP($H1087,Übersichtsblatt!$J$14:$M$24,2,FALSE)=0,\"\",VLOOKUP(H1087,Übersichtsblatt!$J$14:$M$24,2,FALSE)),\"\")","v":""},0,10.5]
[2025,"2025-12-20",{"$f":"IFERROR(IF(VLOOKUP($B1088,Übersichtsblatt!$J$64:$M$68,2,FALSE)=0,\"\",VLOOKUP($B1088,Übersichtsblatt!$J$64:$M$68,2,FALSE)),\"\")","v":""},0,-10.5,null,2025,"2025-12-20",{"$f":"IFERROR(IF(VLOOKUP($H1088,Übersichtsblatt!$J$14:$M$24,2,FALSE)=0,\"\",VLOOKUP(H1088,Übersichtsblatt!$J$14:$M$24,2,FALSE)),\"\")","v":""},0,10.5]
[2025,"2025-12-21",{"$f":"IFERROR(IF(VLOOKUP($B1089,Übersichtsblatt!$J$64:$M$68,2,FALSE)=0,\"\",VLOOKUP($B1089,Übersichtsblatt!$J$64:$M$68,2,FALSE)),\"\")","v":""},0,-10.5,null,2025,"2025-12-21",{"$f":"IFERROR(IF(VLOOKUP($H1089,Übersichtsblatt!$J$14:$M$24,2,FALSE)=0,\"\",VLOOKUP(H1089,Übersichtsblatt!$J$14:$M$24,2,FALSE)),\"\")","v":""},0,10.5]
[2025,"2025-12-22",{"$f":"IFERROR(IF(VLOOKUP($B1090,Übersichtsblatt!$J$64:$M$68,2,FALSE)=0,\"\",VLOOKUP($B1090,Übersichtsblatt!$J$64:$M$68,2,FALSE)),\"\")","v":""},0,-10.5,null,2025,"2025-12-22",{"$f":"IFERROR(IF(VLOOKUP($H1090,Übersichtsblatt!$J$14:$M$24,2,FALSE)=0,\"\",VLOOKUP(H1090,Übersichtsblatt!$J$14:$M$24,2,FALSE)),\"\")","v":""},0,10.5]
[2025,"2025-12-23",{"$f":"IFERROR(IF(VLOOKUP($B1091,Übersichtsblatt!$J$64:$M$68,2,FALSE)=0,\"\",VLOOKUP($B1091,Übersichtsblatt!$J$64:$M$68,2,FALSE)),\"\")","v":""},0,-10.5,null,2025,"2025-12-23",{"$f":"IFERROR(IF(VLOOKUP($H1091,Übersichtsblatt!$J$14:$M$24,2,FALSE)=0,\"\",VLOOKUP(H1091,Übersichtsblatt!$J$14:$M$24,2,FALSE)),\"\")","v":""},0,10.5]
[2025,"2025-12-24",{"$f":"IFERROR(IF(VLOOKUP($B1092,Übersichtsblatt!$J$64:$M$68,2,FALSE)=0,\"\",VLOOKUP($B1092,Übersichtsblatt!$J$64:$M$68,2,FALSE)),\"\")","v":""},0,-10.5,null,2025,"2025-12-24",{"$f":"IFERROR(IF(VLOOKUP($H1092,Übersichtsblatt!$J$14:$M$24,2,FALSE)=0,\"\",VLOOKUP(H1092,Übersichtsblatt!$J$14:$M$24,2,FALSE)),\"\")","v":""},0,10.5]
[2025,"2025-12-25",{"$f":"IFERROR(IF(VLOOKUP($B1093,Übersichtsblatt!$J$64:$M$68,2,FALSE)=0,\"\",VLOOKUP($B1093,Übersichtsblatt!$J$64:$M$68,2,FALSE)),\"\")","v":""},0,-10.5,null,2025,"2025-12-25",{"$f":"IFERROR(IF(VLOOKUP($H1093,Übersichtsblatt!$J$14:$M$24,2,FALSE)=0,\"\",VLOOKUP(H1093,Übersichtsblatt!$J$14:$M$24,2,FALSE)),\"\")","v":""},0,10.5]
[2025,"2025-12-26",{"$f":"IFERROR(IF(VLOOKUP($B1094,Übersichtsblatt!$J$64:$M$68,2,FALSE)=0,\"\",VLOOKUP($B1094,Übersichtsblatt!$J$64:$M$68,2,FALSE)),\"\")","v":""},{"$f":"IF($C1094=\"\",0,$E1094)","v":0},-10.5,null,2025,"2025-12-26",{"$f":"IFERROR(IF(VLOOKUP($H1094,Übersichtsblatt!$J$14:$M$24,2,FALSE)=0,\"\",VLOOKUP(H1094,Übersichtsblatt!$J$14:$M$24,2,FALSE)),\"\")","v":""},{"$f":"IF($I1094=\"\",0,$K1094)","v":0},10.5]
[{"$f":"YEAR(B1095)","v":2025},{"$f":"B1094+1","v":"2025-12-27"},{"$f":"IFERROR(IF(VLOOKUP($B1095,Übersichtsblatt!$J$64:$M$68,2,FALSE)=0,\"\",VLOOKUP($B1095,Übersichtsblatt!$J$64:$M$68,2,FALSE)),\"\")","v":""},0,-10.5,null,{"$f":"YEAR(H1095)","v":2025},{"$f":"H1094+1","v":"2025-12-27"},{"$f":"IFERROR(IF(VLOOKUP($H1095,Übersichtsblatt!$J$14:$M$24,2,FALSE)=0,\"\",VLOOKUP(H1095,Übersichtsblatt!$J$14:$M$24,2,FALSE)),\"\")","v":""},0,10.5]
[2025,"2025-12-28",{"$f":"IFERROR(IF(VLOOKUP($B1096,Übersichtsblatt!$J$64:$M$68,2,FALSE)=0,\"\",VLOOKUP($B1096,Übersichtsblatt!$J$64:$M$68,2,FALSE)),\"\")","v":""},0,-10.5,null,2025,"2025-12-28",{"$f":"IFERROR(IF(VLOOKUP($H1096,Übersichtsblatt!$J$14:$M$24,2,FALSE)=0,\"\",VLOOKUP(H1096,Übersichtsblatt!$J$14:$M$24,2,FALSE)),\"\")","v":""},0,10.5]
[2025,"2025-12-29",{"$f":"IFERROR(IF(VLOOKUP($B1097,Übersichtsblatt!$J$64:$M$68,2,FALSE)=0,\"\",VLOOKUP($B1097,Übersichtsblatt!$J$64:$M$68,2,FALSE)),\"\")","v":""},0,-10.5,null,2025,"2025-12-29",{"$f":"IFERROR(IF(VLOOKUP($H1097,Übersichtsblatt!$J$14:$M$24,2,FALSE)=0,\"\",VLOOKUP(H1097,Übersichtsblatt!$J$14:$M$24,2,FALSE)),\"\")","v":""},0,10.5]
[2025,"2025-12-30",{"$f":"IFERROR(IF(VLOOKUP($B1098,Übersichtsblatt!$J$64:$M$68,2,FALSE)=0,\"\",VLOOKUP($B1098,Übersichtsblatt!$J$64:$M$68,2,FALSE)),\"\")","v":""},0,-10.5,null,2025,"2025-12-30",{"$f":"IFERROR(IF(VLOOKUP($H1098,Übersichtsblatt!$J$14:$M$24,2,FALSE)=0,\"\",VLOOKUP(H1098,Übersichtsblatt!$J$14:$M$24,2,FALSE)),\"\")","v":""},0,10.5]
[2025,"2025-12-31",{"$f":"IFERROR(IF(VLOOKUP($B1099,Übersichtsblatt!$J$64:$M$68,2,FALSE)=0,\"\",VLOOKUP($B1099,Übersichtsblatt!$J$64:$M$68,2,FALSE)),\"\")","v":""},0,-10.5,null,2025,"2025-12-31",{"$f":"IFERROR(IF(VLOOKUP($H1099,Übersichtsblatt!$J$14:$M$24,2,FALSE)=0,\"\",VLOOKUP(H1099,Übersichtsblatt!$J$14:$M$24,2,FALSE)),\"\")","v":""},0,10.5]
[2026,"2026-01-01",{"$f":"IFERROR(IF(VLOOKUP($B1100,Übersichtsblatt!$N$64:$Q$68,2,FALSE)=0,\"\",VLOOKUP($B1100,Übersichtsblatt!$N$64:$Q$68,2,FALSE)),\"\")","v":""},0,-3.5,null,2026,"2026-01-01",{"$f":"IFERROR(IF(VLOOKUP($H1100,Übersichtsblatt!$N$14:$Q$24,2,FALSE)=0,\"\",VLOOKUP(H1100,Übersichtsblatt!$N$14:$Q$24,2,FALSE)),\"\")","v":""},0,3.5]
[2026,"2026-01-02",{"$f":"IFERROR(IF(VLOOKUP($B1101,Übersichtsblatt!$N$64:$Q$68,2,FALSE)=0,\"\",VLOOKUP($B1101,Übersichtsblatt!$N$64:$Q$68,2,FALSE)),\"\")","v":""},0,-3.5,null,2026,"2026-01-02",{"$f":"IFERROR(IF(VLOOKUP($H1101,Übersichtsblatt!$N$14:$Q$24,2,FALSE)=0,\"\",VLOOKUP(H1101,Übersichtsblatt!$N$14:$Q$24,2,FALSE)),\"\")","v":""},0,3.5]
[2026,"2026-01-03",{"$f":"IFERROR(IF(VLOOKUP($B1102,Übersichtsblatt!$N$64:$Q$68,2,FALSE)=0,\"\",VLOOKUP($B1102,Übersichtsblatt!$N$64:$Q$68,2,FALSE)),\"\")","v":""},0,-3.5,null,2026,"2026-01-03",{"$f":"IFERROR(IF(VLOOKUP($H1102,Übersichtsblatt!$N$14:$Q$24,2,FALSE)=0,\"\",VLOOKUP(H1102,Übersichtsblatt!$N$14:$Q$24,2,FALSE)),\"\")","v":""},0,3.5]
[2026,"2026-01-04",{"$f":"IFERROR(IF(VLOOKUP($B1103,Übersichtsblatt!$N$64:$Q$68,2,FALSE)=0,\"\",VLOOKUP($B1103,Übersichtsblatt!$N$64:$Q$68,2,FALSE)),\"\")","v":""},0,-3.5,null,2026,"2026-01-04",{"$f":"IFERROR(IF(VLOOKUP($H1103,Übersichtsblatt!$N$14:$Q$24,2,FALSE)=0,\"\",VLOOKUP(H1103,Übersichtsblatt!$N$14:$Q$24,2,FALSE)),\"\")","v":""},0,3.5]
[2026,"2026-01-05",{"$f":"IFERROR(IF(VLOOKUP($B1104,Übersichtsblatt!$N$64:$Q$68,2,FALSE)=0,\"\",VLOOKUP($B1104,Übersichtsblatt!$N$64:$Q$68,2,FALSE)),\"\")","v":""},0,-3.5,null,2026,"2026-01-05",{"$f":"IFERROR(IF(VLOOKUP($H1104,Übersichtsblatt!$N$14:$Q$24,2,FALSE)=0,\"\",VLOOKUP(H1104,Übersichtsblatt!$N$14:$Q$24,2,FALSE)),\"\")","v":""},0,3.5]
[2026,"2026-01-06",{"$f":"IFERROR(IF(VLOOKUP($B1105,Übersichtsblatt!$N$64:$Q$68,2,FALSE)=0,\"\",VLOOKUP($B1105,Übersichtsblatt!$N$64:$Q$68,2,FALSE)),\"\")","v":""},0,-3.5,null,2026,"2026-01-06",{"$f":"IFERROR(IF(VLOOKUP($H1105,Übersichtsblatt!$N$14:$Q$24,2,FALSE)=0,\"\",VLOOKUP(H1105,Übersichtsblatt!$N$14:$Q$24,2,FALSE)),\"\")","v":""},0,3.5]
[2026,"2026-01-07",{"$f":"IFERROR(IF(VLOOKUP($B1106,Übersichtsblatt!$N$64:$Q$68,2,FALSE)=0,\"\",VLOOKUP($B1106,Übersichtsblatt!$N$64:$Q$68,2,FALSE)),\"\")","v":""},0,-3.5,null,2026,"2026-01-07",{"$f":"IFERROR(IF(VLOOKUP($H1106,Übersichtsblatt!$N$14:$Q$24,2,FALSE)=0,\"\",VLOOKUP(H1106,Übersichtsblatt!$N$14:$Q$24,2,FALSE)),\"\")","v":""},0,3.5]
[2026,"2026-01-08",{"$f":"IFERROR(IF(VLOOKUP($B1107,Übersichtsblatt!$N$64:$Q$68,2,FALSE)=0,\"\",VLOOKUP($B1107,Übersichtsblatt!$N$64:$Q$68,2,FALSE)),\"\")","v":""},0,-3.5,null,2026,"2026-01-08",{"$f":"IFERROR(IF(VLOOKUP($H1107,Übersichtsblatt!$N$14:$Q$24,2,FALSE)=0,\"\",VLOOKUP(H1107,Übersichtsblatt!$N$14:$Q$24,2,FALSE)),\"\")","v":""},0,3.5]
[2026,"2026-01-09",{"$f":"IFERROR(IF(VLOOKUP($B1108,Übersichtsblatt!$N$64:$Q$68,2,FALSE)=0,\"\",VLOOKUP($B1108,Übersichtsblatt!$N$64:$Q$68,2,FALSE)),\"\")","v":""},0,-3.5,null,2026,"2026-01-09",{"$f":"IFERROR(IF(VLOOKUP($H1108,Übersichtsblatt!$N$14:$Q$24,2,FALSE)=0,\"\",VLOOKUP(H1108,Übersichtsblatt!$N$14:$Q$24,2,FALSE)),\"\")","v":""},0,3.5]
[2026,"2026-01-10",{"$f":"IFERROR(IF(VLOOKUP($B1109,Übersichtsblatt!$N$64:$Q$68,2,FALSE)=0,\"\",VLOOKUP($B1109,Übersichtsblatt!$N$64:$Q$68,2,FALSE)),\"\")","v":""},0,-3.5,null,2026,"2026-01-10",{"$f":"IFERROR(IF(VLOOKUP($H1109,Übersichtsblatt!$N$14:$Q$24,2,FALSE)=0,\"\",VLOOKUP(H1109,Übersichtsblatt!$N$14:$Q$24,2,FALSE)),\"\")","v":""},0,3.5]
[2026,"2026-01-11",{"$f":"IFERROR(IF(VLOOKUP($B1110,Übersichtsblatt!$N$64:$Q$68,2,FALSE)=0,\"\",VLOOKUP($B1110,Übersichtsblatt!$N$64:$Q$68,2,FALSE)),\"\")","v":""},0,-3.5,null,2026,"2026-01-11",{"$f":"IFERROR(IF(VLOOKUP($H1110,Übersichtsblatt!$N$14:$Q$24,2,FALSE)=0,\"\",VLOOKUP(H1110,Übersichtsblatt!$N$14:$Q$24,2,FALSE)),\"\")","v":""},0,3.5]
[2026,"2026-01-12",{"$f":"IFERROR(IF(VLOOKUP($B1111,Übersichtsblatt!$N$64:$Q$68,2,FALSE)=0,\"\",VLOOKUP($B1111,Übersichtsblatt!$N$64:$Q$68,2,FALSE)),\"\")","v":""},0,-3.5,null,2026,"2026-01-12",{"$f":"IFERROR(IF(VLOOKUP($H1111,Übersichtsblatt!$N$14:$Q$24,2,FALSE)=0,\"\",VLOOKUP(H1111,Übersichtsblatt!$N$14:$Q$24,2,FALSE)),\"\")","v":""},0,3.5]
[2026,"2026-01-13",{"$f":"IFERROR(IF(VLOOKUP($B1112,Übersichtsblatt!$N$64:$Q$68,2,FALSE)=0,\"\",VLOOKUP($B1112,Übersichtsblatt!$N$64:$Q$68,2,FALSE)),\"\")","v":""},0,-3.5,null,2026,"2026-01-13",{"$f":"IFERROR(IF(VLOOKUP($H1112,Übersichtsblatt!$N$14:$Q$24,2,FALSE)=0,\"\",VLOOKUP(H1112,Übersichtsblatt!$N$14:$Q$24,2,FALSE)),\"\")","v":""},0,3.5]
[2026,"2026-01-14",{"$f":"IFERROR(IF(VLOOKUP($B1113,Übersichtsblatt!$N$64:$Q$68,2,FALSE)=0,\"\",VLOOKUP($B1113,Übersichtsblatt!$N$64:$Q$68,2,FALSE)),\"\")","v":""},0,-3.5,null,2026,"2026-01-14",{"$f":"IFERROR(IF(VLOOKUP($H1113,Übersichtsblatt!$N$14:$Q$24,2,FALSE)=0,\"\",VLOOKUP(H1113,Übersichtsblatt!$N$14:$Q$24,2,FALSE)),\"\")","v":""},0,3.5]
[2026,"2026-01-15",{"$f":"IFERROR(IF(VLOOKUP($B1114,Übersichtsblatt!$N$64:$Q$68,2,FALSE)=0,\"\",VLOOKUP($B1114,Übersichtsblatt!$N$64:$Q$68,2,FALSE)),\"\")","v":""},0,-3.5,null,2026,"2026-01-15",{"$f":"IFERROR(IF(VLOOKUP($H1114,Übersichtsblatt!$N$14:$Q$24,2,FALSE)=0,\"\",VLOOKUP(H1114,Übersichtsblatt!$N$14:$Q$24,2,FALSE)),\"\")","v":""},0,3.5]
[2026,"2026-01-16",{"$f":"IFERROR(IF(VLOOKUP($B1115,Übersichtsblatt!$N$64:$Q$68,2,FALSE)=0,\"\",VLOOKUP($B1115,Übersichtsblatt!$N$64:$Q$68,2,FALSE)),\"\")","v":""},0,-3.5,null,2026,"2026-01-16",{"$f":"IFERROR(IF(VLOOKUP($H1115,Übersichtsblatt!$N$14:$Q$24,2,FALSE)=0,\"\",VLOOKUP(H1115,Übersichtsblatt!$N$14:$Q$24,2,FALSE)),\"\")","v":""},0,3.5]
[2026,"2026-01-17",{"$f":"IFERROR(IF(VLOOKUP($B1116,Übersichtsblatt!$N$64:$Q$68,2,FALSE)=0,\"\",VLOOKUP($B1116,Übersichtsblatt!$N$64:$Q$68,2,FALSE)),\"\")","v":""},0,-3.5,null,2026,"2026-01-17",{"$f":"IFERROR(IF(VLOOKUP($H1116,Übersichtsblatt!$N$14:$Q$24,2,FALSE)=0,\"\",VLOOKUP(H1116,Übersichtsblatt!$N$14:$Q$24,2,FALSE)),\"\")","v":""},0,3.5]
[2026,"2026-01-18",{"$f":"IFERROR(IF(VLOOKUP($B1117,Übersichtsblatt!$N$64:$Q$68,2,FALSE)=0,\"\",VLOOKUP($B1117,Übersichtsblatt!$N$64:$Q$68,2,FALSE)),\"\")","v":""},0,-3.5,null,2026,"2026-01-18",{"$f":"IFERROR(IF(VLOOKUP($H1117,Übersichtsblatt!$N$14:$Q$24,2,FALSE)=0,\"\",VLOOKUP(H1117,Übersichtsblatt!$N$14:$Q$24,2,FALSE)),\"\")","v":""},0,3.5]
[2026,"2026-01-19",{"$f":"IFERROR(IF(VLOOKUP($B1118,Übersichtsblatt!$N$64:$Q$68,2,FALSE)=0,\"\",VLOOKUP($B1118,Übersichtsblatt!$N$64:$Q$68,2,FALSE)),\"\")","v":""},0,-3.5,null,2026,"2026-01-19",{"$f":"IFERROR(IF(VLOOKUP($H1118,Übersichtsblatt!$N$14:$Q$24,2,FALSE)=0,\"\",VLOOKUP(H1118,Übersichtsblatt!$N$14:$Q$24,2,FALSE)),\"\")","v":""},0,3.5]
[2026,"2026-01-20",{"$f":"IFERROR(IF(VLOOKUP($B1119,Übersichtsblatt!$N$64:$Q$68,2,FALSE)=0,\"\",VLOOKUP($B1119,Übersichtsblatt!$N$64:$Q$68,2,FALSE)),\"\")","v":""},0,-3.5,null,2026,"2026-01-20",{"$f":"IFERROR(IF(VLOOKUP($H1119,Übersichtsblatt!$N$14:$Q$24,2,FALSE)=0,\"\",VLOOKUP(H1119,Übersichtsblatt!$N$14:$Q$24,2,FALSE)),\"\")","v":""},0,3.5]
[2026,"2026-01-21",{"$f":"IFERROR(IF(VLOOKUP($B1120,Übersichtsblatt!$N$64:$Q$68,2,FALSE)=0,\"\",VLOOKUP($B1120,Übersichtsblatt!$N$64:$Q$68,2,FALSE)),\"\")","v":""},0,-3.5,null,2026,"2026-01-21",{"$f":"IFERROR(IF(VLOOKUP($H1120,Übersichtsblatt!$N$14:$Q$24,2,FALSE)=0,\"\",VLOOKUP(H1120,Übersichtsblatt!$N$14:$Q$24,2,FALSE)),\"\")","v":""},0,3.5]
[2026,"2026-01-22",{"$f":"IFERROR(IF(VLOOKUP($B1121,Übersichtsblatt!$N$64:$Q$68,2,FALSE)=0,\"\",VLOOKUP($B1121,Übersichtsblatt!$N$64:$Q$68,2,FALSE)),\"\")","v":""},0,-3.5,null,2026,"2026-01-22",{"$f":"IFERROR(IF(VLOOKUP($H1121,Übersichtsblatt!$N$14:$Q$24,2,FALSE)=0,\"\",VLOOKUP(H1121,Übersichtsblatt!$N$14:$Q$24,2,FALSE)),\"\")","v":""},0,3.5]
[2026,"2026-01-23",{"$f":"IFERROR(IF(VLOOKUP($B1122,Übersichtsblatt!$N$64:$Q$68,2,FALSE)=0,\"\",VLOOKUP($B1122,Übersichtsblatt!$N$64:$Q$68,2,FALSE)),\"\")","v":""},0,-3.5,null,2026,"2026-01-23",{"$f":"IFERROR(IF(VLOOKUP($H1122,Übersichtsblatt!$N$14:$Q$24,2,FALSE)=0,\"\",VLOOKUP(H1122,Übersichtsblatt!$N$14:$Q$24,2,FALSE)),\"\")","v":""},0,3.5]
[2026,"2026-01-24",{"$f":"IFERROR(IF(VLOOKUP($B1123,Übersichtsblatt!$N$64:$Q$68,2,FALSE)=0,\"\",VLOOKUP($B1123,Übersichtsblatt!$N$64:$Q$68,2,FALSE)),\"\")","v":""},0,-3.5,null,2026,"2026-01-24",{"$f":"IFERROR(IF(VLOOKUP($H1123,Übersichtsblatt!$N$14:$Q$24,2,FALSE)=0,\"\",VLOOKUP(H1123,Übersichtsblatt!$N$14:$Q$24,2,FALSE)),\"\")","v":""},0,3.5]
[2026,"2026-01-25",{"$f":"IFERROR(IF(VLOOKUP($B1124,Übersichtsblatt!$N$64:$Q$68,2,FALSE)=0,\"\",VLOOKUP($B1124,Übersichtsblatt!$N$64:$Q$68,2,FALSE)),\"\")","v":""},0,-3.5,null,2026,"2026-01-25",{"$f":"IFERROR(IF(VLOOKUP($H1124,Übersichtsblatt!$N$14:$Q$24,2,FALSE)=0,\"\",VLOOKUP(H1124,Übersichtsblatt!$N$14:$Q$24,2,FALSE)),\"\")","v":""},0,3.5]
[2026,"2026-01-26",{"$f":"IFERROR(IF(VLOOKUP($B1125,Übersichtsblatt!$N$64:$Q$68,2,FALSE)=0,\"\",VLOOKUP($B1125,Übersichtsblatt!$N$64:$Q$68,2,FALSE)),\"\")","v":""},0,-3.5,null,2026,"2026-01-26",{"$f":"IFERROR(IF(VLOOKUP($H1125,Übersichtsblatt!$N$14:$Q$24,2,FALSE)=0,\"\",VLOOKUP(H1125,Übersichtsblatt!$N$14:$Q$24,2,FALSE)),\"\")","v":""},0,3.5]
[2026,"2026-01-27",{"$f":"IFERROR(IF(VLOOKUP($B1126,Übersichtsblatt!$N$64:$Q$68,2,FALSE)=0,\"\",VLOOKUP($B1126,Übersichtsblatt!$N$64:$Q$68,2,FALSE)),\"\")","v":""},0,-3.5,null,2026,"2026-01-27",{"$f":"IFERROR(IF(VLOOKUP($H1126,Übersichtsblatt!$N$14:$Q$24,2,FALSE)=0,\"\",VLOOKUP(H1126,Übersichtsblatt!$N$14:$Q$24,2,FALSE)),\"\")","v":""},0,3.5]
[2026,"2026-01-28",{"$f":"IFERROR(IF(VLOOKUP($B1127,Übersichtsblatt!$N$64:$Q$68,2,FALSE)=0,\"\",VLOOKUP($B1127,Übersichtsblatt!$N$64:$Q$68,2,FALSE)),\"\")","v":""},0,-3.5,null,2026,"2026-01-28",{"$f":"IFERROR(IF(VLOOKUP($H1127,Übersichtsblatt!$N$14:$Q$24,2,FALSE)=0,\"\",VLOOKUP(H1127,Übersichtsblatt!$N$14:$Q$24,2,FALSE)),\"\")","v":""},0,3.5]
[2026,"2026-01-29",{"$f":"IFERROR(IF(VLOOKUP($B1128,Übersichtsblatt!$N$64:$Q$68,2,FALSE)=0,\"\",VLOOKUP($B1128,Übersichtsblatt!$N$64:$Q$68,2,FALSE)),\"\")","v":""},0,-3.5,null,2026,"2026-01-29",{"$f":"IFERROR(IF(VLOOKUP($H1128,Übersichtsblatt!$N$14:$Q$24,2,FALSE)=0,\"\",VLOOKUP(H1128,Übersichtsblatt!$N$14:$Q$24,2,FALSE)),\"\")","v":""},0,3.5]
[2026,"2026-01-30",{"$f":"IFERROR(IF(VLOOKUP($B1129,Übersichtsblatt!$N$64:$Q$68,2,FALSE)=0,\"\",VLOOKUP($B1129,Übersichtsblatt!$N$64:$Q$68,2,FALSE)),\"\")","v":""},0,-3.5,null,2026,"2026-01-30",{"$f":"IFERROR(IF(VLOOKUP($H1129,Übersichtsblatt!$N$14:$Q$24,2,FALSE)=0,\"\",VLOOKUP(H1129,Übersichtsblatt!$N$14:$Q$24,2,FALSE)),\"\")","v":""},0,3.5]
[2026,"2026-01-31",{"$f":"IFERROR(IF(VLOOKUP($B1130,Übersichtsblatt!$N$64:$Q$68,2,FALSE)=0,\"\",VLOOKUP($B1130,Übersichtsblatt!$N$64:$Q$68,2,FALSE)),\"\")","v":""},0,-3.5,null,2026,"2026-01-31",{"$f":"IFERROR(IF(VLOOKUP($H1130,Übersichtsblatt!$N$14:$Q$24,2,FALSE)=0,\"\",VLOOKUP(H1130,Übersichtsblatt!$N$14:$Q$24,2,FALSE)),\"\")","v":""},0,3.5]
[2026,"2026-02-01",{"$f":"IFERROR(IF(VLOOKUP($B1131,Übersichtsblatt!$N$64:$Q$68,2,FALSE)=0,\"\",VLOOKUP($B1131,Übersichtsblatt!$N$64:$Q$68,2,FALSE)),\"\")","v":""},0,-12.5,null,2026,"2026-02-01",{"$f":"IFERROR(IF(VLOOKUP($H1131,Übersichtsblatt!$N$14:$Q$24,2,FALSE)=0,\"\",VLOOKUP(H1131,Übersichtsblatt!$N$14:$Q$24,2,FALSE)),\"\")","v":""},0,12.5]
[2026,"2026-02-02",{"$f":"IFERROR(IF(VLOOKUP($B1132,Übersichtsblatt!$N$64:$Q$68,2,FALSE)=0,\"\",VLOOKUP($B1132,Übersichtsblatt!$N$64:$Q$68,2,FALSE)),\"\")","v":""},0,-12.5,null,2026,"2026-02-02",{"$f":"IFERROR(IF(VLOOKUP($H1132,Übersichtsblatt!$N$14:$Q$24,2,FALSE)=0,\"\",VLOOKUP(H1132,Übersichtsblatt!$N$14:$Q$24,2,FALSE)),\"\")","v":""},0,12.5]
[2026,"2026-02-03",{"$f":"IFERROR(IF(VLOOKUP($B1133,Übersichtsblatt!$N$64:$Q$68,2,FALSE)=0,\"\",VLOOKUP($B1133,Übersichtsblatt!$N$64:$Q$68,2,FALSE)),\"\")","v":""},0,-12.5,null,2026,"2026-02-03",{"$f":"IFERROR(IF(VLOOKUP($H1133,Übersichtsblatt!$N$14:$Q$24,2,FALSE)=0,\"\",VLOOKUP(H1133,Übersichtsblatt!$N$14:$Q$24,2,FALSE)),\"\")","v":""},0,12.5]
[2026,"2026-02-04",{"$f":"IFERROR(IF(VLOOKUP($B1134,Übersichtsblatt!$N$64:$Q$68,2,FALSE)=0,\"\",VLOOKUP($B1134,Übersichtsblatt!$N$64:$Q$68,2,FALSE)),\"\")","v":""},0,-12.5,null,2026,"2026-02-04",{"$f":"IFERROR(IF(VLOOKUP($H1134,Übersichtsblatt!$N$14:$Q$24,2,FALSE)=0,\"\",VLOOKUP(H1134,Übersichtsblatt!$N$14:$Q$24,2,FALSE)),\"\")","v":""},0,12.5]
[2026,"2026-02-05",{"$f":"IFERROR(IF(VLOOKUP($B1135,Übersichtsblatt!$N$64:$Q$68,2,FALSE)=0,\"\",VLOOKUP($B1135,Übersichtsblatt!$N$64:$Q$68,2,FALSE)),\"\")","v":""},0,-12.5,null,2026,"2026-02-05",{"$f":"IFERROR(IF(VLOOKUP($H1135,Übersichtsblatt!$N$14:$Q$24,2,FALSE)=0,\"\",VLOOKUP(H1135,Übersichtsblatt!$N$14:$Q$24,2,FALSE)),\"\")","v":""},0,12.5]
[2026,"2026-02-06",{"$f":"IFERROR(IF(VLOOKUP($B1136,Übersichtsblatt!$N$64:$Q$68,2,FALSE)=0,\"\",VLOOKUP($B1136,Übersichtsblatt!$N$64:$Q$68,2,FALSE)),\"\")","v":""},0,-12.5,null,2026,"2026-02-06",{"$f":"IFERROR(IF(VLOOKUP($H1136,Übersichtsblatt!$N$14:$Q$24,2,FALSE)=0,\"\",VLOOKUP(H1136,Übersichtsblatt!$N$14:$Q$24,2,FALSE)),\"\")","v":""},0,12.5]
[2026,"2026-02-07",{"$f":"IFERROR(IF(VLOOKUP($B1137,Übersichtsblatt!$N$64:$Q$68,2,FALSE)=0,\"\",VLOOKUP($B1137,Übersichtsblatt!$N$64:$Q$68,2,FALSE)),\"\")","v":""},0,-12.5,null,2026,"2026-02-07",{"$f":"IFERROR(IF(VLOOKUP($H1137,Übersichtsblatt!$N$14:$Q$24,2,FALSE)=0,\"\",VLOOKUP(H1137,Übersichtsblatt!$N$14:$Q$24,2,FALSE)),\"\")","v":""},0,12.5]
[2026,"2026-02-08",{"$f":"IFERROR(IF(VLOOKUP($B1138,Übersichtsblatt!$N$64:$Q$68,2,FALSE)=0,\"\",VLOOKUP($B1138,Übersichtsblatt!$N$64:$Q$68,2,FALSE)),\"\")","v":""},0,-12.5,null,2026,"2026-02-08",{"$f":"IFERROR(IF(VLOOKUP($H1138,Übersichtsblatt!$N$14:$Q$24,2,FALSE)=0,\"\",VLOOKUP(H1138,Übersichtsblatt!$N$14:$Q$24,2,FALSE)),\"\")","v":""},0,12.5]
[2026,"2026-02-09",{"$f":"IFERROR(IF(VLOOKUP($B1139,Übersichtsblatt!$N$64:$Q$68,2,FALSE)=0,\"\",VLOOKUP($B1139,Übersichtsblatt!$N$64:$Q$68,2,FALSE)),\"\")","v":""},0,-12.5,null,2026,"2026-02-09",{"$f":"IFERROR(IF(VLOOKUP($H1139,Übersichtsblatt!$N$14:$Q$24,2,FALSE)=0,\"\",VLOOKUP(H1139,Übersichtsblatt!$N$14:$Q$24,2,FALSE)),\"\")","v":""},0,12.5]
[2026,"2026-02-10",{"$f":"IFERROR(IF(VLOOKUP($B1140,Übersichtsblatt!$N$64:$Q$68,2,FALSE)=0,\"\",VLOOKUP($B1140,Übersichtsblatt!$N$64:$Q$68,2,FALSE)),\"\")","v":""},0,-12.5,null,2026,"2026-02-10",{"$f":"IFERROR(IF(VLOOKUP($H1140,Übersichtsblatt!$N$14:$Q$24,2,FALSE)=0,\"\",VLOOKUP(H1140,Übersichtsblatt!$N$14:$Q$24,2,FALSE)),\"\")","v":""},0,12.5]
[2026,"2026-02-11",{"$f":"IFERROR(IF(VLOOKUP($B1141,Übersichtsblatt!$N$64:$Q$68,2,FALSE)=0,\"\",VLOOKUP($B1141,Übersichtsblatt!$N$64:$Q$68,2,FALSE)),\"\")","v":""},0,-12.5,null,2026,"2026-02-11",{"$f":"IFERROR(IF(VLOOKUP($H1141,Übersichtsblatt!$N$14:$Q$24,2,FALSE)=0,\"\",VLOOKUP(H1141,Übersichtsblatt!$N$14:$Q$24,2,FALSE)),\"\")","v":""},0,12.5]
[2026,"2026-02-12",{"$f":"IFERROR(IF(VLOOKUP($B1142,Übersichtsblatt!$N$64:$Q$68,2,FALSE)=0,\"\",VLOOKUP($B1142,Übersichtsblatt!$N$64:$Q$68,2,FALSE)),\"\")","v":""},0,-12.5,null,2026,"2026-02-12",{"$f":"IFERROR(IF(VLOOKUP($H1142,Übersichtsblatt!$N$14:$Q$24,2,FALSE)=0,\"\",VLOOKUP(H1142,Übersichtsblatt!$N$14:$Q$24,2,FALSE)),\"\")","v":""},0,12.5]
[2026,"2026-02-13",{"$f":"IFERROR(IF(VLOOKUP($B1143,Übersichtsblatt!$N$64:$Q$68,2,FALSE)=0,\"\",VLOOKUP($B1143,Übersichtsblatt!$N$64:$Q$68,2,FALSE)),\"\")","v":""},0,-12.5,null,2026,"2026-02-13",{"$f":"IFERROR(IF(VLOOKUP($H1143,Übersichtsblatt!$N$14:$Q$24,2,FALSE)=0,\"\",VLOOKUP(H1143,Übersichtsblatt!$N$14:$Q$24,2,FALSE)),\"\")","v":""},0,12.5]
[2026,"2026-02-14",{"$f":"IFERROR(IF(VLOOKUP($B1144,Übersichtsblatt!$N$64:$Q$68,2,FALSE)=0,\"\",VLOOKUP($B1144,Übersichtsblatt!$N$64:$Q$68,2,FALSE)),\"\")","v":""},0,-12.5,null,2026,"2026-02-14",{"$f":"IFERROR(IF(VLOOKUP($H1144,Übersichtsblatt!$N$14:$Q$24,2,FALSE)=0,\"\",VLOOKUP(H1144,Übersichtsblatt!$N$14:$Q$24,2,FALSE)),\"\")","v":""},0,12.5]
[2026,"2026-02-15",{"$f":"IFERROR(IF(VLOOKUP($B1145,Übersichtsblatt!$N$64:$Q$68,2,FALSE)=0,\"\",VLOOKUP($B1145,Übersichtsblatt!$N$64:$Q$68,2,FALSE)),\"\")","v":""},0,-12.5,null,2026,"2026-02-15",{"$f":"IFERROR(IF(VLOOKUP($H1145,Übersichtsblatt!$N$14:$Q$24,2,FALSE)=0,\"\",VLOOKUP(H1145,Übersichtsblatt!$N$14:$Q$24,2,FALSE)),\"\")","v":""},0,12.5]
[2026,"2026-02-16",{"$f":"IFERROR(IF(VLOOKUP($B1146,Übersichtsblatt!$N$64:$Q$68,2,FALSE)=0,\"\",VLOOKUP($B1146,Übersichtsblatt!$N$64:$Q$68,2,FALSE)),\"\")","v":""},0,-12.5,null,2026,"2026-02-16",{"$f":"IFERROR(IF(VLOOKUP($H1146,Übersichtsblatt!$N$14:$Q$24,2,FALSE)=0,\"\",VLOOKUP(H1146,Übersichtsblatt!$N$14:$Q$24,2,FALSE)),\"\")","v":""},0,12.5]
[2026,"2026-02-17",{"$f":"IFERROR(IF(VLOOKUP($B1147,Übersichtsblatt!$N$64:$Q$68,2,FALSE)=0,\"\",VLOOKUP($B1147,Übersichtsblatt!$N$64:$Q$68,2,FALSE)),\"\")","v":""},0,-12.5,null,2026,"2026-02-17",{"$f":"IFERROR(IF(VLOOKUP($H1147,Übersichtsblatt!$N$14:$Q$24,2,FALSE)=0,\"\",VLOOKUP(H1147,Übersichtsblatt!$N$14:$Q$24,2,FALSE)),\"\")","v":""},0,12.5]
[2026,"2026-02-18",{"$f":"IFERROR(IF(VLOOKUP($B1148,Übersichtsblatt!$N$64:$Q$68,2,FALSE)=0,\"\",VLOOKUP($B1148,Übersichtsblatt!$N$64:$Q$68,2,FALSE)),\"\")","v":""},0,-12.5,null,2026,"2026-02-18",{"$f":"IFERROR(IF(VLOOKUP($H1148,Übersichtsblatt!$N$14:$Q$24,2,FALSE)=0,\"\",VLOOKUP(H1148,Übersichtsblatt!$N$14:$Q$24,2,FALSE)),\"\")","v":""},0,12.5]
[2026,"2026-02-19",{"$f":"IFERROR(IF(VLOOKUP($B1149,Übersichtsblatt!$N$64:$Q$68,2,FALSE)=0,\"\",VLOOKUP($B1149,Übersichtsblatt!$N$64:$Q$68,2,FALSE)),\"\")","v":""},0,-12.5,null,2026,"2026-02-19",{"$f":"IFERROR(IF(VLOOKUP($H1149,Übersichtsblatt!$N$14:$Q$24,2,FALSE)=0,\"\",VLOOKUP(H1149,Übersichtsblatt!$N$14:$Q$24,2,FALSE)),\"\")","v":""},0,12.5]
[2026,"2026-02-20",{"$f":"IFERROR(IF(VLOOKUP($B1150,Übersichtsblatt!$N$64:$Q$68,2,FALSE)=0,\"\",VLOOKUP($B1150,Übersichtsblatt!$N$64:$Q$68,2,FALSE)),\"\")","v":""},0,-12.5,null,2026,"2026-02-20",{"$f":"IFERROR(IF(VLOOKUP($H1150,Übersichtsblatt!$N$14:$Q$24,2,FALSE)=0,\"\",VLOOKUP(H1150,Übersichtsblatt!$N$14:$Q$24,2,FALSE)),\"\")","v":""},0,12.5]
[2026,"2026-02-21",{"$f":"IFERROR(IF(VLOOKUP($B1151,Übersichtsblatt!$N$64:$Q$68,2,FALSE)=0,\"\",VLOOKUP($B1151,Übersichtsblatt!$N$64:$Q$68,2,FALSE)),\"\")","v":""},0,-12.5,null,2026,"2026-02-21",{"$f":"IFERROR(IF(VLOOKUP($H1151,Übersichtsblatt!$N$14:$Q$24,2,FALSE)=0,\"\",VLOOKUP(H1151,Übersichtsblatt!$N$14:$Q$24,2,FALSE)),\"\")","v":""},0,12.5]
[2026,"2026-02-22",{"$f":"IFERROR(IF(VLOOKUP($B1152,Übersichtsblatt!$N$64:$Q$68,2,FALSE)=0,\"\",VLOOKUP($B1152,Übersichtsblatt!$N$64:$Q$68,2,FALSE)),\"\")","v":""},0,-12.5,null,2026,"2026-02-22",{"$f":"IFERROR(IF(VLOOKUP($H1152,Übersichtsblatt!$N$14:$Q$24,2,FALSE)=0,\"\",VLOOKUP(H1152,Übersichtsblatt!$N$14:$Q$24,2,FALSE)),\"\")","v":""},0,12.5]
[2026,"2026-02-23",{"$f":"IFERROR(IF(VLOOKUP($B1153,Übersichtsblatt!$N$64:$Q$68,2,FALSE)=0,\"\",VLOOKUP($B1153,Übersichtsblatt!$N$64:$Q$68,2,FALSE)),\"\")","v":""},0,-12.5,null,2026,"2026-02-23",{"$f":"IFERROR(IF(VLOOKUP($H1153,Übersichtsblatt!$N$14:$Q$24,2,FALSE)=0,\"\",VLOOKUP(H1153,Übersichtsblatt!$N$14:$Q$24,2,FALSE)),\"\")","v":""},0,12.5]
[2026,"2026-02-24",{"$f":"IFERROR(IF(VLOOKUP($B1154,Übersichtsblatt!$N$64:$Q$68,2,FALSE)=0,\"\",VLOOKUP($B1154,Übersichtsblatt!$N$64:$Q$68,2,FALSE)),\"\")","v":""},0,-12.5,null,2026,"2026-02-24",{"$f":"IFERROR(IF(VLOOKUP($H1154,Übersichtsblatt!$N$14:$Q$24,2,FALSE)=0,\"\",VLOOKUP(H1154,Übersichtsblatt!$N$14:$Q$24,2,FALSE)),\"\")","v":""},0,12.5]
[2026,"2026-02-25",{"$f":"IFERROR(IF(VLOOKUP($B1155,Übersichtsblatt!$N$64:$Q$68,2,FALSE)=0,\"\",VLOOKUP($B1155,Übersichtsblatt!$N$64:$Q$68,2,FALSE)),\"\")","v":""},0,-12.5,null,2026,"2026-02-25",{"$f":"IFERROR(IF(VLOOKUP($H1155,Übersichtsblatt!$N$14:$Q$24,2,FALSE)=0,\"\",VLOOKUP(H1155,Übersichtsblatt!$N$14:$Q$24,2,FALSE)),\"\")","v":""},0,12.5]
[2026,"2026-02-26",{"$f":"IFERROR(IF(VLOOKUP($B1156,Übersichtsblatt!$N$64:$Q$68,2,FALSE)=0,\"\",VLOOKUP($B1156,Übersichtsblatt!$N$64:$Q$68,2,FALSE)),\"\")","v":""},0,-12.5,null,2026,"2026-02-26",{"$f":"IFERROR(IF(VLOOKUP($H1156,Übersichtsblatt!$N$14:$Q$24,2,FALSE)=0,\"\",VLOOKUP(H1156,Übersichtsblatt!$N$14:$Q$24,2,FALSE)),\"\")","v":""},0,12.5]
[2026,"2026-02-27",{"$f":"IFERROR(IF(VLOOKUP($B1157,Übersichtsblatt!$N$64:$Q$68,2,FALSE)=0,\"\",VLOOKUP($B1157,Übersichtsblatt!$N$64:$Q$68,2,FALSE)),\"\")","v":""},0,-12.5,null,2026,"2026-02-27",{"$f":"IFERROR(IF(VLOOKUP($H1157,Übersichtsblatt!$N$14:$Q$24,2,FALSE)=0,\"\",VLOOKUP(H1157,Übersichtsblatt!$N$14:$Q$24,2,FALSE)),\"\")","v":""},0,12.5]
[2026,"2026-02-28",{"$f":"IFERROR(IF(VLOOKUP($B1158,Übersichtsblatt!$N$64:$Q$68,2,FALSE)=0,\"\",VLOOKUP($B1158,Übersichtsblatt!$N$64:$Q$68,2,FALSE)),\"\")","v":""},{"$f":"IF($C1158=\"\",0,$E1158)","v":0},-12.5,null,2026,"2026-02-28",{"$f":"IFERROR(IF(VLOOKUP($H1158,Übersichtsblatt!$N$14:$Q$24,2,FALSE)=0,\"\",VLOOKUP(H1158,Übersichtsblatt!$N$14:$Q$24,2,FALSE)),\"\")","v":""},{"$f":"IF($I1158=\"\",0,$K1158)","v":0},12.5]
[{"$f":"YEAR(B1159)","v":2026},{"$f":"B1158+1","v":"2026-03-01"},{"$f":"IFERROR(IF(VLOOKUP($B1159,Übersichtsblatt!$N$64:$Q$68,2,FALSE)=0,\"\",VLOOKUP($B1159,Übersichtsblatt!$N$64:$Q$68,2,FALSE)),\"\")","v":""},0,-6.5,null,{"$f":"YEAR(H1159)","v":2026},{"$f":"H1158+1","v":"2026-03-01"},{"$f":"IFERROR(IF(VLOOKUP($H1159,Übersichtsblatt!$N$14:$Q$24,2,FALSE)=0,\"\",VLOOKUP(H1159,Übersichtsblatt!$N$14:$Q$24,2,FALSE)),\"\")","v":""},0,6.5]
[2026,{"$f":"DATE(A1159,3,1)","v":"2026-03-01"},{"$f":"IFERROR(IF(VLOOKUP($B1160,Übersichtsblatt!$N$64:$Q$68,2,FALSE)=0,\"\",VLOOKUP($B1160,Übersichtsblatt!$N$64:$Q$68,2,FALSE)),\"\")","v":""},0,-6.5,null,2026,{"$f":"DATE(G1159,3,1)","v":"2026-03-01"},{"$f":"IFERROR(IF(VLOOKUP($H1160,Übersichtsblatt!$N$14:$Q$24,2,FALSE)=0,\"\",VLOOKUP(H1160,Übersichtsblatt!$N$14:$Q$24,2,FALSE)),\"\")","v":""},0,6.5]
[2026,"2026-03-02",{"$f":"IFERROR(IF(VLOOKUP($B1161,Übersichtsblatt!$N$64:$Q$68,2,FALSE)=0,\"\",VLOOKUP($B1161,Übersichtsblatt!$N$64:$Q$68,2,FALSE)),\"\")","v":""},0,-6.5,null,2026,"2026-03-02",{"$f":"IFERROR(IF(VLOOKUP($H1161,Übersichtsblatt!$N$14:$Q$24,2,FALSE)=0,\"\",VLOOKUP(H1161,Übersichtsblatt!$N$14:$Q$24,2,FALSE)),\"\")","v":""},0,6.5]
[2026,"2026-03-03",{"$f":"IFERROR(IF(VLOOKUP($B1162,Übersichtsblatt!$N$64:$Q$68,2,FALSE)=0,\"\",VLOOKUP($B1162,Übersichtsblatt!$N$64:$Q$68,2,FALSE)),\"\")","v":""},0,-6.5,null,2026,"2026-03-03",{"$f":"IFERROR(IF(VLOOKUP($H1162,Übersichtsblatt!$N$14:$Q$24,2,FALSE)=0,\"\",VLOOKUP(H1162,Übersichtsblatt!$N$14:$Q$24,2,FALSE)),\"\")","v":""},0,6.5]
[2026,"2026-03-04",{"$f":"IFERROR(IF(VLOOKUP($B1163,Übersichtsblatt!$N$64:$Q$68,2,FALSE)=0,\"\",VLOOKUP($B1163,Übersichtsblatt!$N$64:$Q$68,2,FALSE)),\"\")","v":""},0,-6.5,null,2026,"2026-03-04",{"$f":"IFERROR(IF(VLOOKUP($H1163,Übersichtsblatt!$N$14:$Q$24,2,FALSE)=0,\"\",VLOOKUP(H1163,Übersichtsblatt!$N$14:$Q$24,2,FALSE)),\"\")","v":""},0,6.5]
[2026,"2026-03-05",{"$f":"IFERROR(IF(VLOOKUP($B1164,Übersichtsblatt!$N$64:$Q$68,2,FALSE)=0,\"\",VLOOKUP($B1164,Übersichtsblatt!$N$64:$Q$68,2,FALSE)),\"\")","v":""},0,-6.5,null,2026,"2026-03-05",{"$f":"IFERROR(IF(VLOOKUP($H1164,Übersichtsblatt!$N$14:$Q$24,2,FALSE)=0,\"\",VLOOKUP(H1164,Übersichtsblatt!$N$14:$Q$24,2,FALSE)),\"\")","v":""},0,6.5]
[2026,"2026-03-06",{"$f":"IFERROR(IF(VLOOKUP($B1165,Übersichtsblatt!$N$64:$Q$68,2,FALSE)=0,\"\",VLOOKUP($B1165,Übersichtsblatt!$N$64:$Q$68,2,FALSE)),\"\")","v":""},0,-6.5,null,2026,"2026-03-06",{"$f":"IFERROR(IF(VLOOKUP($H1165,Übersichtsblatt!$N$14:$Q$24,2,FALSE)=0,\"\",VLOOKUP(H1165,Übersichtsblatt!$N$14:$Q$24,2,FALSE)),\"\")","v":""},0,6.5]
[2026,"2026-03-07",{"$f":"IFERROR(IF(VLOOKUP($B1166,Übersichtsblatt!$N$64:$Q$68,2,FALSE)=0,\"\",VLOOKUP($B1166,Übersichtsblatt!$N$64:$Q$68,2,FALSE)),\"\")","v":""},0,-6.5,null,2026,"2026-03-07",{"$f":"IFERROR(IF(VLOOKUP($H1166,Übersichtsblatt!$N$14:$Q$24,2,FALSE)=0,\"\",VLOOKUP(H1166,Übersichtsblatt!$N$14:$Q$24,2,FALSE)),\"\")","v":""},0,6.5]
[2026,"2026-03-08",{"$f":"IFERROR(IF(VLOOKUP($B1167,Übersichtsblatt!$N$64:$Q$68,2,FALSE)=0,\"\",VLOOKUP($B1167,Übersichtsblatt!$N$64:$Q$68,2,FALSE)),\"\")","v":""},0,-6.5,null,2026,"2026-03-08",{"$f":"IFERROR(IF(VLOOKUP($H1167,Übersichtsblatt!$N$14:$Q$24,2,FALSE)=0,\"\",VLOOKUP(H1167,Übersichtsblatt!$N$14:$Q$24,2,FALSE)),\"\")","v":""},0,6.5]
[2026,"2026-03-09",{"$f":"IFERROR(IF(VLOOKUP($B1168,Übersichtsblatt!$N$64:$Q$68,2,FALSE)=0,\"\",VLOOKUP($B1168,Übersichtsblatt!$N$64:$Q$68,2,FALSE)),\"\")","v":""},0,-6.5,null,2026,"2026-03-09",{"$f":"IFERROR(IF(VLOOKUP($H1168,Übersichtsblatt!$N$14:$Q$24,2,FALSE)=0,\"\",VLOOKUP(H1168,Übersichtsblatt!$N$14:$Q$24,2,FALSE)),\"\")","v":""},0,6.5]
[2026,"2026-03-10",{"$f":"IFERROR(IF(VLOOKUP($B1169,Übersichtsblatt!$N$64:$Q$68,2,FALSE)=0,\"\",VLOOKUP($B1169,Übersichtsblatt!$N$64:$Q$68,2,FALSE)),\"\")","v":""},0,-6.5,null,2026,"2026-03-10",{"$f":"IFERROR(IF(VLOOKUP($H1169,Übersichtsblatt!$N$14:$Q$24,2,FALSE)=0,\"\",VLOOKUP(H1169,Übersichtsblatt!$N$14:$Q$24,2,FALSE)),\"\")","v":""},0,6.5]
[2026,"2026-03-11",{"$f":"IFERROR(IF(VLOOKUP($B1170,Übersichtsblatt!$N$64:$Q$68,2,FALSE)=0,\"\",VLOOKUP($B1170,Übersichtsblatt!$N$64:$Q$68,2,FALSE)),\"\")","v":""},0,-6.5,null,2026,"2026-03-11",{"$f":"IFERROR(IF(VLOOKUP($H1170,Übersichtsblatt!$N$14:$Q$24,2,FALSE)=0,\"\",VLOOKUP(H1170,Übersichtsblatt!$N$14:$Q$24,2,FALSE)),\"\")","v":""},0,6.5]
[2026,"2026-03-12",{"$f":"IFERROR(IF(VLOOKUP($B1171,Übersichtsblatt!$N$64:$Q$68,2,FALSE)=0,\"\",VLOOKUP($B1171,Übersichtsblatt!$N$64:$Q$68,2,FALSE)),\"\")","v":""},0,-6.5,null,2026,"2026-03-12",{"$f":"IFERROR(IF(VLOOKUP($H1171,Übersichtsblatt!$N$14:$Q$24,2,FALSE)=0,\"\",VLOOKUP(H1171,Übersichtsblatt!$N$14:$Q$24,2,FALSE)),\"\")","v":""},0,6.5]
[2026,"2026-03-13",{"$f":"IFERROR(IF(VLOOKUP($B1172,Übersichtsblatt!$N$64:$Q$68,2,FALSE)=0,\"\",VLOOKUP($B1172,Übersichtsblatt!$N$64:$Q$68,2,FALSE)),\"\")","v":""},0,-6.5,null,2026,"2026-03-13",{"$f":"IFERROR(IF(VLOOKUP($H1172,Übersichtsblatt!$N$14:$Q$24,2,FALSE)=0,\"\",VLOOKUP(H1172,Übersichtsblatt!$N$14:$Q$24,2,FALSE)),\"\")","v":""},0,6.5]
[2026,"2026-03-14",{"$f":"IFERROR(IF(VLOOKUP($B1173,Übersichtsblatt!$N$64:$Q$68,2,FALSE)=0,\"\",VLOOKUP($B1173,Übersichtsblatt!$N$64:$Q$68,2,FALSE)),\"\")","v":""},0,-6.5,null,2026,"2026-03-14",{"$f":"IFERROR(IF(VLOOKUP($H1173,Übersichtsblatt!$N$14:$Q$24,2,FALSE)=0,\"\",VLOOKUP(H1173,Übersichtsblatt!$N$14:$Q$24,2,FALSE)),\"\")","v":""},0,6.5]
[2026,"2026-03-15",{"$f":"IFERROR(IF(VLOOKUP($B1174,Übersichtsblatt!$N$64:$Q$68,2,FALSE)=0,\"\",VLOOKUP($B1174,Übersichtsblatt!$N$64:$Q$68,2,FALSE)),\"\")","v":""},0,-6.5,null,2026,"2026-03-15",{"$f":"IFERROR(IF(VLOOKUP($H1174,Übersichtsblatt!$N$14:$Q$24,2,FALSE)=0,\"\",VLOOKUP(H1174,Übersichtsblatt!$N$14:$Q$24,2,FALSE)),\"\")","v":""},0,6.5]
[2026,"2026-03-16",{"$f":"IFERROR(IF(VLOOKUP($B1175,Übersichtsblatt!$N$64:$Q$68,2,FALSE)=0,\"\",VLOOKUP($B1175,Übersichtsblatt!$N$64:$Q$68,2,FALSE)),\"\")","v":""},0,-6.5,null,2026,"2026-03-16",{"$f":"IFERROR(IF(VLOOKUP($H1175,Übersichtsblatt!$N$14:$Q$24,2,FALSE)=0,\"\",VLOOKUP(H1175,Übersichtsblatt!$N$14:$Q$24,2,FALSE)),\"\")","v":""},0,6.5]
[2026,"2026-03-17",{"$f":"IFERROR(IF(VLOOKUP($B1176,Übersichtsblatt!$N$64:$Q$68,2,FALSE)=0,\"\",VLOOKUP($B1176,Übersichtsblatt!$N$64:$Q$68,2,FALSE)),\"\")","v":""},0,-6.5,null,2026,"2026-03-17",{"$f":"IFERROR(IF(VLOOKUP($H1176,Übersichtsblatt!$N$14:$Q$24,2,FALSE)=0,\"\",VLOOKUP(H1176,Übersichtsblatt!$N$14:$Q$24,2,FALSE)),\"\")","v":""},0,6.5]
[2026,"2026-03-18",{"$f":"IFERROR(IF(VLOOKUP($B1177,Übersichtsblatt!$N$64:$Q$68,2,FALSE)=0,\"\",VLOOKUP($B1177,Übersichtsblatt!$N$64:$Q$68,2,FALSE)),\"\")","v":""},0,-6.5,null,2026,"2026-03-18",{"$f":"IFERROR(IF(VLOOKUP($H1177,Übersichtsblatt!$N$14:$Q$24,2,FALSE)=0,\"\",VLOOKUP(H1177,Übersichtsblatt!$N$14:$Q$24,2,FALSE)),\"\")","v":""},0,6.5]
[2026,"2026-03-19",{"$f":"IFERROR(IF(VLOOKUP($B1178,Übersichtsblatt!$N$64:$Q$68,2,FALSE)=0,\"\",VLOOKUP($B1178,Übersichtsblatt!$N$64:$Q$68,2,FALSE)),\"\")","v":""},0,-6.5,null,2026,"2026-03-19",{"$f":"IFERROR(IF(VLOOKUP($H1178,Übersichtsblatt!$N$14:$Q$24,2,FALSE)=0,\"\",VLOOKUP(H1178,Übersichtsblatt!$N$14:$Q$24,2,FALSE)),\"\")","v":""},0,6.5]
[2026,"2026-03-20",{"$f":"IFERROR(IF(VLOOKUP($B1179,Übersichtsblatt!$N$64:$Q$68,2,FALSE)=0,\"\",VLOOKUP($B1179,Übersichtsblatt!$N$64:$Q$68,2,FALSE)),\"\")","v":""},0,-6.5,null,2026,"2026-03-20",{"$f":"IFERROR(IF(VLOOKUP($H1179,Übersichtsblatt!$N$14:$Q$24,2,FALSE)=0,\"\",VLOOKUP(H1179,Übersichtsblatt!$N$14:$Q$24,2,FALSE)),\"\")","v":""},0,6.5]
[2026,"2026-03-21",{"$f":"IFERROR(IF(VLOOKUP($B1180,Übersichtsblatt!$N$64:$Q$68,2,FALSE)=0,\"\",VLOOKUP($B1180,Übersichtsblatt!$N$64:$Q$68,2,FALSE)),\"\")","v":""},0,-6.5,null,2026,"2026-03-21",{"$f":"IFERROR(IF(VLOOKUP($H1180,Übersichtsblatt!$N$14:$Q$24,2,FALSE)=0,\"\",VLOOKUP(H1180,Übersichtsblatt!$N$14:$Q$24,2,FALSE)),\"\")","v":""},0,6.5]
[2026,"2026-03-22",{"$f":"IFERROR(IF(VLOOKUP($B1181,Übersichtsblatt!$N$64:$Q$68,2,FALSE)=0,\"\",VLOOKUP($B1181,Übersichtsblatt!$N$64:$Q$68,2,FALSE)),\"\")","v":""},0,-6.5,null,2026,"2026-03-22",{"$f":"IFERROR(IF(VLOOKUP($H1181,Übersichtsblatt!$N$14:$Q$24,2,FALSE)=0,\"\",VLOOKUP(H1181,Übersichtsblatt!$N$14:$Q$24,2,FALSE)),\"\")","v":""},0,6.5]
[2026,"2026-03-23",{"$f":"IFERROR(IF(VLOOKUP($B1182,Übersichtsblatt!$N$64:$Q$68,2,FALSE)=0,\"\",VLOOKUP($B1182,Übersichtsblatt!$N$64:$Q$68,2,FALSE)),\"\")","v":""},0,-6.5,null,2026,"2026-03-23",{"$f":"IFERROR(IF(VLOOKUP($H1182,Übersichtsblatt!$N$14:$Q$24,2,FALSE)=0,\"\",VLOOKUP(H1182,Übersichtsblatt!$N$14:$Q$24,2,FALSE)),\"\")","v":""},0,6.5]
[2026,"2026-03-24",{"$f":"IFERROR(IF(VLOOKUP($B1183,Übersichtsblatt!$N$64:$Q$68,2,FALSE)=0,\"\",VLOOKUP($B1183,Übersichtsblatt!$N$64:$Q$68,2,FALSE)),\"\")","v":""},0,-6.5,null,2026,"2026-03-24",{"$f":"IFERROR(IF(VLOOKUP($H1183,Übersichtsblatt!$N$14:$Q$24,2,FALSE)=0,\"\",VLOOKUP(H1183,Übersichtsblatt!$N$14:$Q$24,2,FALSE)),\"\")","v":""},0,6.5]
[2026,"2026-03-25",{"$f":"IFERROR(IF(VLOOKUP($B1184,Übersichtsblatt!$N$64:$Q$68,2,FALSE)=0,\"\",VLOOKUP($B1184,Übersichtsblatt!$N$64:$Q$68,2,FALSE)),\"\")","v":""},0,-6.5,null,2026,"2026-03-25",{"$f":"IFERROR(IF(VLOOKUP($H1184,Übersichtsblatt!$N$14:$Q$24,2,FALSE)=0,\"\",VLOOKUP(H1184,Übersichtsblatt!$N$14:$Q$24,2,FALSE)),\"\")","v":""},0,6.5]
[2026,"2026-03-26",{"$f":"IFERROR(IF(VLOOKUP($B1185,Übersichtsblatt!$N$64:$Q$68,2,FALSE)=0,\"\",VLOOKUP($B1185,Übersichtsblatt!$N$64:$Q$68,2,FALSE)),\"\")","v":""},0,-6.5,null,2026,"2026-03-26",{"$f":"IFERROR(IF(VLOOKUP($H1185,Übersichtsblatt!$N$14:$Q$24,2,FALSE)=0,\"\",VLOOKUP(H1185,Übersichtsblatt!$N$14:$Q$24,2,FALSE)),\"\")","v":""},0,6.5]
[2026,"2026-03-27",{"$f":"IFERROR(IF(VLOOKUP($B1186,Übersichtsblatt!$N$64:$Q$68,2,FALSE)=0,\"\",VLOOKUP($B1186,Übersichtsblatt!$N$64:$Q$68,2,FALSE)),\"\")","v":""},0,-6.5,null,2026,"2026-03-27",{"$f":"IFERROR(IF(VLOOKUP($H1186,Übersichtsblatt!$N$14:$Q$24,2,FALSE)=0,\"\",VLOOKUP(H1186,Übersichtsblatt!$N$14:$Q$24,2,FALSE)),\"\")","v":""},0,6.5]
[2026,"2026-03-28",{"$f":"IFERROR(IF(VLOOKUP($B1187,Übersichtsblatt!$N$64:$Q$68,2,FALSE)=0,\"\",VLOOKUP($B1187,Übersichtsblatt!$N$64:$Q$68,2,FALSE)),\"\")","v":""},0,-6.5,null,2026,"2026-03-28",{"$f":"IFERROR(IF(VLOOKUP($H1187,Übersichtsblatt!$N$14:$Q$24,2,FALSE)=0,\"\",VLOOKUP(H1187,Übersichtsblatt!$N$14:$Q$24,2,FALSE)),\"\")","v":""},0,6.5]
[2026,"2026-03-29",{"$f":"IFERROR(IF(VLOOKUP($B1188,Übersichtsblatt!$N$64:$Q$68,2,FALSE)=0,\"\",VLOOKUP($B1188,Übersichtsblatt!$N$64:$Q$68,2,FALSE)),\"\")","v":""},0,-6.5,null,2026,"2026-03-29",{"$f":"IFERROR(IF(VLOOKUP($H1188,Übersichtsblatt!$N$14:$Q$24,2,FALSE)=0,\"\",VLOOKUP(H1188,Übersichtsblatt!$N$14:$Q$24,2,FALSE)),\"\")","v":""},0,6.5]
[2026,"2026-03-30",{"$f":"IFERROR(IF(VLOOKUP($B1189,Übersichtsblatt!$N$64:$Q$68,2,FALSE)=0,\"\",VLOOKUP($B1189,Übersichtsblatt!$N$64:$Q$68,2,FALSE)),\"\")","v":""},0,-6.5,null,2026,"2026-03-30",{"$f":"IFERROR(IF(VLOOKUP($H1189,Übersichtsblatt!$N$14:$Q$24,2,FALSE)=0,\"\",VLOOKUP(H1189,Übersichtsblatt!$N$14:$Q$24,2,FALSE)),\"\")","v":""},0,6.5]
[2026,"2026-03-31",{"$f":"IFERROR(IF(VLOOKUP($B1190,Übersichtsblatt!$N$64:$Q$68,2,FALSE)=0,\"\",VLOOKUP($B1190,Übersichtsblatt!$N$64:$Q$68,2,FALSE)),\"\")","v":""},0,-9.5,null,2026,"2026-03-31",{"$f":"IFERROR(IF(VLOOKUP($H1190,Übersichtsblatt!$N$14:$Q$24,2,FALSE)=0,\"\",VLOOKUP(H1190,Übersichtsblatt!$N$14:$Q$24,2,FALSE)),\"\")","v":""},0,9.5]
[2026,"2026-04-01",{"$f":"IFERROR(IF(VLOOKUP($B1191,Übersichtsblatt!$N$64:$Q$68,2,FALSE)=0,\"\",VLOOKUP($B1191,Übersichtsblatt!$N$64:$Q$68,2,FALSE)),\"\")","v":""},0,-9.5,null,2026,"2026-04-01",{"$f":"IFERROR(IF(VLOOKUP($H1191,Übersichtsblatt!$N$14:$Q$24,2,FALSE)=0,\"\",VLOOKUP(H1191,Übersichtsblatt!$N$14:$Q$24,2,FALSE)),\"\")","v":""},0,9.5]
[2026,"2026-04-02",{"$f":"IFERROR(IF(VLOOKUP($B1192,Übersichtsblatt!$N$64:$Q$68,2,FALSE)=0,\"\",VLOOKUP($B1192,Übersichtsblatt!$N$64:$Q$68,2,FALSE)),\"\")","v":""},0,-9.5,null,2026,"2026-04-02",{"$f":"IFERROR(IF(VLOOKUP($H1192,Übersichtsblatt!$N$14:$Q$24,2,FALSE)=0,\"\",VLOOKUP(H1192,Übersichtsblatt!$N$14:$Q$24,2,FALSE)),\"\")","v":""},0,9.5]
[2026,"2026-04-03",{"$f":"IFERROR(IF(VLOOKUP($B1193,Übersichtsblatt!$N$64:$Q$68,2,FALSE)=0,\"\",VLOOKUP($B1193,Übersichtsblatt!$N$64:$Q$68,2,FALSE)),\"\")","v":""},0,-9.5,null,2026,"2026-04-03",{"$f":"IFERROR(IF(VLOOKUP($H1193,Übersichtsblatt!$N$14:$Q$24,2,FALSE)=0,\"\",VLOOKUP(H1193,Übersichtsblatt!$N$14:$Q$24,2,FALSE)),\"\")","v":""},0,9.5]
[2026,"2026-04-04",{"$f":"IFERROR(IF(VLOOKUP($B1194,Übersichtsblatt!$N$64:$Q$68,2,FALSE)=0,\"\",VLOOKUP($B1194,Übersichtsblatt!$N$64:$Q$68,2,FALSE)),\"\")","v":""},0,-9.5,null,2026,"2026-04-04",{"$f":"IFERROR(IF(VLOOKUP($H1194,Übersichtsblatt!$N$14:$Q$24,2,FALSE)=0,\"\",VLOOKUP(H1194,Übersichtsblatt!$N$14:$Q$24,2,FALSE)),\"\")","v":""},0,9.5]
[2026,"2026-04-05",{"$f":"IFERROR(IF(VLOOKUP($B1195,Übersichtsblatt!$N$64:$Q$68,2,FALSE)=0,\"\",VLOOKUP($B1195,Übersichtsblatt!$N$64:$Q$68,2,FALSE)),\"\")","v":""},0,-9.5,null,2026,"2026-04-05",{"$f":"IFERROR(IF(VLOOKUP($H1195,Übersichtsblatt!$N$14:$Q$24,2,FALSE)=0,\"\",VLOOKUP(H1195,Übersichtsblatt!$N$14:$Q$24,2,FALSE)),\"\")","v":""},0,9.5]
[2026,"2026-04-06",{"$f":"IFERROR(IF(VLOOKUP($B1196,Übersichtsblatt!$N$64:$Q$68,2,FALSE)=0,\"\",VLOOKUP($B1196,Übersichtsblatt!$N$64:$Q$68,2,FALSE)),\"\")","v":""},0,-9.5,null,2026,"2026-04-06",{"$f":"IFERROR(IF(VLOOKUP($H1196,Übersichtsblatt!$N$14:$Q$24,2,FALSE)=0,\"\",VLOOKUP(H1196,Übersichtsblatt!$N$14:$Q$24,2,FALSE)),\"\")","v":""},0,9.5]
[2026,"2026-04-07",{"$f":"IFERROR(IF(VLOOKUP($B1197,Übersichtsblatt!$N$64:$Q$68,2,FALSE)=0,\"\",VLOOKUP($B1197,Übersichtsblatt!$N$64:$Q$68,2,FALSE)),\"\")","v":""},0,-9.5,null,2026,"2026-04-07",{"$f":"IFERROR(IF(VLOOKUP($H1197,Übersichtsblatt!$N$14:$Q$24,2,FALSE)=0,\"\",VLOOKUP(H1197,Übersichtsblatt!$N$14:$Q$24,2,FALSE)),\"\")","v":""},0,9.5]
[2026,"2026-04-08",{"$f":"IFERROR(IF(VLOOKUP($B1198,Übersichtsblatt!$N$64:$Q$68,2,FALSE)=0,\"\",VLOOKUP($B1198,Übersichtsblatt!$N$64:$Q$68,2,FALSE)),\"\")","v":""},0,-9.5,null,2026,"2026-04-08",{"$f":"IFERROR(IF(VLOOKUP($H1198,Übersichtsblatt!$N$14:$Q$24,2,FALSE)=0,\"\",VLOOKUP(H1198,Übersichtsblatt!$N$14:$Q$24,2,FALSE)),\"\")","v":""},0,9.5]
[2026,"2026-04-09",{"$f":"IFERROR(IF(VLOOKUP($B1199,Übersichtsblatt!$N$64:$Q$68,2,FALSE)=0,\"\",VLOOKUP($B1199,Übersichtsblatt!$N$64:$Q$68,2,FALSE)),\"\")","v":""},0,-9.5,null,2026,"2026-04-09",{"$f":"IFERROR(IF(VLOOKUP($H1199,Übersichtsblatt!$N$14:$Q$24,2,FALSE)=0,\"\",VLOOKUP(H1199,Übersichtsblatt!$N$14:$Q$24,2,FALSE)),\"\")","v":""},0,9.5]
[2026,"2026-04-10",{"$f":"IFERROR(IF(VLOOKUP($B1200,Übersichtsblatt!$N$64:$Q$68,2,FALSE)=0,\"\",VLOOKUP($B1200,Übersichtsblatt!$N$64:$Q$68,2,FALSE)),\"\")","v":""},0,-9.5,null,2026,"2026-04-10",{"$f":"IFERROR(IF(VLOOKUP($H1200,Übersichtsblatt!$N$14:$Q$24,2,FALSE)=0,\"\",VLOOKUP(H1200,Übersichtsblatt!$N$14:$Q$24,2,FALSE)),\"\")","v":""},0,9.5]
[2026,"2026-04-11",{"$f":"IFERROR(IF(VLOOKUP($B1201,Übersichtsblatt!$N$64:$Q$68,2,FALSE)=0,\"\",VLOOKUP($B1201,Übersichtsblatt!$N$64:$Q$68,2,FALSE)),\"\")","v":""},0,-9.5,null,2026,"2026-04-11",{"$f":"IFERROR(IF(VLOOKUP($H1201,Übersichtsblatt!$N$14:$Q$24,2,FALSE)=0,\"\",VLOOKUP(H1201,Übersichtsblatt!$N$14:$Q$24,2,FALSE)),\"\")","v":""},0,9.5]
[2026,"2026-04-12",{"$f":"IFERROR(IF(VLOOKUP($B1202,Übersichtsblatt!$N$64:$Q$68,2,FALSE)=0,\"\",VLOOKUP($B1202,Übersichtsblatt!$N$64:$Q$68,2,FALSE)),\"\")","v":""},0,-9.5,null,2026,"2026-04-12",{"$f":"IFERROR(IF(VLOOKUP($H1202,Übersichtsblatt!$N$14:$Q$24,2,FALSE)=0,\"\",VLOOKUP(H1202,Übersichtsblatt!$N$14:$Q$24,2,FALSE)),\"\")","v":""},0,9.5]
[2026,"2026-04-13",{"$f":"IFERROR(IF(VLOOKUP($B1203,Übersichtsblatt!$N$64:$Q$68,2,FALSE)=0,\"\",VLOOKUP($B1203,Übersichtsblatt!$N$64:$Q$68,2,FALSE)),\"\")","v":""},0,-9.5,null,2026,"2026-04-13",{"$f":"IFERROR(IF(VLOOKUP($H1203,Übersichtsblatt!$N$14:$Q$24,2,FALSE)=0,\"\",VLOOKUP(H1203,Übersichtsblatt!$N$14:$Q$24,2,FALSE)),\"\")","v":""},0,9.5]
[2026,"2026-04-14",{"$f":"IFERROR(IF(VLOOKUP($B1204,Übersichtsblatt!$N$64:$Q$68,2,FALSE)=0,\"\",VLOOKUP($B1204,Übersichtsblatt!$N$64:$Q$68,2,FALSE)),\"\")","v":""},0,-9.5,null,2026,"2026-04-14",{"$f":"IFERROR(IF(VLOOKUP($H1204,Übersichtsblatt!$N$14:$Q$24,2,FALSE)=0,\"\",VLOOKUP(H1204,Übersichtsblatt!$N$14:$Q$24,2,FALSE)),\"\")","v":""},0,9.5]
[2026,"2026-04-15",{"$f":"IFERROR(IF(VLOOKUP($B1205,Übersichtsblatt!$N$64:$Q$68,2,FALSE)=0,\"\",VLOOKUP($B1205,Übersichtsblatt!$N$64:$Q$68,2,FALSE)),\"\")","v":""},0,-9.5,null,2026,"2026-04-15",{"$f":"IFERROR(IF(VLOOKUP($H1205,Übersichtsblatt!$N$14:$Q$24,2,FALSE)=0,\"\",VLOOKUP(H1205,Übersichtsblatt!$N$14:$Q$24,2,FALSE)),\"\")","v":""},0,9.5]
[2026,"2026-04-16",{"$f":"IFERROR(IF(VLOOKUP($B1206,Übersichtsblatt!$N$64:$Q$68,2,FALSE)=0,\"\",VLOOKUP($B1206,Übersichtsblatt!$N$64:$Q$68,2,FALSE)),\"\")","v":""},0,-9.5,null,2026,"2026-04-16",{"$f":"IFERROR(IF(VLOOKUP($H1206,Übersichtsblatt!$N$14:$Q$24,2,FALSE)=0,\"\",VLOOKUP(H1206,Übersichtsblatt!$N$14:$Q$24,2,FALSE)),\"\")","v":""},0,9.5]
[2026,"2026-04-17",{"$f":"IFERROR(IF(VLOOKUP($B1207,Übersichtsblatt!$N$64:$Q$68,2,FALSE)=0,\"\",VLOOKUP($B1207,Übersichtsblatt!$N$64:$Q$68,2,FALSE)),\"\")","v":""},0,-9.5,null,2026,"2026-04-17",{"$f":"IFERROR(IF(VLOOKUP($H1207,Übersichtsblatt!$N$14:$Q$24,2,FALSE)=0,\"\",VLOOKUP(H1207,Übersichtsblatt!$N$14:$Q$24,2,FALSE)),\"\")","v":""},0,9.5]
[2026,"2026-04-18",{"$f":"IFERROR(IF(VLOOKUP($B1208,Übersichtsblatt!$N$64:$Q$68,2,FALSE)=0,\"\",VLOOKUP($B1208,Übersichtsblatt!$N$64:$Q$68,2,FALSE)),\"\")","v":""},0,-9.5,null,2026,"2026-04-18",{"$f":"IFERROR(IF(VLOOKUP($H1208,Übersichtsblatt!$N$14:$Q$24,2,FALSE)=0,\"\",VLOOKUP(H1208,Übersichtsblatt!$N$14:$Q$24,2,FALSE)),\"\")","v":""},0,9.5]
[2026,"2026-04-19",{"$f":"IFERROR(IF(VLOOKUP($B1209,Übersichtsblatt!$N$64:$Q$68,2,FALSE)=0,\"\",VLOOKUP($B1209,Übersichtsblatt!$N$64:$Q$68,2,FALSE)),\"\")","v":""},0,-9.5,null,2026,"2026-04-19",{"$f":"IFERROR(IF(VLOOKUP($H1209,Übersichtsblatt!$N$14:$Q$24,2,FALSE)=0,\"\",VLOOKUP(H1209,Übersichtsblatt!$N$14:$Q$24,2,FALSE)),\"\")","v":""},0,9.5]
[2026,"2026-04-20",{"$f":"IFERROR(IF(VLOOKUP($B1210,Übersichtsblatt!$N$64:$Q$68,2,FALSE)=0,\"\",VLOOKUP($B1210,Übersichtsblatt!$N$64:$Q$68,2,FALSE)),\"\")","v":""},0,-9.5,null,2026,"2026-04-20",{"$f":"IFERROR(IF(VLOOKUP($H1210,Übersichtsblatt!$N$14:$Q$24,2,FALSE)=0,\"\",VLOOKUP(H1210,Übersichtsblatt!$N$14:$Q$24,2,FALSE)),\"\")","v":""},0,9.5]
[2026,"2026-04-21",{"$f":"IFERROR(IF(VLOOKUP($B1211,Übersichtsblatt!$N$64:$Q$68,2,FALSE)=0,\"\",VLOOKUP($B1211,Übersichtsblatt!$N$64:$Q$68,2,FALSE)),\"\")","v":""},0,-9.5,null,2026,"2026-04-21",{"$f":"IFERROR(IF(VLOOKUP($H1211,Übersichtsblatt!$N$14:$Q$24,2,FALSE)=0,\"\",VLOOKUP(H1211,Übersichtsblatt!$N$14:$Q$24,2,FALSE)),\"\")","v":""},0,9.5]
[2026,"2026-04-22",{"$f":"IFERROR(IF(VLOOKUP($B1212,Übersichtsblatt!$N$64:$Q$68,2,FALSE)=0,\"\",VLOOKUP($B1212,Übersichtsblatt!$N$64:$Q$68,2,FALSE)),\"\")","v":""},0,-9.5,null,2026,"2026-04-22",{"$f":"IFERROR(IF(VLOOKUP($H1212,Übersichtsblatt!$N$14:$Q$24,2,FALSE)=0,\"\",VLOOKUP(H1212,Übersichtsblatt!$N$14:$Q$24,2,FALSE)),\"\")","v":""},0,9.5]
[2026,"2026-04-23",{"$f":"IFERROR(IF(VLOOKUP($B1213,Übersichtsblatt!$N$64:$Q$68,2,FALSE)=0,\"\",VLOOKUP($B1213,Übersichtsblatt!$N$64:$Q$68,2,FALSE)),\"\")","v":""},0,-9.5,null,2026,"2026-04-23",{"$f":"IFERROR(IF(VLOOKUP($H1213,Übersichtsblatt!$N$14:$Q$24,2,FALSE)=0,\"\",VLOOKUP(H1213,Übersichtsblatt!$N$14:$Q$24,2,FALSE)),\"\")","v":""},0,9.5]
[2026,"2026-04-24",{"$f":"IFERROR(IF(VLOOKUP($B1214,Übersichtsblatt!$N$64:$Q$68,2,FALSE)=0,\"\",VLOOKUP($B1214,Übersichtsblatt!$N$64:$Q$68,2,FALSE)),\"\")","v":""},0,-9.5,null,2026,"2026-04-24",{"$f":"IFERROR(IF(VLOOKUP($H1214,Übersichtsblatt!$N$14:$Q$24,2,FALSE)=0,\"\",VLOOKUP(H1214,Übersichtsblatt!$N$14:$Q$24,2,FALSE)),\"\")","v":""},0,9.5]
[2026,"2026-04-25",{"$f":"IFERROR(IF(VLOOKUP($B1215,Übersichtsblatt!$N$64:$Q$68,2,FALSE)=0,\"\",VLOOKUP($B1215,Übersichtsblatt!$N$64:$Q$68,2,FALSE)),\"\")","v":""},0,-9.5,null,2026,"2026-04-25",{"$f":"IFERROR(IF(VLOOKUP($H1215,Übersichtsblatt!$N$14:$Q$24,2,FALSE)=0,\"\",VLOOKUP(H1215,Übersichtsblatt!$N$14:$Q$24,2,FALSE)),\"\")","v":""},0,9.5]
[2026,"2026-04-26",{"$f":"IFERROR(IF(VLOOKUP($B1216,Übersichtsblatt!$N$64:$Q$68,2,FALSE)=0,\"\",VLOOKUP($B1216,Übersichtsblatt!$N$64:$Q$68,2,FALSE)),\"\")","v":""},0,-9.5,null,2026,"2026-04-26",{"$f":"IFERROR(IF(VLOOKUP($H1216,Übersichtsblatt!$N$14:$Q$24,2,FALSE)=0,\"\",VLOOKUP(H1216,Übersichtsblatt!$N$14:$Q$24,2,FALSE)),\"\")","v":""},0,9.5]
[2026,"2026-04-27",{"$f":"IFERROR(IF(VLOOKUP($B1217,Übersichtsblatt!$N$64:$Q$68,2,FALSE)=0,\"\",VLOOKUP($B1217,Übersichtsblatt!$N$64:$Q$68,2,FALSE)),\"\")","v":""},0,-9.5,null,2026,"2026-04-27",{"$f":"IFERROR(IF(VLOOKUP($H1217,Übersichtsblatt!$N$14:$Q$24,2,FALSE)=0,\"\",VLOOKUP(H1217,Übersichtsblatt!$N$14:$Q$24,2,FALSE)),\"\")","v":""},0,9.5]
[2026,"2026-04-28",{"$f":"IFERROR(IF(VLOOKUP($B1218,Übersichtsblatt!$N$64:$Q$68,2,FALSE)=0,\"\",VLOOKUP($B1218,Übersichtsblatt!$N$64:$Q$68,2,FALSE)),\"\")","v":""},0,-9.5,null,2026,"2026-04-28",{"$f":"IFERROR(IF(VLOOKUP($H1218,Übersichtsblatt!$N$14:$Q$24,2,FALSE)=0,\"\",VLOOKUP(H1218,Übersichtsblatt!$N$14:$Q$24,2,FALSE)),\"\")","v":""},0,9.5]
[2026,"2026-04-29",{"$f":"IFERROR(IF(VLOOKUP($B1219,Übersichtsblatt!$N$64:$Q$68,2,FALSE)=0,\"\",VLOOKUP($B1219,Übersichtsblatt!$N$64:$Q$68,2,FALSE)),\"\")","v":""},0,-9.5,null,2026,"2026-04-29",{"$f":"IFERROR(IF(VLOOKUP($H1219,Übersichtsblatt!$N$14:$Q$24,2,FALSE)=0,\"\",VLOOKUP(H1219,Übersichtsblatt!$N$14:$Q$24,2,FALSE)),\"\")","v":""},0,9.5]
[2026,"2026-04-30",{"$f":"IFERROR(IF(VLOOKUP($B1220,Übersichtsblatt!$N$64:$Q$68,2,FALSE)=0,\"\",VLOOKUP($B1220,Übersichtsblatt!$N$64:$Q$68,2,FALSE)),\"\")","v":""},0,-11.5,null,2026,"2026-04-30",{"$f":"IFERROR(IF(VLOOKUP($H1220,Übersichtsblatt!$N$14:$Q$24,2,FALSE)=0,\"\",VLOOKUP(H1220,Übersichtsblatt!$N$14:$Q$24,2,FALSE)),\"\")","v":""},0,11.5]
[2026,"2026-05-01",{"$f":"IFERROR(IF(VLOOKUP($B1221,Übersichtsblatt!$N$64:$Q$68,2,FALSE)=0,\"\",VLOOKUP($B1221,Übersichtsblatt!$N$64:$Q$68,2,FALSE)),\"\")","v":""},0,-11.5,null,2026,"2026-05-01",{"$f":"IFERROR(IF(VLOOKUP($H1221,Übersichtsblatt!$N$14:$Q$24,2,FALSE)=0,\"\",VLOOKUP(H1221,Übersichtsblatt!$N$14:$Q$24,2,FALSE)),\"\")","v":""},0,11.5]
[2026,"2026-05-02",{"$f":"IFERROR(IF(VLOOKUP($B1222,Übersichtsblatt!$N$64:$Q$68,2,FALSE)=0,\"\",VLOOKUP($B1222,Übersichtsblatt!$N$64:$Q$68,2,FALSE)),\"\")","v":""},{"$f":"IF($C1222=\"\",0,$E1222)","v":0},-11.5,null,2026,"2026-05-02",{"$f":"IFERROR(IF(VLOOKUP($H1222,Übersichtsblatt!$N$14:$Q$24,2,FALSE)=0,\"\",VLOOKUP(H1222,Übersichtsblatt!$N$14:$Q$24,2,FALSE)),\"\")","v":""},{"$f":"IF($I1222=\"\",0,$K1222)","v":0},11.5]
[{"$f":"YEAR(B1223)","v":2026},{"$f":"B1222+1","v":"2026-05-03"},{"$f":"IFERROR(IF(VLOOKUP($B1223,Übersichtsblatt!$N$64:$Q$68,2,FALSE)=0,\"\",VLOOKUP($B1223,Übersichtsblatt!$N$64:$Q$68,2,FALSE)),\"\")","v":""},0,-11.5,null,{"$f":"YEAR(H1223)","v":2026},{"$f":"H1222+1","v":"2026-05-03"},{"$f":"IFERROR(IF(VLOOKUP($H1223,Übersichtsblatt!$N$14:$Q$24,2,FALSE)=0,\"\",VLOOKUP(H1223,Übersichtsblatt!$N$14:$Q$24,2,FALSE)),\"\")","v":""},0,11.5]
[2026,"2026-05-04",{"$f":"IFERROR(IF(VLOOKUP($B1224,Übersichtsblatt!$N$64:$Q$68,2,FALSE)=0,\"\",VLOOKUP($B1224,Übersichtsblatt!$N$64:$Q$68,2,FALSE)),\"\")","v":""},0,-11.5,null,2026,"2026-05-04",{"$f":"IFERROR(IF(VLOOKUP($H1224,Übersichtsblatt!$N$14:$Q$24,2,FALSE)=0,\"\",VLOOKUP(H1224,Übersichtsblatt!$N$14:$Q$24,2,FALSE)),\"\")","v":""},0,11.5]
[2026,"2026-05-05",{"$f":"IFERROR(IF(VLOOKUP($B1225,Übersichtsblatt!$N$64:$Q$68,2,FALSE)=0,\"\",VLOOKUP($B1225,Übersichtsblatt!$N$64:$Q$68,2,FALSE)),\"\")","v":""},0,-11.5,null,2026,"2026-05-05",{"$f":"IFERROR(IF(VLOOKUP($H1225,Übersichtsblatt!$N$14:$Q$24,2,FALSE)=0,\"\",VLOOKUP(H1225,Übersichtsblatt!$N$14:$Q$24,2,FALSE)),\"\")","v":""},0,11.5]
[2026,"2026-05-06",{"$f":"IFERROR(IF(VLOOKUP($B1226,Übersichtsblatt!$N$64:$Q$68,2,FALSE)=0,\"\",VLOOKUP($B1226,Übersichtsblatt!$N$64:$Q$68,2,FALSE)),\"\")","v":""},0,-11.5,null,2026,"2026-05-06",{"$f":"IFERROR(IF(VLOOKUP($H1226,Übersichtsblatt!$N$14:$Q$24,2,FALSE)=0,\"\",VLOOKUP(H1226,Übersichtsblatt!$N$14:$Q$24,2,FALSE)),\"\")","v":""},0,11.5]
[2026,"2026-05-07",{"$f":"IFERROR(IF(VLOOKUP($B1227,Übersichtsblatt!$N$64:$Q$68,2,FALSE)=0,\"\",VLOOKUP($B1227,Übersichtsblatt!$N$64:$Q$68,2,FALSE)),\"\")","v":""},0,-11.5,null,2026,"2026-05-07",{"$f":"IFERROR(IF(VLOOKUP($H1227,Übersichtsblatt!$N$14:$Q$24,2,FALSE)=0,\"\",VLOOKUP(H1227,Übersichtsblatt!$N$14:$Q$24,2,FALSE)),\"\")","v":""},0,11.5]
[2026,"2026-05-08",{"$f":"IFERROR(IF(VLOOKUP($B1228,Übersichtsblatt!$N$64:$Q$68,2,FALSE)=0,\"\",VLOOKUP($B1228,Übersichtsblatt!$N$64:$Q$68,2,FALSE)),\"\")","v":""},0,-11.5,null,2026,"2026-05-08",{"$f":"IFERROR(IF(VLOOKUP($H1228,Übersichtsblatt!$N$14:$Q$24,2,FALSE)=0,\"\",VLOOKUP(H1228,Übersichtsblatt!$N$14:$Q$24,2,FALSE)),\"\")","v":""},0,11.5]
[2026,"2026-05-09",{"$f":"IFERROR(IF(VLOOKUP($B1229,Übersichtsblatt!$N$64:$Q$68,2,FALSE)=0,\"\",VLOOKUP($B1229,Übersichtsblatt!$N$64:$Q$68,2,FALSE)),\"\")","v":""},0,-11.5,null,2026,"2026-05-09",{"$f":"IFERROR(IF(VLOOKUP($H1229,Übersichtsblatt!$N$14:$Q$24,2,FALSE)=0,\"\",VLOOKUP(H1229,Übersichtsblatt!$N$14:$Q$24,2,FALSE)),\"\")","v":""},0,11.5]
[2026,"2026-05-10",{"$f":"IFERROR(IF(VLOOKUP($B1230,Übersichtsblatt!$N$64:$Q$68,2,FALSE)=0,\"\",VLOOKUP($B1230,Übersichtsblatt!$N$64:$Q$68,2,FALSE)),\"\")","v":""},0,-11.5,null,2026,"2026-05-10",{"$f":"IFERROR(IF(VLOOKUP($H1230,Übersichtsblatt!$N$14:$Q$24,2,FALSE)=0,\"\",VLOOKUP(H1230,Übersichtsblatt!$N$14:$Q$24,2,FALSE)),\"\")","v":""},0,11.5]
[2026,"2026-05-11",{"$f":"IFERROR(IF(VLOOKUP($B1231,Übersichtsblatt!$N$64:$Q$68,2,FALSE)=0,\"\",VLOOKUP($B1231,Übersichtsblatt!$N$64:$Q$68,2,FALSE)),\"\")","v":""},0,-11.5,null,2026,"2026-05-11",{"$f":"IFERROR(IF(VLOOKUP($H1231,Übersichtsblatt!$N$14:$Q$24,2,FALSE)=0,\"\",VLOOKUP(H1231,Übersichtsblatt!$N$14:$Q$24,2,FALSE)),\"\")","v":""},0,11.5]
[2026,"2026-05-12",{"$f":"IFERROR(IF(VLOOKUP($B1232,Übersichtsblatt!$N$64:$Q$68,2,FALSE)=0,\"\",VLOOKUP($B1232,Übersichtsblatt!$N$64:$Q$68,2,FALSE)),\"\")","v":""},0,-11.5,null,2026,"2026-05-12",{"$f":"IFERROR(IF(VLOOKUP($H1232,Übersichtsblatt!$N$14:$Q$24,2,FALSE)=0,\"\",VLOOKUP(H1232,Übersichtsblatt!$N$14:$Q$24,2,FALSE)),\"\")","v":""},0,11.5]
[2026,"2026-05-13",{"$f":"IFERROR(IF(VLOOKUP($B1233,Übersichtsblatt!$N$64:$Q$68,2,FALSE)=0,\"\",VLOOKUP($B1233,Übersichtsblatt!$N$64:$Q$68,2,FALSE)),\"\")","v":""},0,-11.5,null,2026,"2026-05-13",{"$f":"IFERROR(IF(VLOOKUP($H1233,Übersichtsblatt!$N$14:$Q$24,2,FALSE)=0,\"\",VLOOKUP(H1233,Übersichtsblatt!$N$14:$Q$24,2,FALSE)),\"\")","v":""},0,11.5]
[2026,"2026-05-14",{"$f":"IFERROR(IF(VLOOKUP($B1234,Übersichtsblatt!$N$64:$Q$68,2,FALSE)=0,\"\",VLOOKUP($B1234,Übersichtsblatt!$N$64:$Q$68,2,FALSE)),\"\")","v":""},0,-11.5,null,2026,"2026-05-14",{"$f":"IFERROR(IF(VLOOKUP($H1234,Übersichtsblatt!$N$14:$Q$24,2,FALSE)=0,\"\",VLOOKUP(H1234,Übersichtsblatt!$N$14:$Q$24,2,FALSE)),\"\")","v":""},0,11.5]
[2026,"2026-05-15",{"$f":"IFERROR(IF(VLOOKUP($B1235,Übersichtsblatt!$N$64:$Q$68,2,FALSE)=0,\"\",VLOOKUP($B1235,Übersichtsblatt!$N$64:$Q$68,2,FALSE)),\"\")","v":""},0,-11.5,null,2026,"2026-05-15",{"$f":"IFERROR(IF(VLOOKUP($H1235,Übersichtsblatt!$N$14:$Q$24,2,FALSE)=0,\"\",VLOOKUP(H1235,Übersichtsblatt!$N$14:$Q$24,2,FALSE)),\"\")","v":""},0,11.5]
[2026,"2026-05-16",{"$f":"IFERROR(IF(VLOOKUP($B1236,Übersichtsblatt!$N$64:$Q$68,2,FALSE)=0,\"\",VLOOKUP($B1236,Übersichtsblatt!$N$64:$Q$68,2,FALSE)),\"\")","v":""},0,-11.5,null,2026,"2026-05-16",{"$f":"IFERROR(IF(VLOOKUP($H1236,Übersichtsblatt!$N$14:$Q$24,2,FALSE)=0,\"\",VLOOKUP(H1236,Übersichtsblatt!$N$14:$Q$24,2,FALSE)),\"\")","v":""},0,11.5]
[2026,"2026-05-17",{"$f":"IFERROR(IF(VLOOKUP($B1237,Übersichtsblatt!$N$64:$Q$68,2,FALSE)=0,\"\",VLOOKUP($B1237,Übersichtsblatt!$N$64:$Q$68,2,FALSE)),\"\")","v":""},0,-11.5,null,2026,"2026-05-17",{"$f":"IFERROR(IF(VLOOKUP($H1237,Übersichtsblatt!$N$14:$Q$24,2,FALSE)=0,\"\",VLOOKUP(H1237,Übersichtsblatt!$N$14:$Q$24,2,FALSE)),\"\")","v":""},0,11.5]
[2026,"2026-05-18",{"$f":"IFERROR(IF(VLOOKUP($B1238,Übersichtsblatt!$N$64:$Q$68,2,FALSE)=0,\"\",VLOOKUP($B1238,Übersichtsblatt!$N$64:$Q$68,2,FALSE)),\"\")","v":""},0,-11.5,null,2026,"2026-05-18",{"$f":"IFERROR(IF(VLOOKUP($H1238,Übersichtsblatt!$N$14:$Q$24,2,FALSE)=0,\"\",VLOOKUP(H1238,Übersichtsblatt!$N$14:$Q$24,2,FALSE)),\"\")","v":""},0,11.5]
[2026,"2026-05-19",{"$f":"IFERROR(IF(VLOOKUP($B1239,Übersichtsblatt!$N$64:$Q$68,2,FALSE)=0,\"\",VLOOKUP($B1239,Übersichtsblatt!$N$64:$Q$68,2,FALSE)),\"\")","v":""},0,-11.5,null,2026,"2026-05-19",{"$f":"IFERROR(IF(VLOOKUP($H1239,Übersichtsblatt!$N$14:$Q$24,2,FALSE)=0,\"\",VLOOKUP(H1239,Übersichtsblatt!$N$14:$Q$24,2,FALSE)),\"\")","v":""},0,11.5]
[2026,"2026-05-20",{"$f":"IFERROR(IF(VLOOKUP($B1240,Übersichtsblatt!$N$64:$Q$68,2,FALSE)=0,\"\",VLOOKUP($B1240,Übersichtsblatt!$N$64:$Q$68,2,FALSE)),\"\")","v":""},0,-11.5,null,2026,"2026-05-20",{"$f":"IFERROR(IF(VLOOKUP($H1240,Übersichtsblatt!$N$14:$Q$24,2,FALSE)=0,\"\",VLOOKUP(H1240,Übersichtsblatt!$N$14:$Q$24,2,FALSE)),\"\")","v":""},0,11.5]
[2026,"2026-05-21",{"$f":"IFERROR(IF(VLOOKUP($B1241,Übersichtsblatt!$N$64:$Q$68,2,FALSE)=0,\"\",VLOOKUP($B1241,Übersichtsblatt!$N$64:$Q$68,2,FALSE)),\"\")","v":""},0,-11.5,null,2026,"2026-05-21",{"$f":"IFERROR(IF(VLOOKUP($H1241,Übersichtsblatt!$N$14:$Q$24,2,FALSE)=0,\"\",VLOOKUP(H1241,Übersichtsblatt!$N$14:$Q$24,2,FALSE)),\"\")","v":""},0,11.5]
[2026,"2026-05-22",{"$f":"IFERROR(IF(VLOOKUP($B1242,Übersichtsblatt!$N$64:$Q$68,2,FALSE)=0,\"\",VLOOKUP($B1242,Übersichtsblatt!$N$64:$Q$68,2,FALSE)),\"\")","v":""},0,-11.5,null,2026,"2026-05-22",{"$f":"IFERROR(IF(VLOOKUP($H1242,Übersichtsblatt!$N$14:$Q$24,2,FALSE)=0,\"\",VLOOKUP(H1242,Übersichtsblatt!$N$14:$Q$24,2,FALSE)),\"\")","v":""},0,11.5]
[2026,"2026-05-23",{"$f":"IFERROR(IF(VLOOKUP($B1243,Übersichtsblatt!$N$64:$Q$68,2,FALSE)=0,\"\",VLOOKUP($B1243,Übersichtsblatt!$N$64:$Q$68,2,FALSE)),\"\")","v":""},0,-11.5,null,2026,"2026-05-23",{"$f":"IFERROR(IF(VLOOKUP($H1243,Übersichtsblatt!$N$14:$Q$24,2,FALSE)=0,\"\",VLOOKUP(H1243,Übersichtsblatt!$N$14:$Q$24,2,FALSE)),\"\")","v":""},0,11.5]
[2026,"2026-05-24",{"$f":"IFERROR(IF(VLOOKUP($B1244,Übersichtsblatt!$N$64:$Q$68,2,FALSE)=0,\"\",VLOOKUP($B1244,Übersichtsblatt!$N$64:$Q$68,2,FALSE)),\"\")","v":""},0,-11.5,null,2026,"2026-05-24",{"$f":"IFERROR(IF(VLOOKUP($H1244,Übersichtsblatt!$N$14:$Q$24,2,FALSE)=0,\"\",VLOOKUP(H1244,Übersichtsblatt!$N$14:$Q$24,2,FALSE)),\"\")","v":""},0,11.5]
[2026,"2026-05-25",{"$f":"IFERROR(IF(VLOOKUP($B1245,Übersichtsblatt!$N$64:$Q$68,2,FALSE)=0,\"\",VLOOKUP($B1245,Übersichtsblatt!$N$64:$Q$68,2,FALSE)),\"\")","v":""},0,-11.5,null,2026,"2026-05-25",{"$f":"IFERROR(IF(VLOOKUP($H1245,Übersichtsblatt!$N$14:$Q$24,2,FALSE)=0,\"\",VLOOKUP(H1245,Übersichtsblatt!$N$14:$Q$24,2,FALSE)),\"\")","v":""},0,11.5]
[2026,"2026-05-26",{"$f":"IFERROR(IF(VLOOKUP($B1246,Übersichtsblatt!$N$64:$Q$68,2,FALSE)=0,\"\",VLOOKUP($B1246,Übersichtsblatt!$N$64:$Q$68,2,FALSE)),\"\")","v":""},0,-11.5,null,2026,"2026-05-26",{"$f":"IFERROR(IF(VLOOKUP($H1246,Übersichtsblatt!$N$14:$Q$24,2,FALSE)=0,\"\",VLOOKUP(H1246,Übersichtsblatt!$N$14:$Q$24,2,FALSE)),\"\")","v":""},0,11.5]
[2026,"2026-05-27",{"$f":"IFERROR(IF(VLOOKUP($B1247,Übersichtsblatt!$N$64:$Q$68,2,FALSE)=0,\"\",VLOOKUP($B1247,Übersichtsblatt!$N$64:$Q$68,2,FALSE)),\"\")","v":""},0,-11.5,null,2026,"2026-05-27",{"$f":"IFERROR(IF(VLOOKUP($H1247,Übersichtsblatt!$N$14:$Q$24,2,FALSE)=0,\"\",VLOOKUP(H1247,Übersichtsblatt!$N$14:$Q$24,2,FALSE)),\"\")","v":""},0,11.5]
[2026,"2026-05-28",{"$f":"IFERROR(IF(VLOOKUP($B1248,Übersichtsblatt!$N$64:$Q$68,2,FALSE)=0,\"\",VLOOKUP($B1248,Übersichtsblatt!$N$64:$Q$68,2,FALSE)),\"\")","v":""},0,-11.5,null,2026,"2026-05-28",{"$f":"IFERROR(IF(VLOOKUP($H1248,Übersichtsblatt!$N$14:$Q$24,2,FALSE)=0,\"\",VLOOKUP(H1248,Übersichtsblatt!$N$14:$Q$24,2,FALSE)),\"\")","v":""},0,11.5]
[2026,"2026-05-29",{"$f":"IFERROR(IF(VLOOKUP($B1249,Übersichtsblatt!$N$64:$Q$68,2,FALSE)=0,\"\",VLOOKUP($B1249,Übersichtsblatt!$N$64:$Q$68,2,FALSE)),\"\")","v":""},0,-11.5,null,2026,"2026-05-29",{"$f":"IFERROR(IF(VLOOKUP($H1249,Übersichtsblatt!$N$14:$Q$24,2,FALSE)=0,\"\",VLOOKUP(H1249,Übersichtsblatt!$N$14:$Q$24,2,FALSE)),\"\")","v":""},0,11.5]
[2026,"2026-05-30",{"$f":"IFERROR(IF(VLOOKUP($B1250,Übersichtsblatt!$N$64:$Q$68,2,FALSE)=0,\"\",VLOOKUP($B1250,Übersichtsblatt!$N$64:$Q$68,2,FALSE)),\"\")","v":""},0,-11.5,null,2026,"2026-05-30",{"$f":"IFERROR(IF(VLOOKUP($H1250,Übersichtsblatt!$N$14:$Q$24,2,FALSE)=0,\"\",VLOOKUP(H1250,Übersichtsblatt!$N$14:$Q$24,2,FALSE)),\"\")","v":""},0,11.5]
[2026,"2026-05-31",{"$f":"IFERROR(IF(VLOOKUP($B1251,Übersichtsblatt!$N$64:$Q$68,2,FALSE)=0,\"\",VLOOKUP($B1251,Übersichtsblatt!$N$64:$Q$68,2,FALSE)),\"\")","v":""},0,-4.5,null,2026,"2026-05-31",{"$f":"IFERROR(IF(VLOOKUP($H1251,Übersichtsblatt!$N$14:$Q$24,2,FALSE)=0,\"\",VLOOKUP(H1251,Übersichtsblatt!$N$14:$Q$24,2,FALSE)),\"\")","v":""},0,4.5]
[2026,"2026-06-01",{"$f":"IFERROR(IF(VLOOKUP($B1252,Übersichtsblatt!$N$64:$Q$68,2,FALSE)=0,\"\",VLOOKUP($B1252,Übersichtsblatt!$N$64:$Q$68,2,FALSE)),\"\")","v":""},0,-4.5,null,2026,"2026-06-01",{"$f":"IFERROR(IF(VLOOKUP($H1252,Übersichtsblatt!$N$14:$Q$24,2,FALSE)=0,\"\",VLOOKUP(H1252,Übersichtsblatt!$N$14:$Q$24,2,FALSE)),\"\")","v":""},0,4.5]
[2026,"2026-06-02",{"$f":"IFERROR(IF(VLOOKUP($B1253,Übersichtsblatt!$N$64:$Q$68,2,FALSE)=0,\"\",VLOOKUP($B1253,Übersichtsblatt!$N$64:$Q$68,2,FALSE)),\"\")","v":""},0,-4.5,null,2026,"2026-06-02",{"$f":"IFERROR(IF(VLOOKUP($H1253,Übersichtsblatt!$N$14:$Q$24,2,FALSE)=0,\"\",VLOOKUP(H1253,Übersichtsblatt!$N$14:$Q$24,2,FALSE)),\"\")","v":""},0,4.5]
[2026,"2026-06-03",{"$f":"IFERROR(IF(VLOOKUP($B1254,Übersichtsblatt!$N$64:$Q$68,2,FALSE)=0,\"\",VLOOKUP($B1254,Übersichtsblatt!$N$64:$Q$68,2,FALSE)),\"\")","v":""},0,-4.5,null,2026,"2026-06-03",{"$f":"IFERROR(IF(VLOOKUP($H1254,Übersichtsblatt!$N$14:$Q$24,2,FALSE)=0,\"\",VLOOKUP(H1254,Übersichtsblatt!$N$14:$Q$24,2,FALSE)),\"\")","v":""},0,4.5]
[2026,"2026-06-04",{"$f":"IFERROR(IF(VLOOKUP($B1255,Übersichtsblatt!$N$64:$Q$68,2,FALSE)=0,\"\",VLOOKUP($B1255,Übersichtsblatt!$N$64:$Q$68,2,FALSE)),\"\")","v":""},0,-4.5,null,2026,"2026-06-04",{"$f":"IFERROR(IF(VLOOKUP($H1255,Übersichtsblatt!$N$14:$Q$24,2,FALSE)=0,\"\",VLOOKUP(H1255,Übersichtsblatt!$N$14:$Q$24,2,FALSE)),\"\")","v":""},0,4.5]
[2026,"2026-06-05",{"$f":"IFERROR(IF(VLOOKUP($B1256,Übersichtsblatt!$N$64:$Q$68,2,FALSE)=0,\"\",VLOOKUP($B1256,Übersichtsblatt!$N$64:$Q$68,2,FALSE)),\"\")","v":""},0,-4.5,null,2026,"2026-06-05",{"$f":"IFERROR(IF(VLOOKUP($H1256,Übersichtsblatt!$N$14:$Q$24,2,FALSE)=0,\"\",VLOOKUP(H1256,Übersichtsblatt!$N$14:$Q$24,2,FALSE)),\"\")","v":""},0,4.5]
[2026,"2026-06-06",{"$f":"IFERROR(IF(VLOOKUP($B1257,Übersichtsblatt!$N$64:$Q$68,2,FALSE)=0,\"\",VLOOKUP($B1257,Übersichtsblatt!$N$64:$Q$68,2,FALSE)),\"\")","v":""},0,-4.5,null,2026,"2026-06-06",{"$f":"IFERROR(IF(VLOOKUP($H1257,Übersichtsblatt!$N$14:$Q$24,2,FALSE)=0,\"\",VLOOKUP(H1257,Übersichtsblatt!$N$14:$Q$24,2,FALSE)),\"\")","v":""},0,4.5]
[2026,"2026-06-07",{"$f":"IFERROR(IF(VLOOKUP($B1258,Übersichtsblatt!$N$64:$Q$68,2,FALSE)=0,\"\",VLOOKUP($B1258,Übersichtsblatt!$N$64:$Q$68,2,FALSE)),\"\")","v":""},0,-4.5,null,2026,"2026-06-07",{"$f":"IFERROR(IF(VLOOKUP($H1258,Übersichtsblatt!$N$14:$Q$24,2,FALSE)=0,\"\",VLOOKUP(H1258,Übersichtsblatt!$N$14:$Q$24,2,FALSE)),\"\")","v":""},0,4.5]
[2026,"2026-06-08",{"$f":"IFERROR(IF(VLOOKUP($B1259,Übersichtsblatt!$N$64:$Q$68,2,FALSE)=0,\"\",VLOOKUP($B1259,Übersichtsblatt!$N$64:$Q$68,2,FALSE)),\"\")","v":""},0,-4.5,null,2026,"2026-06-08",{"$f":"IFERROR(IF(VLOOKUP($H1259,Übersichtsblatt!$N$14:$Q$24,2,FALSE)=0,\"\",VLOOKUP(H1259,Übersichtsblatt!$N$14:$Q$24,2,FALSE)),\"\")","v":""},0,4.5]
[2026,"2026-06-09",{"$f":"IFERROR(IF(VLOOKUP($B1260,Übersichtsblatt!$N$64:$Q$68,2,FALSE)=0,\"\",VLOOKUP($B1260,Übersichtsblatt!$N$64:$Q$68,2,FALSE)),\"\")","v":""},0,-4.5,null,2026,"2026-06-09",{"$f":"IFERROR(IF(VLOOKUP($H1260,Übersichtsblatt!$N$14:$Q$24,2,FALSE)=0,\"\",VLOOKUP(H1260,Übersichtsblatt!$N$14:$Q$24,2,FALSE)),\"\")","v":""},0,4.5]
[2026,"2026-06-10",{"$f":"IFERROR(IF(VLOOKUP($B1261,Übersichtsblatt!$N$64:$Q$68,2,FALSE)=0,\"\",VLOOKUP($B1261,Übersichtsblatt!$N$64:$Q$68,2,FALSE)),\"\")","v":""},0,-4.5,null,2026,"2026-06-10",{"$f":"IFERROR(IF(VLOOKUP($H1261,Übersichtsblatt!$N$14:$Q$24,2,FALSE)=0,\"\",VLOOKUP(H1261,Übersichtsblatt!$N$14:$Q$24,2,FALSE)),\"\")","v":""},0,4.5]
[2026,"2026-06-11",{"$f":"IFERROR(IF(VLOOKUP($B1262,Übersichtsblatt!$N$64:$Q$68,2,FALSE)=0,\"\",VLOOKUP($B1262,Übersichtsblatt!$N$64:$Q$68,2,FALSE)),\"\")","v":""},0,-4.5,null,2026,"2026-06-11",{"$f":"IFERROR(IF(VLOOKUP($H1262,Übersichtsblatt!$N$14:$Q$24,2,FALSE)=0,\"\",VLOOKUP(H1262,Übersichtsblatt!$N$14:$Q$24,2,FALSE)),\"\")","v":""},0,4.5]
[2026,"2026-06-12",{"$f":"IFERROR(IF(VLOOKUP($B1263,Übersichtsblatt!$N$64:$Q$68,2,FALSE)=0,\"\",VLOOKUP($B1263,Übersichtsblatt!$N$64:$Q$68,2,FALSE)),\"\")","v":""},0,-4.5,null,2026,"2026-06-12",{"$f":"IFERROR(IF(VLOOKUP($H1263,Übersichtsblatt!$N$14:$Q$24,2,FALSE)=0,\"\",VLOOKUP(H1263,Übersichtsblatt!$N$14:$Q$24,2,FALSE)),\"\")","v":""},0,4.5]
[2026,"2026-06-13",{"$f":"IFERROR(IF(VLOOKUP($B1264,Übersichtsblatt!$N$64:$Q$68,2,FALSE)=0,\"\",VLOOKUP($B1264,Übersichtsblatt!$N$64:$Q$68,2,FALSE)),\"\")","v":""},0,-4.5,null,2026,"2026-06-13",{"$f":"IFERROR(IF(VLOOKUP($H1264,Übersichtsblatt!$N$14:$Q$24,2,FALSE)=0,\"\",VLOOKUP(H1264,Übersichtsblatt!$N$14:$Q$24,2,FALSE)),\"\")","v":""},0,4.5]
[2026,"2026-06-14",{"$f":"IFERROR(IF(VLOOKUP($B1265,Übersichtsblatt!$N$64:$Q$68,2,FALSE)=0,\"\",VLOOKUP($B1265,Übersichtsblatt!$N$64:$Q$68,2,FALSE)),\"\")","v":""},0,-4.5,null,2026,"2026-06-14",{"$f":"IFERROR(IF(VLOOKUP($H1265,Übersichtsblatt!$N$14:$Q$24,2,FALSE)=0,\"\",VLOOKUP(H1265,Übersichtsblatt!$N$14:$Q$24,2,FALSE)),\"\")","v":""},0,4.5]
[2026,"2026-06-15",{"$f":"IFERROR(IF(VLOOKUP($B1266,Übersichtsblatt!$N$64:$Q$68,2,FALSE)=0,\"\",VLOOKUP($B1266,Übersichtsblatt!$N$64:$Q$68,2,FALSE)),\"\")","v":""},0,-4.5,null,2026,"2026-06-15",{"$f":"IFERROR(IF(VLOOKUP($H1266,Übersichtsblatt!$N$14:$Q$24,2,FALSE)=0,\"\",VLOOKUP(H1266,Übersichtsblatt!$N$14:$Q$24,2,FALSE)),\"\")","v":""},0,4.5]
[2026,"2026-06-16",{"$f":"IFERROR(IF(VLOOKUP($B1267,Übersichtsblatt!$N$64:$Q$68,2,FALSE)=0,\"\",VLOOKUP($B1267,Übersichtsblatt!$N$64:$Q$68,2,FALSE)),\"\")","v":""},0,-4.5,null,2026,"2026-06-16",{"$f":"IFERROR(IF(VLOOKUP($H1267,Übersichtsblatt!$N$14:$Q$24,2,FALSE)=0,\"\",VLOOKUP(H1267,Übersichtsblatt!$N$14:$Q$24,2,FALSE)),\"\")","v":""},0,4.5]
[2026,"2026-06-17",{"$f":"IFERROR(IF(VLOOKUP($B1268,Übersichtsblatt!$N$64:$Q$68,2,FALSE)=0,\"\",VLOOKUP($B1268,Übersichtsblatt!$N$64:$Q$68,2,FALSE)),\"\")","v":""},0,-4.5,null,2026,"2026-06-17",{"$f":"IFERROR(IF(VLOOKUP($H1268,Übersichtsblatt!$N$14:$Q$24,2,FALSE)=0,\"\",VLOOKUP(H1268,Übersichtsblatt!$N$14:$Q$24,2,FALSE)),\"\")","v":""},0,4.5]
[2026,"2026-06-18",{"$f":"IFERROR(IF(VLOOKUP($B1269,Übersichtsblatt!$N$64:$Q$68,2,FALSE)=0,\"\",VLOOKUP($B1269,Übersichtsblatt!$N$64:$Q$68,2,FALSE)),\"\")","v":""},0,-4.5,null,2026,"2026-06-18",{"$f":"IFERROR(IF(VLOOKUP($H1269,Übersichtsblatt!$N$14:$Q$24,2,FALSE)=0,\"\",VLOOKUP(H1269,Übersichtsblatt!$N$14:$Q$24,2,FALSE)),\"\")","v":""},0,4.5]
[2026,"2026-06-19",{"$f":"IFERROR(IF(VLOOKUP($B1270,Übersichtsblatt!$N$64:$Q$68,2,FALSE)=0,\"\",VLOOKUP($B1270,Übersichtsblatt!$N$64:$Q$68,2,FALSE)),\"\")","v":""},0,-4.5,null,2026,"2026-06-19",{"$f":"IFERROR(IF(VLOOKUP($H1270,Übersichtsblatt!$N$14:$Q$24,2,FALSE)=0,\"\",VLOOKUP(H1270,Übersichtsblatt!$N$14:$Q$24,2,FALSE)),\"\")","v":""},0,4.5]
[2026,"2026-06-20",{"$f":"IFERROR(IF(VLOOKUP($B1271,Übersichtsblatt!$N$64:$Q$68,2,FALSE)=0,\"\",VLOOKUP($B1271,Übersichtsblatt!$N$64:$Q$68,2,FALSE)),\"\")","v":""},0,-4.5,null,2026,"2026-06-20",{"$f":"IFERROR(IF(VLOOKUP($H1271,Übersichtsblatt!$N$14:$Q$24,2,FALSE)=0,\"\",VLOOKUP(H1271,Übersichtsblatt!$N$14:$Q$24,2,FALSE)),\"\")","v":""},0,4.5]
[2026,"2026-06-21",{"$f":"IFERROR(IF(VLOOKUP($B1272,Übersichtsblatt!$N$64:$Q$68,2,FALSE)=0,\"\",VLOOKUP($B1272,Übersichtsblatt!$N$64:$Q$68,2,FALSE)),\"\")","v":""},0,-4.5,null,2026,"2026-06-21",{"$f":"IFERROR(IF(VLOOKUP($H1272,Übersichtsblatt!$N$14:$Q$24,2,FALSE)=0,\"\",VLOOKUP(H1272,Übersichtsblatt!$N$14:$Q$24,2,FALSE)),\"\")","v":""},0,4.5]
[2026,"2026-06-22",{"$f":"IFERROR(IF(VLOOKUP($B1273,Übersichtsblatt!$N$64:$Q$68,2,FALSE)=0,\"\",VLOOKUP($B1273,Übersichtsblatt!$N$64:$Q$68,2,FALSE)),\"\")","v":""},0,-4.5,null,2026,"2026-06-22",{"$f":"IFERROR(IF(VLOOKUP($H1273,Übersichtsblatt!$N$14:$Q$24,2,FALSE)=0,\"\",VLOOKUP(H1273,Übersichtsblatt!$N$14:$Q$24,2,FALSE)),\"\")","v":""},0,4.5]
[2026,"2026-06-23",{"$f":"IFERROR(IF(VLOOKUP($B1274,Übersichtsblatt!$N$64:$Q$68,2,FALSE)=0,\"\",VLOOKUP($B1274,Übersichtsblatt!$N$64:$Q$68,2,FALSE)),\"\")","v":""},0,-4.5,null,2026,"2026-06-23",{"$f":"IFERROR(IF(VLOOKUP($H1274,Übersichtsblatt!$N$14:$Q$24,2,FALSE)=0,\"\",VLOOKUP(H1274,Übersichtsblatt!$N$14:$Q$24,2,FALSE)),\"\")","v":""},0,4.5]
[2026,"2026-06-24",{"$f":"IFERROR(IF(VLOOKUP($B1275,Übersichtsblatt!$N$64:$Q$68,2,FALSE)=0,\"\",VLOOKUP($B1275,Übersichtsblatt!$N$64:$Q$68,2,FALSE)),\"\")","v":""},0,-4.5,null,2026,"2026-06-24",{"$f":"IFERROR(IF(VLOOKUP($H1275,Übersichtsblatt!$N$14:$Q$24,2,FALSE)=0,\"\",VLOOKUP(H1275,Übersichtsblatt!$N$14:$Q$24,2,FALSE)),\"\")","v":""},0,4.5]
[2026,"2026-06-25",{"$f":"IFERROR(IF(VLOOKUP($B1276,Übersichtsblatt!$N$64:$Q$68,2,FALSE)=0,\"\",VLOOKUP($B1276,Übersichtsblatt!$N$64:$Q$68,2,FALSE)),\"\")","v":""},0,-4.5,null,2026,"2026-06-25",{"$f":"IFERROR(IF(VLOOKUP($H1276,Übersichtsblatt!$N$14:$Q$24,2,FALSE)=0,\"\",VLOOKUP(H1276,Übersichtsblatt!$N$14:$Q$24,2,FALSE)),\"\")","v":""},0,4.5]
[2026,"2026-06-26",{"$f":"IFERROR(IF(VLOOKUP($B1277,Übersichtsblatt!$N$64:$Q$68,2,FALSE)=0,\"\",VLOOKUP($B1277,Übersichtsblatt!$N$64:$Q$68,2,FALSE)),\"\")","v":""},0,-4.5,null,2026,"2026-06-26",{"$f":"IFERROR(IF(VLOOKUP($H1277,Übersichtsblatt!$N$14:$Q$24,2,FALSE)=0,\"\",VLOOKUP(H1277,Übersichtsblatt!$N$14:$Q$24,2,FALSE)),\"\")","v":""},0,4.5]
[2026,"2026-06-27",{"$f":"IFERROR(IF(VLOOKUP($B1278,Übersichtsblatt!$N$64:$Q$68,2,FALSE)=0,\"\",VLOOKUP($B1278,Übersichtsblatt!$N$64:$Q$68,2,FALSE)),\"\")","v":""},0,-4.5,null,2026,"2026-06-27",{"$f":"IFERROR(IF(VLOOKUP($H1278,Übersichtsblatt!$N$14:$Q$24,2,FALSE)=0,\"\",VLOOKUP(H1278,Übersichtsblatt!$N$14:$Q$24,2,FALSE)),\"\")","v":""},0,4.5]
[2026,"2026-06-28",{"$f":"IFERROR(IF(VLOOKUP($B1279,Übersichtsblatt!$N$64:$Q$68,2,FALSE)=0,\"\",VLOOKUP($B1279,Übersichtsblatt!$N$64:$Q$68,2,FALSE)),\"\")","v":""},0,-4.5,null,2026,"2026-06-28",{"$f":"IFERROR(IF(VLOOKUP($H1279,Übersichtsblatt!$N$14:$Q$24,2,FALSE)=0,\"\",VLOOKUP(H1279,Übersichtsblatt!$N$14:$Q$24,2,FALSE)),\"\")","v":""},0,4.5]
[2026,"2026-06-29",{"$f":"IFERROR(IF(VLOOKUP($B1280,Übersichtsblatt!$N$64:$Q$68,2,FALSE)=0,\"\",VLOOKUP($B1280,Übersichtsblatt!$N$64:$Q$68,2,FALSE)),\"\")","v":""},0,-4.5,null,2026,"2026-06-29",{"$f":"IFERROR(IF(VLOOKUP($H1280,Übersichtsblatt!$N$14:$Q$24,2,FALSE)=0,\"\",VLOOKUP(H1280,Übersichtsblatt!$N$14:$Q$24,2,FALSE)),\"\")","v":""},0,4.5]
[2026,"2026-06-30",{"$f":"IFERROR(IF(VLOOKUP($B1281,Übersichtsblatt!$N$64:$Q$68,2,FALSE)=0,\"\",VLOOKUP($B1281,Übersichtsblatt!$N$64:$Q$68,2,FALSE)),\"\")","v":""},0,-8.5,null,2026,"2026-06-30",{"$f":"IFERROR(IF(VLOOKUP($H1281,Übersichtsblatt!$N$14:$Q$24,2,FALSE)=0,\"\",VLOOKUP(H1281,Übersichtsblatt!$N$14:$Q$24,2,FALSE)),\"\")","v":""},0,8.5]
[2026,"2026-07-01",{"$f":"IFERROR(IF(VLOOKUP($B1282,Übersichtsblatt!$N$64:$Q$68,2,FALSE)=0,\"\",VLOOKUP($B1282,Übersichtsblatt!$N$64:$Q$68,2,FALSE)),\"\")","v":""},0,-8.5,null,2026,"2026-07-01",{"$f":"IFERROR(IF(VLOOKUP($H1282,Übersichtsblatt!$N$14:$Q$24,2,FALSE)=0,\"\",VLOOKUP(H1282,Übersichtsblatt!$N$14:$Q$24,2,FALSE)),\"\")","v":""},0,8.5]
[2026,"2026-07-02",{"$f":"IFERROR(IF(VLOOKUP($B1283,Übersichtsblatt!$N$64:$Q$68,2,FALSE)=0,\"\",VLOOKUP($B1283,Übersichtsblatt!$N$64:$Q$68,2,FALSE)),\"\")","v":""},0,-8.5,null,2026,"2026-07-02",{"$f":"IFERROR(IF(VLOOKUP($H1283,Übersichtsblatt!$N$14:$Q$24,2,FALSE)=0,\"\",VLOOKUP(H1283,Übersichtsblatt!$N$14:$Q$24,2,FALSE)),\"\")","v":""},0,8.5]
[2026,"2026-07-03",{"$f":"IFERROR(IF(VLOOKUP($B1284,Übersichtsblatt!$N$64:$Q$68,2,FALSE)=0,\"\",VLOOKUP($B1284,Übersichtsblatt!$N$64:$Q$68,2,FALSE)),\"\")","v":""},0,-8.5,null,2026,"2026-07-03",{"$f":"IFERROR(IF(VLOOKUP($H1284,Übersichtsblatt!$N$14:$Q$24,2,FALSE)=0,\"\",VLOOKUP(H1284,Übersichtsblatt!$N$14:$Q$24,2,FALSE)),\"\")","v":""},0,8.5]
[2026,"2026-07-04",{"$f":"IFERROR(IF(VLOOKUP($B1285,Übersichtsblatt!$N$64:$Q$68,2,FALSE)=0,\"\",VLOOKUP($B1285,Übersichtsblatt!$N$64:$Q$68,2,FALSE)),\"\")","v":""},0,-8.5,null,2026,"2026-07-04",{"$f":"IFERROR(IF(VLOOKUP($H1285,Übersichtsblatt!$N$14:$Q$24,2,FALSE)=0,\"\",VLOOKUP(H1285,Übersichtsblatt!$N$14:$Q$24,2,FALSE)),\"\")","v":""},0,8.5]
[2026,"2026-07-05",{"$f":"IFERROR(IF(VLOOKUP($B1286,Übersichtsblatt!$N$64:$Q$68,2,FALSE)=0,\"\",VLOOKUP($B1286,Übersichtsblatt!$N$64:$Q$68,2,FALSE)),\"\")","v":""},{"$f":"IF($C1286=\"\",0,$E1286)","v":0},-8.5,null,2026,"2026-07-05",{"$f":"IFERROR(IF(VLOOKUP($H1286,Übersichtsblatt!$N$14:$Q$24,2,FALSE)=0,\"\",VLOOKUP(H1286,Übersichtsblatt!$N$14:$Q$24,2,FALSE)),\"\")","v":""},{"$f":"IF($I1286=\"\",0,$K1286)","v":0},8.5]
[{"$f":"YEAR(B1287)","v":2026},{"$f":"B1286+1","v":"2026-07-06"},{"$f":"IFERROR(IF(VLOOKUP($B1287,Übersichtsblatt!$N$64:$Q$68,2,FALSE)=0,\"\",VLOOKUP($B1287,Übersichtsblatt!$N$64:$Q$68,2,FALSE)),\"\")","v":""},0,-8.5,null,{"$f":"YEAR(H1287)","v":2026},{"$f":"H1286+1","v":"2026-07-06"},{"$f":"IFERROR(IF(VLOOKUP($H1287,Übersichtsblatt!$N$14:$Q$24,2,FALSE)=0,\"\",VLOOKUP(H1287,Übersichtsblatt!$N$14:$Q$24,2,FALSE)),\"\")","v":""},0,8.5]
[2026,"2026-07-07",{"$f":"IFERROR(IF(VLOOKUP($B1288,Übersichtsblatt!$N$64:$Q$68,2,FALSE)=0,\"\",VLOOKUP($B1288,Übersichtsblatt!$N$64:$Q$68,2,FALSE)),\"\")","v":""},0,-8.5,null,2026,"2026-07-07",{"$f":"IFERROR(IF(VLOOKUP($H1288,Übersichtsblatt!$N$14:$Q$24,2,FALSE)=0,\"\",VLOOKUP(H1288,Übersichtsblatt!$N$14:$Q$24,2,FALSE)),\"\")","v":""},0,8.5]
[2026,"2026-07-08",{"$f":"IFERROR(IF(VLOOKUP($B1289,Übersichtsblatt!$N$64:$Q$68,2,FALSE)=0,\"\",VLOOKUP($B1289,Übersichtsblatt!$N$64:$Q$68,2,FALSE)),\"\")","v":""},0,-8.5,null,2026,"2026-07-08",{"$f":"IFERROR(IF(VLOOKUP($H1289,Übersichtsblatt!$N$14:$Q$24,2,FALSE)=0,\"\",VLOOKUP(H1289,Übersichtsblatt!$N$14:$Q$24,2,FALSE)),\"\")","v":""},0,8.5]
[2026,"2026-07-09",{"$f":"IFERROR(IF(VLOOKUP($B1290,Übersichtsblatt!$N$64:$Q$68,2,FALSE)=0,\"\",VLOOKUP($B1290,Übersichtsblatt!$N$64:$Q$68,2,FALSE)),\"\")","v":""},0,-8.5,null,2026,"2026-07-09",{"$f":"IFERROR(IF(VLOOKUP($H1290,Übersichtsblatt!$N$14:$Q$24,2,FALSE)=0,\"\",VLOOKUP(H1290,Übersichtsblatt!$N$14:$Q$24,2,FALSE)),\"\")","v":""},0,8.5]
[2026,"2026-07-10",{"$f":"IFERROR(IF(VLOOKUP($B1291,Übersichtsblatt!$N$64:$Q$68,2,FALSE)=0,\"\",VLOOKUP($B1291,Übersichtsblatt!$N$64:$Q$68,2,FALSE)),\"\")","v":""},0,-8.5,null,2026,"2026-07-10",{"$f":"IFERROR(IF(VLOOKUP($H1291,Übersichtsblatt!$N$14:$Q$24,2,FALSE)=0,\"\",VLOOKUP(H1291,Übersichtsblatt!$N$14:$Q$24,2,FALSE)),\"\")","v":""},0,8.5]
[2026,"2026-07-11",{"$f":"IFERROR(IF(VLOOKUP($B1292,Übersichtsblatt!$N$64:$Q$68,2,FALSE)=0,\"\",VLOOKUP($B1292,Übersichtsblatt!$N$64:$Q$68,2,FALSE)),\"\")","v":""},0,-8.5,null,2026,"2026-07-11",{"$f":"IFERROR(IF(VLOOKUP($H1292,Übersichtsblatt!$N$14:$Q$24,2,FALSE)=0,\"\",VLOOKUP(H1292,Übersichtsblatt!$N$14:$Q$24,2,FALSE)),\"\")","v":""},0,8.5]
[2026,"2026-07-12",{"$f":"IFERROR(IF(VLOOKUP($B1293,Übersichtsblatt!$N$64:$Q$68,2,FALSE)=0,\"\",VLOOKUP($B1293,Übersichtsblatt!$N$64:$Q$68,2,FALSE)),\"\")","v":""},0,-8.5,null,2026,"2026-07-12",{"$f":"IFERROR(IF(VLOOKUP($H1293,Übersichtsblatt!$N$14:$Q$24,2,FALSE)=0,\"\",VLOOKUP(H1293,Übersichtsblatt!$N$14:$Q$24,2,FALSE)),\"\")","v":""},0,8.5]
[2026,"2026-07-13",{"$f":"IFERROR(IF(VLOOKUP($B1294,Übersichtsblatt!$N$64:$Q$68,2,FALSE)=0,\"\",VLOOKUP($B1294,Übersichtsblatt!$N$64:$Q$68,2,FALSE)),\"\")","v":""},0,-8.5,null,2026,"2026-07-13",{"$f":"IFERROR(IF(VLOOKUP($H1294,Übersichtsblatt!$N$14:$Q$24,2,FALSE)=0,\"\",VLOOKUP(H1294,Übersichtsblatt!$N$14:$Q$24,2,FALSE)),\"\")","v":""},0,8.5]
[2026,"2026-07-14",{"$f":"IFERROR(IF(VLOOKUP($B1295,Übersichtsblatt!$N$64:$Q$68,2,FALSE)=0,\"\",VLOOKUP($B1295,Übersichtsblatt!$N$64:$Q$68,2,FALSE)),\"\")","v":""},0,-8.5,null,2026,"2026-07-14",{"$f":"IFERROR(IF(VLOOKUP($H1295,Übersichtsblatt!$N$14:$Q$24,2,FALSE)=0,\"\",VLOOKUP(H1295,Übersichtsblatt!$N$14:$Q$24,2,FALSE)),\"\")","v":""},0,8.5]
[2026,"2026-07-15",{"$f":"IFERROR(IF(VLOOKUP($B1296,Übersichtsblatt!$N$64:$Q$68,2,FALSE)=0,\"\",VLOOKUP($B1296,Übersichtsblatt!$N$64:$Q$68,2,FALSE)),\"\")","v":""},0,-8.5,null,2026,"2026-07-15",{"$f":"IFERROR(IF(VLOOKUP($H1296,Übersichtsblatt!$N$14:$Q$24,2,FALSE)=0,\"\",VLOOKUP(H1296,Übersichtsblatt!$N$14:$Q$24,2,FALSE)),\"\")","v":""},0,8.5]
[2026,"2026-07-16",{"$f":"IFERROR(IF(VLOOKUP($B1297,Übersichtsblatt!$N$64:$Q$68,2,FALSE)=0,\"\",VLOOKUP($B1297,Übersichtsblatt!$N$64:$Q$68,2,FALSE)),\"\")","v":""},0,-8.5,null,2026,"2026-07-16",{"$f":"IFERROR(IF(VLOOKUP($H1297,Übersichtsblatt!$N$14:$Q$24,2,FALSE)=0,\"\",VLOOKUP(H1297,Übersichtsblatt!$N$14:$Q$24,2,FALSE)),\"\")","v":""},0,8.5]
[2026,"2026-07-17",{"$f":"IFERROR(IF(VLOOKUP($B1298,Übersichtsblatt!$N$64:$Q$68,2,FALSE)=0,\"\",VLOOKUP($B1298,Übersichtsblatt!$N$64:$Q$68,2,FALSE)),\"\")","v":""},0,-8.5,null,2026,"2026-07-17",{"$f":"IFERROR(IF(VLOOKUP($H1298,Übersichtsblatt!$N$14:$Q$24,2,FALSE)=0,\"\",VLOOKUP(H1298,Übersichtsblatt!$N$14:$Q$24,2,FALSE)),\"\")","v":""},0,8.5]
[2026,"2026-07-18",{"$f":"IFERROR(IF(VLOOKUP($B1299,Übersichtsblatt!$N$64:$Q$68,2,FALSE)=0,\"\",VLOOKUP($B1299,Übersichtsblatt!$N$64:$Q$68,2,FALSE)),\"\")","v":""},0,-8.5,null,2026,"2026-07-18",{"$f":"IFERROR(IF(VLOOKUP($H1299,Übersichtsblatt!$N$14:$Q$24,2,FALSE)=0,\"\",VLOOKUP(H1299,Übersichtsblatt!$N$14:$Q$24,2,FALSE)),\"\")","v":""},0,8.5]
[2026,"2026-07-19",{"$f":"IFERROR(IF(VLOOKUP($B1300,Übersichtsblatt!$N$64:$Q$68,2,FALSE)=0,\"\",VLOOKUP($B1300,Übersichtsblatt!$N$64:$Q$68,2,FALSE)),\"\")","v":""},0,-8.5,null,2026,"2026-07-19",{"$f":"IFERROR(IF(VLOOKUP($H1300,Übersichtsblatt!$N$14:$Q$24,2,FALSE)=0,\"\",VLOOKUP(H1300,Übersichtsblatt!$N$14:$Q$24,2,FALSE)),\"\")","v":""},0,8.5]
[2026,"2026-07-20",{"$f":"IFERROR(IF(VLOOKUP($B1301,Übersichtsblatt!$N$64:$Q$68,2,FALSE)=0,\"\",VLOOKUP($B1301,Übersichtsblatt!$N$64:$Q$68,2,FALSE)),\"\")","v":""},0,-8.5,null,2026,"2026-07-20",{"$f":"IFERROR(IF(VLOOKUP($H1301,Übersichtsblatt!$N$14:$Q$24,2,FALSE)=0,\"\",VLOOKUP(H1301,Übersichtsblatt!$N$14:$Q$24,2,FALSE)),\"\")","v":""},0,8.5]
[2026,"2026-07-21",{"$f":"IFERROR(IF(VLOOKUP($B1302,Übersichtsblatt!$N$64:$Q$68,2,FALSE)=0,\"\",VLOOKUP($B1302,Übersichtsblatt!$N$64:$Q$68,2,FALSE)),\"\")","v":""},0,-8.5,null,2026,"2026-07-21",{"$f":"IFERROR(IF(VLOOKUP($H1302,Übersichtsblatt!$N$14:$Q$24,2,FALSE)=0,\"\",VLOOKUP(H1302,Übersichtsblatt!$N$14:$Q$24,2,FALSE)),\"\")","v":""},0,8.5]
[2026,"2026-07-22",{"$f":"IFERROR(IF(VLOOKUP($B1303,Übersichtsblatt!$N$64:$Q$68,2,FALSE)=0,\"\",VLOOKUP($B1303,Übersichtsblatt!$N$64:$Q$68,2,FALSE)),\"\")","v":""},0,-8.5,null,2026,"2026-07-22",{"$f":"IFERROR(IF(VLOOKUP($H1303,Übersichtsblatt!$N$14:$Q$24,2,FALSE)=0,\"\",VLOOKUP(H1303,Übersichtsblatt!$N$14:$Q$24,2,FALSE)),\"\")","v":""},0,8.5]
[2026,"2026-07-23",{"$f":"IFERROR(IF(VLOOKUP($B1304,Übersichtsblatt!$N$64:$Q$68,2,FALSE)=0,\"\",VLOOKUP($B1304,Übersichtsblatt!$N$64:$Q$68,2,FALSE)),\"\")","v":""},0,-8.5,null,2026,"2026-07-23",{"$f":"IFERROR(IF(VLOOKUP($H1304,Übersichtsblatt!$N$14:$Q$24,2,FALSE)=0,\"\",VLOOKUP(H1304,Übersichtsblatt!$N$14:$Q$24,2,FALSE)),\"\")","v":""},0,8.5]
[2026,"2026-07-24",{"$f":"IFERROR(IF(VLOOKUP($B1305,Übersichtsblatt!$N$64:$Q$68,2,FALSE)=0,\"\",VLOOKUP($B1305,Übersichtsblatt!$N$64:$Q$68,2,FALSE)),\"\")","v":""},0,-8.5,null,2026,"2026-07-24",{"$f":"IFERROR(IF(VLOOKUP($H1305,Übersichtsblatt!$N$14:$Q$24,2,FALSE)=0,\"\",VLOOKUP(H1305,Übersichtsblatt!$N$14:$Q$24,2,FALSE)),\"\")","v":""},0,8.5]
[2026,"2026-07-25",{"$f":"IFERROR(IF(VLOOKUP($B1306,Übersichtsblatt!$N$64:$Q$68,2,FALSE)=0,\"\",VLOOKUP($B1306,Übersichtsblatt!$N$64:$Q$68,2,FALSE)),\"\")","v":""},0,-8.5,null,2026,"2026-07-25",{"$f":"IFERROR(IF(VLOOKUP($H1306,Übersichtsblatt!$N$14:$Q$24,2,FALSE)=0,\"\",VLOOKUP(H1306,Übersichtsblatt!$N$14:$Q$24,2,FALSE)),\"\")","v":""},0,8.5]
[2026,"2026-07-26",{"$f":"IFERROR(IF(VLOOKUP($B1307,Übersichtsblatt!$N$64:$Q$68,2,FALSE)=0,\"\",VLOOKUP($B1307,Übersichtsblatt!$N$64:$Q$68,2,FALSE)),\"\")","v":""},0,-8.5,null,2026,"2026-07-26",{"$f":"IFERROR(IF(VLOOKUP($H1307,Übersichtsblatt!$N$14:$Q$24,2,FALSE)=0,\"\",VLOOKUP(H1307,Übersichtsblatt!$N$14:$Q$24,2,FALSE)),\"\")","v":""},0,8.5]
[2026,"2026-07-27",{"$f":"IFERROR(IF(VLOOKUP($B1308,Übersichtsblatt!$N$64:$Q$68,2,FALSE)=0,\"\",VLOOKUP($B1308,Übersichtsblatt!$N$64:$Q$68,2,FALSE)),\"\")","v":""},0,-8.5,null,2026,"2026-07-27",{"$f":"IFERROR(IF(VLOOKUP($H1308,Übersichtsblatt!$N$14:$Q$24,2,FALSE)=0,\"\",VLOOKUP(H1308,Übersichtsblatt!$N$14:$Q$24,2,FALSE)),\"\")","v":""},0,8.5]
[2026,"2026-07-28",{"$f":"IFERROR(IF(VLOOKUP($B1309,Übersichtsblatt!$N$64:$Q$68,2,FALSE)=0,\"\",VLOOKUP($B1309,Übersichtsblatt!$N$64:$Q$68,2,FALSE)),\"\")","v":""},0,-8.5,null,2026,"2026-07-28",{"$f":"IFERROR(IF(VLOOKUP($H1309,Übersichtsblatt!$N$14:$Q$24,2,FALSE)=0,\"\",VLOOKUP(H1309,Übersichtsblatt!$N$14:$Q$24,2,FALSE)),\"\")","v":""},0,8.5]
[2026,"2026-07-29",{"$f":"IFERROR(IF(VLOOKUP($B1310,Übersichtsblatt!$N$64:$Q$68,2,FALSE)=0,\"\",VLOOKUP($B1310,Übersichtsblatt!$N$64:$Q$68,2,FALSE)),\"\")","v":""},0,-8.5,null,2026,"2026-07-29",{"$f":"IFERROR(IF(VLOOKUP($H1310,Übersichtsblatt!$N$14:$Q$24,2,FALSE)=0,\"\",VLOOKUP(H1310,Übersichtsblatt!$N$14:$Q$24,2,FALSE)),\"\")","v":""},0,8.5]
[2026,"2026-07-30",{"$f":"IFERROR(IF(VLOOKUP($B1311,Übersichtsblatt!$N$64:$Q$68,2,FALSE)=0,\"\",VLOOKUP($B1311,Übersichtsblatt!$N$64:$Q$68,2,FALSE)),\"\")","v":""},0,-8.5,null,2026,"2026-07-30",{"$f":"IFERROR(IF(VLOOKUP($H1311,Übersichtsblatt!$N$14:$Q$24,2,FALSE)=0,\"\",VLOOKUP(H1311,Übersichtsblatt!$N$14:$Q$24,2,FALSE)),\"\")","v":""},0,8.5]
[2026,"2026-07-31",{"$f":"IFERROR(IF(VLOOKUP($B1312,Übersichtsblatt!$N$64:$Q$68,2,FALSE)=0,\"\",VLOOKUP($B1312,Übersichtsblatt!$N$64:$Q$68,2,FALSE)),\"\")","v":""},0,-5.5,null,2026,"2026-07-31",{"$f":"IFERROR(IF(VLOOKUP($H1312,Übersichtsblatt!$N$14:$Q$24,2,FALSE)=0,\"\",VLOOKUP(H1312,Übersichtsblatt!$N$14:$Q$24,2,FALSE)),\"\")","v":""},0,5.5]
[2026,"2026-08-01",{"$f":"IFERROR(IF(VLOOKUP($B1313,Übersichtsblatt!$N$64:$Q$68,2,FALSE)=0,\"\",VLOOKUP($B1313,Übersichtsblatt!$N$64:$Q$68,2,FALSE)),\"\")","v":""},0,-5.5,null,2026,"2026-08-01",{"$f":"IFERROR(IF(VLOOKUP($H1313,Übersichtsblatt!$N$14:$Q$24,2,FALSE)=0,\"\",VLOOKUP(H1313,Übersichtsblatt!$N$14:$Q$24,2,FALSE)),\"\")","v":""},0,5.5]
[2026,"2026-08-02",{"$f":"IFERROR(IF(VLOOKUP($B1314,Übersichtsblatt!$N$64:$Q$68,2,FALSE)=0,\"\",VLOOKUP($B1314,Übersichtsblatt!$N$64:$Q$68,2,FALSE)),\"\")","v":""},0,-5.5,null,2026,"2026-08-02",{"$f":"IFERROR(IF(VLOOKUP($H1314,Übersichtsblatt!$N$14:$Q$24,2,FALSE)=0,\"\",VLOOKUP(H1314,Übersichtsblatt!$N$14:$Q$24,2,FALSE)),\"\")","v":""},0,5.5]
[2026,"2026-08-03",{"$f":"IFERROR(IF(VLOOKUP($B1315,Übersichtsblatt!$N$64:$Q$68,2,FALSE)=0,\"\",VLOOKUP($B1315,Übersichtsblatt!$N$64:$Q$68,2,FALSE)),\"\")","v":""},0,-5.5,null,2026,"2026-08-03",{"$f":"IFERROR(IF(VLOOKUP($H1315,Übersichtsblatt!$N$14:$Q$24,2,FALSE)=0,\"\",VLOOKUP(H1315,Übersichtsblatt!$N$14:$Q$24,2,FALSE)),\"\")","v":""},0,5.5]
[2026,"2026-08-04",{"$f":"IFERROR(IF(VLOOKUP($B1316,Übersichtsblatt!$N$64:$Q$68,2,FALSE)=0,\"\",VLOOKUP($B1316,Übersichtsblatt!$N$64:$Q$68,2,FALSE)),\"\")","v":""},0,-5.5,null,2026,"2026-08-04",{"$f":"IFERROR(IF(VLOOKUP($H1316,Übersichtsblatt!$N$14:$Q$24,2,FALSE)=0,\"\",VLOOKUP(H1316,Übersichtsblatt!$N$14:$Q$24,2,FALSE)),\"\")","v":""},0,5.5]
[2026,"2026-08-05",{"$f":"IFERROR(IF(VLOOKUP($B1317,Übersichtsblatt!$N$64:$Q$68,2,FALSE)=0,\"\",VLOOKUP($B1317,Übersichtsblatt!$N$64:$Q$68,2,FALSE)),\"\")","v":""},0,-5.5,null,2026,"2026-08-05",{"$f":"IFERROR(IF(VLOOKUP($H1317,Übersichtsblatt!$N$14:$Q$24,2,FALSE)=0,\"\",VLOOKUP(H1317,Übersichtsblatt!$N$14:$Q$24,2,FALSE)),\"\")","v":""},0,5.5]
[2026,"2026-08-06",{"$f":"IFERROR(IF(VLOOKUP($B1318,Übersichtsblatt!$N$64:$Q$68,2,FALSE)=0,\"\",VLOOKUP($B1318,Übersichtsblatt!$N$64:$Q$68,2,FALSE)),\"\")","v":""},0,-5.5,null,2026,"2026-08-06",{"$f":"IFERROR(IF(VLOOKUP($H1318,Übersichtsblatt!$N$14:$Q$24,2,FALSE)=0,\"\",VLOOKUP(H1318,Übersichtsblatt!$N$14:$Q$24,2,FALSE)),\"\")","v":""},0,5.5]
[2026,"2026-08-07",{"$f":"IFERROR(IF(VLOOKUP($B1319,Übersichtsblatt!$N$64:$Q$68,2,FALSE)=0,\"\",VLOOKUP($B1319,Übersichtsblatt!$N$64:$Q$68,2,FALSE)),\"\")","v":""},0,-5.5,null,2026,"2026-08-07",{"$f":"IFERROR(IF(VLOOKUP($H1319,Übersichtsblatt!$N$14:$Q$24,2,FALSE)=0,\"\",VLOOKUP(H1319,Übersichtsblatt!$N$14:$Q$24,2,FALSE)),\"\")","v":""},0,5.5]
[2026,"2026-08-08",{"$f":"IFERROR(IF(VLOOKUP($B1320,Übersichtsblatt!$N$64:$Q$68,2,FALSE)=0,\"\",VLOOKUP($B1320,Übersichtsblatt!$N$64:$Q$68,2,FALSE)),\"\")","v":""},0,-5.5,null,2026,"2026-08-08",{"$f":"IFERROR(IF(VLOOKUP($H1320,Übersichtsblatt!$N$14:$Q$24,2,FALSE)=0,\"\",VLOOKUP(H1320,Übersichtsblatt!$N$14:$Q$24,2,FALSE)),\"\")","v":""},0,5.5]
[2026,"2026-08-09",{"$f":"IFERROR(IF(VLOOKUP($B1321,Übersichtsblatt!$N$64:$Q$68,2,FALSE)=0,\"\",VLOOKUP($B1321,Übersichtsblatt!$N$64:$Q$68,2,FALSE)),\"\")","v":""},0,-5.5,null,2026,"2026-08-09",{"$f":"IFERROR(IF(VLOOKUP($H1321,Übersichtsblatt!$N$14:$Q$24,2,FALSE)=0,\"\",VLOOKUP(H1321,Übersichtsblatt!$N$14:$Q$24,2,FALSE)),\"\")","v":""},0,5.5]
[2026,"2026-08-10",{"$f":"IFERROR(IF(VLOOKUP($B1322,Übersichtsblatt!$N$64:$Q$68,2,FALSE)=0,\"\",VLOOKUP($B1322,Übersichtsblatt!$N$64:$Q$68,2,FALSE)),\"\")","v":""},0,-5.5,null,2026,"2026-08-10",{"$f":"IFERROR(IF(VLOOKUP($H1322,Übersichtsblatt!$N$14:$Q$24,2,FALSE)=0,\"\",VLOOKUP(H1322,Übersichtsblatt!$N$14:$Q$24,2,FALSE)),\"\")","v":""},0,5.5]
[2026,"2026-08-11",{"$f":"IFERROR(IF(VLOOKUP($B1323,Übersichtsblatt!$N$64:$Q$68,2,FALSE)=0,\"\",VLOOKUP($B1323,Übersichtsblatt!$N$64:$Q$68,2,FALSE)),\"\")","v":""},0,-5.5,null,2026,"2026-08-11",{"$f":"IFERROR(IF(VLOOKUP($H1323,Übersichtsblatt!$N$14:$Q$24,2,FALSE)=0,\"\",VLOOKUP(H1323,Übersichtsblatt!$N$14:$Q$24,2,FALSE)),\"\")","v":""},0,5.5]
[2026,"2026-08-12",{"$f":"IFERROR(IF(VLOOKUP($B1324,Übersichtsblatt!$N$64:$Q$68,2,FALSE)=0,\"\",VLOOKUP($B1324,Übersichtsblatt!$N$64:$Q$68,2,FALSE)),\"\")","v":""},0,-5.5,null,2026,"2026-08-12",{"$f":"IFERROR(IF(VLOOKUP($H1324,Übersichtsblatt!$N$14:$Q$24,2,FALSE)=0,\"\",VLOOKUP(H1324,Übersichtsblatt!$N$14:$Q$24,2,FALSE)),\"\")","v":""},0,5.5]
[2026,"2026-08-13",{"$f":"IFERROR(IF(VLOOKUP($B1325,Übersichtsblatt!$N$64:$Q$68,2,FALSE)=0,\"\",VLOOKUP($B1325,Übersichtsblatt!$N$64:$Q$68,2,FALSE)),\"\")","v":""},0,-5.5,null,2026,"2026-08-13",{"$f":"IFERROR(IF(VLOOKUP($H1325,Übersichtsblatt!$N$14:$Q$24,2,FALSE)=0,\"\",VLOOKUP(H1325,Übersichtsblatt!$N$14:$Q$24,2,FALSE)),\"\")","v":""},0,5.5]
[2026,"2026-08-14",{"$f":"IFERROR(IF(VLOOKUP($B1326,Übersichtsblatt!$N$64:$Q$68,2,FALSE)=0,\"\",VLOOKUP($B1326,Übersichtsblatt!$N$64:$Q$68,2,FALSE)),\"\")","v":""},0,-5.5,null,2026,"2026-08-14",{"$f":"IFERROR(IF(VLOOKUP($H1326,Übersichtsblatt!$N$14:$Q$24,2,FALSE)=0,\"\",VLOOKUP(H1326,Übersichtsblatt!$N$14:$Q$24,2,FALSE)),\"\")","v":""},0,5.5]
[2026,"2026-08-15",{"$f":"IFERROR(IF(VLOOKUP($B1327,Übersichtsblatt!$N$64:$Q$68,2,FALSE)=0,\"\",VLOOKUP($B1327,Übersichtsblatt!$N$64:$Q$68,2,FALSE)),\"\")","v":""},0,-5.5,null,2026,"2026-08-15",{"$f":"IFERROR(IF(VLOOKUP($H1327,Übersichtsblatt!$N$14:$Q$24,2,FALSE)=0,\"\",VLOOKUP(H1327,Übersichtsblatt!$N$14:$Q$24,2,FALSE)),\"\")","v":""},0,5.5]
[2026,"2026-08-16",{"$f":"IFERROR(IF(VLOOKUP($B1328,Übersichtsblatt!$N$64:$Q$68,2,FALSE)=0,\"\",VLOOKUP($B1328,Übersichtsblatt!$N$64:$Q$68,2,FALSE)),\"\")","v":""},0,-5.5,null,2026,"2026-08-16",{"$f":"IFERROR(IF(VLOOKUP($H1328,Übersichtsblatt!$N$14:$Q$24,2,FALSE)=0,\"\",VLOOKUP(H1328,Übersichtsblatt!$N$14:$Q$24,2,FALSE)),\"\")","v":""},0,5.5]
[2026,"2026-08-17",{"$f":"IFERROR(IF(VLOOKUP($B1329,Übersichtsblatt!$N$64:$Q$68,2,FALSE)=0,\"\",VLOOKUP($B1329,Übersichtsblatt!$N$64:$Q$68,2,FALSE)),\"\")","v":""},0,-5.5,null,2026,"2026-08-17",{"$f":"IFERROR(IF(VLOOKUP($H1329,Übersichtsblatt!$N$14:$Q$24,2,FALSE)=0,\"\",VLOOKUP(H1329,Übersichtsblatt!$N$14:$Q$24,2,FALSE)),\"\")","v":""},0,5.5]
[2026,"2026-08-18",{"$f":"IFERROR(IF(VLOOKUP($B1330,Übersichtsblatt!$N$64:$Q$68,2,FALSE)=0,\"\",VLOOKUP($B1330,Übersichtsblatt!$N$64:$Q$68,2,FALSE)),\"\")","v":""},0,-5.5,null,2026,"2026-08-18",{"$f":"IFERROR(IF(VLOOKUP($H1330,Übersichtsblatt!$N$14:$Q$24,2,FALSE)=0,\"\",VLOOKUP(H1330,Übersichtsblatt!$N$14:$Q$24,2,FALSE)),\"\")","v":""},0,5.5]
[2026,"2026-08-19",{"$f":"IFERROR(IF(VLOOKUP($B1331,Übersichtsblatt!$N$64:$Q$68,2,FALSE)=0,\"\",VLOOKUP($B1331,Übersichtsblatt!$N$64:$Q$68,2,FALSE)),\"\")","v":""},0,-5.5,null,2026,"2026-08-19",{"$f":"IFERROR(IF(VLOOKUP($H1331,Übersichtsblatt!$N$14:$Q$24,2,FALSE)=0,\"\",VLOOKUP(H1331,Übersichtsblatt!$N$14:$Q$24,2,FALSE)),\"\")","v":""},0,5.5]
[2026,"2026-08-20",{"$f":"IFERROR(IF(VLOOKUP($B1332,Übersichtsblatt!$N$64:$Q$68,2,FALSE)=0,\"\",VLOOKUP($B1332,Übersichtsblatt!$N$64:$Q$68,2,FALSE)),\"\")","v":""},0,-5.5,null,2026,"2026-08-20",{"$f":"IFERROR(IF(VLOOKUP($H1332,Übersichtsblatt!$N$14:$Q$24,2,FALSE)=0,\"\",VLOOKUP(H1332,Übersichtsblatt!$N$14:$Q$24,2,FALSE)),\"\")","v":""},0,5.5]
[2026,"2026-08-21",{"$f":"IFERROR(IF(VLOOKUP($B1333,Übersichtsblatt!$N$64:$Q$68,2,FALSE)=0,\"\",VLOOKUP($B1333,Übersichtsblatt!$N$64:$Q$68,2,FALSE)),\"\")","v":""},0,-5.5,null,2026,"2026-08-21",{"$f":"IFERROR(IF(VLOOKUP($H1333,Übersichtsblatt!$N$14:$Q$24,2,FALSE)=0,\"\",VLOOKUP(H1333,Übersichtsblatt!$N$14:$Q$24,2,FALSE)),\"\")","v":""},0,5.5]
[2026,"2026-08-22",{"$f":"IFERROR(IF(VLOOKUP($B1334,Übersichtsblatt!$N$64:$Q$68,2,FALSE)=0,\"\",VLOOKUP($B1334,Übersichtsblatt!$N$64:$Q$68,2,FALSE)),\"\")","v":""},0,-5.5,null,2026,"2026-08-22",{"$f":"IFERROR(IF(VLOOKUP($H1334,Übersichtsblatt!$N$14:$Q$24,2,FALSE)=0,\"\",VLOOKUP(H1334,Übersichtsblatt!$N$14:$Q$24,2,FALSE)),\"\")","v":""},0,5.5]
[2026,"2026-08-23",{"$f":"IFERROR(IF(VLOOKUP($B1335,Übersichtsblatt!$N$64:$Q$68,2,FALSE)=0,\"\",VLOOKUP($B1335,Übersichtsblatt!$N$64:$Q$68,2,FALSE)),\"\")","v":""},0,-5.5,null,2026,"2026-08-23",{"$f":"IFERROR(IF(VLOOKUP($H1335,Übersichtsblatt!$N$14:$Q$24,2,FALSE)=0,\"\",VLOOKUP(H1335,Übersichtsblatt!$N$14:$Q$24,2,FALSE)),\"\")","v":""},0,5.5]
[2026,"2026-08-24",{"$f":"IFERROR(IF(VLOOKUP($B1336,Übersichtsblatt!$N$64:$Q$68,2,FALSE)=0,\"\",VLOOKUP($B1336,Übersichtsblatt!$N$64:$Q$68,2,FALSE)),\"\")","v":""},0,-5.5,null,2026,"2026-08-24",{"$f":"IFERROR(IF(VLOOKUP($H1336,Übersichtsblatt!$N$14:$Q$24,2,FALSE)=0,\"\",VLOOKUP(H1336,Übersichtsblatt!$N$14:$Q$24,2,FALSE)),\"\")","v":""},0,5.5]
[2026,"2026-08-25",{"$f":"IFERROR(IF(VLOOKUP($B1337,Übersichtsblatt!$N$64:$Q$68,2,FALSE)=0,\"\",VLOOKUP($B1337,Übersichtsblatt!$N$64:$Q$68,2,FALSE)),\"\")","v":""},0,-5.5,null,2026,"2026-08-25",{"$f":"IFERROR(IF(VLOOKUP($H1337,Übersichtsblatt!$N$14:$Q$24,2,FALSE)=0,\"\",VLOOKUP(H1337,Übersichtsblatt!$N$14:$Q$24,2,FALSE)),\"\")","v":""},0,5.5]
[2026,"2026-08-26",{"$f":"IFERROR(IF(VLOOKUP($B1338,Übersichtsblatt!$N$64:$Q$68,2,FALSE)=0,\"\",VLOOKUP($B1338,Übersichtsblatt!$N$64:$Q$68,2,FALSE)),\"\")","v":""},0,-5.5,null,2026,"2026-08-26",{"$f":"IFERROR(IF(VLOOKUP($H1338,Übersichtsblatt!$N$14:$Q$24,2,FALSE)=0,\"\",VLOOKUP(H1338,Übersichtsblatt!$N$14:$Q$24,2,FALSE)),\"\")","v":""},0,5.5]
[2026,"2026-08-27",{"$f":"IFERROR(IF(VLOOKUP($B1339,Übersichtsblatt!$N$64:$Q$68,2,FALSE)=0,\"\",VLOOKUP($B1339,Übersichtsblatt!$N$64:$Q$68,2,FALSE)),\"\")","v":""},0,-5.5,null,2026,"2026-08-27",{"$f":"IFERROR(IF(VLOOKUP($H1339,Übersichtsblatt!$N$14:$Q$24,2,FALSE)=0,\"\",VLOOKUP(H1339,Übersichtsblatt!$N$14:$Q$24,2,FALSE)),\"\")","v":""},0,5.5]
[2026,"2026-08-28",{"$f":"IFERROR(IF(VLOOKUP($B1340,Übersichtsblatt!$N$64:$Q$68,2,FALSE)=0,\"\",VLOOKUP($B1340,Übersichtsblatt!$N$64:$Q$68,2,FALSE)),\"\")","v":""},0,-5.5,null,2026,"2026-08-28",{"$f":"IFERROR(IF(VLOOKUP($H1340,Übersichtsblatt!$N$14:$Q$24,2,FALSE)=0,\"\",VLOOKUP(H1340,Übersichtsblatt!$N$14:$Q$24,2,FALSE)),\"\")","v":""},0,5.5]
[2026,"2026-08-29",{"$f":"IFERROR(IF(VLOOKUP($B1341,Übersichtsblatt!$N$64:$Q$68,2,FALSE)=0,\"\",VLOOKUP($B1341,Übersichtsblatt!$N$64:$Q$68,2,FALSE)),\"\")","v":""},0,-5.5,null,2026,"2026-08-29",{"$f":"IFERROR(IF(VLOOKUP($H1341,Übersichtsblatt!$N$14:$Q$24,2,FALSE)=0,\"\",VLOOKUP(H1341,Übersichtsblatt!$N$14:$Q$24,2,FALSE)),\"\")","v":""},0,5.5]
[2026,"2026-08-30",{"$f":"IFERROR(IF(VLOOKUP($B1342,Übersichtsblatt!$N$64:$Q$68,2,FALSE)=0,\"\",VLOOKUP($B1342,Übersichtsblatt!$N$64:$Q$68,2,FALSE)),\"\")","v":""},0,-5.5,null,2026,"2026-08-30",{"$f":"IFERROR(IF(VLOOKUP($H1342,Übersichtsblatt!$N$14:$Q$24,2,FALSE)=0,\"\",VLOOKUP(H1342,Übersichtsblatt!$N$14:$Q$24,2,FALSE)),\"\")","v":""},0,5.5]
[2026,"2026-08-31",{"$f":"IFERROR(IF(VLOOKUP($B1343,Übersichtsblatt!$N$64:$Q$68,2,FALSE)=0,\"\",VLOOKUP($B1343,Übersichtsblatt!$N$64:$Q$68,2,FALSE)),\"\")","v":""},0,-7.5,null,2026,"2026-08-31",{"$f":"IFERROR(IF(VLOOKUP($H1343,Übersichtsblatt!$N$14:$Q$24,2,FALSE)=0,\"\",VLOOKUP(H1343,Übersichtsblatt!$N$14:$Q$24,2,FALSE)),\"\")","v":""},0,7.5]
[2026,"2026-09-01",{"$f":"IFERROR(IF(VLOOKUP($B1344,Übersichtsblatt!$N$64:$Q$68,2,FALSE)=0,\"\",VLOOKUP($B1344,Übersichtsblatt!$N$64:$Q$68,2,FALSE)),\"\")","v":""},0,-7.5,null,2026,"2026-09-01",{"$f":"IFERROR(IF(VLOOKUP($H1344,Übersichtsblatt!$N$14:$Q$24,2,FALSE)=0,\"\",VLOOKUP(H1344,Übersichtsblatt!$N$14:$Q$24,2,FALSE)),\"\")","v":""},0,7.5]
[2026,"2026-09-02",{"$f":"IFERROR(IF(VLOOKUP($B1345,Übersichtsblatt!$N$64:$Q$68,2,FALSE)=0,\"\",VLOOKUP($B1345,Übersichtsblatt!$N$64:$Q$68,2,FALSE)),\"\")","v":""},0,-7.5,null,2026,"2026-09-02",{"$f":"IFERROR(IF(VLOOKUP($H1345,Übersichtsblatt!$N$14:$Q$24,2,FALSE)=0,\"\",VLOOKUP(H1345,Übersichtsblatt!$N$14:$Q$24,2,FALSE)),\"\")","v":""},0,7.5]
[2026,"2026-09-03",{"$f":"IFERROR(IF(VLOOKUP($B1346,Übersichtsblatt!$N$64:$Q$68,2,FALSE)=0,\"\",VLOOKUP($B1346,Übersichtsblatt!$N$64:$Q$68,2,FALSE)),\"\")","v":""},0,-7.5,null,2026,"2026-09-03",{"$f":"IFERROR(IF(VLOOKUP($H1346,Übersichtsblatt!$N$14:$Q$24,2,FALSE)=0,\"\",VLOOKUP(H1346,Übersichtsblatt!$N$14:$Q$24,2,FALSE)),\"\")","v":""},0,7.5]
[2026,"2026-09-04",{"$f":"IFERROR(IF(VLOOKUP($B1347,Übersichtsblatt!$N$64:$Q$68,2,FALSE)=0,\"\",VLOOKUP($B1347,Übersichtsblatt!$N$64:$Q$68,2,FALSE)),\"\")","v":""},0,-7.5,null,2026,"2026-09-04",{"$f":"IFERROR(IF(VLOOKUP($H1347,Übersichtsblatt!$N$14:$Q$24,2,FALSE)=0,\"\",VLOOKUP(H1347,Übersichtsblatt!$N$14:$Q$24,2,FALSE)),\"\")","v":""},0,7.5]
[2026,"2026-09-05",{"$f":"IFERROR(IF(VLOOKUP($B1348,Übersichtsblatt!$N$64:$Q$68,2,FALSE)=0,\"\",VLOOKUP($B1348,Übersichtsblatt!$N$64:$Q$68,2,FALSE)),\"\")","v":""},0,-7.5,null,2026,"2026-09-05",{"$f":"IFERROR(IF(VLOOKUP($H1348,Übersichtsblatt!$N$14:$Q$24,2,FALSE)=0,\"\",VLOOKUP(H1348,Übersichtsblatt!$N$14:$Q$24,2,FALSE)),\"\")","v":""},0,7.5]
[2026,"2026-09-06",{"$f":"IFERROR(IF(VLOOKUP($B1349,Übersichtsblatt!$N$64:$Q$68,2,FALSE)=0,\"\",VLOOKUP($B1349,Übersichtsblatt!$N$64:$Q$68,2,FALSE)),\"\")","v":""},0,-7.5,null,2026,"2026-09-06",{"$f":"IFERROR(IF(VLOOKUP($H1349,Übersichtsblatt!$N$14:$Q$24,2,FALSE)=0,\"\",VLOOKUP(H1349,Übersichtsblatt!$N$14:$Q$24,2,FALSE)),\"\")","v":""},0,7.5]
[2026,"2026-09-07",{"$f":"IFERROR(IF(VLOOKUP($B1350,Übersichtsblatt!$N$64:$Q$68,2,FALSE)=0,\"\",VLOOKUP($B1350,Übersichtsblatt!$N$64:$Q$68,2,FALSE)),\"\")","v":""},{"$f":"IF($C1350=\"\",0,$E1350)","v":0},-7.5,null,2026,"2026-09-07",{"$f":"IFERROR(IF(VLOOKUP($H1350,Übersichtsblatt!$N$14:$Q$24,2,FALSE)=0,\"\",VLOOKUP(H1350,Übersichtsblatt!$N$14:$Q$24,2,FALSE)),\"\")","v":""},{"$f":"IF($I1350=\"\",0,$K1350)","v":0},7.5]
[{"$f":"YEAR(B1351)","v":2026},{"$f":"B1350+1","v":"2026-09-08"},{"$f":"IFERROR(IF(VLOOKUP($B1351,Übersichtsblatt!$N$64:$Q$68,2,FALSE)=0,\"\",VLOOKUP($B1351,Übersichtsblatt!$N$64:$Q$68,2,FALSE)),\"\")","v":""},0,-7.5,null,{"$f":"YEAR(H1351)","v":2026},{"$f":"H1350+1","v":"2026-09-08"},{"$f":"IFERROR(IF(VLOOKUP($H1351,Übersichtsblatt!$N$14:$Q$24,2,FALSE)=0,\"\",VLOOKUP(H1351,Übersichtsblatt!$N$14:$Q$24,2,FALSE)),\"\")","v":""},0,7.5]
[2026,"2026-09-09",{"$f":"IFERROR(IF(VLOOKUP($B1352,Übersichtsblatt!$N$64:$Q$68,2,FALSE)=0,\"\",VLOOKUP($B1352,Übersichtsblatt!$N$64:$Q$68,2,FALSE)),\"\")","v":""},0,-7.5,null,2026,"2026-09-09",{"$f":"IFERROR(IF(VLOOKUP($H1352,Übersichtsblatt!$N$14:$Q$24,2,FALSE)=0,\"\",VLOOKUP(H1352,Übersichtsblatt!$N$14:$Q$24,2,FALSE)),\"\")","v":""},0,7.5]
[2026,"2026-09-10",{"$f":"IFERROR(IF(VLOOKUP($B1353,Übersichtsblatt!$N$64:$Q$68,2,FALSE)=0,\"\",VLOOKUP($B1353,Übersichtsblatt!$N$64:$Q$68,2,FALSE)),\"\")","v":""},0,-7.5,null,2026,"2026-09-10",{"$f":"IFERROR(IF(VLOOKUP($H1353,Übersichtsblatt!$N$14:$Q$24,2,FALSE)=0,\"\",VLOOKUP(H1353,Übersichtsblatt!$N$14:$Q$24,2,FALSE)),\"\")","v":""},0,7.5]
[2026,"2026-09-11",{"$f":"IFERROR(IF(VLOOKUP($B1354,Übersichtsblatt!$N$64:$Q$68,2,FALSE)=0,\"\",VLOOKUP($B1354,Übersichtsblatt!$N$64:$Q$68,2,FALSE)),\"\")","v":""},0,-7.5,null,2026,"2026-09-11",{"$f":"IFERROR(IF(VLOOKUP($H1354,Übersichtsblatt!$N$14:$Q$24,2,FALSE)=0,\"\",VLOOKUP(H1354,Übersichtsblatt!$N$14:$Q$24,2,FALSE)),\"\")","v":""},0,7.5]
[2026,"2026-09-12",{"$f":"IFERROR(IF(VLOOKUP($B1355,Übersichtsblatt!$N$64:$Q$68,2,FALSE)=0,\"\",VLOOKUP($B1355,Übersichtsblatt!$N$64:$Q$68,2,FALSE)),\"\")","v":""},0,-7.5,null,2026,"2026-09-12",{"$f":"IFERROR(IF(VLOOKUP($H1355,Übersichtsblatt!$N$14:$Q$24,2,FALSE)=0,\"\",VLOOKUP(H1355,Übersichtsblatt!$N$14:$Q$24,2,FALSE)),\"\")","v":""},0,7.5]
[2026,"2026-09-13",{"$f":"IFERROR(IF(VLOOKUP($B1356,Übersichtsblatt!$N$64:$Q$68,2,FALSE)=0,\"\",VLOOKUP($B1356,Übersichtsblatt!$N$64:$Q$68,2,FALSE)),\"\")","v":""},0,-7.5,null,2026,"2026-09-13",{"$f":"IFERROR(IF(VLOOKUP($H1356,Übersichtsblatt!$N$14:$Q$24,2,FALSE)=0,\"\",VLOOKUP(H1356,Übersichtsblatt!$N$14:$Q$24,2,FALSE)),\"\")","v":""},0,7.5]
[2026,"2026-09-14",{"$f":"IFERROR(IF(VLOOKUP($B1357,Übersichtsblatt!$N$64:$Q$68,2,FALSE)=0,\"\",VLOOKUP($B1357,Übersichtsblatt!$N$64:$Q$68,2,FALSE)),\"\")","v":""},0,-7.5,null,2026,"2026-09-14",{"$f":"IFERROR(IF(VLOOKUP($H1357,Übersichtsblatt!$N$14:$Q$24,2,FALSE)=0,\"\",VLOOKUP(H1357,Übersichtsblatt!$N$14:$Q$24,2,FALSE)),\"\")","v":""},0,7.5]
[2026,"2026-09-15",{"$f":"IFERROR(IF(VLOOKUP($B1358,Übersichtsblatt!$N$64:$Q$68,2,FALSE)=0,\"\",VLOOKUP($B1358,Übersichtsblatt!$N$64:$Q$68,2,FALSE)),\"\")","v":""},0,-7.5,null,2026,"2026-09-15",{"$f":"IFERROR(IF(VLOOKUP($H1358,Übersichtsblatt!$N$14:$Q$24,2,FALSE)=0,\"\",VLOOKUP(H1358,Übersichtsblatt!$N$14:$Q$24,2,FALSE)),\"\")","v":""},0,7.5]
[2026,"2026-09-16",{"$f":"IFERROR(IF(VLOOKUP($B1359,Übersichtsblatt!$N$64:$Q$68,2,FALSE)=0,\"\",VLOOKUP($B1359,Übersichtsblatt!$N$64:$Q$68,2,FALSE)),\"\")","v":""},0,-7.5,null,2026,"2026-09-16",{"$f":"IFERROR(IF(VLOOKUP($H1359,Übersichtsblatt!$N$14:$Q$24,2,FALSE)=0,\"\",VLOOKUP(H1359,Übersichtsblatt!$N$14:$Q$24,2,FALSE)),\"\")","v":""},0,7.5]
[2026,"2026-09-17",{"$f":"IFERROR(IF(VLOOKUP($B1360,Übersichtsblatt!$N$64:$Q$68,2,FALSE)=0,\"\",VLOOKUP($B1360,Übersichtsblatt!$N$64:$Q$68,2,FALSE)),\"\")","v":""},0,-7.5,null,2026,"2026-09-17",{"$f":"IFERROR(IF(VLOOKUP($H1360,Übersichtsblatt!$N$14:$Q$24,2,FALSE)=0,\"\",VLOOKUP(H1360,Übersichtsblatt!$N$14:$Q$24,2,FALSE)),\"\")","v":""},0,7.5]
[2026,"2026-09-18",{"$f":"IFERROR(IF(VLOOKUP($B1361,Übersichtsblatt!$N$64:$Q$68,2,FALSE)=0,\"\",VLOOKUP($B1361,Übersichtsblatt!$N$64:$Q$68,2,FALSE)),\"\")","v":""},0,-7.5,null,2026,"2026-09-18",{"$f":"IFERROR(IF(VLOOKUP($H1361,Übersichtsblatt!$N$14:$Q$24,2,FALSE)=0,\"\",VLOOKUP(H1361,Übersichtsblatt!$N$14:$Q$24,2,FALSE)),\"\")","v":""},0,7.5]
[2026,"2026-09-19",{"$f":"IFERROR(IF(VLOOKUP($B1362,Übersichtsblatt!$N$64:$Q$68,2,FALSE)=0,\"\",VLOOKUP($B1362,Übersichtsblatt!$N$64:$Q$68,2,FALSE)),\"\")","v":""},0,-7.5,null,2026,"2026-09-19",{"$f":"IFERROR(IF(VLOOKUP($H1362,Übersichtsblatt!$N$14:$Q$24,2,FALSE)=0,\"\",VLOOKUP(H1362,Übersichtsblatt!$N$14:$Q$24,2,FALSE)),\"\")","v":""},0,7.5]
[2026,"2026-09-20",{"$f":"IFERROR(IF(VLOOKUP($B1363,Übersichtsblatt!$N$64:$Q$68,2,FALSE)=0,\"\",VLOOKUP($B1363,Übersichtsblatt!$N$64:$Q$68,2,FALSE)),\"\")","v":""},0,-7.5,null,2026,"2026-09-20",{"$f":"IFERROR(IF(VLOOKUP($H1363,Übersichtsblatt!$N$14:$Q$24,2,FALSE)=0,\"\",VLOOKUP(H1363,Übersichtsblatt!$N$14:$Q$24,2,FALSE)),\"\")","v":""},0,7.5]
[2026,"2026-09-21",{"$f":"IFERROR(IF(VLOOKUP($B1364,Übersichtsblatt!$N$64:$Q$68,2,FALSE)=0,\"\",VLOOKUP($B1364,Übersichtsblatt!$N$64:$Q$68,2,FALSE)),\"\")","v":""},0,-7.5,null,2026,"2026-09-21",{"$f":"IFERROR(IF(VLOOKUP($H1364,Übersichtsblatt!$N$14:$Q$24,2,FALSE)=0,\"\",VLOOKUP(H1364,Übersichtsblatt!$N$14:$Q$24,2,FALSE)),\"\")","v":""},0,7.5]
[2026,"2026-09-22",{"$f":"IFERROR(IF(VLOOKUP($B1365,Übersichtsblatt!$N$64:$Q$68,2,FALSE)=0,\"\",VLOOKUP($B1365,Übersichtsblatt!$N$64:$Q$68,2,FALSE)),\"\")","v":""},0,-7.5,null,2026,"2026-09-22",{"$f":"IFERROR(IF(VLOOKUP($H1365,Übersichtsblatt!$N$14:$Q$24,2,FALSE)=0,\"\",VLOOKUP(H1365,Übersichtsblatt!$N$14:$Q$24,2,FALSE)),\"\")","v":""},0,7.5]
[2026,"2026-09-23",{"$f":"IFERROR(IF(VLOOKUP($B1366,Übersichtsblatt!$N$64:$Q$68,2,FALSE)=0,\"\",VLOOKUP($B1366,Übersichtsblatt!$N$64:$Q$68,2,FALSE)),\"\")","v":""},0,-7.5,null,2026,"2026-09-23",{"$f":"IFERROR(IF(VLOOKUP($H1366,Übersichtsblatt!$N$14:$Q$24,2,FALSE)=0,\"\",VLOOKUP(H1366,Übersichtsblatt!$N$14:$Q$24,2,FALSE)),\"\")","v":""},0,7.5]
[2026,"2026-09-24",{"$f":"IFERROR(IF(VLOOKUP($B1367,Übersichtsblatt!$N$64:$Q$68,2,FALSE)=0,\"\",VLOOKUP($B1367,Übersichtsblatt!$N$64:$Q$68,2,FALSE)),\"\")","v":""},0,-7.5,null,2026,"2026-09-24",{"$f":"IFERROR(IF(VLOOKUP($H1367,Übersichtsblatt!$N$14:$Q$24,2,FALSE)=0,\"\",VLOOKUP(H1367,Übersichtsblatt!$N$14:$Q$24,2,FALSE)),\"\")","v":""},0,7.5]
[2026,"2026-09-25",{"$f":"IFERROR(IF(VLOOKUP($B1368,Übersichtsblatt!$N$64:$Q$68,2,FALSE)=0,\"\",VLOOKUP($B1368,Übersichtsblatt!$N$64:$Q$68,2,FALSE)),\"\")","v":""},0,-7.5,null,2026,"2026-09-25",{"$f":"IFERROR(IF(VLOOKUP($H1368,Übersichtsblatt!$N$14:$Q$24,2,FALSE)=0,\"\",VLOOKUP(H1368,Übersichtsblatt!$N$14:$Q$24,2,FALSE)),\"\")","v":""},0,7.5]
[2026,"2026-09-26",{"$f":"IFERROR(IF(VLOOKUP($B1369,Übersichtsblatt!$N$64:$Q$68,2,FALSE)=0,\"\",VLOOKUP($B1369,Übersichtsblatt!$N$64:$Q$68,2,FALSE)),\"\")","v":""},0,-7.5,null,2026,"2026-09-26",{"$f":"IFERROR(IF(VLOOKUP($H1369,Übersichtsblatt!$N$14:$Q$24,2,FALSE)=0,\"\",VLOOKUP(H1369,Übersichtsblatt!$N$14:$Q$24,2,FALSE)),\"\")","v":""},0,7.5]
[2026,"2026-09-27",{"$f":"IFERROR(IF(VLOOKUP($B1370,Übersichtsblatt!$N$64:$Q$68,2,FALSE)=0,\"\",VLOOKUP($B1370,Übersichtsblatt!$N$64:$Q$68,2,FALSE)),\"\")","v":""},0,-7.5,null,2026,"2026-09-27",{"$f":"IFERROR(IF(VLOOKUP($H1370,Übersichtsblatt!$N$14:$Q$24,2,FALSE)=0,\"\",VLOOKUP(H1370,Übersichtsblatt!$N$14:$Q$24,2,FALSE)),\"\")","v":""},0,7.5]
[2026,"2026-09-28",{"$f":"IFERROR(IF(VLOOKUP($B1371,Übersichtsblatt!$N$64:$Q$68,2,FALSE)=0,\"\",VLOOKUP($B1371,Übersichtsblatt!$N$64:$Q$68,2,FALSE)),\"\")","v":""},0,-7.5,null,2026,"2026-09-28",{"$f":"IFERROR(IF(VLOOKUP($H1371,Übersichtsblatt!$N$14:$Q$24,2,FALSE)=0,\"\",VLOOKUP(H1371,Übersichtsblatt!$N$14:$Q$24,2,FALSE)),\"\")","v":""},0,7.5]
[2026,"2026-09-29",{"$f":"IFERROR(IF(VLOOKUP($B1372,Übersichtsblatt!$N$64:$Q$68,2,FALSE)=0,\"\",VLOOKUP($B1372,Übersichtsblatt!$N$64:$Q$68,2,FALSE)),\"\")","v":""},0,-7.5,null,2026,"2026-09-29",{"$f":"IFERROR(IF(VLOOKUP($H1372,Übersichtsblatt!$N$14:$Q$24,2,FALSE)=0,\"\",VLOOKUP(H1372,Übersichtsblatt!$N$14:$Q$24,2,FALSE)),\"\")","v":""},0,7.5]
[2026,"2026-09-30",{"$f":"IFERROR(IF(VLOOKUP($B1373,Übersichtsblatt!$N$64:$Q$68,2,FALSE)=0,\"\",VLOOKUP($B1373,Übersichtsblatt!$N$64:$Q$68,2,FALSE)),\"\")","v":""},0,-4.5,null,2026,"2026-09-30",{"$f":"IFERROR(IF(VLOOKUP($H1373,Übersichtsblatt!$N$14:$Q$24,2,FALSE)=0,\"\",VLOOKUP(H1373,Übersichtsblatt!$N$14:$Q$24,2,FALSE)),\"\")","v":""},0,4.5]
[2026,"2026-10-01",{"$f":"IFERROR(IF(VLOOKUP($B1374,Übersichtsblatt!$N$64:$Q$68,2,FALSE)=0,\"\",VLOOKUP($B1374,Übersichtsblatt!$N$64:$Q$68,2,FALSE)),\"\")","v":""},0,-4.5,null,2026,"2026-10-01",{"$f":"IFERROR(IF(VLOOKUP($H1374,Übersichtsblatt!$N$14:$Q$24,2,FALSE)=0,\"\",VLOOKUP(H1374,Übersichtsblatt!$N$14:$Q$24,2,FALSE)),\"\")","v":""},0,4.5]
[2026,"2026-10-02",{"$f":"IFERROR(IF(VLOOKUP($B1375,Übersichtsblatt!$N$64:$Q$68,2,FALSE)=0,\"\",VLOOKUP($B1375,Übersichtsblatt!$N$64:$Q$68,2,FALSE)),\"\")","v":""},0,-4.5,null,2026,"2026-10-02",{"$f":"IFERROR(IF(VLOOKUP($H1375,Übersichtsblatt!$N$14:$Q$24,2,FALSE)=0,\"\",VLOOKUP(H1375,Übersichtsblatt!$N$14:$Q$24,2,FALSE)),\"\")","v":""},0,4.5]
[2026,"2026-10-03",{"$f":"IFERROR(IF(VLOOKUP($B1376,Übersichtsblatt!$N$64:$Q$68,2,FALSE)=0,\"\",VLOOKUP($B1376,Übersichtsblatt!$N$64:$Q$68,2,FALSE)),\"\")","v":""},0,-4.5,null,2026,"2026-10-03",{"$f":"IFERROR(IF(VLOOKUP($H1376,Übersichtsblatt!$N$14:$Q$24,2,FALSE)=0,\"\",VLOOKUP(H1376,Übersichtsblatt!$N$14:$Q$24,2,FALSE)),\"\")","v":""},0,4.5]
[2026,"2026-10-04",{"$f":"IFERROR(IF(VLOOKUP($B1377,Übersichtsblatt!$N$64:$Q$68,2,FALSE)=0,\"\",VLOOKUP($B1377,Übersichtsblatt!$N$64:$Q$68,2,FALSE)),\"\")","v":""},0,-4.5,null,2026,"2026-10-04",{"$f":"IFERROR(IF(VLOOKUP($H1377,Übersichtsblatt!$N$14:$Q$24,2,FALSE)=0,\"\",VLOOKUP(H1377,Übersichtsblatt!$N$14:$Q$24,2,FALSE)),\"\")","v":""},0,4.5]
[2026,"2026-10-05",{"$f":"IFERROR(IF(VLOOKUP($B1378,Übersichtsblatt!$N$64:$Q$68,2,FALSE)=0,\"\",VLOOKUP($B1378,Übersichtsblatt!$N$64:$Q$68,2,FALSE)),\"\")","v":""},0,-4.5,null,2026,"2026-10-05",{"$f":"IFERROR(IF(VLOOKUP($H1378,Übersichtsblatt!$N$14:$Q$24,2,FALSE)=0,\"\",VLOOKUP(H1378,Übersichtsblatt!$N$14:$Q$24,2,FALSE)),\"\")","v":""},0,4.5]
[2026,"2026-10-06",{"$f":"IFERROR(IF(VLOOKUP($B1379,Übersichtsblatt!$N$64:$Q$68,2,FALSE)=0,\"\",VLOOKUP($B1379,Übersichtsblatt!$N$64:$Q$68,2,FALSE)),\"\")","v":""},0,-4.5,null,2026,"2026-10-06",{"$f":"IFERROR(IF(VLOOKUP($H1379,Übersichtsblatt!$N$14:$Q$24,2,FALSE)=0,\"\",VLOOKUP(H1379,Übersichtsblatt!$N$14:$Q$24,2,FALSE)),\"\")","v":""},0,4.5]
[2026,"2026-10-07",{"$f":"IFERROR(IF(VLOOKUP($B1380,Übersichtsblatt!$N$64:$Q$68,2,FALSE)=0,\"\",VLOOKUP($B1380,Übersichtsblatt!$N$64:$Q$68,2,FALSE)),\"\")","v":""},0,-4.5,null,2026,"2026-10-07",{"$f":"IFERROR(IF(VLOOKUP($H1380,Übersichtsblatt!$N$14:$Q$24,2,FALSE)=0,\"\",VLOOKUP(H1380,Übersichtsblatt!$N$14:$Q$24,2,FALSE)),\"\")","v":""},0,4.5]
[2026,"2026-10-08",{"$f":"IFERROR(IF(VLOOKUP($B1381,Übersichtsblatt!$N$64:$Q$68,2,FALSE)=0,\"\",VLOOKUP($B1381,Übersichtsblatt!$N$64:$Q$68,2,FALSE)),\"\")","v":""},0,-4.5,null,2026,"2026-10-08",{"$f":"IFERROR(IF(VLOOKUP($H1381,Übersichtsblatt!$N$14:$Q$24,2,FALSE)=0,\"\",VLOOKUP(H1381,Übersichtsblatt!$N$14:$Q$24,2,FALSE)),\"\")","v":""},0,4.5]
[2026,"2026-10-09",{"$f":"IFERROR(IF(VLOOKUP($B1382,Übersichtsblatt!$N$64:$Q$68,2,FALSE)=0,\"\",VLOOKUP($B1382,Übersichtsblatt!$N$64:$Q$68,2,FALSE)),\"\")","v":""},0,-4.5,null,2026,"2026-10-09",{"$f":"IFERROR(IF(VLOOKUP($H1382,Übersichtsblatt!$N$14:$Q$24,2,FALSE)=0,\"\",VLOOKUP(H1382,Übersichtsblatt!$N$14:$Q$24,2,FALSE)),\"\")","v":""},0,4.5]
[2026,"2026-10-10",{"$f":"IFERROR(IF(VLOOKUP($B1383,Übersichtsblatt!$N$64:$Q$68,2,FALSE)=0,\"\",VLOOKUP($B1383,Übersichtsblatt!$N$64:$Q$68,2,FALSE)),\"\")","v":""},0,-4.5,null,2026,"2026-10-10",{"$f":"IFERROR(IF(VLOOKUP($H1383,Übersichtsblatt!$N$14:$Q$24,2,FALSE)=0,\"\",VLOOKUP(H1383,Übersichtsblatt!$N$14:$Q$24,2,FALSE)),\"\")","v":""},0,4.5]
[2026,"2026-10-11",{"$f":"IFERROR(IF(VLOOKUP($B1384,Übersichtsblatt!$N$64:$Q$68,2,FALSE)=0,\"\",VLOOKUP($B1384,Übersichtsblatt!$N$64:$Q$68,2,FALSE)),\"\")","v":""},0,-4.5,null,2026,"2026-10-11",{"$f":"IFERROR(IF(VLOOKUP($H1384,Übersichtsblatt!$N$14:$Q$24,2,FALSE)=0,\"\",VLOOKUP(H1384,Übersichtsblatt!$N$14:$Q$24,2,FALSE)),\"\")","v":""},0,4.5]
[2026,"2026-10-12",{"$f":"IFERROR(IF(VLOOKUP($B1385,Übersichtsblatt!$N$64:$Q$68,2,FALSE)=0,\"\",VLOOKUP($B1385,Übersichtsblatt!$N$64:$Q$68,2,FALSE)),\"\")","v":""},0,-4.5,null,2026,"2026-10-12",{"$f":"IFERROR(IF(VLOOKUP($H1385,Übersichtsblatt!$N$14:$Q$24,2,FALSE)=0,\"\",VLOOKUP(H1385,Übersichtsblatt!$N$14:$Q$24,2,FALSE)),\"\")","v":""},0,4.5]
[2026,"2026-10-13",{"$f":"IFERROR(IF(VLOOKUP($B1386,Übersichtsblatt!$N$64:$Q$68,2,FALSE)=0,\"\",VLOOKUP($B1386,Übersichtsblatt!$N$64:$Q$68,2,FALSE)),\"\")","v":""},0,-4.5,null,2026,"2026-10-13",{"$f":"IFERROR(IF(VLOOKUP($H1386,Übersichtsblatt!$N$14:$Q$24,2,FALSE)=0,\"\",VLOOKUP(H1386,Übersichtsblatt!$N$14:$Q$24,2,FALSE)),\"\")","v":""},0,4.5]
[2026,"2026-10-14",{"$f":"IFERROR(IF(VLOOKUP($B1387,Übersichtsblatt!$N$64:$Q$68,2,FALSE)=0,\"\",VLOOKUP($B1387,Übersichtsblatt!$N$64:$Q$68,2,FALSE)),\"\")","v":""},0,-4.5,null,2026,"2026-10-14",{"$f":"IFERROR(IF(VLOOKUP($H1387,Übersichtsblatt!$N$14:$Q$24,2,FALSE)=0,\"\",VLOOKUP(H1387,Übersichtsblatt!$N$14:$Q$24,2,FALSE)),\"\")","v":""},0,4.5]
[2026,"2026-10-15",{"$f":"IFERROR(IF(VLOOKUP($B1388,Übersichtsblatt!$N$64:$Q$68,2,FALSE)=0,\"\",VLOOKUP($B1388,Übersichtsblatt!$N$64:$Q$68,2,FALSE)),\"\")","v":""},0,-4.5,null,2026,"2026-10-15",{"$f":"IFERROR(IF(VLOOKUP($H1388,Übersichtsblatt!$N$14:$Q$24,2,FALSE)=0,\"\",VLOOKUP(H1388,Übersichtsblatt!$N$14:$Q$24,2,FALSE)),\"\")","v":""},0,4.5]
[2026,"2026-10-16",{"$f":"IFERROR(IF(VLOOKUP($B1389,Übersichtsblatt!$N$64:$Q$68,2,FALSE)=0,\"\",VLOOKUP($B1389,Übersichtsblatt!$N$64:$Q$68,2,FALSE)),\"\")","v":""},0,-4.5,null,2026,"2026-10-16",{"$f":"IFERROR(IF(VLOOKUP($H1389,Übersichtsblatt!$N$14:$Q$24,2,FALSE)=0,\"\",VLOOKUP(H1389,Übersichtsblatt!$N$14:$Q$24,2,FALSE)),\"\")","v":""},0,4.5]
[2026,"2026-10-17",{"$f":"IFERROR(IF(VLOOKUP($B1390,Übersichtsblatt!$N$64:$Q$68,2,FALSE)=0,\"\",VLOOKUP($B1390,Übersichtsblatt!$N$64:$Q$68,2,FALSE)),\"\")","v":""},0,-4.5,null,2026,"2026-10-17",{"$f":"IFERROR(IF(VLOOKUP($H1390,Übersichtsblatt!$N$14:$Q$24,2,FALSE)=0,\"\",VLOOKUP(H1390,Übersichtsblatt!$N$14:$Q$24,2,FALSE)),\"\")","v":""},0,4.5]
[2026,"2026-10-18",{"$f":"IFERROR(IF(VLOOKUP($B1391,Übersichtsblatt!$N$64:$Q$68,2,FALSE)=0,\"\",VLOOKUP($B1391,Übersichtsblatt!$N$64:$Q$68,2,FALSE)),\"\")","v":""},0,-4.5,null,2026,"2026-10-18",{"$f":"IFERROR(IF(VLOOKUP($H1391,Übersichtsblatt!$N$14:$Q$24,2,FALSE)=0,\"\",VLOOKUP(H1391,Übersichtsblatt!$N$14:$Q$24,2,FALSE)),\"\")","v":""},0,4.5]
[2026,"2026-10-19",{"$f":"IFERROR(IF(VLOOKUP($B1392,Übersichtsblatt!$N$64:$Q$68,2,FALSE)=0,\"\",VLOOKUP($B1392,Übersichtsblatt!$N$64:$Q$68,2,FALSE)),\"\")","v":""},0,-4.5,null,2026,"2026-10-19",{"$f":"IFERROR(IF(VLOOKUP($H1392,Übersichtsblatt!$N$14:$Q$24,2,FALSE)=0,\"\",VLOOKUP(H1392,Übersichtsblatt!$N$14:$Q$24,2,FALSE)),\"\")","v":""},0,4.5]
[2026,"2026-10-20",{"$f":"IFERROR(IF(VLOOKUP($B1393,Übersichtsblatt!$N$64:$Q$68,2,FALSE)=0,\"\",VLOOKUP($B1393,Übersichtsblatt!$N$64:$Q$68,2,FALSE)),\"\")","v":""},0,-4.5,null,2026,"2026-10-20",{"$f":"IFERROR(IF(VLOOKUP($H1393,Übersichtsblatt!$N$14:$Q$24,2,FALSE)=0,\"\",VLOOKUP(H1393,Übersichtsblatt!$N$14:$Q$24,2,FALSE)),\"\")","v":""},0,4.5]
[2026,"2026-10-21",{"$f":"IFERROR(IF(VLOOKUP($B1394,Übersichtsblatt!$N$64:$Q$68,2,FALSE)=0,\"\",VLOOKUP($B1394,Übersichtsblatt!$N$64:$Q$68,2,FALSE)),\"\")","v":""},0,-4.5,null,2026,"2026-10-21",{"$f":"IFERROR(IF(VLOOKUP($H1394,Übersichtsblatt!$N$14:$Q$24,2,FALSE)=0,\"\",VLOOKUP(H1394,Übersichtsblatt!$N$14:$Q$24,2,FALSE)),\"\")","v":""},0,4.5]
[2026,"2026-10-22",{"$f":"IFERROR(IF(VLOOKUP($B1395,Übersichtsblatt!$N$64:$Q$68,2,FALSE)=0,\"\",VLOOKUP($B1395,Übersichtsblatt!$N$64:$Q$68,2,FALSE)),\"\")","v":""},0,-4.5,null,2026,"2026-10-22",{"$f":"IFERROR(IF(VLOOKUP($H1395,Übersichtsblatt!$N$14:$Q$24,2,FALSE)=0,\"\",VLOOKUP(H1395,Übersichtsblatt!$N$14:$Q$24,2,FALSE)),\"\")","v":""},0,4.5]
[2026,"2026-10-23",{"$f":"IFERROR(IF(VLOOKUP($B1396,Übersichtsblatt!$N$64:$Q$68,2,FALSE)=0,\"\",VLOOKUP($B1396,Übersichtsblatt!$N$64:$Q$68,2,FALSE)),\"\")","v":""},0,-4.5,null,2026,"2026-10-23",{"$f":"IFERROR(IF(VLOOKUP($H1396,Übersichtsblatt!$N$14:$Q$24,2,FALSE)=0,\"\",VLOOKUP(H1396,Übersichtsblatt!$N$14:$Q$24,2,FALSE)),\"\")","v":""},0,4.5]
[2026,"2026-10-24",{"$f":"IFERROR(IF(VLOOKUP($B1397,Übersichtsblatt!$N$64:$Q$68,2,FALSE)=0,\"\",VLOOKUP($B1397,Übersichtsblatt!$N$64:$Q$68,2,FALSE)),\"\")","v":""},0,-4.5,null,2026,"2026-10-24",{"$f":"IFERROR(IF(VLOOKUP($H1397,Übersichtsblatt!$N$14:$Q$24,2,FALSE)=0,\"\",VLOOKUP(H1397,Übersichtsblatt!$N$14:$Q$24,2,FALSE)),\"\")","v":""},0,4.5]
[2026,"2026-10-25",{"$f":"IFERROR(IF(VLOOKUP($B1398,Übersichtsblatt!$N$64:$Q$68,2,FALSE)=0,\"\",VLOOKUP($B1398,Übersichtsblatt!$N$64:$Q$68,2,FALSE)),\"\")","v":""},0,-4.5,null,2026,"2026-10-25",{"$f":"IFERROR(IF(VLOOKUP($H1398,Übersichtsblatt!$N$14:$Q$24,2,FALSE)=0,\"\",VLOOKUP(H1398,Übersichtsblatt!$N$14:$Q$24,2,FALSE)),\"\")","v":""},0,4.5]
[2026,"2026-10-26",{"$f":"IFERROR(IF(VLOOKUP($B1399,Übersichtsblatt!$N$64:$Q$68,2,FALSE)=0,\"\",VLOOKUP($B1399,Übersichtsblatt!$N$64:$Q$68,2,FALSE)),\"\")","v":""},0,-4.5,null,2026,"2026-10-26",{"$f":"IFERROR(IF(VLOOKUP($H1399,Übersichtsblatt!$N$14:$Q$24,2,FALSE)=0,\"\",VLOOKUP(H1399,Übersichtsblatt!$N$14:$Q$24,2,FALSE)),\"\")","v":""},0,4.5]
[2026,"2026-10-27",{"$f":"IFERROR(IF(VLOOKUP($B1400,Übersichtsblatt!$N$64:$Q$68,2,FALSE)=0,\"\",VLOOKUP($B1400,Übersichtsblatt!$N$64:$Q$68,2,FALSE)),\"\")","v":""},0,-4.5,null,2026,"2026-10-27",{"$f":"IFERROR(IF(VLOOKUP($H1400,Übersichtsblatt!$N$14:$Q$24,2,FALSE)=0,\"\",VLOOKUP(H1400,Übersichtsblatt!$N$14:$Q$24,2,FALSE)),\"\")","v":""},0,4.5]
[2026,"2026-10-28",{"$f":"IFERROR(IF(VLOOKUP($B1401,Übersichtsblatt!$N$64:$Q$68,2,FALSE)=0,\"\",VLOOKUP($B1401,Übersichtsblatt!$N$64:$Q$68,2,FALSE)),\"\")","v":""},0,-4.5,null,2026,"2026-10-28",{"$f":"IFERROR(IF(VLOOKUP($H1401,Übersichtsblatt!$N$14:$Q$24,2,FALSE)=0,\"\",VLOOKUP(H1401,Übersichtsblatt!$N$14:$Q$24,2,FALSE)),\"\")","v":""},0,4.5]
[2026,"2026-10-29",{"$f":"IFERROR(IF(VLOOKUP($B1402,Übersichtsblatt!$N$64:$Q$68,2,FALSE)=0,\"\",VLOOKUP($B1402,Übersichtsblatt!$N$64:$Q$68,2,FALSE)),\"\")","v":""},0,-4.5,null,2026,"2026-10-29",{"$f":"IFERROR(IF(VLOOKUP($H1402,Übersichtsblatt!$N$14:$Q$24,2,FALSE)=0,\"\",VLOOKUP(H1402,Übersichtsblatt!$N$14:$Q$24,2,FALSE)),\"\")","v":""},0,4.5]
[2026,"2026-10-30",{"$f":"IFERROR(IF(VLOOKUP($B1403,Übersichtsblatt!$N$64:$Q$68,2,FALSE)=0,\"\",VLOOKUP($B1403,Übersichtsblatt!$N$64:$Q$68,2,FALSE)),\"\")","v":""},0,-4.5,null,2026,"2026-10-30",{"$f":"IFERROR(IF(VLOOKUP($H1403,Übersichtsblatt!$N$14:$Q$24,2,FALSE)=0,\"\",VLOOKUP(H1403,Übersichtsblatt!$N$14:$Q$24,2,FALSE)),\"\")","v":""},0,4.5]
[2026,"2026-10-31",{"$f":"IFERROR(IF(VLOOKUP($B1404,Übersichtsblatt!$N$64:$Q$68,2,FALSE)=0,\"\",VLOOKUP($B1404,Übersichtsblatt!$N$64:$Q$68,2,FALSE)),\"\")","v":""},0,-13.5,null,2026,"2026-10-31",{"$f":"IFERROR(IF(VLOOKUP($H1404,Übersichtsblatt!$N$14:$Q$24,2,FALSE)=0,\"\",VLOOKUP(H1404,Übersichtsblatt!$N$14:$Q$24,2,FALSE)),\"\")","v":""},0,13.5]
[2026,"2026-11-01",{"$f":"IFERROR(IF(VLOOKUP($B1405,Übersichtsblatt!$N$64:$Q$68,2,FALSE)=0,\"\",VLOOKUP($B1405,Übersichtsblatt!$N$64:$Q$68,2,FALSE)),\"\")","v":""},0,-13.5,null,2026,"2026-11-01",{"$f":"IFERROR(IF(VLOOKUP($H1405,Übersichtsblatt!$N$14:$Q$24,2,FALSE)=0,\"\",VLOOKUP(H1405,Übersichtsblatt!$N$14:$Q$24,2,FALSE)),\"\")","v":""},0,13.5]
[2026,"2026-11-02",{"$f":"IFERROR(IF(VLOOKUP($B1406,Übersichtsblatt!$N$64:$Q$68,2,FALSE)=0,\"\",VLOOKUP($B1406,Übersichtsblatt!$N$64:$Q$68,2,FALSE)),\"\")","v":""},0,-13.5,null,2026,"2026-11-02",{"$f":"IFERROR(IF(VLOOKUP($H1406,Übersichtsblatt!$N$14:$Q$24,2,FALSE)=0,\"\",VLOOKUP(H1406,Übersichtsblatt!$N$14:$Q$24,2,FALSE)),\"\")","v":""},0,13.5]
[2026,"2026-11-03",{"$f":"IFERROR(IF(VLOOKUP($B1407,Übersichtsblatt!$N$64:$Q$68,2,FALSE)=0,\"\",VLOOKUP($B1407,Übersichtsblatt!$N$64:$Q$68,2,FALSE)),\"\")","v":""},0,-13.5,null,2026,"2026-11-03",{"$f":"IFERROR(IF(VLOOKUP($H1407,Übersichtsblatt!$N$14:$Q$24,2,FALSE)=0,\"\",VLOOKUP(H1407,Übersichtsblatt!$N$14:$Q$24,2,FALSE)),\"\")","v":""},0,13.5]
[2026,"2026-11-04",{"$f":"IFERROR(IF(VLOOKUP($B1408,Übersichtsblatt!$N$64:$Q$68,2,FALSE)=0,\"\",VLOOKUP($B1408,Übersichtsblatt!$N$64:$Q$68,2,FALSE)),\"\")","v":""},0,-13.5,null,2026,"2026-11-04",{"$f":"IFERROR(IF(VLOOKUP($H1408,Übersichtsblatt!$N$14:$Q$24,2,FALSE)=0,\"\",VLOOKUP(H1408,Übersichtsblatt!$N$14:$Q$24,2,FALSE)),\"\")","v":""},0,13.5]
[2026,"2026-11-05",{"$f":"IFERROR(IF(VLOOKUP($B1409,Übersichtsblatt!$N$64:$Q$68,2,FALSE)=0,\"\",VLOOKUP($B1409,Übersichtsblatt!$N$64:$Q$68,2,FALSE)),\"\")","v":""},0,-13.5,null,2026,"2026-11-05",{"$f":"IFERROR(IF(VLOOKUP($H1409,Übersichtsblatt!$N$14:$Q$24,2,FALSE)=0,\"\",VLOOKUP(H1409,Übersichtsblatt!$N$14:$Q$24,2,FALSE)),\"\")","v":""},0,13.5]
[2026,"2026-11-06",{"$f":"IFERROR(IF(VLOOKUP($B1410,Übersichtsblatt!$N$64:$Q$68,2,FALSE)=0,\"\",VLOOKUP($B1410,Übersichtsblatt!$N$64:$Q$68,2,FALSE)),\"\")","v":""},0,-13.5,null,2026,"2026-11-06",{"$f":"IFERROR(IF(VLOOKUP($H1410,Übersichtsblatt!$N$14:$Q$24,2,FALSE)=0,\"\",VLOOKUP(H1410,Übersichtsblatt!$N$14:$Q$24,2,FALSE)),\"\")","v":""},0,13.5]
[2026,"2026-11-07",{"$f":"IFERROR(IF(VLOOKUP($B1411,Übersichtsblatt!$N$64:$Q$68,2,FALSE)=0,\"\",VLOOKUP($B1411,Übersichtsblatt!$N$64:$Q$68,2,FALSE)),\"\")","v":""},0,-13.5,null,2026,"2026-11-07",{"$f":"IFERROR(IF(VLOOKUP($H1411,Übersichtsblatt!$N$14:$Q$24,2,FALSE)=0,\"\",VLOOKUP(H1411,Übersichtsblatt!$N$14:$Q$24,2,FALSE)),\"\")","v":""},0,13.5]
[2026,"2026-11-08",{"$f":"IFERROR(IF(VLOOKUP($B1412,Übersichtsblatt!$N$64:$Q$68,2,FALSE)=0,\"\",VLOOKUP($B1412,Übersichtsblatt!$N$64:$Q$68,2,FALSE)),\"\")","v":""},0,-13.5,null,2026,"2026-11-08",{"$f":"IFERROR(IF(VLOOKUP($H1412,Übersichtsblatt!$N$14:$Q$24,2,FALSE)=0,\"\",VLOOKUP(H1412,Übersichtsblatt!$N$14:$Q$24,2,FALSE)),\"\")","v":""},0,13.5]
[2026,"2026-11-09",{"$f":"IFERROR(IF(VLOOKUP($B1413,Übersichtsblatt!$N$64:$Q$68,2,FALSE)=0,\"\",VLOOKUP($B1413,Übersichtsblatt!$N$64:$Q$68,2,FALSE)),\"\")","v":""},0,-13.5,null,2026,"2026-11-09",{"$f":"IFERROR(IF(VLOOKUP($H1413,Übersichtsblatt!$N$14:$Q$24,2,FALSE)=0,\"\",VLOOKUP(H1413,Übersichtsblatt!$N$14:$Q$24,2,FALSE)),\"\")","v":""},0,13.5]
[2026,"2026-11-10",{"$f":"IFERROR(IF(VLOOKUP($B1414,Übersichtsblatt!$N$64:$Q$68,2,FALSE)=0,\"\",VLOOKUP($B1414,Übersichtsblatt!$N$64:$Q$68,2,FALSE)),\"\")","v":""},{"$f":"IF($C1414=\"\",0,$E1414)","v":0},-13.5,null,2026,"2026-11-10",{"$f":"IFERROR(IF(VLOOKUP($H1414,Übersichtsblatt!$N$14:$Q$24,2,FALSE)=0,\"\",VLOOKUP(H1414,Übersichtsblatt!$N$14:$Q$24,2,FALSE)),\"\")","v":""},{"$f":"IF($I1414=\"\",0,$K1414)","v":0},13.5]
[{"$f":"YEAR(B1415)","v":2026},{"$f":"B1414+1","v":"2026-11-11"},{"$f":"IFERROR(IF(VLOOKUP($B1415,Übersichtsblatt!$N$64:$Q$68,2,FALSE)=0,\"\",VLOOKUP($B1415,Übersichtsblatt!$N$64:$Q$68,2,FALSE)),\"\")","v":""},0,-13.5,null,{"$f":"YEAR(H1415)","v":2026},{"$f":"H1414+1","v":"2026-11-11"},{"$f":"IFERROR(IF(VLOOKUP($H1415,Übersichtsblatt!$N$14:$Q$24,2,FALSE)=0,\"\",VLOOKUP(H1415,Übersichtsblatt!$N$14:$Q$24,2,FALSE)),\"\")","v":""},0,13.5]
[2026,"2026-11-12",{"$f":"IFERROR(IF(VLOOKUP($B1416,Übersichtsblatt!$N$64:$Q$68,2,FALSE)=0,\"\",VLOOKUP($B1416,Übersichtsblatt!$N$64:$Q$68,2,FALSE)),\"\")","v":""},0,-13.5,null,2026,"2026-11-12",{"$f":"IFERROR(IF(VLOOKUP($H1416,Übersichtsblatt!$N$14:$Q$24,2,FALSE)=0,\"\",VLOOKUP(H1416,Übersichtsblatt!$N$14:$Q$24,2,FALSE)),\"\")","v":""},0,13.5]
[2026,"2026-11-13",{"$f":"IFERROR(IF(VLOOKUP($B1417,Übersichtsblatt!$N$64:$Q$68,2,FALSE)=0,\"\",VLOOKUP($B1417,Übersichtsblatt!$N$64:$Q$68,2,FALSE)),\"\")","v":""},0,-13.5,null,2026,"2026-11-13",{"$f":"IFERROR(IF(VLOOKUP($H1417,Übersichtsblatt!$N$14:$Q$24,2,FALSE)=0,\"\",VLOOKUP(H1417,Übersichtsblatt!$N$14:$Q$24,2,FALSE)),\"\")","v":""},0,13.5]
[2026,"2026-11-14",{"$f":"IFERROR(IF(VLOOKUP($B1418,Übersichtsblatt!$N$64:$Q$68,2,FALSE)=0,\"\",VLOOKUP($B1418,Übersichtsblatt!$N$64:$Q$68,2,FALSE)),\"\")","v":""},0,-13.5,null,2026,"2026-11-14",{"$f":"IFERROR(IF(VLOOKUP($H1418,Übersichtsblatt!$N$14:$Q$24,2,FALSE)=0,\"\",VLOOKUP(H1418,Übersichtsblatt!$N$14:$Q$24,2,FALSE)),\"\")","v":""},0,13.5]
[2026,"2026-11-15",{"$f":"IFERROR(IF(VLOOKUP($B1419,Übersichtsblatt!$N$64:$Q$68,2,FALSE)=0,\"\",VLOOKUP($B1419,Übersichtsblatt!$N$64:$Q$68,2,FALSE)),\"\")","v":""},0,-13.5,null,2026,"2026-11-15",{"$f":"IFERROR(IF(VLOOKUP($H1419,Übersichtsblatt!$N$14:$Q$24,2,FALSE)=0,\"\",VLOOKUP(H1419,Übersichtsblatt!$N$14:$Q$24,2,FALSE)),\"\")","v":""},0,13.5]
[2026,"2026-11-16",{"$f":"IFERROR(IF(VLOOKUP($B1420,Übersichtsblatt!$N$64:$Q$68,2,FALSE)=0,\"\",VLOOKUP($B1420,Übersichtsblatt!$N$64:$Q$68,2,FALSE)),\"\")","v":""},0,-13.5,null,2026,"2026-11-16",{"$f":"IFERROR(IF(VLOOKUP($H1420,Übersichtsblatt!$N$14:$Q$24,2,FALSE)=0,\"\",VLOOKUP(H1420,Übersichtsblatt!$N$14:$Q$24,2,FALSE)),\"\")","v":""},0,13.5]
[2026,"2026-11-17",{"$f":"IFERROR(IF(VLOOKUP($B1421,Übersichtsblatt!$N$64:$Q$68,2,FALSE)=0,\"\",VLOOKUP($B1421,Übersichtsblatt!$N$64:$Q$68,2,FALSE)),\"\")","v":""},0,-13.5,null,2026,"2026-11-17",{"$f":"IFERROR(IF(VLOOKUP($H1421,Übersichtsblatt!$N$14:$Q$24,2,FALSE)=0,\"\",VLOOKUP(H1421,Übersichtsblatt!$N$14:$Q$24,2,FALSE)),\"\")","v":""},0,13.5]
[2026,"2026-11-18",{"$f":"IFERROR(IF(VLOOKUP($B1422,Übersichtsblatt!$N$64:$Q$68,2,FALSE)=0,\"\",VLOOKUP($B1422,Übersichtsblatt!$N$64:$Q$68,2,FALSE)),\"\")","v":""},0,-13.5,null,2026,"2026-11-18",{"$f":"IFERROR(IF(VLOOKUP($H1422,Übersichtsblatt!$N$14:$Q$24,2,FALSE)=0,\"\",VLOOKUP(H1422,Übersichtsblatt!$N$14:$Q$24,2,FALSE)),\"\")","v":""},0,13.5]
[2026,"2026-11-19",{"$f":"IFERROR(IF(VLOOKUP($B1423,Übersichtsblatt!$N$64:$Q$68,2,FALSE)=0,\"\",VLOOKUP($B1423,Übersichtsblatt!$N$64:$Q$68,2,FALSE)),\"\")","v":""},0,-13.5,null,2026,"2026-11-19",{"$f":"IFERROR(IF(VLOOKUP($H1423,Übersichtsblatt!$N$14:$Q$24,2,FALSE)=0,\"\",VLOOKUP(H1423,Übersichtsblatt!$N$14:$Q$24,2,FALSE)),\"\")","v":""},0,13.5]
[2026,"2026-11-20",{"$f":"IFERROR(IF(VLOOKUP($B1424,Übersichtsblatt!$N$64:$Q$68,2,FALSE)=0,\"\",VLOOKUP($B1424,Übersichtsblatt!$N$64:$Q$68,2,FALSE)),\"\")","v":""},0,-13.5,null,2026,"2026-11-20",{"$f":"IFERROR(IF(VLOOKUP($H1424,Übersichtsblatt!$N$14:$Q$24,2,FALSE)=0,\"\",VLOOKUP(H1424,Übersichtsblatt!$N$14:$Q$24,2,FALSE)),\"\")","v":""},0,13.5]
[2026,"2026-11-21",{"$f":"IFERROR(IF(VLOOKUP($B1425,Übersichtsblatt!$N$64:$Q$68,2,FALSE)=0,\"\",VLOOKUP($B1425,Übersichtsblatt!$N$64:$Q$68,2,FALSE)),\"\")","v":""},0,-13.5,null,2026,"2026-11-21",{"$f":"IFERROR(IF(VLOOKUP($H1425,Übersichtsblatt!$N$14:$Q$24,2,FALSE)=0,\"\",VLOOKUP(H1425,Übersichtsblatt!$N$14:$Q$24,2,FALSE)),\"\")","v":""},0,13.5]
[2026,"2026-11-22",{"$f":"IFERROR(IF(VLOOKUP($B1426,Übersichtsblatt!$N$64:$Q$68,2,FALSE)=0,\"\",VLOOKUP($B1426,Übersichtsblatt!$N$64:$Q$68,2,FALSE)),\"\")","v":""},0,-13.5,null,2026,"2026-11-22",{"$f":"IFERROR(IF(VLOOKUP($H1426,Übersichtsblatt!$N$14:$Q$24,2,FALSE)=0,\"\",VLOOKUP(H1426,Übersichtsblatt!$N$14:$Q$24,2,FALSE)),\"\")","v":""},0,13.5]
[2026,"2026-11-23",{"$f":"IFERROR(IF(VLOOKUP($B1427,Übersichtsblatt!$N$64:$Q$68,2,FALSE)=0,\"\",VLOOKUP($B1427,Übersichtsblatt!$N$64:$Q$68,2,FALSE)),\"\")","v":""},0,-13.5,null,2026,"2026-11-23",{"$f":"IFERROR(IF(VLOOKUP($H1427,Übersichtsblatt!$N$14:$Q$24,2,FALSE)=0,\"\",VLOOKUP(H1427,Übersichtsblatt!$N$14:$Q$24,2,FALSE)),\"\")","v":""},0,13.5]
[2026,"2026-11-24",{"$f":"IFERROR(IF(VLOOKUP($B1428,Übersichtsblatt!$N$64:$Q$68,2,FALSE)=0,\"\",VLOOKUP($B1428,Übersichtsblatt!$N$64:$Q$68,2,FALSE)),\"\")","v":""},0,-13.5,null,2026,"2026-11-24",{"$f":"IFERROR(IF(VLOOKUP($H1428,Übersichtsblatt!$N$14:$Q$24,2,FALSE)=0,\"\",VLOOKUP(H1428,Übersichtsblatt!$N$14:$Q$24,2,FALSE)),\"\")","v":""},0,13.5]
[2026,"2026-11-25",{"$f":"IFERROR(IF(VLOOKUP($B1429,Übersichtsblatt!$N$64:$Q$68,2,FALSE)=0,\"\",VLOOKUP($B1429,Übersichtsblatt!$N$64:$Q$68,2,FALSE)),\"\")","v":""},0,-13.5,null,2026,"2026-11-25",{"$f":"IFERROR(IF(VLOOKUP($H1429,Übersichtsblatt!$N$14:$Q$24,2,FALSE)=0,\"\",VLOOKUP(H1429,Übersichtsblatt!$N$14:$Q$24,2,FALSE)),\"\")","v":""},0,13.5]
[2026,"2026-11-26",{"$f":"IFERROR(IF(VLOOKUP($B1430,Übersichtsblatt!$N$64:$Q$68,2,FALSE)=0,\"\",VLOOKUP($B1430,Übersichtsblatt!$N$64:$Q$68,2,FALSE)),\"\")","v":""},0,-13.5,null,2026,"2026-11-26",{"$f":"IFERROR(IF(VLOOKUP($H1430,Übersichtsblatt!$N$14:$Q$24,2,FALSE)=0,\"\",VLOOKUP(H1430,Übersichtsblatt!$N$14:$Q$24,2,FALSE)),\"\")","v":""},0,13.5]
[2026,"2026-11-27",{"$f":"IFERROR(IF(VLOOKUP($B1431,Übersichtsblatt!$N$64:$Q$68,2,FALSE)=0,\"\",VLOOKUP($B1431,Übersichtsblatt!$N$64:$Q$68,2,FALSE)),\"\")","v":""},0,-13.5,null,2026,"2026-11-27",{"$f":"IFERROR(IF(VLOOKUP($H1431,Übersichtsblatt!$N$14:$Q$24,2,FALSE)=0,\"\",VLOOKUP(H1431,Übersichtsblatt!$N$14:$Q$24,2,FALSE)),\"\")","v":""},0,13.5]
[2026,"2026-11-28",{"$f":"IFERROR(IF(VLOOKUP($B1432,Übersichtsblatt!$N$64:$Q$68,2,FALSE)=0,\"\",VLOOKUP($B1432,Übersichtsblatt!$N$64:$Q$68,2,FALSE)),\"\")","v":""},0,-13.5,null,2026,"2026-11-28",{"$f":"IFERROR(IF(VLOOKUP($H1432,Übersichtsblatt!$N$14:$Q$24,2,FALSE)=0,\"\",VLOOKUP(H1432,Übersichtsblatt!$N$14:$Q$24,2,FALSE)),\"\")","v":""},0,13.5]
[2026,"2026-11-29",{"$f":"IFERROR(IF(VLOOKUP($B1433,Übersichtsblatt!$N$64:$Q$68,2,FALSE)=0,\"\",VLOOKUP($B1433,Übersichtsblatt!$N$64:$Q$68,2,FALSE)),\"\")","v":""},0,-13.5,null,2026,"2026-11-29",{"$f":"IFERROR(IF(VLOOKUP($H1433,Übersichtsblatt!$N$14:$Q$24,2,FALSE)=0,\"\",VLOOKUP(H1433,Übersichtsblatt!$N$14:$Q$24,2,FALSE)),\"\")","v":""},0,13.5]
[2026,"2026-11-30",{"$f":"IFERROR(IF(VLOOKUP($B1434,Übersichtsblatt!$N$64:$Q$68,2,FALSE)=0,\"\",VLOOKUP($B1434,Übersichtsblatt!$N$64:$Q$68,2,FALSE)),\"\")","v":""},0,-10.5,null,2026,"2026-11-30",{"$f":"IFERROR(IF(VLOOKUP($H1434,Übersichtsblatt!$N$14:$Q$24,2,FALSE)=0,\"\",VLOOKUP(H1434,Übersichtsblatt!$N$14:$Q$24,2,FALSE)),\"\")","v":""},0,10.5]
[2026,"2026-12-01",{"$f":"IFERROR(IF(VLOOKUP($B1435,Übersichtsblatt!$N$64:$Q$68,2,FALSE)=0,\"\",VLOOKUP($B1435,Übersichtsblatt!$N$64:$Q$68,2,FALSE)),\"\")","v":""},0,-10.5,null,2026,"2026-12-01",{"$f":"IFERROR(IF(VLOOKUP($H1435,Übersichtsblatt!$N$14:$Q$24,2,FALSE)=0,\"\",VLOOKUP(H1435,Übersichtsblatt!$N$14:$Q$24,2,FALSE)),\"\")","v":""},0,10.5]
[2026,"2026-12-02",{"$f":"IFERROR(IF(VLOOKUP($B1436,Übersichtsblatt!$N$64:$Q$68,2,FALSE)=0,\"\",VLOOKUP($B1436,Übersichtsblatt!$N$64:$Q$68,2,FALSE)),\"\")","v":""},0,-10.5,null,2026,"2026-12-02",{"$f":"IFERROR(IF(VLOOKUP($H1436,Übersichtsblatt!$N$14:$Q$24,2,FALSE)=0,\"\",VLOOKUP(H1436,Übersichtsblatt!$N$14:$Q$24,2,FALSE)),\"\")","v":""},0,10.5]
[2026,"2026-12-03",{"$f":"IFERROR(IF(VLOOKUP($B1437,Übersichtsblatt!$N$64:$Q$68,2,FALSE)=0,\"\",VLOOKUP($B1437,Übersichtsblatt!$N$64:$Q$68,2,FALSE)),\"\")","v":""},0,-10.5,null,2026,"2026-12-03",{"$f":"IFERROR(IF(VLOOKUP($H1437,Übersichtsblatt!$N$14:$Q$24,2,FALSE)=0,\"\",VLOOKUP(H1437,Übersichtsblatt!$N$14:$Q$24,2,FALSE)),\"\")","v":""},0,10.5]
[2026,"2026-12-04",{"$f":"IFERROR(IF(VLOOKUP($B1438,Übersichtsblatt!$N$64:$Q$68,2,FALSE)=0,\"\",VLOOKUP($B1438,Übersichtsblatt!$N$64:$Q$68,2,FALSE)),\"\")","v":""},0,-10.5,null,2026,"2026-12-04",{"$f":"IFERROR(IF(VLOOKUP($H1438,Übersichtsblatt!$N$14:$Q$24,2,FALSE)=0,\"\",VLOOKUP(H1438,Übersichtsblatt!$N$14:$Q$24,2,FALSE)),\"\")","v":""},0,10.5]
[2026,"2026-12-05",{"$f":"IFERROR(IF(VLOOKUP($B1439,Übersichtsblatt!$N$64:$Q$68,2,FALSE)=0,\"\",VLOOKUP($B1439,Übersichtsblatt!$N$64:$Q$68,2,FALSE)),\"\")","v":""},0,-10.5,null,2026,"2026-12-05",{"$f":"IFERROR(IF(VLOOKUP($H1439,Übersichtsblatt!$N$14:$Q$24,2,FALSE)=0,\"\",VLOOKUP(H1439,Übersichtsblatt!$N$14:$Q$24,2,FALSE)),\"\")","v":""},0,10.5]
[2026,"2026-12-06",{"$f":"IFERROR(IF(VLOOKUP($B1440,Übersichtsblatt!$N$64:$Q$68,2,FALSE)=0,\"\",VLOOKUP($B1440,Übersichtsblatt!$N$64:$Q$68,2,FALSE)),\"\")","v":""},0,-10.5,null,2026,"2026-12-06",{"$f":"IFERROR(IF(VLOOKUP($H1440,Übersichtsblatt!$N$14:$Q$24,2,FALSE)=0,\"\",VLOOKUP(H1440,Übersichtsblatt!$N$14:$Q$24,2,FALSE)),\"\")","v":""},0,10.5]
[2026,"2026-12-07",{"$f":"IFERROR(IF(VLOOKUP($B1441,Übersichtsblatt!$N$64:$Q$68,2,FALSE)=0,\"\",VLOOKUP($B1441,Übersichtsblatt!$N$64:$Q$68,2,FALSE)),\"\")","v":""},0,-10.5,null,2026,"2026-12-07",{"$f":"IFERROR(IF(VLOOKUP($H1441,Übersichtsblatt!$N$14:$Q$24,2,FALSE)=0,\"\",VLOOKUP(H1441,Übersichtsblatt!$N$14:$Q$24,2,FALSE)),\"\")","v":""},0,10.5]
[2026,"2026-12-08",{"$f":"IFERROR(IF(VLOOKUP($B1442,Übersichtsblatt!$N$64:$Q$68,2,FALSE)=0,\"\",VLOOKUP($B1442,Übersichtsblatt!$N$64:$Q$68,2,FALSE)),\"\")","v":""},0,-10.5,null,2026,"2026-12-08",{"$f":"IFERROR(IF(VLOOKUP($H1442,Übersichtsblatt!$N$14:$Q$24,2,FALSE)=0,\"\",VLOOKUP(H1442,Übersichtsblatt!$N$14:$Q$24,2,FALSE)),\"\")","v":""},0,10.5]
[2026,"2026-12-09",{"$f":"IFERROR(IF(VLOOKUP($B1443,Übersichtsblatt!$N$64:$Q$68,2,FALSE)=0,\"\",VLOOKUP($B1443,Übersichtsblatt!$N$64:$Q$68,2,FALSE)),\"\")","v":""},0,-10.5,null,2026,"2026-12-09",{"$f":"IFERROR(IF(VLOOKUP($H1443,Übersichtsblatt!$N$14:$Q$24,2,FALSE)=0,\"\",VLOOKUP(H1443,Übersichtsblatt!$N$14:$Q$24,2,FALSE)),\"\")","v":""},0,10.5]
[2026,"2026-12-10",{"$f":"IFERROR(IF(VLOOKUP($B1444,Übersichtsblatt!$N$64:$Q$68,2,FALSE)=0,\"\",VLOOKUP($B1444,Übersichtsblatt!$N$64:$Q$68,2,FALSE)),\"\")","v":""},0,-10.5,null,2026,"2026-12-10",{"$f":"IFERROR(IF(VLOOKUP($H1444,Übersichtsblatt!$N$14:$Q$24,2,FALSE)=0,\"\",VLOOKUP(H1444,Übersichtsblatt!$N$14:$Q$24,2,FALSE)),\"\")","v":""},0,10.5]
[2026,"2026-12-11",{"$f":"IFERROR(IF(VLOOKUP($B1445,Übersichtsblatt!$N$64:$Q$68,2,FALSE)=0,\"\",VLOOKUP($B1445,Übersichtsblatt!$N$64:$Q$68,2,FALSE)),\"\")","v":""},0,-10.5,null,2026,"2026-12-11",{"$f":"IFERROR(IF(VLOOKUP($H1445,Übersichtsblatt!$N$14:$Q$24,2,FALSE)=0,\"\",VLOOKUP(H1445,Übersichtsblatt!$N$14:$Q$24,2,FALSE)),\"\")","v":""},0,10.5]
[2026,"2026-12-12",{"$f":"IFERROR(IF(VLOOKUP($B1446,Übersichtsblatt!$N$64:$Q$68,2,FALSE)=0,\"\",VLOOKUP($B1446,Übersichtsblatt!$N$64:$Q$68,2,FALSE)),\"\")","v":""},0,-10.5,null,2026,"2026-12-12",{"$f":"IFERROR(IF(VLOOKUP($H1446,Übersichtsblatt!$N$14:$Q$24,2,FALSE)=0,\"\",VLOOKUP(H1446,Übersichtsblatt!$N$14:$Q$24,2,FALSE)),\"\")","v":""},0,10.5]
[2026,"2026-12-13",{"$f":"IFERROR(IF(VLOOKUP($B1447,Übersichtsblatt!$N$64:$Q$68,2,FALSE)=0,\"\",VLOOKUP($B1447,Übersichtsblatt!$N$64:$Q$68,2,FALSE)),\"\")","v":""},0,-10.5,null,2026,"2026-12-13",{"$f":"IFERROR(IF(VLOOKUP($H1447,Übersichtsblatt!$N$14:$Q$24,2,FALSE)=0,\"\",VLOOKUP(H1447,Übersichtsblatt!$N$14:$Q$24,2,FALSE)),\"\")","v":""},0,10.5]
[2026,"2026-12-14",{"$f":"IFERROR(IF(VLOOKUP($B1448,Übersichtsblatt!$N$64:$Q$68,2,FALSE)=0,\"\",VLOOKUP($B1448,Übersichtsblatt!$N$64:$Q$68,2,FALSE)),\"\")","v":""},0,-10.5,null,2026,"2026-12-14",{"$f":"IFERROR(IF(VLOOKUP($H1448,Übersichtsblatt!$N$14:$Q$24,2,FALSE)=0,\"\",VLOOKUP(H1448,Übersichtsblatt!$N$14:$Q$24,2,FALSE)),\"\")","v":""},0,10.5]
[2026,"2026-12-15",{"$f":"IFERROR(IF(VLOOKUP($B1449,Übersichtsblatt!$N$64:$Q$68,2,FALSE)=0,\"\",VLOOKUP($B1449,Übersichtsblatt!$N$64:$Q$68,2,FALSE)),\"\")","v":""},0,-10.5,null,2026,"2026-12-15",{"$f":"IFERROR(IF(VLOOKUP($H1449,Übersichtsblatt!$N$14:$Q$24,2,FALSE)=0,\"\",VLOOKUP(H1449,Übersichtsblatt!$N$14:$Q$24,2,FALSE)),\"\")","v":""},0,10.5]
[2026,"2026-12-16",{"$f":"IFERROR(IF(VLOOKUP($B1450,Übersichtsblatt!$N$64:$Q$68,2,FALSE)=0,\"\",VLOOKUP($B1450,Übersichtsblatt!$N$64:$Q$68,2,FALSE)),\"\")","v":""},0,-10.5,null,2026,"2026-12-16",{"$f":"IFERROR(IF(VLOOKUP($H1450,Übersichtsblatt!$N$14:$Q$24,2,FALSE)=0,\"\",VLOOKUP(H1450,Übersichtsblatt!$N$14:$Q$24,2,FALSE)),\"\")","v":""},0,10.5]
[2026,"2026-12-17",{"$f":"IFERROR(IF(VLOOKUP($B1451,Übersichtsblatt!$N$64:$Q$68,2,FALSE)=0,\"\",VLOOKUP($B1451,Übersichtsblatt!$N$64:$Q$68,2,FALSE)),\"\")","v":""},0,-10.5,null,2026,"2026-12-17",{"$f":"IFERROR(IF(VLOOKUP($H1451,Übersichtsblatt!$N$14:$Q$24,2,FALSE)=0,\"\",VLOOKUP(H1451,Übersichtsblatt!$N$14:$Q$24,2,FALSE)),\"\")","v":""},0,10.5]
[2026,"2026-12-18",{"$f":"IFERROR(IF(VLOOKUP($B1452,Übersichtsblatt!$N$64:$Q$68,2,FALSE)=0,\"\",VLOOKUP($B1452,Übersichtsblatt!$N$64:$Q$68,2,FALSE)),\"\")","v":""},0,-10.5,null,2026,"2026-12-18",{"$f":"IFERROR(IF(VLOOKUP($H1452,Übersichtsblatt!$N$14:$Q$24,2,FALSE)=0,\"\",VLOOKUP(H1452,Übersichtsblatt!$N$14:$Q$24,2,FALSE)),\"\")","v":""},0,10.5]
[2026,"2026-12-19",{"$f":"IFERROR(IF(VLOOKUP($B1453,Übersichtsblatt!$N$64:$Q$68,2,FALSE)=0,\"\",VLOOKUP($B1453,Übersichtsblatt!$N$64:$Q$68,2,FALSE)),\"\")","v":""},0,-10.5,null,2026,"2026-12-19",{"$f":"IFERROR(IF(VLOOKUP($H1453,Übersichtsblatt!$N$14:$Q$24,2,FALSE)=0,\"\",VLOOKUP(H1453,Übersichtsblatt!$N$14:$Q$24,2,FALSE)),\"\")","v":""},0,10.5]
[2026,"2026-12-20",{"$f":"IFERROR(IF(VLOOKUP($B1454,Übersichtsblatt!$N$64:$Q$68,2,FALSE)=0,\"\",VLOOKUP($B1454,Übersichtsblatt!$N$64:$Q$68,2,FALSE)),\"\")","v":""},0,-10.5,null,2026,"2026-12-20",{"$f":"IFERROR(IF(VLOOKUP($H1454,Übersichtsblatt!$N$14:$Q$24,2,FALSE)=0,\"\",VLOOKUP(H1454,Übersichtsblatt!$N$14:$Q$24,2,FALSE)),\"\")","v":""},0,10.5]
[2026,"2026-12-21",{"$f":"IFERROR(IF(VLOOKUP($B1455,Übersichtsblatt!$N$64:$Q$68,2,FALSE)=0,\"\",VLOOKUP($B1455,Übersichtsblatt!$N$64:$Q$68,2,FALSE)),\"\")","v":""},0,-10.5,null,2026,"2026-12-21",{"$f":"IFERROR(IF(VLOOKUP($H1455,Übersichtsblatt!$N$14:$Q$24,2,FALSE)=0,\"\",VLOOKUP(H1455,Übersichtsblatt!$N$14:$Q$24,2,FALSE)),\"\")","v":""},0,10.5]
[2026,"2026-12-22",{"$f":"IFERROR(IF(VLOOKUP($B1456,Übersichtsblatt!$N$64:$Q$68,2,FALSE)=0,\"\",VLOOKUP($B1456,Übersichtsblatt!$N$64:$Q$68,2,FALSE)),\"\")","v":""},0,-10.5,null,2026,"2026-12-22",{"$f":"IFERROR(IF(VLOOKUP($H1456,Übersichtsblatt!$N$14:$Q$24,2,FALSE)=0,\"\",VLOOKUP(H1456,Übersichtsblatt!$N$14:$Q$24,2,FALSE)),\"\")","v":""},0,10.5]
[2026,"2026-12-23",{"$f":"IFERROR(IF(VLOOKUP($B1457,Übersichtsblatt!$N$64:$Q$68,2,FALSE)=0,\"\",VLOOKUP($B1457,Übersichtsblatt!$N$64:$Q$68,2,FALSE)),\"\")","v":""},0,-10.5,null,2026,"2026-12-23",{"$f":"IFERROR(IF(VLOOKUP($H1457,Übersichtsblatt!$N$14:$Q$24,2,FALSE)=0,\"\",VLOOKUP(H1457,Übersichtsblatt!$N$14:$Q$24,2,FALSE)),\"\")","v":""},0,10.5]
[2026,"2026-12-24",{"$f":"IFERROR(IF(VLOOKUP($B1458,Übersichtsblatt!$N$64:$Q$68,2,FALSE)=0,\"\",VLOOKUP($B1458,Übersichtsblatt!$N$64:$Q$68,2,FALSE)),\"\")","v":""},0,-10.5,null,2026,"2026-12-24",{"$f":"IFERROR(IF(VLOOKUP($H1458,Übersichtsblatt!$N$14:$Q$24,2,FALSE)=0,\"\",VLOOKUP(H1458,Übersichtsblatt!$N$14:$Q$24,2,FALSE)),\"\")","v":""},0,10.5]
[2026,"2026-12-25",{"$f":"IFERROR(IF(VLOOKUP($B1459,Übersichtsblatt!$N$64:$Q$68,2,FALSE)=0,\"\",VLOOKUP($B1459,Übersichtsblatt!$N$64:$Q$68,2,FALSE)),\"\")","v":""},0,-10.5,null,2026,"2026-12-25",{"$f":"IFERROR(IF(VLOOKUP($H1459,Übersichtsblatt!$N$14:$Q$24,2,FALSE)=0,\"\",VLOOKUP(H1459,Übersichtsblatt!$N$14:$Q$24,2,FALSE)),\"\")","v":""},0,10.5]
[2026,"2026-12-26",{"$f":"IFERROR(IF(VLOOKUP($B1460,Übersichtsblatt!$N$64:$Q$68,2,FALSE)=0,\"\",VLOOKUP($B1460,Übersichtsblatt!$N$64:$Q$68,2,FALSE)),\"\")","v":""},0,-10.5,null,2026,"2026-12-26",{"$f":"IFERROR(IF(VLOOKUP($H1460,Übersichtsblatt!$N$14:$Q$24,2,FALSE)=0,\"\",VLOOKUP(H1460,Übersichtsblatt!$N$14:$Q$24,2,FALSE)),\"\")","v":""},0,10.5]
[2026,"2026-12-27",{"$f":"IFERROR(IF(VLOOKUP($B1461,Übersichtsblatt!$N$64:$Q$68,2,FALSE)=0,\"\",VLOOKUP($B1461,Übersichtsblatt!$N$64:$Q$68,2,FALSE)),\"\")","v":""},0,-10.5,null,2026,"2026-12-27",{"$f":"IFERROR(IF(VLOOKUP($H1461,Übersichtsblatt!$N$14:$Q$24,2,FALSE)=0,\"\",VLOOKUP(H1461,Übersichtsblatt!$N$14:$Q$24,2,FALSE)),\"\")","v":""},0,10.5]
[2026,"2026-12-28",{"$f":"IFERROR(IF(VLOOKUP($B1462,Übersichtsblatt!$N$64:$Q$68,2,FALSE)=0,\"\",VLOOKUP($B1462,Übersichtsblatt!$N$64:$Q$68,2,FALSE)),\"\")","v":""},0,-10.5,null,2026,"2026-12-28",{"$f":"IFERROR(IF(VLOOKUP($H1462,Übersichtsblatt!$N$14:$Q$24,2,FALSE)=0,\"\",VLOOKUP(H1462,Übersichtsblatt!$N$14:$Q$24,2,FALSE)),\"\")","v":""},0,10.5]
[2026,"2026-12-29",{"$f":"IFERROR(IF(VLOOKUP($B1463,Übersichtsblatt!$N$64:$Q$68,2,FALSE)=0,\"\",VLOOKUP($B1463,Übersichtsblatt!$N$64:$Q$68,2,FALSE)),\"\")","v":""},0,-10.5,null,2026,"2026-12-29",{"$f":"IFERROR(IF(VLOOKUP($H1463,Übersichtsblatt!$N$14:$Q$24,2,FALSE)=0,\"\",VLOOKUP(H1463,Übersichtsblatt!$N$14:$Q$24,2,FALSE)),\"\")","v":""},0,10.5]
[2026,"2026-12-30",{"$f":"IFERROR(IF(VLOOKUP($B1464,Übersichtsblatt!$N$64:$Q$68,2,FALSE)=0,\"\",VLOOKUP($B1464,Übersichtsblatt!$N$64:$Q$68,2,FALSE)),\"\")","v":""},0,-10.5,null,2026,"2026-12-30",{"$f":"IFERROR(IF(VLOOKUP($H1464,Übersichtsblatt!$N$14:$Q$24,2,FALSE)=0,\"\",VLOOKUP(H1464,Übersichtsblatt!$N$14:$Q$24,2,FALSE)),\"\")","v":""},0,10.5]
[2026,"2026-12-31",{"$f":"IFERROR(IF(VLOOKUP($B1465,Übersichtsblatt!$N$64:$Q$68,2,FALSE)=0,\"\",VLOOKUP($B1465,Übersichtsblatt!$N$64:$Q$68,2,FALSE)),\"\")","v":""},0,-10.5,null,2026,"2026-12-31",{"$f":"IFERROR(IF(VLOOKUP($H1465,Übersichtsblatt!$N$14:$Q$24,2,FALSE)=0,\"\",VLOOKUP(H1465,Übersichtsblatt!$N$14:$Q$24,2,FALSE)),\"\")","v":""},0,3.5]
[2027,"2027-01-01",{"$f":"IFERROR(IF(VLOOKUP($B1466,Übersichtsblatt!$N$64:$Q$68,2,FALSE)=0,\"\",VLOOKUP($B1466,Übersichtsblatt!$N$64:$Q$68,2,FALSE)),\"\")","v":""},0,-3.5,null,2027,"2027-01-01",{"$f":"IFERROR(IF(VLOOKUP($H1466,Übersichtsblatt!$N$14:$Q$24,2,FALSE)=0,\"\",VLOOKUP(H1466,Übersichtsblatt!$N$14:$Q$24,2,FALSE)),\"\")","v":""},0,3.5]
[2027,"2027-01-02",{"$f":"IFERROR(IF(VLOOKUP($B1467,Übersichtsblatt!$N$64:$Q$68,2,FALSE)=0,\"\",VLOOKUP($B1467,Übersichtsblatt!$N$64:$Q$68,2,FALSE)),\"\")","v":""},0,-3.5,null,2027,"2027-01-02",{"$f":"IFERROR(IF(VLOOKUP($H1467,Übersichtsblatt!$N$14:$Q$24,2,FALSE)=0,\"\",VLOOKUP(H1467,Übersichtsblatt!$N$14:$Q$24,2,FALSE)),\"\")","v":""},0,3.5]
[2027,"2027-01-03",{"$f":"IFERROR(IF(VLOOKUP($B1468,Übersichtsblatt!$N$64:$Q$68,2,FALSE)=0,\"\",VLOOKUP($B1468,Übersichtsblatt!$N$64:$Q$68,2,FALSE)),\"\")","v":""},0,-3.5,null,2027,"2027-01-03",{"$f":"IFERROR(IF(VLOOKUP($H1468,Übersichtsblatt!$N$14:$Q$24,2,FALSE)=0,\"\",VLOOKUP(H1468,Übersichtsblatt!$N$14:$Q$24,2,FALSE)),\"\")","v":""},0,3.5]

{"sheet":"Anhang","index":6,"n_rows":21,"n_cols":9,"rows_kept":21,"cut":false,"hidden":false,"merged":[[1,1,1,4],[20,1,20,4],[20,7,20,10],[1,7,1,10]]}
[]
[null,"Sportartenspezifischer Athlet*innenweg",null,null,null,null,null,"Schweizer Bildungssystem"]
[]
[]
[]
[]
[]
[]
[]
[]
[]
[]
[]
[]
[]
[]
[]
[]
[null,null,null,null,null,null,null,"Quelle: ","https://www.berufsberatung.ch/"]
[]
[null,"Merkblatt Karriereplanung",null,null,null,null,null,"Ausbildung für Sporttalente"]

{"sheet":"Hilfstabelle Alter","index":7,"n_rows":22,"n_cols":2,"rows_kept":22,"cut":false,"hidden":true,"merged":[]}
["Jahr","Datum"]
[{"$f":"'Planung Sport'!B6","v":2022},{"$f":"DATE(A2,7,1)","v":"2022-07-01"}]
[{"$f":"'Planung Sport'!B16","v":2023},{"$f":"DATE(A3,7,1)","v":"2023-07-01"}]
[{"$f":"'Planung Sport'!B26","v":2024},"2024-07-01"]
[{"$f":"'Planung Sport'!B36","v":2025},"2025-07-01"]
[{"$f":"'Planung Sport'!B46","v":2026},"2026-07-01"]
[{"$f":"'Planung Sport'!B56","v":2027},"2027-07-01"]
[{"$f":"'Planung Sport'!B66","v":2028},"2028-07-01"]
[{"$f":"'Planung Sport'!B76","v":2029},"2029-07-01"]
[{"$f":"'Planung Sport'!B86","v":2030},"2030-07-01"]
[{"$f":"'Planung Sport'!B96","v":2031},"2031-07-01"]
[{"$f":"'Planung Sport'!B106","v":2032},"2032-07-01"]
[{"$f":"'Planung Sport'!#REF!","v":{"$error":"#REF!"}},{"$error":"#REF!"}]
[{"$f":"'Planung Sport'!#REF!","v":{"$error":"#REF!"}},{"$error":"#REF!"}]
[{"$f":"'Planung Sport'!#REF!","v":{"$error":"#REF!"}},{"$error":"#REF!"}]
[{"$f":"'Planung Sport'!#REF!","v":{"$error":"#REF!"}},{"$error":"#REF!"}]
[{"$f":"'Planung Sport'!#REF!","v":{"$error":"#REF!"}},{"$error":"#REF!"}]
[{"$f":"'Planung Sport'!#REF!","v":{"$error":"#REF!"}},{"$error":"#REF!"}]
[{"$f":"'Planung Sport'!#REF!","v":{"$error":"#REF!"}},{"$error":"#REF!"}]
[{"$f":"'Planung Sport'!#REF!","v":{"$error":"#REF!"}},{"$error":"#REF!"}]
[{"$f":"'Planung Sport'!#REF!","v":{"$error":"#REF!"}},{"$error":"#REF!"}]
[{"$f":"'Planung Sport'!#REF!","v":{"$error":"#REF!"}},{"$error":"#REF!"}]

{"sheet":"Hilfstabelle Sport Kategorien","index":8,"n_rows":22,"n_cols":2,"rows_kept":22,"cut":false,"hidden":true,"merged":[]}
["Jahr","Kategorie / Kader"]
[{"$f":"'Planung Sport'!B6","v":2022},{"$f":"'Planung Sport'!$B$8","v":0}]
[{"$f":"'Planung Sport'!B16","v":2023},{"$f":"'Planung Sport'!$B$18","v":0}]
[{"$f":"'Planung Sport'!B26","v":2024},{"$f":"'Planung Sport'!$B$28","v":0}]
[{"$f":"'Planung Sport'!B36","v":2025},{"$f":"'Planung Sport'!$B$38","v":0}]
[{"$f":"'Planung Sport'!B46","v":2026},{"$f":"'Planung Sport'!$B$48","v":0}]
[{"$f":"'Planung Sport'!B56","v":2027},{"$f":"'Planung Sport'!$B$58","v":0}]
[{"$f":"'Planung Sport'!B66","v":2028},{"$f":"'Planung Sport'!$B$68","v":0}]
[{"$f":"'Planung Sport'!B76","v":2029},{"$f":"'Planung Sport'!$B$78","v":0}]
[{"$f":"'Planung Sport'!B86","v":2030},{"$f":"'Planung Sport'!$B$88","v":0}]
[{"$f":"'Planung Sport'!B96","v":2031},{"$f":"'Planung Sport'!$B$98","v":0}]
[{"$f":"'Planung Sport'!B106","v":2032},{"$f":"'Planung Sport'!$B$108","v":0}]
[{"$f":"'Planung Sport'!#REF!","v":{"$error":"#REF!"}},{"$f":"'Planung Sport'!#REF!","v":{"$error":"#REF!"}}]
[{"$f":"'Planung Sport'!#REF!","v":{"$error":"#REF!"}},{"$f":"'Planung Sport'!#REF!","v":{"$error":"#REF!"}}]
[{"$f":"'Planung Sport'!#REF!","v":{"$error":"#REF!"}},{"$f":"'Planung Sport'!#REF!","v":{"$error":"#REF!"}}]
[{"$f":"'Planung Sport'!#REF!","v":{"$error":"#REF!"}},{"$f":"'Planung Sport'!#REF!","v":{"$error":"#REF!"}}]
[{"$f":"'Planung Sport'!#REF!","v":{"$error":"#REF!"}},{"$f":"'Planung Sport'!#REF!","v":{"$error":"#REF!"}}]
[{"$f":"'Planung Sport'!#REF!","v":{"$error":"#REF!"}},{"$f":"'Planung Sport'!#REF!","v":{"$error":"#REF!"}}]
[{"$f":"'Planung Sport'!#REF!","v":{"$error":"#REF!"}},{"$f":"'Planung Sport'!#REF!","v":{"$error":"#REF!"}}]
[{"$f":"'Planung Sport'!#REF!","v":{"$error":"#REF!"}},{"$f":"'Planung Sport'!#REF!","v":{"$error":"#REF!"}}]
[{"$f":"'Planung Sport'!#REF!","v":{"$error":"#REF!"}},{"$f":"'Planung Sport'!#REF!","v":{"$error":"#REF!"}}]
[{"$f":"'Planung Sport'!#REF!","v":{"$error":"#REF!"}},{"$f":"'Planung Sport'!#REF!","v":{"$error":"#REF!"}}]

{"sheet":"Hilfstabelle Sport Saisonziele","index":9,"n_rows":148,"n_cols":4,"rows_kept":148,"cut":false,"hidden":true,"merged":[]}
["Jahr","Datum","Meilenstein Bezeichnung","Saisonziele"]
[{"$f":"'Planung Sport'!$K$6","v":2022},{"$f":"'Planung Sport'!$K9","v":"00:00:00"},{"$f":"'Planung Sport'!$J9","v":"Saisonziel 1"},{"$f":"'Planung Sport'!L9","v":0}]
[{"$f":"'Planung Sport'!$K$6","v":2022},{"$f":"'Planung Sport'!$K10","v":"00:00:00"},{"$f":"'Planung Sport'!$J10","v":"Saisonziel 2"},{"$f":"'Planung Sport'!L10","v":0}]
[{"$f":"'Planung Sport'!$K$6","v":2022},{"$f":"'Planung Sport'!$K11","v":"00:00:00"},{"$f":"'Planung Sport'!$J11","v":"Saisonziel 3"},{"$f":"'Planung Sport'!L11","v":0}]
[{"$f":"'Planung Sport'!$K$6","v":2022},{"$f":"'Planung Sport'!$K12","v":"00:00:00"},{"$f":"'Planung Sport'!$J12","v":"Saisonziel 4"},{"$f":"'Planung Sport'!L12","v":0}]
[{"$f":"'Planung Sport'!$K$6","v":2022},{"$f":"'Planung Sport'!$K13","v":"00:00:00"},{"$f":"'Planung Sport'!$J13","v":"Saisonziel 5"},{"$f":"'Planung Sport'!L13","v":0}]
[{"$f":"'Planung Sport'!$K$6","v":2022},{"$f":"'Planung Sport'!$K14","v":"00:00:00"},{"$f":"'Planung Sport'!$J14","v":"Militärdienst Beginn"},{"$f":"'Planung Sport'!L14","v":0}]
[{"$f":"'Planung Sport'!$K$6","v":2022},{"$f":"'Planung Sport'!$K15","v":"00:00:00"},{"$f":"'Planung Sport'!$J15","v":"Militärdienst Ende"},{"$f":"'Planung Sport'!L15","v":0}]
[{"$f":"'Planung Sport'!$K$16","v":2023},{"$f":"'Planung Sport'!$K19","v":"00:00:00"},{"$f":"'Planung Sport'!$J19","v":"Saisonziel 1"},{"$f":"'Planung Sport'!L19","v":0}]
[{"$f":"'Planung Sport'!$K$16","v":2023},{"$f":"'Planung Sport'!$K20","v":"00:00:00"},{"$f":"'Planung Sport'!$J20","v":"Saisonziel 2"},{"$f":"'Planung Sport'!L20","v":0}]
[{"$f":"'Planung Sport'!$K$16","v":2023},{"$f":"'Planung Sport'!$K21","v":"00:00:00"},{"$f":"'Planung Sport'!$J21","v":"Saisonziel 3"},{"$f":"'Planung Sport'!L21","v":0}]
[{"$f":"'Planung Sport'!$K$16","v":2023},{"$f":"'Planung Sport'!$K22","v":"00:00:00"},{"$f":"'Planung Sport'!$J22","v":"Saisonziel 4"},{"$f":"'Planung Sport'!L22","v":0}]
[{"$f":"'Planung Sport'!$K$16","v":2023},{"$f":"'Planung Sport'!$K23","v":"00:00:00"},{"$f":"'Planung Sport'!$J23","v":"Saisonziel 5"},{"$f":"'Planung Sport'!L23","v":0}]
[{"$f":"'Planung Sport'!$K$16","v":2023},{"$f":"'Planung Sport'!$K24","v":"00:00:00"},{"$f":"'Planung Sport'!$J24","v":"Militärdienst Beginn"},{"$f":"'Planung Sport'!L24","v":0}]
[{"$f":"'Planung Sport'!$K$16","v":2023},{"$f":"'Planung Sport'!$K25","v":"00:00:00"},{"$f":"'Planung Sport'!$J25","v":"Militärdienst Ende"},{"$f":"'Planung Sport'!L25","v":0}]
[{"$f":"'Planung Sport'!$K$26","v":2024},{"$f":"'Planung Sport'!$K29","v":"00:00:00"},{"$f":"'Planung Sport'!$J29","v":"Saisonziel 1"},{"$f":"'Planung Sport'!L29","v":0}]
[{"$f":"'Planung Sport'!$K$26","v":2024},{"$f":"'Planung Sport'!$K30","v":"00:00:00"},{"$f":"'Planung Sport'!$J30","v":"Saisonziel 2"},{"$f":"'Planung Sport'!L30","v":0}]
[{"$f":"'Planung Sport'!$K$26","v":2024},{"$f":"'Planung Sport'!$K31","v":"00:00:00"},{"$f":"'Planung Sport'!$J31","v":"Saisonziel 3"},{"$f":"'Planung Sport'!L31","v":0}]
[{"$f":"'Planung Sport'!$K$26","v":2024},{"$f":"'Planung Sport'!$K32","v":"00:00:00"},{"$f":"'Planung Sport'!$J32","v":"Saisonziel 4"},{"$f":"'Planung Sport'!L32","v":0}]
[{"$f":"'Planung Sport'!$K$26","v":2024},{"$f":"'Planung Sport'!$K33","v":"00:00:00"},{"$f":"'Planung Sport'!$J33","v":"Saisonziel 5"},{"$f":"'Planung Sport'!L33","v":0}]
[{"$f":"'Planung Sport'!$K$26","v":2024},{"$f":"'Planung Sport'!$K34","v":"00:00:00"},{"$f":"'Planung Sport'!$J34","v":"Militärdienst Beginn"},{"$f":"'Planung Sport'!L34","v":0}]
[{"$f":"'Planung Sport'!$K$26","v":2024},{"$f":"'Planung Sport'!$K35","v":"00:00:00"},{"$f":"'Planung Sport'!$J35","v":"Militärdienst Ende"},{"$f":"'Planung Sport'!L35","v":0}]
[{"$f":"'Planung Sport'!$K$36","v":2025},{"$f":"'Planung Sport'!$K39","v":"00:00:00"},{"$f":"'Planung Sport'!$J39","v":"Saisonziel 1"},{"$f":"'Planung Sport'!L39","v":0}]
[{"$f":"'Planung Sport'!$K$36","v":2025},{"$f":"'Planung Sport'!$K40","v":"00:00:00"},{"$f":"'Planung Sport'!$J40","v":"Saisonziel 2"},{"$f":"'Planung Sport'!L40","v":0}]
[{"$f":"'Planung Sport'!$K$36","v":2025},{"$f":"'Planung Sport'!$K41","v":"00:00:00"},{"$f":"'Planung Sport'!$J41","v":"Saisonziel 3"},{"$f":"'Planung Sport'!L41","v":0}]
[{"$f":"'Planung Sport'!$K$36","v":2025},{"$f":"'Planung Sport'!$K42","v":"00:00:00"},{"$f":"'Planung Sport'!$J42","v":"Saisonziel 4"},{"$f":"'Planung Sport'!L42","v":0}]
[{"$f":"'Planung Sport'!$K$36","v":2025},{"$f":"'Planung Sport'!$K43","v":"00:00:00"},{"$f":"'Planung Sport'!$J43","v":"Saisonziel 5"},{"$f":"'Planung Sport'!L43","v":0}]
[{"$f":"'Planung Sport'!$K$36","v":2025},{"$f":"'Planung Sport'!$K44","v":"00:00:00"},{"$f":"'Planung Sport'!$J44","v":"Militärdienst Beginn"},{"$f":"'Planung Sport'!L44","v":0}]
[{"$f":"'Planung Sport'!$K$36","v":2025},{"$f":"'Planung Sport'!$K45","v":"00:00:00"},{"$f":"'Planung Sport'!$J45","v":"Militärdienst Ende"},{"$f":"'Planung Sport'!L45","v":0}]
[{"$f":"'Planung Sport'!$K$46","v":2026},{"$f":"'Planung Sport'!$K49","v":"00:00:00"},{"$f":"'Planung Sport'!$J49","v":"Saisonziel 1"},{"$f":"'Planung Sport'!L49","v":0}]
[{"$f":"'Planung Sport'!$K$46","v":2026},{"$f":"'Planung Sport'!$K50","v":"00:00:00"},{"$f":"'Planung Sport'!$J50","v":"Saisonziel 2"},{"$f":"'Planung Sport'!L50","v":0}]
[{"$f":"'Planung Sport'!$K$46","v":2026},{"$f":"'Planung Sport'!$K51","v":"00:00:00"},{"$f":"'Planung Sport'!$J51","v":"Saisonziel 3"},{"$f":"'Planung Sport'!L51","v":0}]
[{"$f":"'Planung Sport'!$K$46","v":2026},{"$f":"'Planung Sport'!$K52","v":"00:00:00"},{"$f":"'Planung Sport'!$J52","v":"Saisonziel 4"},{"$f":"'Planung Sport'!L52","v":0}]
[{"$f":"'Planung Sport'!$K$46","v":2026},{"$f":"'Planung Sport'!$K53","v":"00:00:00"},{"$f":"'Planung Sport'!$J53","v":"Saisonziel 5"},{"$f":"'Planung Sport'!L53","v":0}]
[{"$f":"'Planung Sport'!$K$46","v":2026},{"$f":"'Planung Sport'!$K54","v":"00:00:00"},{"$f":"'Planung Sport'!$J54","v":"Militärdienst Beginn"},{"$f":"'Planung Sport'!L54","v":0}]
[{"$f":"'Planung Sport'!$K$46","v":2026},{"$f":"'Planung Sport'!$K55","v":"00:00:00"},{"$f":"'Planung Sport'!$J55","v":"Militärdienst Ende"},{"$f":"'Planung Sport'!L55","v":0}]
[{"$f":"'Planung Sport'!$K$56","v":2027},{"$f":"'Planung Sport'!$K59","v":"00:00:00"},{"$f":"'Planung Sport'!$J59","v":"Saisonziel 1"},{"$f":"'Planung Sport'!L59","v":0}]
[{"$f":"'Planung Sport'!$K$56","v":2027},{"$f":"'Planung Sport'!$K60","v":"00:00:00"},{"$f":"'Planung Sport'!$J60","v":"Saisonziel 2"},{"$f":"'Planung Sport'!L60","v":0}]
[{"$f":"'Planung Sport'!$K$56","v":2027},{"$f":"'Planung Sport'!$K61","v":"00:00:00"},{"$f":"'Planung Sport'!$J61","v":"Saisonziel 3"},{"$f":"'Planung Sport'!L61","v":0}]
[{"$f":"'Planung Sport'!$K$56","v":2027},{"$f":"'Planung Sport'!$K62","v":"00:00:00"},{"$f":"'Planung Sport'!$J62","v":"Saisonziel 4"},{"$f":"'Planung Sport'!L62","v":0}]
[{"$f":"'Planung Sport'!$K$56","v":2027},{"$f":"'Planung Sport'!$K63","v":"00:00:00"},{"$f":"'Planung Sport'!$J63","v":"Saisonziel 5"},{"$f":"'Planung Sport'!L63","v":0}]
[{"$f":"'Planung Sport'!$K$56","v":2027},{"$f":"'Planung Sport'!$K64","v":"00:00:00"},{"$f":"'Planung Sport'!$J64","v":"Militärdienst Beginn"},{"$f":"'Planung Sport'!L64","v":0}]
[{"$f":"'Planung Sport'!$K$56","v":2027},{"$f":"'Planung Sport'!$K65","v":"00:00:00"},{"$f":"'Planung Sport'!$J65","v":"Militärdienst Ende"},{"$f":"'Planung Sport'!L65","v":0}]
[{"$f":"'Planung Sport'!$K$66","v":2028},{"$f":"'Planung Sport'!$K69","v":"00:00:00"},{"$f":"'Planung Sport'!$J69","v":"Saisonziel 1"},{"$f":"'Planung Sport'!L69","v":0}]
[{"$f":"'Planung Sport'!$K$66","v":2028},{"$f":"'Planung Sport'!$K70","v":"00:00:00"},{"$f":"'Planung Sport'!$J70","v":"Saisonziel 2"},{"$f":"'Planung Sport'!L70","v":0}]
[{"$f":"'Planung Sport'!$K$66","v":2028},{"$f":"'Planung Sport'!$K71","v":"00:00:00"},{"$f":"'Planung Sport'!$J71","v":"Saisonziel 3"},{"$f":"'Planung Sport'!L71","v":0}]
[{"$f":"'Planung Sport'!$K$66","v":2028},{"$f":"'Planung Sport'!$K72","v":"00:00:00"},{"$f":"'Planung Sport'!$J72","v":"Saisonziel 4"},{"$f":"'Planung Sport'!L72","v":0}]
[{"$f":"'Planung Sport'!$K$66","v":2028},{"$f":"'Planung Sport'!$K73","v":"00:00:00"},{"$f":"'Planung Sport'!$J73","v":"Saisonziel 5"},{"$f":"'Planung Sport'!L73","v":0}]
[{"$f":"'Planung Sport'!$K$66","v":2028},{"$f":"'Planung Sport'!$K74","v":"00:00:00"},{"$f":"'Planung Sport'!$J74","v":"Militärdienst Beginn"},{"$f":"'Planung Sport'!L74","v":0}]
[{"$f":"'Planung Sport'!$K$66","v":2028},{"$f":"'Planung Sport'!$K75","v":"00:00:00"},{"$f":"'Planung Sport'!$J75","v":"Militärdienst Ende"},{"$f":"'Planung Sport'!L75","v":0}]
[{"$f":"'Planung Sport'!$K$76","v":2029},{"$f":"'Planung Sport'!$K79","v":"00:00:00"},{"$f":"'Planung Sport'!$J79","v":"Saisonziel 1"},{"$f":"'Planung Sport'!L79","v":0}]
[{"$f":"'Planung Sport'!$K$76","v":2029},{"$f":"'Planung Sport'!$K80","v":"00:00:00"},{"$f":"'Planung Sport'!$J80","v":"Saisonziel 2"},{"$f":"'Planung Sport'!L80","v":0}]
[{"$f":"'Planung Sport'!$K$76","v":2029},{"$f":"'Planung Sport'!$K81","v":"00:00:00"},{"$f":"'Planung Sport'!$J81","v":"Saisonziel 3"},{"$f":"'Planung Sport'!L81","v":0}]
[{"$f":"'Planung Sport'!$K$76","v":2029},{"$f":"'Planung Sport'!$K82","v":"00:00:00"},{"$f":"'Planung Sport'!$J82","v":"Saisonziel 4"},{"$f":"'Planung Sport'!L82","v":0}]
[{"$f":"'Planung Sport'!$K$76","v":2029},{"$f":"'Planung Sport'!$K83","v":"00:00:00"},{"$f":"'Planung Sport'!$J83","v":"Saisonziel 5"},{"$f":"'Planung Sport'!L83","v":0}]
[{"$f":"'Planung Sport'!$K$76","v":2029},{"$f":"'Planung Sport'!$K84","v":"00:00:00"},{"$f":"'Planung Sport'!$J84","v":"Militärdienst Beginn"},{"$f":"'Planung Sport'!L84","v":0}]
[{"$f":"'Planung Sport'!$K$76","v":2029},{"$f":"'Planung Sport'!$K85","v":"00:00:00"},{"$f":"'Planung Sport'!$J85","v":"Militärdienst Ende"},{"$f":"'Planung Sport'!L85","v":0}]
[{"$f":"'Planung Sport'!$K$86","v":2030},{"$f":"'Planung Sport'!$K89","v":"00:00:00"},{"$f":"'Planung Sport'!$J89","v":"Saisonziel 1"},{"$f":"'Planung Sport'!L89","v":0}]
[{"$f":"'Planung Sport'!$K$86","v":2030},{"$f":"'Planung Sport'!$K90","v":"00:00:00"},{"$f":"'Planung Sport'!$J90","v":"Saisonziel 2"},{"$f":"'Planung Sport'!L90","v":0}]
[{"$f":"'Planung Sport'!$K$86","v":2030},{"$f":"'Planung Sport'!$K91","v":"00:00:00"},{"$f":"'Planung Sport'!$J91","v":"Saisonziel 3"},{"$f":"'Planung Sport'!L91","v":0}]
[{"$f":"'Planung Sport'!$K$86","v":2030},{"$f":"'Planung Sport'!$K92","v":"00:00:00"},{"$f":"'Planung Sport'!$J92","v":"Saisonziel 4"},{"$f":"'Planung Sport'!L92","v":0}]
[{"$f":"'Planung Sport'!$K$86","v":2030},{"$f":"'Planung Sport'!$K93","v":"00:00:00"},{"$f":"'Planung Sport'!$J93","v":"Saisonziel 5"},{"$f":"'Planung Sport'!L93","v":0}]
[{"$f":"'Planung Sport'!$K$86","v":2030},{"$f":"'Planung Sport'!$K94","v":"00:00:00"},{"$f":"'Planung Sport'!$J94","v":"Militärdienst Beginn"},{"$f":"'Planung Sport'!L94","v":0}]
[{"$f":"'Planung Sport'!$K$86","v":2030},{"$f":"'Planung Sport'!$K95","v":"00:00:00"},{"$f":"'Planung Sport'!$J95","v":"Militärdienst Ende"},{"$f":"'Planung Sport'!L95","v":0}]
[{"$f":"'Planung Sport'!$K$96","v":2031},{"$f":"'Planung Sport'!$K99","v":"00:00:00"},{"$f":"'Planung Sport'!$J99","v":"Saisonziel 1"},{"$f":"'Planung Sport'!L99","v":0}]
[{"$f":"'Planung Sport'!$K$96","v":2031},{"$f":"'Planung Sport'!$K100","v":"00:00:00"},{"$f":"'Planung Sport'!$J100","v":"Saisonziel 2"},{"$f":"'Planung Sport'!L100","v":0}]
[{"$f":"'Planung Sport'!$K$96","v":2031},{"$f":"'Planung Sport'!$K101","v":"00:00:00"},{"$f":"'Planung Sport'!$J101","v":"Saisonziel 3"},{"$f":"'Planung Sport'!L101","v":0}]
[{"$f":"'Planung Sport'!$K$96","v":2031},{"$f":"'Planung Sport'!$K102","v":"00:00:00"},{"$f":"'Planung Sport'!$J102","v":"Saisonziel 4"},{"$f":"'Planung Sport'!L102","v":0}]
[{"$f":"'Planung Sport'!$K$96","v":2031},{"$f":"'Planung Sport'!$K103","v":"00:00:00"},{"$f":"'Planung Sport'!$J103","v":"Saisonziel 5"},{"$f":"'Planung Sport'!L103","v":0}]
[{"$f":"'Planung Sport'!$K$96","v":2031},{"$f":"'Planung Sport'!$K104","v":"00:00:00"},{"$f":"'Planung Sport'!$J104","v":"Militärdienst Beginn"},{"$f":"'Planung Sport'!L104","v":0}]
[{"$f":"'Planung Sport'!$K$96","v":2031},{"$f":"'Planung Sport'!$K105","v":"00:00:00"},{"$f":"'Planung Sport'!$J105","v":"Militärdienst Ende"},{"$f":"'Planung Sport'!L105","v":0}]
[{"$f":"'Planung Sport'!$K$106","v":2032},{"$f":"'Planung Sport'!$K109","v":"00:00:00"},{"$f":"'Planung Sport'!$J109","v":"Saisonziel 1"},{"$f":"'Planung Sport'!L109","v":0}]
[{"$f":"'Planung Sport'!$K$106","v":2032},{"$f":"'Planung Sport'!$K110","v":"00:00:00"},{"$f":"'Planung Sport'!$J110","v":"Saisonziel 2"},{"$f":"'Planung Sport'!L110","v":0}]
[{"$f":"'Planung Sport'!$K$106","v":2032},{"$f":"'Planung Sport'!$K111","v":"00:00:00"},{"$f":"'Planung Sport'!$J111","v":"Saisonziel 3"},{"$f":"'Planung Sport'!L111","v":0}]
[{"$f":"'Planung Sport'!$K$106","v":2032},{"$f":"'Planung Sport'!$K112","v":"00:00:00"},{"$f":"'Planung Sport'!$J112","v":"Saisonziel 4"},{"$f":"'Planung Sport'!L112","v":0}]
[{"$f":"'Planung Sport'!$K$106","v":2032},{"$f":"'Planung Sport'!$K113","v":"00:00:00"},{"$f":"'Planung Sport'!$J113","v":"Saisonziel 5"},{"$f":"'Planung Sport'!L113","v":0}]
[{"$f":"'Planung Sport'!$K$106","v":2032},{"$f":"'Planung Sport'!$K114","v":"00:00:00"},{"$f":"'Planung Sport'!$J114","v":"Militärdienst Beginn"},{"$f":"'Planung Sport'!L114","v":0}]
[{"$f":"'Planung Sport'!$K$106","v":2032},{"$f":"'Planung Sport'!$K115","v":"00:00:00"},{"$f":"'Planung Sport'!$J115","v":"Militärdienst Ende"},{"$f":"'Planung Sport'!L115","v":0}]
[{"$f":"'Planung Sport'!#REF!","v":{"$error":"#REF!"}},{"$f":"'Planung Sport'!#REF!","v":{"$error":"#REF!"}},{"$f":"'Planung Sport'!#REF!","v":{"$error":"#REF!"}},{"$f":"'Planung Sport'!#REF!","v":{"$error":"#REF!"}}]
[{"$f":"'Planung Sport'!#REF!","v":{"$error":"#REF!"}},{"$f":"'Planung Sport'!#REF!","v":{"$error":"#REF!"}},{"$f":"'Planung Sport'!#REF!","v":{"$error":"#REF!"}},{"$f":"'Planung Sport'!#REF!","v":{"$error":"#REF!"}}]
[{"$f":"'Planung Sport'!#REF!","v":{"$error":"#REF!"}},{"$f":"'Planung Sport'!#REF!","v":{"$error":"#REF!"}},{"$f":"'Planung Sport'!#REF!","v":{"$error":"#REF!"}},{"$f":"'Planung Sport'!#REF!","v":{"$error":"#REF!"}}]
[{"$f":"'Planung Sport'!#REF!","v":{"$error":"#REF!"}},{"$f":"'Planung Sport'!#REF!","v":{"$error":"#REF!"}},{"$f":"'Planung Sport'!#REF!","v":{"$error":"#REF!"}},{"$f":"'Planung Sport'!#REF!","v":{"$error":"#REF!"}}]
[{"$f":"'Planung Sport'!#REF!","v":{"$error":"#REF!"}},{"$f":"'Planung Sport'!#REF!","v":{"$error":"#REF!"}},{"$f":"'Planung Sport'!#REF!","v":{"$error":"#REF!"}},{"$f":"'Planung Sport'!#REF!","v":{"$error":"#REF!"}}]
[{"$f":"'Planung Sport'!#REF!","v":{"$error":"#REF!"}},{"$f":"'Planung Sport'!#REF!","v":{"$error":"#REF!"}},{"$f":"'Planung Sport'!#REF!","v":{"$error":"#REF!"}},{"$f":"'Planung Sport'!#REF!","v":{"$error":"#REF!"}}]
[{"$f":"'Planung Sport'!#REF!","v":{"$error":"#REF!"}},{"$f":"'Planung Sport'!#REF!","v":{"$error":"#REF!"}},{"$f":"'Planung Sport'!#REF!","v":{"$error":"#REF!"}},{"$f":"'Planung Sport'!#REF!","v":{"$error":"#REF!"}}]
[{"$f":"'Planung Sport'!#REF!","v":{"$error":"#REF!"}},{"$f":"'Planung Sport'!#REF!","v":{"$error":"#REF!"}},{"$f":"'Planung Sport'!#REF!","v":{"$error":"#REF!"}},{"$f":"'Planung Sport'!#REF!","v":{"$error":"#REF!"}}]
[{"$f":"'Planung Sport'!#REF!","v":{"$error":"#REF!"}},{"$f":"'Planung Sport'!#REF!","v":{"$error":"#REF!"}},{"$f":"'Planung Sport'!#REF!","v":{"$error":"#REF!"}},{"$f":"'Planung Sport'!#REF!","v":{"$error":"#REF!"}}]
[{"$f":"'Planung Sport'!#REF!","v":{"$error":"#REF!"}},{"$f":"'Planung Sport'!#REF!","v":{"$error":"#REF!"}},{"$f":"'Planung Sport'!#REF!","v":{"$error":"#REF!"}},{"$f":"'Planung Sport'!#REF!","v":{"$error":"#REF!"}}]
[{"$f":"'Planung Sport'!#REF!","v":{"$error":"#REF!"}},{"$f":"'Planung Sport'!#REF!","v":{"$error":"#REF!"}},{"$f":"'Planung Sport'!#REF!","v":{"$error":"#REF!"}},{"$f":"'Planung Sport'!#REF!","v":{"$error":"#REF!"}}]
[{"$f":"'Planung Sport'!#REF!","v":{"$error":"#REF!"}},{"$f":"'Planung Sport'!#REF!","v":{"$error":"#REF!"}},{"$f":"'Planung Sport'!#REF!","v":{"$error":"#REF!"}},{"$f":"'Planung Sport'!#REF!","v":{"$error":"#REF!"}}]
[{"$f":"'Planung Sport'!#REF!","v":{"$error":"#REF!"}},{"$f":"'Planung Sport'!#REF!","v":{"$error":"#REF!"}},{"$f":"'Planung Sport'!#REF!","v":{"$error":"#REF!"}},{"$f":"'Planung Sport'!#REF!","v":{"$error":"#REF!"}}]
[{"$f":"'Planung Sport'!#REF!","v":{"$error":"#REF!"}},{"$f":"'Planung Sport'!#REF!","v":{"$error":"#REF!"}},{"$f":"'Planung Sport'!#REF!","v":{"$error":"#REF!"}},{"$f":"'Planung Sport'!#REF!","v":{"$error":"#REF!"}}]
[{"$f":"'Planung Sport'!#REF!","v":{"$error":"#REF!"}},{"$f":"'Planung Sport'!#REF!","v":{"$error":"#REF!"}},{"$f":"'Planung Sport'!#REF!","v":{"$error":"#REF!"}},{"$f":"'Planung Sport'!#REF!","v":{"$error":"#REF!"}}]
[{"$f":"'Planung Sport'!#REF!","v":{"$error":"#REF!"}},{"$f":"'Planung Sport'!#REF!","v":{"$error":"#REF!"}},{"$f":"'Planung Sport'!#REF!","v":{"$error":"#REF!"}},{"$f":"'Planung Sport'!#REF!","v":{"$error":"#REF!"}}]
[{"$f":"'Planung Sport'!#REF!","v":{"$error":"#REF!"}},{"$f":"'Planung Sport'!#REF!","v":{"$error":"#REF!"}},{"$f":"'Planung Sport'!#REF!","v":{"$error":"#REF!"}},{"$f":"'Planung Sport'!#REF!","v":{"$error":"#REF!"}}]
[{"$f":"'Planung Sport'!#REF!","v":{"$error":"#REF!"}},{"$f":"'Planung Sport'!#REF!","v":{"$error":"#REF!"}},{"$f":"'Planung Sport'!#REF!","v":{"$error":"#REF!"}},{"$f":"'Planung Sport'!#REF!","v":{"$error":"#REF!"}}]
[{"$f":"'Planung Sport'!#REF!","v":{"$error":"#REF!"}},{"$f":"'Planung Sport'!#REF!","v":{"$error":"#REF!"}},{"$f":"'Planung Sport'!#REF!","v":{"$error":"#REF!"}},{"$f":"'Planung Sport'!#REF!","v":{"$error":"#REF!"}}]
[{"$f":"'Planung Sport'!#REF!","v":{"$error":"#REF!"}},{"$f":"'Planung Sport'!#REF!","v":{"$error":"#REF!"}},{"$f":"'Planung Sport'!#REF!","v":{"$error":"#REF!"}},{"$f":"'Planung Sport'!#REF!","v":{"$error":"#REF!"}}]
[{"$f":"'Planung Sport'!#REF!","v":{"$error":"#REF!"}},{"$f":"'Planung Sport'!#REF!","v":{"$error":"#REF!"}},{"$f":"'Planung Sport'!#REF!","v":{"$error":"#REF!"}},{"$f":"'Planung Sport'!#REF!","v":{"$error":"#REF!"}}]
[{"$f":"'Planung Sport'!#REF!","v":{"$error":"#REF!"}},{"$f":"'Planung Sport'!#REF!","v":{"$error":"#REF!"}},{"$f":"'Planung Sport'!#REF!","v":{"$error":"#REF!"}},{"$f":"'Planung Sport'!#REF!","v":{"$error":"#REF!"}}]
[{"$f":"'Planung Sport'!#REF!","v":{"$error":"#REF!"}},{"$f":"'Planung Sport'!#REF!","v":{"$error":"#REF!"}},{"$f":"'Planung Sport'!#REF!","v":{"$error":"#REF!"}},{"$f":"'Planung Sport'!#REF!","v":{"$error":"#REF!"}}]
[{"$f":"'Planung Sport'!#REF!","v":{"$error":"#REF!"}},{"$f":"'Planung Sport'!#REF!","v":{"$error":"#REF!"}},{"$f":"'Planung Sport'!#REF!","v":{"$error":"#REF!"}},{"$f":"'Planung Sport'!#REF!","v":{"$error":"#REF!"}}]
[{"$f":"'Planung Sport'!#REF!","v":{"$error":"#REF!"}},{"$f":"'Planung Sport'!#REF!","v":{"$error":"#REF!"}},{"$f":"'Planung Sport'!#REF!","v":{"$error":"#REF!"}},{"$f":"'Planung Sport'!#REF!","v":{"$error":"#REF!"}}]
[{"$f":"'Planung Sport'!#REF!","v":{"$error":"#REF!"}},{"$f":"'Planung Sport'!#REF!","v":{"$error":"#REF!"}},{"$f":"'Planung Sport'!#REF!","v":{"$error":"#REF!"}},{"$f":"'Planung Sport'!#REF!","v":{"$error":"#REF!"}}]
[{"$f":"'Planung Sport'!#REF!","v":{"$error":"#REF!"}},{"$f":"'Planung Sport'!#REF!","v":{"$error":"#REF!"}},{"$f":"'Planung Sport'!#REF!","v":{"$error":"#REF!"}},{"$f":"'Planung Sport'!#REF!","v":{"$error":"#REF!"}}]
[{"$f":"'Planung Sport'!#REF!","v":{"$error":"#REF!"}},{"$f":"'Planung Sport'!#REF!","v":{"$error":"#REF!"}},{"$f":"'Planung Sport'!#REF!","v":{"$error":"#REF!"}},{"$f":"'Planung Sport'!#REF!","v":{"$error":"#REF!"}}]
[{"$f":"'Planung Sport'!#REF!","v":{"$error":"#REF!"}},{"$f":"'Planung Sport'!#REF!","v":{"$error":"#REF!"}},{"$f":"'Planung Sport'!#REF!","v":{"$error":"#REF!"}},{"$f":"'Planung Sport'!#REF!","v":{"$error":"#REF!"}}]
[{"$f":"'Planung Sport'!#REF!","v":{"$error":"#REF!"}},{"$f":"'Planung Sport'!#REF!","v":{"$error":"#REF!"}},{"$f":"'Planung Sport'!#REF!","v":{"$error":"#REF!"}},{"$f":"'Planung Sport'!#REF!","v":{"$error":"#REF!"}}]
[{"$f":"'Planung Sport'!#REF!","v":{"$error":"#REF!"}},{"$f":"'Planung Sport'!#REF!","v":{"$error":"#REF!"}},{"$f":"'Planung Sport'!#REF!","v":{"$error":"#REF!"}},{"$f":"'Planung Sport'!#REF!","v":{"$error":"#REF!"}}]
[{"$f":"'Planung Sport'!#REF!","v":{"$error":"#REF!"}},{"$f":"'Planung Sport'!#REF!","v":{"$error":"#REF!"}},{"$f":"'Planung Sport'!#REF!","v":{"$error":"#REF!"}},{"$f":"'Planung Sport'!#REF!","v":{"$error":"#REF!"}}]
[{"$f":"'Planung Sport'!#REF!","v":{"$error":"#REF!"}},{"$f":"'Planung Sport'!#REF!","v":{"$error":"#REF!"}},{"$f":"'Planung Sport'!#REF!","v":{"$error":"#REF!"}},{"$f":"'Planung Sport'!#REF!","v":{"$error":"#REF!"}}]
[{"$f":"'Planung Sport'!#REF!","v":{"$error":"#REF!"}},{"$f":"'Planung Sport'!#REF!","v":{"$error":"#REF!"}},{"$f":"'Planung Sport'!#REF!","v":{"$error":"#REF!"}},{"$f":"'Planung Sport'!#REF!","v":{"$error":"#REF!"}}]
[{"$f":"'Planung Sport'!#REF!","v":{"$error":"#REF!"}},{"$f":"'Planung Sport'!#REF!","v":{"$error":"#REF!"}},{"$f":"'Planung Sport'!#REF!","v":{"$error":"#REF!"}},{"$f":"'Planung Sport'!#REF!","v":{"$error":"#REF!"}}]
[{"$f":"'Planung Sport'!#REF!","v":{"$error":"#REF!"}},{"$f":"'Planung Sport'!#REF!","v":{"$error":"#REF!"}},{"$f":"'Planung Sport'!#REF!","v":{"$error":"#REF!"}},{"$f":"'Planung Sport'!#REF!","v":{"$error":"#REF!"}}]
[{"$f":"'Planung Sport'!#REF!","v":{"$error":"#REF!"}},{"$f":"'Planung Sport'!#REF!","v":{"$error":"#REF!"}},{"$f":"'Planung Sport'!#REF!","v":{"$error":"#REF!"}},{"$f":"'Planung Sport'!#REF!","v":{"$error":"#REF!"}}]
[{"$f":"'Planung Sport'!#REF!","v":{"$error":"#REF!"}},{"$f":"'Planung Sport'!#REF!","v":{"$error":"#REF!"}},{"$f":"'Planung Sport'!#REF!","v":{"$error":"#REF!"}},{"$f":"'Planung Sport'!#REF!","v":{"$error":"#REF!"}}]
[{"$f":"'Planung Sport'!#REF!","v":{"$error":"#REF!"}},{"$f":"'Planung Sport'!#REF!","v":{"$error":"#REF!"}},{"$f":"'Planung Sport'!#REF!","v":{"$error":"#REF!"}},{"$f":"'Planung Sport'!#REF!","v":{"$error":"#REF!"}}]
[{"$f":"'Planung Sport'!#REF!","v":{"$error":"#REF!"}},{"$f":"'Planung Sport'!#REF!","v":{"$error":"#REF!"}},{"$f":"'Planung Sport'!#REF!","v":{"$error":"#REF!"}},{"$f":"'Planung Sport'!#REF!","v":{"$error":"#REF!"}}]
[{"$f":"'Planung Sport'!#REF!","v":{"$error":"#REF!"}},{"$f":"'Planung Sport'!#REF!","v":{"$error":"#REF!"}},{"$f":"'Planung Sport'!#REF!","v":{"$error":"#REF!"}},{"$f":"'Planung Sport'!#REF!","v":{"$error":"#REF!"}}]
[{"$f":"'Planung Sport'!#REF!","v":{"$error":"#REF!"}},{"$f":"'Planung Sport'!#REF!","v":{"$error":"#REF!"}},{"$f":"'Planung Sport'!#REF!","v":{"$error":"#REF!"}},{"$f":"'Planung Sport'!#REF!","v":{"$error":"#REF!"}}]
[{"$f":"'Planung Sport'!#REF!","v":{"$error":"#REF!"}},{"$f":"'Planung Sport'!#REF!","v":{"$error":"#REF!"}},{"$f":"'Planung Sport'!#REF!","v":{"$error":"#REF!"}},{"$f":"'Planung Sport'!#REF!","v":{"$error":"#REF!"}}]
[{"$f":"'Planung Sport'!#REF!","v":{"$error":"#REF!"}},{"$f":"'Planung Sport'!#REF!","v":{"$error":"#REF!"}},{"$f":"'Planung Sport'!#REF!","v":{"$error":"#REF!"}},{"$f":"'Planung Sport'!#REF!","v":{"$error":"#REF!"}}]
[{"$f":"'Planung Sport'!#REF!","v":{"$error":"#REF!"}},{"$f":"'Planung Sport'!#REF!","v":{"$error":"#REF!"}},{"$f":"'Planung Sport'!#REF!","v":{"$error":"#REF!"}},{"$f":"'Planung Sport'!#REF!","v":{"$error":"#REF!"}}]
[{"$f":"'Planung Sport'!#REF!","v":{"$error":"#REF!"}},{"$f":"'Planung Sport'!#REF!","v":{"$error":"#REF!"}},{"$f":"'Planung Sport'!#REF!","v":{"$error":"#REF!"}},{"$f":"'Planung Sport'!#REF!","v":{"$error":"#REF!"}}]
[{"$f":"'Planung Sport'!#REF!","v":{"$error":"#REF!"}},{"$f":"'Planung Sport'!#REF!","v":{"$error":"#REF!"}},{"$f":"'Planung Sport'!#REF!","v":{"$error":"#REF!"}},{"$f":"'Planung Sport'!#REF!","v":{"$error":"#REF!"}}]
[{"$f":"'Planung Sport'!#REF!","v":{"$error":"#REF!"}},{"$f":"'Planung Sport'!#REF!","v":{"$error":"#REF!"}},{"$f":"'Planung Sport'!#REF!","v":{"$error":"#REF!"}},{"$f":"'Planung Sport'!#REF!","v":{"$error":"#REF!"}}]
[{"$f":"'Planung Sport'!#REF!","v":{"$error":"#REF!"}},{"$f":"'Planung Sport'!#REF!","v":{"$error":"#REF!"}},{"$f":"'Planung Sport'!#REF!","v":{"$error":"#REF!"}},{"$f":"'Planung Sport'!#REF!","v":{"$error":"#REF!"}}]
[{"$f":"'Planung Sport'!#REF!","v":{"$error":"#REF!"}},{"$f":"'Planung Sport'!#REF!","v":{"$error":"#REF!"}},{"$f":"'Planung Sport'!#REF!","v":{"$error":"#REF!"}},{"$f":"'Planung Sport'!#REF!","v":{"$error":"#REF!"}}]
[{"$f":"'Planung Sport'!#REF!","v":{"$error":"#REF!"}},{"$f":"'Planung Sport'!#REF!","v":{"$error":"#REF!"}},{"$f":"'Planung Sport'!#REF!","v":{"$error":"#REF!"}},{"$f":"'Planung Sport'!#REF!","v":{"$error":"#REF!"}}]
[{"$f":"'Planung Sport'!#REF!","v":{"$error":"#REF!"}},{"$f":"'Planung Sport'!#REF!","v":{"$error":"#REF!"}},{"$f":"'Planung Sport'!#REF!","v":{"$error":"#REF!"}},{"$f":"'Planung Sport'!#REF!","v":{"$error":"#REF!"}}]
[{"$f":"'Planung Sport'!#REF!","v":{"$error":"#REF!"}},{"$f":"'Planung Sport'!#REF!","v":{"$error":"#REF!"}},{"$f":"'Planung Sport'!#REF!","v":{"$error":"#REF!"}},{"$f":"'Planung Sport'!#REF!","v":{"$error":"#REF!"}}]
[{"$f":"'Planung Sport'!#REF!","v":{"$error":"#REF!"}},{"$f":"'Planung Sport'!#REF!","v":{"$error":"#REF!"}},{"$f":"'Planung Sport'!#REF!","v":{"$error":"#REF!"}},{"$f":"'Planung Sport'!#REF!","v":{"$error":"#REF!"}}]
[{"$f":"'Planung Sport'!#REF!","v":{"$error":"#REF!"}},{"$f":"'Planung Sport'!#REF!","v":{"$error":"#REF!"}},{"$f":"'Planung Sport'!#REF!","v":{"$error":"#REF!"}},{"$f":"'Planung Sport'!#REF!","v":{"$error":"#REF!"}}]
[{"$f":"'Planung Sport'!#REF!","v":{"$error":"#REF!"}},{"$f":"'Planung Sport'!#REF!","v":{"$error":"#REF!"}},{"$f":"'Planung Sport'!#REF!","v":{"$error":"#REF!"}},{"$f":"'Planung Sport'!#REF!","v":{"$error":"#REF!"}}]
[{"$f":"'Planung Sport'!#REF!","v":{"$error":"#REF!"}},{"$f":"'Planung Sport'!#REF!","v":{"$error":"#REF!"}},{"$f":"'Planung Sport'!#REF!","v":{"$error":"#REF!"}},{"$f":"'Planung Sport'!#REF!","v":{"$error":"#REF!"}}]
[{"$f":"'Planung Sport'!#REF!","v":{"$error":"#REF!"}},{"$f":"'Planung Sport'!#REF!","v":{"$error":"#REF!"}},{"$f":"'Planung Sport'!#REF!","v":{"$error":"#REF!"}},{"$f":"'Planung Sport'!#REF!","v":{"$error":"#REF!"}}]
[{"$f":"'Planung Sport'!#REF!","v":{"$error":"#REF!"}},{"$f":"'Planung Sport'!#REF!","v":{"$error":"#REF!"}},{"$f":"'Planung Sport'!#REF!","v":{"$error":"#REF!"}},{"$f":"'Planung Sport'!#REF!","v":{"$error":"#REF!"}}]
[{"$f":"'Planung Sport'!#REF!","v":{"$error":"#REF!"}},{"$f":"'Planung Sport'!#REF!","v":{"$error":"#REF!"}},{"$f":"'Planung Sport'!#REF!","v":{"$error":"#REF!"}},{"$f":"'Planung Sport'!#REF!","v":{"$error":"#REF!"}}]
[{"$f":"'Planung Sport'!#REF!","v":{"$error":"#REF!"}},{"$f":"'Planung Sport'!#REF!","v":{"$error":"#REF!"}},{"$f":"'Planung Sport'!#REF!","v":{"$error":"#REF!"}},{"$f":"'Planung Sport'!#REF!","v":{"$error":"#REF!"}}]
[{"$f":"'Planung Sport'!#REF!","v":{"$error":"#REF!"}},{"$f":"'Planung Sport'!#REF!","v":{"$error":"#REF!"}},{"$f":"'Planung Sport'!#REF!","v":{"$error":"#REF!"}},{"$f":"'Planung Sport'!#REF!","v":{"$error":"#REF!"}}]
[{"$f":"'Planung Sport'!#REF!","v":{"$error":"#REF!"}},{"$f":"'Planung Sport'!#REF!","v":{"$error":"#REF!"}},{"$f":"'Planung Sport'!#REF!","v":{"$error":"#REF!"}},{"$f":"'Planung Sport'!#REF!","v":{"$error":"#REF!"}}]
[{"$f":"'Planung Sport'!#REF!","v":{"$error":"#REF!"}},{"$f":"'Planung Sport'!#REF!","v":{"$error":"#REF!"}},{"$f":"'Planung Sport'!#REF!","v":{"$error":"#REF!"}},{"$f":"'Planung Sport'!#REF!","v":{"$error":"#REF!"}}]
[{"$f":"'Planung Sport'!#REF!","v":{"$error":"#REF!"}},{"$f":"'Planung Sport'!#REF!","v":{"$error":"#REF!"}},{"$f":"'Planung Sport'!#REF!","v":{"$error":"#REF!"}},{"$f":"'Planung Sport'!#REF!","v":{"$error":"#REF!"}}]
[{"$f":"'Planung Sport'!#REF!","v":{"$error":"#REF!"}},{"$f":"'Planung Sport'!#REF!","v":{"$error":"#REF!"}},{"$f":"'Planung Sport'!#REF!","v":{"$error":"#REF!"}},{"$f":"'Planung Sport'!#REF!","v":{"$error":"#REF!"}}]
[{"$f":"'Planung Sport'!#REF!","v":{"$error":"#REF!"}},{"$f":"'Planung Sport'!#REF!","v":{"$error":"#REF!"}},{"$f":"'Planung Sport'!#REF!","v":{"$error":"#REF!"}},{"$f":"'Planung Sport'!#REF!","v":{"$error":"#REF!"}}]
[{"$f":"'Planung Sport'!#REF!","v":{"$error":"#REF!"}},{"$f":"'Planung Sport'!#REF!","v":{"$error":"#REF!"}},{"$f":"'Planung Sport'!#REF!","v":{"$error":"#REF!"}},{"$f":"'Planung Sport'!#REF!","v":{"$error":"#REF!"}}]
[{"$f":"'Planung Sport'!#REF!","v":{"$error":"#REF!"}},{"$f":"'Planung Sport'!#REF!","v":{"$error":"#REF!"}},{"$f":"'Planung Sport'!#REF!","v":{"$error":"#REF!"}},{"$f":"'Planung Sport'!#REF!","v":{"$error":"#REF!"}}]
[{"$f":"'Planung Sport'!#REF!","v":{"$error":"#REF!"}},{"$f":"'Planung Sport'!#REF!","v":{"$error":"#REF!"}},{"$f":"'Planung Sport'!#REF!","v":{"$error":"#REF!"}},{"$f":"'Planung Sport'!#REF!","v":{"$error":"#REF!"}}]

{"sheet":"Hilfstabelle Sport Grobplan","index":10,"n_rows":64,"n_cols":3,"rows_kept":64,"cut":false,"hidden":true,"merged":[]}
["Jahr","Beschreibung Einheit/Umfang/Schwerpunkt","Einheiten/Umfang/Schwerpunkt"]
[{"$f":"'Planung Sport'!$B$6","v":2022},{"$f":"'Planung Sport'!$Q8","v":"Anz. Trainingseinheiten pro Woche"},{"$f":"'Planung Sport'!$R8","v":0}]
[{"$f":"'Planung Sport'!$B$6","v":2022},{"$f":"'Planung Sport'!$Q10","v":"Trainingsumfang (h/W)"},{"$f":"'Planung Sport'!$R10","v":0}]
[{"$f":"'Planung Sport'!$B$6","v":2022},{"$f":"'Planung Sport'!$Q12","v":"Trainingsschwerpunkte"},{"$f":"'Planung Sport'!$R12","v":0}]
[{"$f":"'Planung Sport'!$B$16","v":2023},{"$f":"'Planung Sport'!$Q18","v":"Anz. Trainingseinheiten pro Woche"},{"$f":"'Planung Sport'!$R18","v":0}]
[{"$f":"'Planung Sport'!$B$16","v":2023},{"$f":"'Planung Sport'!$Q20","v":"Trainingsumfang (h/W)"},{"$f":"'Planung Sport'!$R20","v":0}]
[{"$f":"'Planung Sport'!$B$16","v":2023},{"$f":"'Planung Sport'!$Q22","v":"Trainingsschwerpunkte"},{"$f":"'Planung Sport'!$R22","v":0}]
[{"$f":"'Planung Sport'!$B$26","v":2024},{"$f":"'Planung Sport'!$Q28","v":"Anz. Trainingseinheiten pro Woche"},{"$f":"'Planung Sport'!$R28","v":0}]
[{"$f":"'Planung Sport'!$B$26","v":2024},{"$f":"'Planung Sport'!$Q30","v":"Trainingsumfang (h/W)"},{"$f":"'Planung Sport'!$R30","v":0}]
[{"$f":"'Planung Sport'!$B$26","v":2024},{"$f":"'Planung Sport'!$Q32","v":"Trainingsschwerpunkte"},{"$f":"'Planung Sport'!$R32","v":0}]
[{"$f":"'Planung Sport'!$B$36","v":2025},{"$f":"'Planung Sport'!$Q38","v":"Anz. Trainingseinheiten pro Woche"},{"$f":"'Planung Sport'!$R38","v":0}]
[{"$f":"'Planung Sport'!$B$36","v":2025},{"$f":"'Planung Sport'!$Q40","v":"Trainingsumfang (h/W)"},{"$f":"'Planung Sport'!$R40","v":0}]
[{"$f":"'Planung Sport'!$B$36","v":2025},{"$f":"'Planung Sport'!$Q42","v":"Trainingsschwerpunkte"},{"$f":"'Planung Sport'!$R42","v":0}]
[{"$f":"'Planung Sport'!$B$46","v":2026},{"$f":"'Planung Sport'!$Q48","v":"Anz. Trainingseinheiten pro Woche"},{"$f":"'Planung Sport'!$R48","v":0}]
[{"$f":"'Planung Sport'!$B$46","v":2026},{"$f":"'Planung Sport'!$Q50","v":"Trainingsumfang (h/W)"},{"$f":"'Planung Sport'!$R50","v":0}]
[{"$f":"'Planung Sport'!$B$46","v":2026},{"$f":"'Planung Sport'!$Q52","v":"Trainingsschwerpunkte"},{"$f":"'Planung Sport'!$R52","v":0}]
[{"$f":"'Planung Sport'!$B$56","v":2027},{"$f":"'Planung Sport'!$Q58","v":"Anz. Trainingseinheiten pro Woche"},{"$f":"'Planung Sport'!$R58","v":0}]
[{"$f":"'Planung Sport'!$B$56","v":2027},{"$f":"'Planung Sport'!$Q60","v":"Trainingsumfang (h/W)"},{"$f":"'Planung Sport'!$R60","v":0}]
[{"$f":"'Planung Sport'!$B$56","v":2027},{"$f":"'Planung Sport'!$Q62","v":"Trainingsschwerpunkte"},{"$f":"'Planung Sport'!$R62","v":0}]
[{"$f":"'Planung Sport'!$B$66","v":2028},{"$f":"'Planung Sport'!$Q68","v":"Anz. Trainingseinheiten pro Woche"},{"$f":"'Planung Sport'!$R68","v":0}]
[{"$f":"'Planung Sport'!$B$66","v":2028},{"$f":"'Planung Sport'!$Q70","v":"Trainingsumfang (h/W)"},{"$f":"'Planung Sport'!$R70","v":0}]
[{"$f":"'Planung Sport'!$B$66","v":2028},{"$f":"'Planung Sport'!$Q72","v":"Trainingsschwerpunkte"},{"$f":"'Planung Sport'!$R72","v":0}]
[{"$f":"'Planung Sport'!$B$76","v":2029},{"$f":"'Planung Sport'!$Q78","v":"Anz. Trainingseinheiten pro Woche"},{"$f":"'Planung Sport'!$R78","v":0}]
[{"$f":"'Planung Sport'!$B$76","v":2029},{"$f":"'Planung Sport'!$Q80","v":"Trainingsumfang (h/W)"},{"$f":"'Planung Sport'!$R80","v":0}]
[{"$f":"'Planung Sport'!$B$76","v":2029},{"$f":"'Planung Sport'!$Q82","v":"Trainingsschwerpunkte"},{"$f":"'Planung Sport'!$R82","v":0}]
[{"$f":"'Planung Sport'!$B$86","v":2030},{"$f":"'Planung Sport'!$Q88","v":"Anz. Trainingseinheiten pro Woche"},{"$f":"'Planung Sport'!$R88","v":0}]
[{"$f":"'Planung Sport'!$B$86","v":2030},{"$f":"'Planung Sport'!$Q90","v":"Trainingsumfang (h/W)"},{"$f":"'Planung Sport'!$R90","v":0}]
[{"$f":"'Planung Sport'!$B$86","v":2030},{"$f":"'Planung Sport'!$Q92","v":"Trainingsschwerpunkte"},{"$f":"'Planung Sport'!$R92","v":0}]
[{"$f":"'Planung Sport'!$B$96","v":2031},{"$f":"'Planung Sport'!$Q98","v":"Anz. Trainingseinheiten pro Woche"},{"$f":"'Planung Sport'!$R98","v":0}]
[{"$f":"'Planung Sport'!$B$96","v":2031},{"$f":"'Planung Sport'!$Q100","v":"Trainingsumfang (h/W)"},{"$f":"'Planung Sport'!$R100","v":0}]
[{"$f":"'Planung Sport'!$B$96","v":2031},{"$f":"'Planung Sport'!$Q102","v":"Trainingsschwerpunkte"},{"$f":"'Planung Sport'!$R102","v":0}]
[{"$f":"'Planung Sport'!$B$106","v":2032},{"$f":"'Planung Sport'!$Q108","v":"Anz. Trainingseinheiten pro Woche"},{"$f":"'Planung Sport'!$R108","v":0}]
[{"$f":"'Planung Sport'!$B$106","v":2032},{"$f":"'Planung Sport'!$Q110","v":"Trainingsumfang (h/W)"},{"$f":"'Planung Sport'!$R110","v":0}]
[{"$f":"'Planung Sport'!$B$106","v":2032},{"$f":"'Planung Sport'!$Q112","v":"Trainingsschwer-punkte"},{"$f":"'Planung Sport'!$R112","v":0}]
[{"$f":"'Planung Sport'!#REF!","v":{"$error":"#REF!"}},{"$f":"'Planung Sport'!#REF!","v":{"$error":"#REF!"}},{"$f":"'Planung Sport'!#REF!","v":{"$error":"#REF!"}}]
[{"$f":"'Planung Sport'!#REF!","v":{"$error":"#REF!"}},{"$f":"'Planung Sport'!#REF!","v":{"$error":"#REF!"}},{"$f":"'Planung Sport'!#REF!","v":{"$error":"#REF!"}}]
[{"$f":"'Planung Sport'!#REF!","v":{"$error":"#REF!"}},{"$f":"'Planung Sport'!#REF!","v":{"$error":"#REF!"}},{"$f":"'Planung Sport'!#REF!","v":{"$error":"#REF!"}}]
[{"$f":"'Planung Sport'!#REF!","v":{"$error":"#REF!"}},{"$f":"'Planung Sport'!#REF!","v":{"$error":"#REF!"}},{"$f":"'Planung Sport'!#REF!","v":{"$error":"#REF!"}}]
[{"$f":"'Planung Sport'!#REF!","v":{"$error":"#REF!"}},{"$f":"'Planung Sport'!#REF!","v":{"$error":"#REF!"}},{"$f":"'Planung Sport'!#REF!","v":{"$error":"#REF!"}}]
[{"$f":"'Planung Sport'!#REF!","v":{"$error":"#REF!"}},{"$f":"'Planung Sport'!#REF!","v":{"$error":"#REF!"}},{"$f":"'Planung Sport'!#REF!","v":{"$error":"#REF!"}}]
[{"$f":"'Planung Sport'!#REF!","v":{"$error":"#REF!"}},{"$f":"'Planung Sport'!#REF!","v":{"$error":"#REF!"}},{"$f":"'Planung Sport'!#REF!","v":{"$error":"#REF!"}}]
[{"$f":"'Planung Sport'!#REF!","v":{"$error":"#REF!"}},{"$f":"'Planung Sport'!#REF!","v":{"$error":"#REF!"}},{"$f":"'Planung Sport'!#REF!","v":{"$error":"#REF!"}}]
[{"$f":"'Planung Sport'!#REF!","v":{"$error":"#REF!"}},{"$f":"'Planung Sport'!#REF!","v":{"$error":"#REF!"}},{"$f":"'Planung Sport'!#REF!","v":{"$error":"#REF!"}}]
[{"$f":"'Planung Sport'!#REF!","v":{"$error":"#REF!"}},{"$f":"'Planung Sport'!#REF!","v":{"$error":"#REF!"}},{"$f":"'Planung Sport'!#REF!","v":{"$error":"#REF!"}}]
[{"$f":"'Planung Sport'!#REF!","v":{"$error":"#REF!"}},{"$f":"'Planung Sport'!#REF!","v":{"$error":"#REF!"}},{"$f":"'Planung Sport'!#REF!","v":{"$error":"#REF!"}}]
[{"$f":"'Planung Sport'!#REF!","v":{"$error":"#REF!"}},{"$f":"'Planung Sport'!#REF!","v":{"$error":"#REF!"}},{"$f":"'Planung Sport'!#REF!","v":{"$error":"#REF!"}}]
[{"$f":"'Planung Sport'!#REF!","v":{"$error":"#REF!"}},{"$f":"'Planung Sport'!#REF!","v":{"$error":"#REF!"}},{"$f":"'Planung Sport'!#REF!","v":{"$error":"#REF!"}}]
[{"$f":"'Planung Sport'!#REF!","v":{"$error":"#REF!"}},{"$f":"'Planung Sport'!#REF!","v":{"$error":"#REF!"}},{"$f":"'Planung Sport'!#REF!","v":{"$error":"#REF!"}}]
[{"$f":"'Planung Sport'!#REF!","v":{"$error":"#REF!"}},{"$f":"'Planung Sport'!#REF!","v":{"$error":"#REF!"}},{"$f":"'Planung Sport'!#REF!","v":{"$error":"#REF!"}}]
[{"$f":"'Planung Sport'!#REF!","v":{"$error":"#REF!"}},{"$f":"'Planung Sport'!#REF!","v":{"$error":"#REF!"}},{"$f":"'Planung Sport'!#REF!","v":{"$error":"#REF!"}}]
[{"$f":"'Planung Sport'!#REF!","v":{"$error":"#REF!"}},{"$f":"'Planung Sport'!#REF!","v":{"$error":"#REF!"}},{"$f":"'Planung Sport'!#REF!","v":{"$error":"#REF!"}}]
[{"$f":"'Planung Sport'!#REF!","v":{"$error":"#REF!"}},{"$f":"'Planung Sport'!#REF!","v":{"$error":"#REF!"}},{"$f":"'Planung Sport'!#REF!","v":{"$error":"#REF!"}}]
[{"$f":"'Planung Sport'!#REF!","v":{"$error":"#REF!"}},{"$f":"'Planung Sport'!#REF!","v":{"$error":"#REF!"}},{"$f":"'Planung Sport'!#REF!","v":{"$error":"#REF!"}}]
[{"$f":"'Planung Sport'!#REF!","v":{"$error":"#REF!"}},{"$f":"'Planung Sport'!#REF!","v":{"$error":"#REF!"}},{"$f":"'Planung Sport'!#REF!","v":{"$error":"#REF!"}}]
[{"$f":"'Planung Sport'!#REF!","v":{"$error":"#REF!"}},{"$f":"'Planung Sport'!#REF!","v":{"$error":"#REF!"}},{"$f":"'Planung Sport'!#REF!","v":{"$error":"#REF!"}}]
[{"$f":"'Planung Sport'!#REF!","v":{"$error":"#REF!"}},{"$f":"'Planung Sport'!#REF!","v":{"$error":"#REF!"}},{"$f":"'Planung Sport'!#REF!","v":{"$error":"#REF!"}}]
[{"$f":"'Planung Sport'!#REF!","v":{"$error":"#REF!"}},{"$f":"'Planung Sport'!#REF!","v":{"$error":"#REF!"}},{"$f":"'Planung Sport'!#REF!","v":{"$error":"#REF!"}}]
[{"$f":"'Planung Sport'!#REF!","v":{"$error":"#REF!"}},{"$f":"'Planung Sport'!#REF!","v":{"$error":"#REF!"}},{"$f":"'Planung Sport'!#REF!","v":{"$error":"#REF!"}}]
[{"$f":"'Planung Sport'!#REF!","v":{"$error":"#REF!"}},{"$f":"'Planung Sport'!#REF!","v":{"$error":"#REF!"}},{"$f":"'Planung Sport'!#REF!","v":{"$error":"#REF!"}}]
[{"$f":"'Planung Sport'!#REF!","v":{"$error":"#REF!"}},{"$f":"'Planung Sport'!#REF!","v":{"$error":"#REF!"}},{"$f":"'Planung Sport'!#REF!","v":{"$error":"#REF!"}}]
[{"$f":"'Planung Sport'!#REF!","v":{"$error":"#REF!"}},{"$f":"'Planung Sport'!#REF!","v":{"$error":"#REF!"}},{"$f":"'Planung Sport'!#REF!","v":{"$error":"#REF!"}}]
[{"$f":"'Planung Sport'!#REF!","v":{"$error":"#REF!"}},{"$f":"'Planung Sport'!#REF!","v":{"$error":"#REF!"}},{"$f":"'Planung Sport'!#REF!","v":{"$error":"#REF!"}}]
[{"$f":"'Planung Sport'!#REF!","v":{"$error":"#REF!"}},{"$f":"'Planung Sport'!#REF!","v":{"$error":"#REF!"}},{"$f":"'Planung Sport'!#REF!","v":{"$error":"#REF!"}}]
[{"$f":"'Planung Sport'!#REF!","v":{"$error":"#REF!"}},{"$f":"'Planung Sport'!#REF!","v":{"$error":"#REF!"}},{"$f":"'Planung Sport'!#REF!","v":{"$error":"#REF!"}}]

{"sheet":"Hilfstabelle Schule Ausbildung","index":11,"n_rows":22,"n_cols":2,"rows_kept":22,"cut":false,"hidden":true,"merged":[]}
["Jahr","Ausbildung"]
[{"$f":"'Planung Ausbildung'!$K$6","v":2022},{"$f":"'Planung Ausbildung'!$B8","v":0}]
[{"$f":"'Planung Ausbildung'!$K$14","v":2023},{"$f":"'Planung Ausbildung'!$B16","v":0}]
[{"$f":"'Planung Ausbildung'!$K$22","v":2024},{"$f":"'Planung Ausbildung'!$B24","v":0}]
[{"$f":"'Planung Ausbildung'!$K$30","v":2025},{"$f":"'Planung Ausbildung'!$B32","v":0}]
[{"$f":"'Planung Ausbildung'!$K$38","v":2026},{"$f":"'Planung Ausbildung'!$B40","v":0}]
[{"$f":"'Planung Ausbildung'!$K$46","v":2027},{"$f":"'Planung Ausbildung'!$B48","v":0}]
[{"$f":"'Planung Ausbildung'!$K$54","v":2028},{"$f":"'Planung Ausbildung'!$B56","v":0}]
[{"$f":"'Planung Ausbildung'!$K$62","v":2029},{"$f":"'Planung Ausbildung'!$B64","v":0}]
[{"$f":"'Planung Ausbildung'!$K$70","v":2030},{"$f":"'Planung Ausbildung'!$B72","v":0}]
[{"$f":"'Planung Ausbildung'!$K$78","v":2031},{"$f":"'Planung Ausbildung'!$B80","v":0}]
[{"$f":"'Planung Ausbildung'!$K$86","v":2032},{"$f":"'Planung Ausbildung'!$B88","v":0}]
[{"$f":"'Planung Ausbildung'!#REF!","v":{"$error":"#REF!"}},{"$f":"'Planung Ausbildung'!#REF!","v":{"$error":"#REF!"}}]
[{"$f":"'Planung Ausbildung'!#REF!","v":{"$error":"#REF!"}},{"$f":"'Planung Ausbildung'!#REF!","v":{"$error":"#REF!"}}]
[{"$f":"'Planung Ausbildung'!#REF!","v":{"$error":"#REF!"}},{"$f":"'Planung Ausbildung'!#REF!","v":{"$error":"#REF!"}}]
[{"$f":"'Planung Ausbildung'!#REF!","v":{"$error":"#REF!"}},{"$f":"'Planung Ausbildung'!#REF!","v":{"$error":"#REF!"}}]
[{"$f":"'Planung Ausbildung'!#REF!","v":{"$error":"#REF!"}},{"$f":"'Planung Ausbildung'!#REF!","v":{"$error":"#REF!"}}]
[{"$f":"'Planung Ausbildung'!#REF!","v":{"$error":"#REF!"}},{"$f":"'Planung Ausbildung'!#REF!","v":{"$error":"#REF!"}}]
[{"$f":"'Planung Ausbildung'!#REF!","v":{"$error":"#REF!"}},{"$f":"'Planung Ausbildung'!#REF!","v":{"$error":"#REF!"}}]
[{"$f":"'Planung Ausbildung'!#REF!","v":{"$error":"#REF!"}},{"$f":"'Planung Ausbildung'!#REF!","v":{"$error":"#REF!"}}]
[{"$f":"'Planung Ausbildung'!#REF!","v":{"$error":"#REF!"}},{"$f":"'Planung Ausbildung'!#REF!","v":{"$error":"#REF!"}}]
[{"$f":"'Planung Ausbildung'!#REF!","v":{"$error":"#REF!"}},{"$f":"'Planung Ausbildung'!#REF!","v":{"$error":"#REF!"}}]

{"sheet":"Hilfstabelle Schule Meilenstein","index":12,"n_rows":106,"n_cols":4,"rows_kept":106,"cut":false,"hidden":true,"merged":[]}
["Jahr","Datum","Meilenstein Bezeichnung","Meilenstein"]
[{"$f":"'Planung Ausbildung'!$K$6","v":2022},{"$f":"'Planung Ausbildung'!$K9","v":"00:00:00"},{"$f":"'Planung Ausbildung'!$J9","v":"Termin 1"},{"$f":"'Planung Ausbildung'!$L9","v":0}]
[{"$f":"'Planung Ausbildung'!$K$6","v":2022},{"$f":"'Planung Ausbildung'!$K10","v":"00:00:00"},{"$f":"'Planung Ausbildung'!$J10","v":"Termin 2"},{"$f":"'Planung Ausbildung'!$L10","v":0}]
[{"$f":"'Planung Ausbildung'!$K$6","v":2022},{"$f":"'Planung Ausbildung'!$K11","v":"00:00:00"},{"$f":"'Planung Ausbildung'!$J11","v":"Termin 3"},{"$f":"'Planung Ausbildung'!$L11","v":0}]
[{"$f":"'Planung Ausbildung'!$K$6","v":2022},{"$f":"'Planung Ausbildung'!$K12","v":"00:00:00"},{"$f":"'Planung Ausbildung'!$J12","v":"Termin 4"},{"$f":"'Planung Ausbildung'!$L12","v":0}]
[{"$f":"'Planung Ausbildung'!$K$6","v":2022},{"$f":"'Planung Ausbildung'!$K13","v":"00:00:00"},{"$f":"'Planung Ausbildung'!$J13","v":"Termin 5"},{"$f":"'Planung Ausbildung'!$L13","v":0}]
[{"$f":"'Planung Ausbildung'!$K$14","v":2023},{"$f":"'Planung Ausbildung'!$K17","v":"00:00:00"},{"$f":"'Planung Ausbildung'!$J17","v":"Termin 1"},{"$f":"'Planung Ausbildung'!$L17","v":0}]
[{"$f":"'Planung Ausbildung'!$K$14","v":2023},{"$f":"'Planung Ausbildung'!$K18","v":"00:00:00"},{"$f":"'Planung Ausbildung'!$J18","v":"Termin 2"},{"$f":"'Planung Ausbildung'!$L18","v":0}]
[{"$f":"'Planung Ausbildung'!$K$14","v":2023},{"$f":"'Planung Ausbildung'!$K19","v":"00:00:00"},{"$f":"'Planung Ausbildung'!$J19","v":"Termin 3"},{"$f":"'Planung Ausbildung'!$L19","v":0}]
[{"$f":"'Planung Ausbildung'!$K$14","v":2023},{"$f":"'Planung Ausbildung'!$K20","v":"00:00:00"},{"$f":"'Planung Ausbildung'!$J20","v":"Termin 4"},{"$f":"'Planung Ausbildung'!$L20","v":0}]
[{"$f":"'Planung Ausbildung'!$K$14","v":2023},{"$f":"'Planung Ausbildung'!$K21","v":"00:00:00"},{"$f":"'Planung Ausbildung'!$J21","v":"Termin 5"},{"$f":"'Planung Ausbildung'!$L21","v":0}]
[{"$f":"'Planung Ausbildung'!$K$22","v":2024},{"$f":"'Planung Ausbildung'!$K25","v":"00:00:00"},{"$f":"'Planung Ausbildung'!$J25","v":"Termin 1"},{"$f":"'Planung Ausbildung'!$L25","v":0}]
[{"$f":"'Planung Ausbildung'!$K$22","v":2024},{"$f":"'Planung Ausbildung'!$K26","v":"00:00:00"},{"$f":"'Planung Ausbildung'!$J26","v":"Termin 2"},{"$f":"'Planung Ausbildung'!$L26","v":0}]
[{"$f":"'Planung Ausbildung'!$K$22","v":2024},{"$f":"'Planung Ausbildung'!$K27","v":"00:00:00"},{"$f":"'Planung Ausbildung'!$J27","v":"Termin 3"},{"$f":"'Planung Ausbildung'!$L27","v":0}]
[{"$f":"'Planung Ausbildung'!$K$22","v":2024},{"$f":"'Planung Ausbildung'!$K28","v":"00:00:00"},{"$f":"'Planung Ausbildung'!$J28","v":"Termin 4"},{"$f":"'Planung Ausbildung'!$L28","v":0}]
[{"$f":"'Planung Ausbildung'!$K$22","v":2024},{"$f":"'Planung Ausbildung'!$K29","v":"00:00:00"},{"$f":"'Planung Ausbildung'!$J29","v":"Termin 5"},{"$f":"'Planung Ausbildung'!$L29","v":0}]
[{"$f":"'Planung Ausbildung'!$K$30","v":2025},{"$f":"'Planung Ausbildung'!$K33","v":"00:00:00"},{"$f":"'Planung Ausbildung'!$J33","v":"Termin 1"},{"$f":"'Planung Ausbildung'!$L33","v":0}]
[{"$f":"'Planung Ausbildung'!$K$30","v":2025},{"$f":"'Planung Ausbildung'!$K34","v":"00:00:00"},{"$f":"'Planung Ausbildung'!$J34","v":"Termin 2"},{"$f":"'Planung Ausbildung'!$L34","v":0}]
[{"$f":"'Planung Ausbildung'!$K$30","v":2025},{"$f":"'Planung Ausbildung'!$K35","v":"00:00:00"},{"$f":"'Planung Ausbildung'!$J35","v":"Termin 3"},{"$f":"'Planung Ausbildung'!$L35","v":0}]
[{"$f":"'Planung Ausbildung'!$K$30","v":2025},{"$f":"'Planung Ausbildung'!$K36","v":"00:00:00"},{"$f":"'Planung Ausbildung'!$J36","v":"Termin 4"},{"$f":"'Planung Ausbildung'!$L36","v":0}]
[{"$f":"'Planung Ausbildung'!$K$30","v":2025},{"$f":"'Planung Ausbildung'!$K37","v":"00:00:00"},{"$f":"'Planung Ausbildung'!$J37","v":"Termin 5"},{"$f":"'Planung Ausbildung'!$L37","v":0}]
[{"$f":"'Planung Ausbildung'!$K$38","v":2026},{"$f":"'Planung Ausbildung'!$K41","v":"00:00:00"},{"$f":"'Planung Ausbildung'!$J41","v":"Termin 1"},{"$f":"'Planung Ausbildung'!$L41","v":0}]
[{"$f":"'Planung Ausbildung'!$K$38","v":2026},{"$f":"'Planung Ausbildung'!$K42","v":"00:00:00"},{"$f":"'Planung Ausbildung'!$J42","v":"Termin 2"},{"$f":"'Planung Ausbildung'!$L42","v":0}]
[{"$f":"'Planung Ausbildung'!$K$38","v":2026},{"$f":"'Planung Ausbildung'!$K43","v":"00:00:00"},{"$f":"'Planung Ausbildung'!$J43","v":"Termin 3"},{"$f":"'Planung Ausbildung'!$L43","v":0}]
[{"$f":"'Planung Ausbildung'!$K$38","v":2026},{"$f":"'Planung Ausbildung'!$K44","v":"00:00:00"},{"$f":"'Planung Ausbildung'!$J44","v":"Termin 4"},{"$f":"'Planung Ausbildung'!$L44","v":0}]
[{"$f":"'Planung Ausbildung'!$K$38","v":2026},{"$f":"'Planung Ausbildung'!$K45","v":"00:00:00"},{"$f":"'Planung Ausbildung'!$J45","v":"Termin 5"},{"$f":"'Planung Ausbildung'!$L45","v":0}]
[{"$f":"'Planung Ausbildung'!$K$46","v":2027},{"$f":"'Planung Ausbildung'!$K49","v":"00:00:00"},{"$f":"'Planung Ausbildung'!$J49","v":"Termin 1"},{"$f":"'Planung Ausbildung'!$L49","v":0}]
[{"$f":"'Planung Ausbildung'!$K$46","v":2027},{"$f":"'Planung Ausbildung'!$K50","v":"00:00:00"},{"$f":"'Planung Ausbildung'!$J50","v":"Termin 2"},{"$f":"'Planung Ausbildung'!$L50","v":0}]
[{"$f":"'Planung Ausbildung'!$K$46","v":2027},{"$f":"'Planung Ausbildung'!$K51","v":"00:00:00"},{"$f":"'Planung Ausbildung'!$J51","v":"Termin 3"},{"$f":"'Planung Ausbildung'!$L51","v":0}]
[{"$f":"'Planung Ausbildung'!$K$46","v":2027},{"$f":"'Planung Ausbildung'!$K52","v":"00:00:00"},{"$f":"'Planung Ausbildung'!$J52","v":"Termin 4"},{"$f":"'Planung Ausbildung'!$L52","v":0}]
[{"$f":"'Planung Ausbildung'!$K$46","v":2027},{"$f":"'Planung Ausbildung'!$K53","v":"00:00:00"},{"$f":"'Planung Ausbildung'!$J53","v":"Termin 5"},{"$f":"'Planung Ausbildung'!$L53","v":0}]
[{"$f":"'Planung Ausbildung'!$K$54","v":2028},{"$f":"'Planung Ausbildung'!$K57","v":"00:00:00"},{"$f":"'Planung Ausbildung'!$J57","v":"Termin 1"},{"$f":"'Planung Ausbildung'!$L57","v":0}]
[{"$f":"'Planung Ausbildung'!$K$54","v":2028},{"$f":"'Planung Ausbildung'!$K58","v":"00:00:00"},{"$f":"'Planung Ausbildung'!$J58","v":"Termin 2"},{"$f":"'Planung Ausbildung'!$L58","v":0}]
[{"$f":"'Planung Ausbildung'!$K$54","v":2028},{"$f":"'Planung Ausbildung'!$K59","v":"00:00:00"},{"$f":"'Planung Ausbildung'!$J59","v":"Termin 3"},{"$f":"'Planung Ausbildung'!$L59","v":0}]
[{"$f":"'Planung Ausbildung'!$K$54","v":2028},{"$f":"'Planung Ausbildung'!$K60","v":"00:00:00"},{"$f":"'Planung Ausbildung'!$J60","v":"Termin 4"},{"$f":"'Planung Ausbildung'!$L60","v":0}]
[{"$f":"'Planung Ausbildung'!$K$54","v":2028},{"$f":"'Planung Ausbildung'!$K61","v":"00:00:00"},{"$f":"'Planung Ausbildung'!$J61","v":"Termin 5"},{"$f":"'Planung Ausbildung'!$L61","v":0}]
[{"$f":"'Planung Ausbildung'!$K$62","v":2029},{"$f":"'Planung Ausbildung'!$K65","v":"00:00:00"},{"$f":"'Planung Ausbildung'!$J65","v":"Termin 1"},{"$f":"'Planung Ausbildung'!$L65","v":0}]
[{"$f":"'Planung Ausbildung'!$K$62","v":2029},{"$f":"'Planung Ausbildung'!$K66","v":"00:00:00"},{"$f":"'Planung Ausbildung'!$J66","v":"Termin 2"},{"$f":"'Planung Ausbildung'!$L66","v":0}]
[{"$f":"'Planung Ausbildung'!$K$62","v":2029},{"$f":"'Planung Ausbildung'!$K67","v":"00:00:00"},{"$f":"'Planung Ausbildung'!$J67","v":"Termin 3"},{"$f":"'Planung Ausbildung'!$L67","v":0}]
[{"$f":"'Planung Ausbildung'!$K$62","v":2029},{"$f":"'Planung Ausbildung'!$K68","v":"00:00:00"},{"$f":"'Planung Ausbildung'!$J68","v":"Termin 4"},{"$f":"'Planung Ausbildung'!$L68","v":0}]
[{"$f":"'Planung Ausbildung'!$K$62","v":2029},{"$f":"'Planung Ausbildung'!$K69","v":"00:00:00"},{"$f":"'Planung Ausbildung'!$J69","v":"Termin 5"},{"$f":"'Planung Ausbildung'!$L69","v":0}]
[{"$f":"'Planung Ausbildung'!$K$70","v":2030},{"$f":"'Planung Ausbildung'!$K73","v":"00:00:00"},{"$f":"'Planung Ausbildung'!$J73","v":"Termin 1"},{"$f":"'Planung Ausbildung'!$L73","v":0}]
[{"$f":"'Planung Ausbildung'!$K$70","v":2030},{"$f":"'Planung Ausbildung'!$K74","v":"00:00:00"},{"$f":"'Planung Ausbildung'!$J74","v":"Termin 2"},{"$f":"'Planung Ausbildung'!$L74","v":0}]
[{"$f":"'Planung Ausbildung'!$K$70","v":2030},{"$f":"'Planung Ausbildung'!$K75","v":"00:00:00"},{"$f":"'Planung Ausbildung'!$J75","v":"Termin 3"},{"$f":"'Planung Ausbildung'!$L75","v":0}]
[{"$f":"'Planung Ausbildung'!$K$70","v":2030},{"$f":"'Planung Ausbildung'!$K76","v":"00:00:00"},{"$f":"'Planung Ausbildung'!$J76","v":"Termin 4"},{"$f":"'Planung Ausbildung'!$L76","v":0}]
[{"$f":"'Planung Ausbildung'!$K$70","v":2030},{"$f":"'Planung Ausbildung'!$K77","v":"00:00:00"},{"$f":"'Planung Ausbildung'!$J77","v":"Termin 5"},{"$f":"'Planung Ausbildung'!$L77","v":0}]
[{"$f":"'Planung Ausbildung'!$K$78","v":2031},{"$f":"'Planung Ausbildung'!$K81","v":"00:00:00"},{"$f":"'Planung Ausbildung'!$J81","v":"Termin 1"},{"$f":"'Planung Ausbildung'!$L81","v":0}]
[{"$f":"'Planung Ausbildung'!$K$78","v":2031},{"$f":"'Planung Ausbildung'!$K82","v":"00:00:00"},{"$f":"'Planung Ausbildung'!$J82","v":"Termin 2"},{"$f":"'Planung Ausbildung'!$L82","v":0}]
[{"$f":"'Planung Ausbildung'!$K$78","v":2031},{"$f":"'Planung Ausbildung'!$K83","v":"00:00:00"},{"$f":"'Planung Ausbildung'!$J83","v":"Termin 3"},{"$f":"'Planung Ausbildung'!$L83","v":0}]
[{"$f":"'Planung Ausbildung'!$K$78","v":2031},{"$f":"'Planung Ausbildung'!$K84","v":"00:00:00"},{"$f":"'Planung Ausbildung'!$J84","v":"Termin 4"},{"$f":"'Planung Ausbildung'!$L84","v":0}]
[{"$f":"'Planung Ausbildung'!$K$78","v":2031},{"$f":"'Planung Ausbildung'!$K85","v":"00:00:00"},{"$f":"'Planung Ausbildung'!$J85","v":"Termin 5"},{"$f":"'Planung Ausbildung'!$L85","v":0}]
[{"$f":"'Planung Ausbildung'!$K$86","v":2032},{"$f":"'Planung Ausbildung'!$K89","v":"00:00:00"},{"$f":"'Planung Ausbildung'!$J89","v":"Termin 1"},{"$f":"'Planung Ausbildung'!$L89","v":0}]
[{"$f":"'Planung Ausbildung'!$K$86","v":2032},{"$f":"'Planung Ausbildung'!$K90","v":"00:00:00"},{"$f":"'Planung Ausbildung'!$J90","v":"Termin 2"},{"$f":"'Planung Ausbildung'!$L90","v":0}]
[{"$f":"'Planung Ausbildung'!$K$86","v":2032},{"$f":"'Planung Ausbildung'!$K91","v":"00:00:00"},{"$f":"'Planung Ausbildung'!$J91","v":"Termin 3"},{"$f":"'Planung Ausbildung'!$L91","v":0}]
[{"$f":"'Planung Ausbildung'!$K$86","v":2032},{"$f":"'Planung Ausbildung'!$K92","v":"00:00:00"},{"$f":"'Planung Ausbildung'!$J92","v":"Termin 4"},{"$f":"'Planung Ausbildung'!$L92","v":0}]
[{"$f":"'Planung Ausbildung'!$K$86","v":2032},{"$f":"'Planung Ausbildung'!$K93","v":"00:00:00"},{"$f":"'Planung Ausbildung'!$J93","v":"Termin 5"},{"$f":"'Planung Ausbildung'!$L93","v":0}]
[{"$f":"'Planung Ausbildung'!#REF!","v":{"$error":"#REF!"}},{"$f":"'Planung Ausbildung'!#REF!","v":{"$error":"#REF!"}},{"$f":"'Planung Ausbildung'!#REF!","v":{"$error":"#REF!"}},{"$f":"'Planung Ausbildung'!#REF!","v":{"$error":"#REF!"}}]
[{"$f":"'Planung Ausbildung'!#REF!","v":{"$error":"#REF!"}},{"$f":"'Planung Ausbildung'!#REF!","v":{"$error":"#REF!"}},{"$f":"'Planung Ausbildung'!#REF!","v":{"$error":"#REF!"}},{"$f":"'Planung Ausbildung'!#REF!","v":{"$error":"#REF!"}}]
[{"$f":"'Planung Ausbildung'!#REF!","v":{"$error":"#REF!"}},{"$f":"'Planung Ausbildung'!#REF!","v":{"$error":"#REF!"}},{"$f":"'Planung Ausbildung'!#REF!","v":{"$error":"#REF!"}},{"$f":"'Planung Ausbildung'!#REF!","v":{"$error":"#REF!"}}]
[{"$f":"'Planung Ausbildung'!#REF!","v":{"$error":"#REF!"}},{"$f":"'Planung Ausbildung'!#REF!","v":{"$error":"#REF!"}},{"$f":"'Planung Ausbildung'!#REF!","v":{"$error":"#REF!"}},{"$f":"'Planung Ausbildung'!#REF!","v":{"$error":"#REF!"}}]
[{"$f":"'Planung Ausbildung'!#REF!","v":{"$error":"#REF!"}},{"$f":"'Planung Ausbildung'!#REF!","v":{"$error":"#REF!"}},{"$f":"'Planung Ausbildung'!#REF!","v":{"$error":"#REF!"}},{"$f":"'Planung Ausbildung'!#REF!","v":{"$error":"#REF!"}}]
[{"$f":"'Planung Ausbildung'!#REF!","v":{"$error":"#REF!"}},{"$f":"'Planung Ausbildung'!#REF!","v":{"$error":"#REF!"}},{"$f":"'Planung Ausbildung'!#REF!","v":{"$error":"#REF!"}},{"$f":"'Planung Ausbildung'!#REF!","v":{"$error":"#REF!"}}]
[{"$f":"'Planung Ausbildung'!#REF!","v":{"$error":"#REF!"}},{"$f":"'Planung Ausbildung'!#REF!","v":{"$error":"#REF!"}},{"$f":"'Planung Ausbildung'!#REF!","v":{"$error":"#REF!"}},{"$f":"'Planung Ausbildung'!#REF!","v":{"$error":"#REF!"}}]
[{"$f":"'Planung Ausbildung'!#REF!","v":{"$error":"#REF!"}},{"$f":"'Planung Ausbildung'!#REF!","v":{"$error":"#REF!"}},{"$f":"'Planung Ausbildung'!#REF!","v":{"$error":"#REF!"}},{"$f":"'Planung Ausbildung'!#REF!","v":{"$error":"#REF!"}}]
[{"$f":"'Planung Ausbildung'!#REF!","v":{"$error":"#REF!"}},{"$f":"'Planung Ausbildung'!#REF!","v":{"$error":"#REF!"}},{"$f":"'Planung Ausbildung'!#REF!","v":{"$error":"#REF!"}},{"$f":"'Planung Ausbildung'!#REF!","v":{"$error":"#REF!"}}]
[{"$f":"'Planung Ausbildung'!#REF!","v":{"$error":"#REF!"}},{"$f":"'Planung Ausbildung'!#REF!","v":{"$error":"#REF!"}},{"$f":"'Planung Ausbildung'!#REF!","v":{"$error":"#REF!"}},{"$f":"'Planung Ausbildung'!#REF!","v":{"$error":"#REF!"}}]
[{"$f":"'Planung Ausbildung'!#REF!","v":{"$error":"#REF!"}},{"$f":"'Planung Ausbildung'!#REF!","v":{"$error":"#REF!"}},{"$f":"'Planung Ausbildung'!#REF!","v":{"$error":"#REF!"}},{"$f":"'Planung Ausbildung'!#REF!","v":{"$error":"#REF!"}}]
[{"$f":"'Planung Ausbildung'!#REF!","v":{"$error":"#REF!"}},{"$f":"'Planung Ausbildung'!#REF!","v":{"$error":"#REF!"}},{"$f":"'Planung Ausbildung'!#REF!","v":{"$error":"#REF!"}},{"$f":"'Planung Ausbildung'!#REF!","v":{"$error":"#REF!"}}]
[{"$f":"'Planung Ausbildung'!#REF!","v":{"$error":"#REF!"}},{"$f":"'Planung Ausbildung'!#REF!","v":{"$error":"#REF!"}},{"$f":"'Planung Ausbildung'!#REF!","v":{"$error":"#REF!"}},{"$f":"'Planung Ausbildung'!#REF!","v":{"$error":"#REF!"}}]
[{"$f":"'Planung Ausbildung'!#REF!","v":{"$error":"#REF!"}},{"$f":"'Planung Ausbildung'!#REF!","v":{"$error":"#REF!"}},{"$f":"'Planung Ausbildung'!#REF!","v":{"$error":"#REF!"}},{"$f":"'Planung Ausbildung'!#REF!","v":{"$error":"#REF!"}}]
[{"$f":"'Planung Ausbildung'!#REF!","v":{"$error":"#REF!"}},{"$f":"'Planung Ausbildung'!#REF!","v":{"$error":"#REF!"}},{"$f":"'Planung Ausbildung'!#REF!","v":{"$error":"#REF!"}},{"$f":"'Planung Ausbildung'!#REF!","v":{"$error":"#REF!"}}]
[{"$f":"'Planung Ausbildung'!#REF!","v":{"$error":"#REF!"}},{"$f":"'Planung Ausbildung'!#REF!","v":{"$error":"#REF!"}},{"$f":"'Planung Ausbildung'!#REF!","v":{"$error":"#REF!"}},{"$f":"'Planung Ausbildung'!#REF!","v":{"$error":"#REF!"}}]
[{"$f":"'Planung Ausbildung'!#REF!","v":{"$error":"#REF!"}},{"$f":"'Planung Ausbildung'!#REF!","v":{"$error":"#REF!"}},{"$f":"'Planung Ausbildung'!#REF!","v":{"$error":"#REF!"}},{"$f":"'Planung Ausbildung'!#REF!","v":{"$error":"#REF!"}}]
[{"$f":"'Planung Ausbildung'!#REF!","v":{"$error":"#REF!"}},{"$f":"'Planung Ausbildung'!#REF!","v":{"$error":"#REF!"}},{"$f":"'Planung Ausbildung'!#REF!","v":{"$error":"#REF!"}},{"$f":"'Planung Ausbildung'!#REF!","v":{"$error":"#REF!"}}]
[{"$f":"'Planung Ausbildung'!#REF!","v":{"$error":"#REF!"}},{"$f":"'Planung Ausbildung'!#REF!","v":{"$error":"#REF!"}},{"$f":"'Planung Ausbildung'!#REF!","v":{"$error":"#REF!"}},{"$f":"'Planung Ausbildung'!#REF!","v":{"$error":"#REF!"}}]
[{"$f":"'Planung Ausbildung'!#REF!","v":{"$error":"#REF!"}},{"$f":"'Planung Ausbildung'!#REF!","v":{"$error":"#REF!"}},{"$f":"'Planung Ausbildung'!#REF!","v":{"$error":"#REF!"}},{"$f":"'Planung Ausbildung'!#REF!","v":{"$error":"#REF!"}}]
[{"$f":"'Planung Ausbildung'!#REF!","v":{"$error":"#REF!"}},{"$f":"'Planung Ausbildung'!#REF!","v":{"$error":"#REF!"}},{"$f":"'Planung Ausbildung'!#REF!","v":{"$error":"#REF!"}},{"$f":"'Planung Ausbildung'!#REF!","v":{"$error":"#REF!"}}]
[{"$f":"'Planung Ausbildung'!#REF!","v":{"$error":"#REF!"}},{"$f":"'Planung Ausbildung'!#REF!","v":{"$error":"#REF!"}},{"$f":"'Planung Ausbildung'!#REF!","v":{"$error":"#REF!"}},{"$f":"'Planung Ausbildung'!#REF!","v":{"$error":"#REF!"}}]
[{"$f":"'Planung Ausbildung'!#REF!","v":{"$error":"#REF!"}},{"$f":"'Planung Ausbildung'!#REF!","v":{"$error":"#REF!"}},{"$f":"'Planung Ausbildung'!#REF!","v":{"$error":"#REF!"}},{"$f":"'Planung Ausbildung'!#REF!","v":{"$error":"#REF!"}}]
[{"$f":"'Planung Ausbildung'!#REF!","v":{"$error":"#REF!"}},{"$f":"'Planung Ausbildung'!#REF!","v":{"$error":"#REF!"}},{"$f":"'Planung Ausbildung'!#REF!","v":{"$error":"#REF!"}},{"$f":"'Planung Ausbildung'!#REF!","v":{"$error":"#REF!"}}]
[{"$f":"'Planung Ausbildung'!#REF!","v":{"$error":"#REF!"}},{"$f":"'Planung Ausbildung'!#REF!","v":{"$error":"#REF!"}},{"$f":"'Planung Ausbildung'!#REF!","v":{"$error":"#REF!"}},{"$f":"'Planung Ausbildung'!#REF!","v":{"$error":"#REF!"}}]
[{"$f":"'Planung Ausbildung'!#REF!","v":{"$error":"#REF!"}},{"$f":"'Planung Ausbildung'!#REF!","v":{"$error":"#REF!"}},{"$f":"'Planung Ausbildung'!#REF!","v":{"$error":"#REF!"}},{"$f":"'Planung Ausbildung'!#REF!","v":{"$error":"#REF!"}}]
[{"$f":"'Planung Ausbildung'!#REF!","v":{"$error":"#REF!"}},{"$f":"'Planung Ausbildung'!#REF!","v":{"$error":"#REF!"}},{"$f":"'Planung Ausbildung'!#REF!","v":{"$error":"#REF!"}},{"$f":"'Planung Ausbildung'!#REF!","v":{"$error":"#REF!"}}]
[{"$f":"'Planung Ausbildung'!#REF!","v":{"$error":"#REF!"}},{"$f":"'Planung Ausbildung'!#REF!","v":{"$error":"#REF!"}},{"$f":"'Planung Ausbildung'!#REF!","v":{"$error":"#REF!"}},{"$f":"'Planung Ausbildung'!#REF!","v":{"$error":"#REF!"}}]
[{"$f":"'Planung Ausbildung'!#REF!","v":{"$error":"#REF!"}},{"$f":"'Planung Ausbildung'!#REF!","v":{"$error":"#REF!"}},{"$f":"'Planung Ausbildung'!#REF!","v":{"$error":"#REF!"}},{"$f":"'Planung Ausbildung'!#REF!","v":{"$error":"#REF!"}}]
[{"$f":"'Planung Ausbildung'!#REF!","v":{"$error":"#REF!"}},{"$f":"'Planung Ausbildung'!#REF!","v":{"$error":"#REF!"}},{"$f":"'Planung Ausbildung'!#REF!","v":{"$error":"#REF!"}},{"$f":"'Planung Ausbildung'!#REF!","v":{"$error":"#REF!"}}]
[{"$f":"'Planung Ausbildung'!#REF!","v":{"$error":"#REF!"}},{"$f":"'Planung Ausbildung'!#REF!","v":{"$error":"#REF!"}},{"$f":"'Planung Ausbildung'!#REF!","v":{"$error":"#REF!"}},{"$f":"'Planung Ausbildung'!#REF!","v":{"$error":"#REF!"}}]
[{"$f":"'Planung Ausbildung'!#REF!","v":{"$error":"#REF!"}},{"$f":"'Planung Ausbildung'!#REF!","v":{"$error":"#REF!"}},{"$f":"'Planung Ausbildung'!#REF!","v":{"$error":"#REF!"}},{"$f":"'Planung Ausbildung'!#REF!","v":{"$error":"#REF!"}}]
[{"$f":"'Planung Ausbildung'!#REF!","v":{"$error":"#REF!"}},{"$f":"'Planung Ausbildung'!#REF!","v":{"$error":"#REF!"}},{"$f":"'Planung Ausbildung'!#REF!","v":{"$error":"#REF!"}},{"$f":"'Planung Ausbildung'!#REF!","v":{"$error":"#REF!"}}]
[{"$f":"'Planung Ausbildung'!#REF!","v":{"$error":"#REF!"}},{"$f":"'Planung Ausbildung'!#REF!","v":{"$error":"#REF!"}},{"$f":"'Planung Ausbildung'!#REF!","v":{"$error":"#REF!"}},{"$f":"'Planung Ausbildung'!#REF!","v":{"$error":"#REF!"}}]
[{"$f":"'Planung Ausbildung'!#REF!","v":{"$error":"#REF!"}},{"$f":"'Planung Ausbildung'!#REF!","v":{"$error":"#REF!"}},{"$f":"'Planung Ausbildung'!#REF!","v":{"$error":"#REF!"}},{"$f":"'Planung Ausbildung'!#REF!","v":{"$error":"#REF!"}}]
[{"$f":"'Planung Ausbildung'!#REF!","v":{"$error":"#REF!"}},{"$f":"'Planung Ausbildung'!#REF!","v":{"$error":"#REF!"}},{"$f":"'Planung Ausbildung'!#REF!","v":{"$error":"#REF!"}},{"$f":"'Planung Ausbildung'!#REF!","v":{"$error":"#REF!"}}]
[{"$f":"'Planung Ausbildung'!#REF!","v":{"$error":"#REF!"}},{"$f":"'Planung Ausbildung'!#REF!","v":{"$error":"#REF!"}},{"$f":"'Planung Ausbildung'!#REF!","v":{"$error":"#REF!"}},{"$f":"'Planung Ausbildung'!#REF!","v":{"$error":"#REF!"}}]
[{"$f":"'Planung Ausbildung'!#REF!","v":{"$error":"#REF!"}},{"$f":"'Planung Ausbildung'!#REF!","v":{"$error":"#REF!"}},{"$f":"'Planung Ausbildung'!#REF!","v":{"$error":"#REF!"}},{"$f":"'Planung Ausbildung'!#REF!","v":{"$error":"#REF!"}}]
[{"$f":"'Planung Ausbildung'!#REF!","v":{"$error":"#REF!"}},{"$f":"'Planung Ausbildung'!#REF!","v":{"$error":"#REF!"}},{"$f":"'Planung Ausbildung'!#REF!","v":{"$error":"#REF!"}},{"$f":"'Planung Ausbildung'!#REF!","v":{"$error":"#REF!"}}]
[{"$f":"'Planung Ausbildung'!#REF!","v":{"$error":"#REF!"}},{"$f":"'Planung Ausbildung'!#REF!","v":{"$error":"#REF!"}},{"$f":"'Planung Ausbildung'!#REF!","v":{"$error":"#REF!"}},{"$f":"'Planung Ausbildung'!#REF!","v":{"$error":"#REF!"}}]
[{"$f":"'Planung Ausbildung'!#REF!","v":{"$error":"#REF!"}},{"$f":"'Planung Ausbildung'!#REF!","v":{"$error":"#REF!"}},{"$f":"'Planung Ausbildung'!#REF!","v":{"$error":"#REF!"}},{"$f":"'Planung Ausbildung'!#REF!","v":{"$error":"#REF!"}}]
[{"$f":"'Planung Ausbildung'!#REF!","v":{"$error":"#REF!"}},{"$f":"'Planung Ausbildung'!#REF!","v":{"$error":"#REF!"}},{"$f":"'Planung Ausbildung'!#REF!","v":{"$error":"#REF!"}},{"$f":"'Planung Ausbildung'!#REF!","v":{"$error":"#REF!"}}]
[{"$f":"'Planung Ausbildung'!#REF!","v":{"$error":"#REF!"}},{"$f":"'Planung Ausbildung'!#REF!","v":{"$error":"#REF!"}},{"$f":"'Planung Ausbildung'!#REF!","v":{"$error":"#REF!"}},{"$f":"'Planung Ausbildung'!#REF!","v":{"$error":"#REF!"}}]
[{"$f":"'Planung Ausbildung'!#REF!","v":{"$error":"#REF!"}},{"$f":"'Planung Ausbildung'!#REF!","v":{"$error":"#REF!"}},{"$f":"'Planung Ausbildung'!#REF!","v":{"$error":"#REF!"}},{"$f":"'Planung Ausbildung'!#REF!","v":{"$error":"#REF!"}}]
[{"$f":"'Planung Ausbildung'!#REF!","v":{"$error":"#REF!"}},{"$f":"'Planung Ausbildung'!#REF!","v":{"$error":"#REF!"}},{"$f":"'Planung Ausbildung'!#REF!","v":{"$error":"#REF!"}},{"$f":"'Planung Ausbildung'!#REF!","v":{"$error":"#REF!"}}]
[{"$f":"'Planung Ausbildung'!#REF!","v":{"$error":"#REF!"}},{"$f":"'Planung Ausbildung'!#REF!","v":{"$error":"#REF!"}},{"$f":"'Planung Ausbildung'!#REF!","v":{"$error":"#REF!"}},{"$f":"'Planung Ausbildung'!#REF!","v":{"$error":"#REF!"}}]
[{"$f":"'Planung Ausbildung'!#REF!","v":{"$error":"#REF!"}},{"$f":"'Planung Ausbildung'!#REF!","v":{"$error":"#REF!"}},{"$f":"'Planung Ausbildung'!#REF!","v":{"$error":"#REF!"}},{"$f":"'Planung Ausbildung'!#REF!","v":{"$error":"#REF!"}}]
[{"$f":"'Planung Ausbildung'!#REF!","v":{"$error":"#REF!"}},{"$f":"'Planung Ausbildung'!#REF!","v":{"$error":"#REF!"}},{"$f":"'Planung Ausbildung'!#REF!","v":{"$error":"#REF!"}},{"$f":"'Planung Ausbildung'!#REF!","v":{"$error":"#REF!"}}]
[{"$f":"'Planung Ausbildung'!#REF!","v":{"$error":"#REF!"}},{"$f":"'Planung Ausbildung'!#REF!","v":{"$error":"#REF!"}},{"$f":"'Planung Ausbildung'!#REF!","v":{"$error":"#REF!"}},{"$f":"'Planung Ausbildung'!#REF!","v":{"$error":"#REF!"}}]
[{"$f":"'Planung Ausbildung'!#REF!","v":{"$error":"#REF!"}},{"$f":"'Planung Ausbildung'!#REF!","v":{"$error":"#REF!"}},{"$f":"'Planung Ausbildung'!#REF!","v":{"$error":"#REF!"}},{"$f":"'Planung Ausbildung'!#REF!","v":{"$error":"#REF!"}}]